{"text_format":"1","workbook":"xlsx","n_sheets":7,"sheets":["Data Input","Instructions ","Pushout Line Details","Billing Impact by Month","Billing Impact by Qtr","Summary","Lookup"],"not_rendered":{"charts":0,"images":0,"macros":1,"external_links":0,"defined_names":3,"comments":3,"pivot_tables":6},"unopened":[],"bounds":{"document_bytes":16777216,"sheet_cells":100000,"rows_first":2000,"rows_last":500,"rows_between":2000,"halvings":0,"cell_chars":16384,"cell_head_chars":4096},"cells_cut":0,"cells_raw":0,"read":"whole","date_system":"1900"}

{"sheet":"Data Input","index":0,"n_rows":1,"n_cols":20,"rows_kept":1,"cut":false,"hidden":false,"merged":[[0,19,0,25]]}
["Company","Customer No","Customer Name","Order No Type","Order No","Line No","Customer PO","PG","PL ","Item Number","ACAL Customer Item #","Request Date","Promised Date","Base Curr","Order Qty","Unit Price","Backlog Value","Backlog GM%",null,"Either Setup a Grid in E1 for these fields or pull them from the Daily Sales Order KPI.\nPlease ensure mandatory columns highlighted are populated"]

{"sheet":"Instructions ","index":1,"n_rows":1,"n_cols":1,"rows_kept":1,"cut":false,"hidden":true,"merged":[]}
["Instructions for use:"]

{"sheet":"Pushout Line Details","index":2,"n_rows":379,"n_cols":35,"rows_kept":379,"cut":false,"hidden":false,"merged":[]}
["ONLY ENTER INFORMATION IN THE YELLOW CELLS",null,null,null,null,null,null,null,null,null,null,null,null,null,null,null,null,null,null,null,null,null,null,null,null,"*","*","*","*","*","*","*","*","*","*"]
[]
["Prod Ln","Prod Grp","Order Co","% Profit Margin","Or Ty","Order #","Line #","Customer PO","Sold To","Sold To Name","2nd Item Number","ACAL Customer Item #","Qty","Request Date","Promised Delivery","Extended Amount","Base Curr","New Customer Request","Counter Proposal","Comment",null,null,null,null,null,"Concat Current PD","Current Bill Month","Current FY and Qtr","Concat New RD","New Customer Requested Bill Month","New Customer FY and Qtr","Concat Counter","Counter Bill Month","Counter FY and Qtr","Bill Value"]
[{"$f":"IF('Data Input'!I2=\"\",\"\",'Data Input'!I2)","v":""},{"$f":"IF('Data Input'!H2=\"\",\"\",'Data Input'!H2)","v":""},{"$f":"IF('Data Input'!A2=\"\",\"\",'Data Input'!A2)","v":""},{"$f":"IF('Data Input'!R2=\"\",\"\",'Data Input'!R2)","v":""},{"$f":"IF('Data Input'!D2=\"\",\"\",'Data Input'!D2)","v":""},{"$f":"IF('Data Input'!E2=\"\",\"\",'Data Input'!E2)","v":""},{"$f":"IF('Data Input'!F2=\"\",\"\",'Data Input'!F2)","v":""},{"$f":"IF('Data Input'!G2=\"\",\"\",'Data Input'!G2)","v":""},{"$f":"IF('Data Input'!B2=\"\",\"\",'Data Input'!B2)","v":""},{"$f":"IF('Data Input'!C2=\"\",\"\",'Data Input'!C2)","v":""},{"$f":"IF('Data Input'!J2=\"\",\"\",'Data Input'!J2)","v":""},{"$f":"IF('Data Input'!K2=\"\",\"\",'Data Input'!K2)","v":""},{"$f":"IF('Data Input'!O2=\"\",\"\",'Data Input'!O2)","v":""},{"$f":"IF('Data Input'!L2=\"\",\"\",'Data Input'!L2)","v":""},{"$f":"IF('Data Input'!M2=\"\",\"\",'Data Input'!M2)","v":""},{"$f":"IF('Data Input'!Q2=\"\",\"\",'Data Input'!Q2)","v":""},{"$f":"IF('Data Input'!N2=\"\",\"\",'Data Input'!N2)","v":""},null,null,null,null,null,null,null,null,{"$f":"_xlfn.CONCAT($C4,$O4)","v":""},{"$f":"IFERROR(VLOOKUP($Z4,Lookup!$C:$E,2,FALSE),\"\")","v":""},{"$f":"IFERROR(VLOOKUP($AA4,Lookup!$D:$E,2,FALSE),\"\")","v":""},{"$f":"_xlfn.CONCAT($C4,$R4)","v":""},{"$f":"IFERROR(VLOOKUP($AC4,Lookup!$C:$E,2,FALSE),\"\")","v":""},{"$f":"IFERROR(VLOOKUP($AD4,Lookup!$D:$E,2,FALSE),\"\")","v":""},{"$f":"_xlfn.CONCAT($C4,$S4)","v":""},{"$f":"IFERROR(VLOOKUP($AF4,Lookup!$C:$E,2,FALSE),\"\")","v":""},{"$f":"IFERROR(VLOOKUP($AG4,Lookup!$D:$E,2,FALSE),\"\")","v":""},{"$f":"P4","v":""}]
[{"$f":"IF('Data Input'!I3=\"\",\"\",'Data Input'!I3)","v":""},{"$f":"IF('Data Input'!H3=\"\",\"\",'Data Input'!H3)","v":""},{"$f":"IF('Data Input'!A3=\"\",\"\",'Data Input'!A3)","v":""},{"$f":"IF('Data Input'!R3=\"\",\"\",'Data Input'!R3)","v":""},{"$f":"IF('Data Input'!D3=\"\",\"\",'Data Input'!D3)","v":""},{"$f":"IF('Data Input'!E3=\"\",\"\",'Data Input'!E3)","v":""},{"$f":"IF('Data Input'!F3=\"\",\"\",'Data Input'!F3)","v":""},{"$f":"IF('Data Input'!G3=\"\",\"\",'Data Input'!G3)","v":""},{"$f":"IF('Data Input'!B3=\"\",\"\",'Data Input'!B3)","v":""},{"$f":"IF('Data Input'!C3=\"\",\"\",'Data Input'!C3)","v":""},{"$f":"IF('Data Input'!J3=\"\",\"\",'Data Input'!J3)","v":""},{"$f":"IF('Data Input'!K3=\"\",\"\",'Data Input'!K3)","v":""},{"$f":"IF('Data Input'!O3=\"\",\"\",'Data Input'!O3)","v":""},{"$f":"IF('Data Input'!L3=\"\",\"\",'Data Input'!L3)","v":""},{"$f":"IF('Data Input'!M3=\"\",\"\",'Data Input'!M3)","v":""},{"$f":"IF('Data Input'!Q3=\"\",\"\",'Data Input'!Q3)","v":""},{"$f":"IF('Data Input'!N3=\"\",\"\",'Data Input'!N3)","v":""},null,null,null,null,null,null,null,null,{"$f":"_xlfn.CONCAT($C5,$O5)","v":""},{"$f":"IFERROR(VLOOKUP($Z5,Lookup!$C:$E,2,FALSE),\"\")","v":""},{"$f":"IFERROR(VLOOKUP($AA5,Lookup!$D:$E,2,FALSE),\"\")","v":""},{"$f":"_xlfn.CONCAT($C5,$R5)","v":""},{"$f":"IFERROR(VLOOKUP($AC5,Lookup!$C:$E,2,FALSE),\"\")","v":""},{"$f":"IFERROR(VLOOKUP($AD5,Lookup!$D:$E,2,FALSE),\"\")","v":""},{"$f":"_xlfn.CONCAT($C5,$S5)","v":""},{"$f":"IFERROR(VLOOKUP($AF5,Lookup!$C:$E,2,FALSE),\"\")","v":""},{"$f":"IFERROR(VLOOKUP($AG5,Lookup!$D:$E,2,FALSE),\"\")","v":""},{"$f":"P5","v":""}]
[{"$f":"IF('Data Input'!I4=\"\",\"\",'Data Input'!I4)","v":""},{"$f":"IF('Data Input'!H4=\"\",\"\",'Data Input'!H4)","v":""},{"$f":"IF('Data Input'!A4=\"\",\"\",'Data Input'!A4)","v":""},{"$f":"IF('Data Input'!R4=\"\",\"\",'Data Input'!R4)","v":""},{"$f":"IF('Data Input'!D4=\"\",\"\",'Data Input'!D4)","v":""},{"$f":"IF('Data Input'!E4=\"\",\"\",'Data Input'!E4)","v":""},{"$f":"IF('Data Input'!F4=\"\",\"\",'Data Input'!F4)","v":""},{"$f":"IF('Data Input'!G4=\"\",\"\",'Data Input'!G4)","v":""},{"$f":"IF('Data Input'!B4=\"\",\"\",'Data Input'!B4)","v":""},{"$f":"IF('Data Input'!C4=\"\",\"\",'Data Input'!C4)","v":""},{"$f":"IF('Data Input'!J4=\"\",\"\",'Data Input'!J4)","v":""},{"$f":"IF('Data Input'!K4=\"\",\"\",'Data Input'!K4)","v":""},{"$f":"IF('Data Input'!O4=\"\",\"\",'Data Input'!O4)","v":""},{"$f":"IF('Data Input'!L4=\"\",\"\",'Data Input'!L4)","v":""},{"$f":"IF('Data Input'!M4=\"\",\"\",'Data Input'!M4)","v":""},{"$f":"IF('Data Input'!Q4=\"\",\"\",'Data Input'!Q4)","v":""},{"$f":"IF('Data Input'!N4=\"\",\"\",'Data Input'!N4)","v":""},null,null,null,null,null,null,null,null,"",{"$f":"IFERROR(VLOOKUP($Z6,Lookup!$C:$E,2,FALSE),\"\")","v":""},{"$f":"IFERROR(VLOOKUP($AA6,Lookup!$D:$E,2,FALSE),\"\")","v":""},"",{"$f":"IFERROR(VLOOKUP($AC6,Lookup!$C:$E,2,FALSE),\"\")","v":""},{"$f":"IFERROR(VLOOKUP($AD6,Lookup!$D:$E,2,FALSE),\"\")","v":""},"",{"$f":"IFERROR(VLOOKUP($AF6,Lookup!$C:$E,2,FALSE),\"\")","v":""},{"$f":"IFERROR(VLOOKUP($AG6,Lookup!$D:$E,2,FALSE),\"\")","v":""},""]
[{"$f":"IF('Data Input'!I5=\"\",\"\",'Data Input'!I5)","v":""},{"$f":"IF('Data Input'!H5=\"\",\"\",'Data Input'!H5)","v":""},{"$f":"IF('Data Input'!A5=\"\",\"\",'Data Input'!A5)","v":""},{"$f":"IF('Data Input'!R5=\"\",\"\",'Data Input'!R5)","v":""},{"$f":"IF('Data Input'!D5=\"\",\"\",'Data Input'!D5)","v":""},{"$f":"IF('Data Input'!E5=\"\",\"\",'Data Input'!E5)","v":""},{"$f":"IF('Data Input'!F5=\"\",\"\",'Data Input'!F5)","v":""},{"$f":"IF('Data Input'!G5=\"\",\"\",'Data Input'!G5)","v":""},{"$f":"IF('Data Input'!B5=\"\",\"\",'Data Input'!B5)","v":""},{"$f":"IF('Data Input'!C5=\"\",\"\",'Data Input'!C5)","v":""},{"$f":"IF('Data Input'!J5=\"\",\"\",'Data Input'!J5)","v":""},{"$f":"IF('Data Input'!K5=\"\",\"\",'Data Input'!K5)","v":""},{"$f":"IF('Data Input'!O5=\"\",\"\",'Data Input'!O5)","v":""},{"$f":"IF('Data Input'!L5=\"\",\"\",'Data Input'!L5)","v":""},{"$f":"IF('Data Input'!M5=\"\",\"\",'Data Input'!M5)","v":""},{"$f":"IF('Data Input'!Q5=\"\",\"\",'Data Input'!Q5)","v":""},{"$f":"IF('Data Input'!N5=\"\",\"\",'Data Input'!N5)","v":""},null,null,null,null,null,null,null,null,"",{"$f":"IFERROR(VLOOKUP($Z7,Lookup!$C:$E,2,FALSE),\"\")","v":""},{"$f":"IFERROR(VLOOKUP($AA7,Lookup!$D:$E,2,FALSE),\"\")","v":""},"",{"$f":"IFERROR(VLOOKUP($AC7,Lookup!$C:$E,2,FALSE),\"\")","v":""},{"$f":"IFERROR(VLOOKUP($AD7,Lookup!$D:$E,2,FALSE),\"\")","v":""},"",{"$f":"IFERROR(VLOOKUP($AF7,Lookup!$C:$E,2,FALSE),\"\")","v":""},{"$f":"IFERROR(VLOOKUP($AG7,Lookup!$D:$E,2,FALSE),\"\")","v":""},""]
[{"$f":"IF('Data Input'!I6=\"\",\"\",'Data Input'!I6)","v":""},{"$f":"IF('Data Input'!H6=\"\",\"\",'Data Input'!H6)","v":""},{"$f":"IF('Data Input'!A6=\"\",\"\",'Data Input'!A6)","v":""},{"$f":"IF('Data Input'!R6=\"\",\"\",'Data Input'!R6)","v":""},{"$f":"IF('Data Input'!D6=\"\",\"\",'Data Input'!D6)","v":""},{"$f":"IF('Data Input'!E6=\"\",\"\",'Data Input'!E6)","v":""},{"$f":"IF('Data Input'!F6=\"\",\"\",'Data Input'!F6)","v":""},{"$f":"IF('Data Input'!G6=\"\",\"\",'Data Input'!G6)","v":""},{"$f":"IF('Data Input'!B6=\"\",\"\",'Data Input'!B6)","v":""},{"$f":"IF('Data Input'!C6=\"\",\"\",'Data Input'!C6)","v":""},{"$f":"IF('Data Input'!J6=\"\",\"\",'Data Input'!J6)","v":""},{"$f":"IF('Data Input'!K6=\"\",\"\",'Data Input'!K6)","v":""},{"$f":"IF('Data Input'!O6=\"\",\"\",'Data Input'!O6)","v":""},{"$f":"IF('Data Input'!L6=\"\",\"\",'Data Input'!L6)","v":""},{"$f":"IF('Data Input'!M6=\"\",\"\",'Data Input'!M6)","v":""},{"$f":"IF('Data Input'!Q6=\"\",\"\",'Data Input'!Q6)","v":""},{"$f":"IF('Data Input'!N6=\"\",\"\",'Data Input'!N6)","v":""},null,null,null,null,null,null,null,null,"",{"$f":"IFERROR(VLOOKUP($Z8,Lookup!$C:$E,2,FALSE),\"\")","v":""},{"$f":"IFERROR(VLOOKUP($AA8,Lookup!$D:$E,2,FALSE),\"\")","v":""},"",{"$f":"IFERROR(VLOOKUP($AC8,Lookup!$C:$E,2,FALSE),\"\")","v":""},{"$f":"IFERROR(VLOOKUP($AD8,Lookup!$D:$E,2,FALSE),\"\")","v":""},"",{"$f":"IFERROR(VLOOKUP($AF8,Lookup!$C:$E,2,FALSE),\"\")","v":""},{"$f":"IFERROR(VLOOKUP($AG8,Lookup!$D:$E,2,FALSE),\"\")","v":""},""]
[{"$f":"IF('Data Input'!I7=\"\",\"\",'Data Input'!I7)","v":""},{"$f":"IF('Data Input'!H7=\"\",\"\",'Data Input'!H7)","v":""},{"$f":"IF('Data Input'!A7=\"\",\"\",'Data Input'!A7)","v":""},{"$f":"IF('Data Input'!R7=\"\",\"\",'Data Input'!R7)","v":""},{"$f":"IF('Data Input'!D7=\"\",\"\",'Data Input'!D7)","v":""},{"$f":"IF('Data Input'!E7=\"\",\"\",'Data Input'!E7)","v":""},{"$f":"IF('Data Input'!F7=\"\",\"\",'Data Input'!F7)","v":""},{"$f":"IF('Data Input'!G7=\"\",\"\",'Data Input'!G7)","v":""},{"$f":"IF('Data Input'!B7=\"\",\"\",'Data Input'!B7)","v":""},{"$f":"IF('Data Input'!C7=\"\",\"\",'Data Input'!C7)","v":""},{"$f":"IF('Data Input'!J7=\"\",\"\",'Data Input'!J7)","v":""},{"$f":"IF('Data Input'!K7=\"\",\"\",'Data Input'!K7)","v":""},{"$f":"IF('Data Input'!O7=\"\",\"\",'Data Input'!O7)","v":""},{"$f":"IF('Data Input'!L7=\"\",\"\",'Data Input'!L7)","v":""},{"$f":"IF('Data Input'!M7=\"\",\"\",'Data Input'!M7)","v":""},{"$f":"IF('Data Input'!Q7=\"\",\"\",'Data Input'!Q7)","v":""},{"$f":"IF('Data Input'!N7=\"\",\"\",'Data Input'!N7)","v":""},null,null,null,null,null,null,null,null,"",{"$f":"IFERROR(VLOOKUP($Z9,Lookup!$C:$E,2,FALSE),\"\")","v":""},{"$f":"IFERROR(VLOOKUP($AA9,Lookup!$D:$E,2,FALSE),\"\")","v":""},"",{"$f":"IFERROR(VLOOKUP($AC9,Lookup!$C:$E,2,FALSE),\"\")","v":""},{"$f":"IFERROR(VLOOKUP($AD9,Lookup!$D:$E,2,FALSE),\"\")","v":""},"",{"$f":"IFERROR(VLOOKUP($AF9,Lookup!$C:$E,2,FALSE),\"\")","v":""},{"$f":"IFERROR(VLOOKUP($AG9,Lookup!$D:$E,2,FALSE),\"\")","v":""},""]
[{"$f":"IF('Data Input'!I8=\"\",\"\",'Data Input'!I8)","v":""},{"$f":"IF('Data Input'!H8=\"\",\"\",'Data Input'!H8)","v":""},{"$f":"IF('Data Input'!A8=\"\",\"\",'Data Input'!A8)","v":""},{"$f":"IF('Data Input'!R8=\"\",\"\",'Data Input'!R8)","v":""},{"$f":"IF('Data Input'!D8=\"\",\"\",'Data Input'!D8)","v":""},{"$f":"IF('Data Input'!E8=\"\",\"\",'Data Input'!E8)","v":""},{"$f":"IF('Data Input'!F8=\"\",\"\",'Data Input'!F8)","v":""},{"$f":"IF('Data Input'!G8=\"\",\"\",'Data Input'!G8)","v":""},{"$f":"IF('Data Input'!B8=\"\",\"\",'Data Input'!B8)","v":""},{"$f":"IF('Data Input'!C8=\"\",\"\",'Data Input'!C8)","v":""},{"$f":"IF('Data Input'!J8=\"\",\"\",'Data Input'!J8)","v":""},{"$f":"IF('Data Input'!K8=\"\",\"\",'Data Input'!K8)","v":""},{"$f":"IF('Data Input'!O8=\"\",\"\",'Data Input'!O8)","v":""},{"$f":"IF('Data Input'!L8=\"\",\"\",'Data Input'!L8)","v":""},{"$f":"IF('Data Input'!M8=\"\",\"\",'Data Input'!M8)","v":""},{"$f":"IF('Data Input'!Q8=\"\",\"\",'Data Input'!Q8)","v":""},{"$f":"IF('Data Input'!N8=\"\",\"\",'Data Input'!N8)","v":""},null,null,null,null,null,null,null,null,"",{"$f":"IFERROR(VLOOKUP($Z10,Lookup!$C:$E,2,FALSE),\"\")","v":""},{"$f":"IFERROR(VLOOKUP($AA10,Lookup!$D:$E,2,FALSE),\"\")","v":""},"",{"$f":"IFERROR(VLOOKUP($AC10,Lookup!$C:$E,2,FALSE),\"\")","v":""},{"$f":"IFERROR(VLOOKUP($AD10,Lookup!$D:$E,2,FALSE),\"\")","v":""},"",{"$f":"IFERROR(VLOOKUP($AF10,Lookup!$C:$E,2,FALSE),\"\")","v":""},{"$f":"IFERROR(VLOOKUP($AG10,Lookup!$D:$E,2,FALSE),\"\")","v":""},""]
[{"$f":"IF('Data Input'!I9=\"\",\"\",'Data Input'!I9)","v":""},{"$f":"IF('Data Input'!H9=\"\",\"\",'Data Input'!H9)","v":""},{"$f":"IF('Data Input'!A9=\"\",\"\",'Data Input'!A9)","v":""},{"$f":"IF('Data Input'!R9=\"\",\"\",'Data Input'!R9)","v":""},{"$f":"IF('Data Input'!D9=\"\",\"\",'Data Input'!D9)","v":""},{"$f":"IF('Data Input'!E9=\"\",\"\",'Data Input'!E9)","v":""},{"$f":"IF('Data Input'!F9=\"\",\"\",'Data Input'!F9)","v":""},{"$f":"IF('Data Input'!G9=\"\",\"\",'Data Input'!G9)","v":""},{"$f":"IF('Data Input'!B9=\"\",\"\",'Data Input'!B9)","v":""},{"$f":"IF('Data Input'!C9=\"\",\"\",'Data Input'!C9)","v":""},{"$f":"IF('Data Input'!J9=\"\",\"\",'Data Input'!J9)","v":""},{"$f":"IF('Data Input'!K9=\"\",\"\",'Data Input'!K9)","v":""},{"$f":"IF('Data Input'!O9=\"\",\"\",'Data Input'!O9)","v":""},{"$f":"IF('Data Input'!L9=\"\",\"\",'Data Input'!L9)","v":""},{"$f":"IF('Data Input'!M9=\"\",\"\",'Data Input'!M9)","v":""},{"$f":"IF('Data Input'!Q9=\"\",\"\",'Data Input'!Q9)","v":""},{"$f":"IF('Data Input'!N9=\"\",\"\",'Data Input'!N9)","v":""},null,null,null,null,null,null,null,null,"",{"$f":"IFERROR(VLOOKUP($Z11,Lookup!$C:$E,2,FALSE),\"\")","v":""},{"$f":"IFERROR(VLOOKUP($AA11,Lookup!$D:$E,2,FALSE),\"\")","v":""},"",{"$f":"IFERROR(VLOOKUP($AC11,Lookup!$C:$E,2,FALSE),\"\")","v":""},{"$f":"IFERROR(VLOOKUP($AD11,Lookup!$D:$E,2,FALSE),\"\")","v":""},"",{"$f":"IFERROR(VLOOKUP($AF11,Lookup!$C:$E,2,FALSE),\"\")","v":""},{"$f":"IFERROR(VLOOKUP($AG11,Lookup!$D:$E,2,FALSE),\"\")","v":""},""]
[{"$f":"IF('Data Input'!I10=\"\",\"\",'Data Input'!I10)","v":""},{"$f":"IF('Data Input'!H10=\"\",\"\",'Data Input'!H10)","v":""},{"$f":"IF('Data Input'!A10=\"\",\"\",'Data Input'!A10)","v":""},{"$f":"IF('Data Input'!R10=\"\",\"\",'Data Input'!R10)","v":""},{"$f":"IF('Data Input'!D10=\"\",\"\",'Data Input'!D10)","v":""},{"$f":"IF('Data Input'!E10=\"\",\"\",'Data Input'!E10)","v":""},{"$f":"IF('Data Input'!F10=\"\",\"\",'Data Input'!F10)","v":""},{"$f":"IF('Data Input'!G10=\"\",\"\",'Data Input'!G10)","v":""},{"$f":"IF('Data Input'!B10=\"\",\"\",'Data Input'!B10)","v":""},{"$f":"IF('Data Input'!C10=\"\",\"\",'Data Input'!C10)","v":""},{"$f":"IF('Data Input'!J10=\"\",\"\",'Data Input'!J10)","v":""},{"$f":"IF('Data Input'!K10=\"\",\"\",'Data Input'!K10)","v":""},{"$f":"IF('Data Input'!O10=\"\",\"\",'Data Input'!O10)","v":""},{"$f":"IF('Data Input'!L10=\"\",\"\",'Data Input'!L10)","v":""},{"$f":"IF('Data Input'!M10=\"\",\"\",'Data Input'!M10)","v":""},{"$f":"IF('Data Input'!Q10=\"\",\"\",'Data Input'!Q10)","v":""},{"$f":"IF('Data Input'!N10=\"\",\"\",'Data Input'!N10)","v":""},null,null,null,null,null,null,null,null,"",{"$f":"IFERROR(VLOOKUP($Z12,Lookup!$C:$E,2,FALSE),\"\")","v":""},{"$f":"IFERROR(VLOOKUP($AA12,Lookup!$D:$E,2,FALSE),\"\")","v":""},"",{"$f":"IFERROR(VLOOKUP($AC12,Lookup!$C:$E,2,FALSE),\"\")","v":""},{"$f":"IFERROR(VLOOKUP($AD12,Lookup!$D:$E,2,FALSE),\"\")","v":""},"",{"$f":"IFERROR(VLOOKUP($AF12,Lookup!$C:$E,2,FALSE),\"\")","v":""},{"$f":"IFERROR(VLOOKUP($AG12,Lookup!$D:$E,2,FALSE),\"\")","v":""},""]
[{"$f":"IF('Data Input'!I11=\"\",\"\",'Data Input'!I11)","v":""},{"$f":"IF('Data Input'!H11=\"\",\"\",'Data Input'!H11)","v":""},{"$f":"IF('Data Input'!A11=\"\",\"\",'Data Input'!A11)","v":""},{"$f":"IF('Data Input'!R11=\"\",\"\",'Data Input'!R11)","v":""},{"$f":"IF('Data Input'!D11=\"\",\"\",'Data Input'!D11)","v":""},{"$f":"IF('Data Input'!E11=\"\",\"\",'Data Input'!E11)","v":""},{"$f":"IF('Data Input'!F11=\"\",\"\",'Data Input'!F11)","v":""},{"$f":"IF('Data Input'!G11=\"\",\"\",'Data Input'!G11)","v":""},{"$f":"IF('Data Input'!B11=\"\",\"\",'Data Input'!B11)","v":""},{"$f":"IF('Data Input'!C11=\"\",\"\",'Data Input'!C11)","v":""},{"$f":"IF('Data Input'!J11=\"\",\"\",'Data Input'!J11)","v":""},{"$f":"IF('Data Input'!K11=\"\",\"\",'Data Input'!K11)","v":""},{"$f":"IF('Data Input'!O11=\"\",\"\",'Data Input'!O11)","v":""},{"$f":"IF('Data Input'!L11=\"\",\"\",'Data Input'!L11)","v":""},{"$f":"IF('Data Input'!M11=\"\",\"\",'Data Input'!M11)","v":""},{"$f":"IF('Data Input'!Q11=\"\",\"\",'Data Input'!Q11)","v":""},{"$f":"IF('Data Input'!N11=\"\",\"\",'Data Input'!N11)","v":""},null,null,null,null,null,null,null,null,"",{"$f":"IFERROR(VLOOKUP($Z13,Lookup!$C:$E,2,FALSE),\"\")","v":""},{"$f":"IFERROR(VLOOKUP($AA13,Lookup!$D:$E,2,FALSE),\"\")","v":""},"",{"$f":"IFERROR(VLOOKUP($AC13,Lookup!$C:$E,2,FALSE),\"\")","v":""},{"$f":"IFERROR(VLOOKUP($AD13,Lookup!$D:$E,2,FALSE),\"\")","v":""},"",{"$f":"IFERROR(VLOOKUP($AF13,Lookup!$C:$E,2,FALSE),\"\")","v":""},{"$f":"IFERROR(VLOOKUP($AG13,Lookup!$D:$E,2,FALSE),\"\")","v":""},""]
[{"$f":"IF('Data Input'!I12=\"\",\"\",'Data Input'!I12)","v":""},{"$f":"IF('Data Input'!H12=\"\",\"\",'Data Input'!H12)","v":""},{"$f":"IF('Data Input'!A12=\"\",\"\",'Data Input'!A12)","v":""},{"$f":"IF('Data Input'!R12=\"\",\"\",'Data Input'!R12)","v":""},{"$f":"IF('Data Input'!D12=\"\",\"\",'Data Input'!D12)","v":""},{"$f":"IF('Data Input'!E12=\"\",\"\",'Data Input'!E12)","v":""},{"$f":"IF('Data Input'!F12=\"\",\"\",'Data Input'!F12)","v":""},{"$f":"IF('Data Input'!G12=\"\",\"\",'Data Input'!G12)","v":""},{"$f":"IF('Data Input'!B12=\"\",\"\",'Data Input'!B12)","v":""},{"$f":"IF('Data Input'!C12=\"\",\"\",'Data Input'!C12)","v":""},{"$f":"IF('Data Input'!J12=\"\",\"\",'Data Input'!J12)","v":""},{"$f":"IF('Data Input'!K12=\"\",\"\",'Data Input'!K12)","v":""},{"$f":"IF('Data Input'!O12=\"\",\"\",'Data Input'!O12)","v":""},{"$f":"IF('Data Input'!L12=\"\",\"\",'Data Input'!L12)","v":""},{"$f":"IF('Data Input'!M12=\"\",\"\",'Data Input'!M12)","v":""},{"$f":"IF('Data Input'!Q12=\"\",\"\",'Data Input'!Q12)","v":""},{"$f":"IF('Data Input'!N12=\"\",\"\",'Data Input'!N12)","v":""},null,null,null,null,null,null,null,null,"",{"$f":"IFERROR(VLOOKUP($Z14,Lookup!$C:$E,2,FALSE),\"\")","v":""},{"$f":"IFERROR(VLOOKUP($AA14,Lookup!$D:$E,2,FALSE),\"\")","v":""},"",{"$f":"IFERROR(VLOOKUP($AC14,Lookup!$C:$E,2,FALSE),\"\")","v":""},{"$f":"IFERROR(VLOOKUP($AD14,Lookup!$D:$E,2,FALSE),\"\")","v":""},"",{"$f":"IFERROR(VLOOKUP($AF14,Lookup!$C:$E,2,FALSE),\"\")","v":""},{"$f":"IFERROR(VLOOKUP($AG14,Lookup!$D:$E,2,FALSE),\"\")","v":""},""]
[{"$f":"IF('Data Input'!I13=\"\",\"\",'Data Input'!I13)","v":""},{"$f":"IF('Data Input'!H13=\"\",\"\",'Data Input'!H13)","v":""},{"$f":"IF('Data Input'!A13=\"\",\"\",'Data Input'!A13)","v":""},{"$f":"IF('Data Input'!R13=\"\",\"\",'Data Input'!R13)","v":""},{"$f":"IF('Data Input'!D13=\"\",\"\",'Data Input'!D13)","v":""},{"$f":"IF('Data Input'!E13=\"\",\"\",'Data Input'!E13)","v":""},{"$f":"IF('Data Input'!F13=\"\",\"\",'Data Input'!F13)","v":""},{"$f":"IF('Data Input'!G13=\"\",\"\",'Data Input'!G13)","v":""},{"$f":"IF('Data Input'!B13=\"\",\"\",'Data Input'!B13)","v":""},{"$f":"IF('Data Input'!C13=\"\",\"\",'Data Input'!C13)","v":""},{"$f":"IF('Data Input'!J13=\"\",\"\",'Data Input'!J13)","v":""},{"$f":"IF('Data Input'!K13=\"\",\"\",'Data Input'!K13)","v":""},{"$f":"IF('Data Input'!O13=\"\",\"\",'Data Input'!O13)","v":""},{"$f":"IF('Data Input'!L13=\"\",\"\",'Data Input'!L13)","v":""},{"$f":"IF('Data Input'!M13=\"\",\"\",'Data Input'!M13)","v":""},{"$f":"IF('Data Input'!Q13=\"\",\"\",'Data Input'!Q13)","v":""},{"$f":"IF('Data Input'!N13=\"\",\"\",'Data Input'!N13)","v":""},null,null,null,null,null,null,null,null,"",{"$f":"IFERROR(VLOOKUP($Z15,Lookup!$C:$E,2,FALSE),\"\")","v":""},{"$f":"IFERROR(VLOOKUP($AA15,Lookup!$D:$E,2,FALSE),\"\")","v":""},"",{"$f":"IFERROR(VLOOKUP($AC15,Lookup!$C:$E,2,FALSE),\"\")","v":""},{"$f":"IFERROR(VLOOKUP($AD15,Lookup!$D:$E,2,FALSE),\"\")","v":""},"",{"$f":"IFERROR(VLOOKUP($AF15,Lookup!$C:$E,2,FALSE),\"\")","v":""},{"$f":"IFERROR(VLOOKUP($AG15,Lookup!$D:$E,2,FALSE),\"\")","v":""},""]
[{"$f":"IF('Data Input'!I14=\"\",\"\",'Data Input'!I14)","v":""},{"$f":"IF('Data Input'!H14=\"\",\"\",'Data Input'!H14)","v":""},{"$f":"IF('Data Input'!A14=\"\",\"\",'Data Input'!A14)","v":""},{"$f":"IF('Data Input'!R14=\"\",\"\",'Data Input'!R14)","v":""},{"$f":"IF('Data Input'!D14=\"\",\"\",'Data Input'!D14)","v":""},{"$f":"IF('Data Input'!E14=\"\",\"\",'Data Input'!E14)","v":""},{"$f":"IF('Data Input'!F14=\"\",\"\",'Data Input'!F14)","v":""},{"$f":"IF('Data Input'!G14=\"\",\"\",'Data Input'!G14)","v":""},{"$f":"IF('Data Input'!B14=\"\",\"\",'Data Input'!B14)","v":""},{"$f":"IF('Data Input'!C14=\"\",\"\",'Data Input'!C14)","v":""},{"$f":"IF('Data Input'!J14=\"\",\"\",'Data Input'!J14)","v":""},{"$f":"IF('Data Input'!K14=\"\",\"\",'Data Input'!K14)","v":""},{"$f":"IF('Data Input'!O14=\"\",\"\",'Data Input'!O14)","v":""},{"$f":"IF('Data Input'!L14=\"\",\"\",'Data Input'!L14)","v":""},{"$f":"IF('Data Input'!M14=\"\",\"\",'Data Input'!M14)","v":""},{"$f":"IF('Data Input'!Q14=\"\",\"\",'Data Input'!Q14)","v":""},{"$f":"IF('Data Input'!N14=\"\",\"\",'Data Input'!N14)","v":""},null,null,null,null,null,null,null,null,"",{"$f":"IFERROR(VLOOKUP($Z16,Lookup!$C:$E,2,FALSE),\"\")","v":""},{"$f":"IFERROR(VLOOKUP($AA16,Lookup!$D:$E,2,FALSE),\"\")","v":""},"",{"$f":"IFERROR(VLOOKUP($AC16,Lookup!$C:$E,2,FALSE),\"\")","v":""},{"$f":"IFERROR(VLOOKUP($AD16,Lookup!$D:$E,2,FALSE),\"\")","v":""},"",{"$f":"IFERROR(VLOOKUP($AF16,Lookup!$C:$E,2,FALSE),\"\")","v":""},{"$f":"IFERROR(VLOOKUP($AG16,Lookup!$D:$E,2,FALSE),\"\")","v":""},""]
[{"$f":"IF('Data Input'!I15=\"\",\"\",'Data Input'!I15)","v":""},{"$f":"IF('Data Input'!H15=\"\",\"\",'Data Input'!H15)","v":""},{"$f":"IF('Data Input'!A15=\"\",\"\",'Data Input'!A15)","v":""},{"$f":"IF('Data Input'!R15=\"\",\"\",'Data Input'!R15)","v":""},{"$f":"IF('Data Input'!D15=\"\",\"\",'Data Input'!D15)","v":""},{"$f":"IF('Data Input'!E15=\"\",\"\",'Data Input'!E15)","v":""},{"$f":"IF('Data Input'!F15=\"\",\"\",'Data Input'!F15)","v":""},{"$f":"IF('Data Input'!G15=\"\",\"\",'Data Input'!G15)","v":""},{"$f":"IF('Data Input'!B15=\"\",\"\",'Data Input'!B15)","v":""},{"$f":"IF('Data Input'!C15=\"\",\"\",'Data Input'!C15)","v":""},{"$f":"IF('Data Input'!J15=\"\",\"\",'Data Input'!J15)","v":""},{"$f":"IF('Data Input'!K15=\"\",\"\",'Data Input'!K15)","v":""},{"$f":"IF('Data Input'!O15=\"\",\"\",'Data Input'!O15)","v":""},{"$f":"IF('Data Input'!L15=\"\",\"\",'Data Input'!L15)","v":""},{"$f":"IF('Data Input'!M15=\"\",\"\",'Data Input'!M15)","v":""},{"$f":"IF('Data Input'!Q15=\"\",\"\",'Data Input'!Q15)","v":""},{"$f":"IF('Data Input'!N15=\"\",\"\",'Data Input'!N15)","v":""},null,null,null,null,null,null,null,null,"",{"$f":"IFERROR(VLOOKUP($Z17,Lookup!$C:$E,2,FALSE),\"\")","v":""},{"$f":"IFERROR(VLOOKUP($AA17,Lookup!$D:$E,2,FALSE),\"\")","v":""},"",{"$f":"IFERROR(VLOOKUP($AC17,Lookup!$C:$E,2,FALSE),\"\")","v":""},{"$f":"IFERROR(VLOOKUP($AD17,Lookup!$D:$E,2,FALSE),\"\")","v":""},"",{"$f":"IFERROR(VLOOKUP($AF17,Lookup!$C:$E,2,FALSE),\"\")","v":""},{"$f":"IFERROR(VLOOKUP($AG17,Lookup!$D:$E,2,FALSE),\"\")","v":""},""]
[{"$f":"IF('Data Input'!I16=\"\",\"\",'Data Input'!I16)","v":""},{"$f":"IF('Data Input'!H16=\"\",\"\",'Data Input'!H16)","v":""},{"$f":"IF('Data Input'!A16=\"\",\"\",'Data Input'!A16)","v":""},{"$f":"IF('Data Input'!R16=\"\",\"\",'Data Input'!R16)","v":""},{"$f":"IF('Data Input'!D16=\"\",\"\",'Data Input'!D16)","v":""},{"$f":"IF('Data Input'!E16=\"\",\"\",'Data Input'!E16)","v":""},{"$f":"IF('Data Input'!F16=\"\",\"\",'Data Input'!F16)","v":""},{"$f":"IF('Data Input'!G16=\"\",\"\",'Data Input'!G16)","v":""},{"$f":"IF('Data Input'!B16=\"\",\"\",'Data Input'!B16)","v":""},{"$f":"IF('Data Input'!C16=\"\",\"\",'Data Input'!C16)","v":""},{"$f":"IF('Data Input'!J16=\"\",\"\",'Data Input'!J16)","v":""},{"$f":"IF('Data Input'!K16=\"\",\"\",'Data Input'!K16)","v":""},{"$f":"IF('Data Input'!O16=\"\",\"\",'Data Input'!O16)","v":""},{"$f":"IF('Data Input'!L16=\"\",\"\",'Data Input'!L16)","v":""},{"$f":"IF('Data Input'!M16=\"\",\"\",'Data Input'!M16)","v":""},{"$f":"IF('Data Input'!Q16=\"\",\"\",'Data Input'!Q16)","v":""},{"$f":"IF('Data Input'!N16=\"\",\"\",'Data Input'!N16)","v":""},null,null,null,null,null,null,null,null,"",{"$f":"IFERROR(VLOOKUP($Z18,Lookup!$C:$E,2,FALSE),\"\")","v":""},{"$f":"IFERROR(VLOOKUP($AA18,Lookup!$D:$E,2,FALSE),\"\")","v":""},"",{"$f":"IFERROR(VLOOKUP($AC18,Lookup!$C:$E,2,FALSE),\"\")","v":""},{"$f":"IFERROR(VLOOKUP($AD18,Lookup!$D:$E,2,FALSE),\"\")","v":""},"",{"$f":"IFERROR(VLOOKUP($AF18,Lookup!$C:$E,2,FALSE),\"\")","v":""},{"$f":"IFERROR(VLOOKUP($AG18,Lookup!$D:$E,2,FALSE),\"\")","v":""},""]
[{"$f":"IF('Data Input'!I17=\"\",\"\",'Data Input'!I17)","v":""},{"$f":"IF('Data Input'!H17=\"\",\"\",'Data Input'!H17)","v":""},{"$f":"IF('Data Input'!A17=\"\",\"\",'Data Input'!A17)","v":""},{"$f":"IF('Data Input'!R17=\"\",\"\",'Data Input'!R17)","v":""},{"$f":"IF('Data Input'!D17=\"\",\"\",'Data Input'!D17)","v":""},{"$f":"IF('Data Input'!E17=\"\",\"\",'Data Input'!E17)","v":""},{"$f":"IF('Data Input'!F17=\"\",\"\",'Data Input'!F17)","v":""},{"$f":"IF('Data Input'!G17=\"\",\"\",'Data Input'!G17)","v":""},{"$f":"IF('Data Input'!B17=\"\",\"\",'Data Input'!B17)","v":""},{"$f":"IF('Data Input'!C17=\"\",\"\",'Data Input'!C17)","v":""},{"$f":"IF('Data Input'!J17=\"\",\"\",'Data Input'!J17)","v":""},{"$f":"IF('Data Input'!K17=\"\",\"\",'Data Input'!K17)","v":""},{"$f":"IF('Data Input'!O17=\"\",\"\",'Data Input'!O17)","v":""},{"$f":"IF('Data Input'!L17=\"\",\"\",'Data Input'!L17)","v":""},{"$f":"IF('Data Input'!M17=\"\",\"\",'Data Input'!M17)","v":""},{"$f":"IF('Data Input'!Q17=\"\",\"\",'Data Input'!Q17)","v":""},{"$f":"IF('Data Input'!N17=\"\",\"\",'Data Input'!N17)","v":""},null,null,null,null,null,null,null,null,"",{"$f":"IFERROR(VLOOKUP($Z19,Lookup!$C:$E,2,FALSE),\"\")","v":""},{"$f":"IFERROR(VLOOKUP($AA19,Lookup!$D:$E,2,FALSE),\"\")","v":""},"",{"$f":"IFERROR(VLOOKUP($AC19,Lookup!$C:$E,2,FALSE),\"\")","v":""},{"$f":"IFERROR(VLOOKUP($AD19,Lookup!$D:$E,2,FALSE),\"\")","v":""},"",{"$f":"IFERROR(VLOOKUP($AF19,Lookup!$C:$E,2,FALSE),\"\")","v":""},{"$f":"IFERROR(VLOOKUP($AG19,Lookup!$D:$E,2,FALSE),\"\")","v":""},""]
[{"$f":"IF('Data Input'!I18=\"\",\"\",'Data Input'!I18)","v":""},{"$f":"IF('Data Input'!H18=\"\",\"\",'Data Input'!H18)","v":""},{"$f":"IF('Data Input'!A18=\"\",\"\",'Data Input'!A18)","v":""},{"$f":"IF('Data Input'!R18=\"\",\"\",'Data Input'!R18)","v":""},{"$f":"IF('Data Input'!D18=\"\",\"\",'Data Input'!D18)","v":""},{"$f":"IF('Data Input'!E18=\"\",\"\",'Data Input'!E18)","v":""},{"$f":"IF('Data Input'!F18=\"\",\"\",'Data Input'!F18)","v":""},{"$f":"IF('Data Input'!G18=\"\",\"\",'Data Input'!G18)","v":""},{"$f":"IF('Data Input'!B18=\"\",\"\",'Data Input'!B18)","v":""},{"$f":"IF('Data Input'!C18=\"\",\"\",'Data Input'!C18)","v":""},{"$f":"IF('Data Input'!J18=\"\",\"\",'Data Input'!J18)","v":""},{"$f":"IF('Data Input'!K18=\"\",\"\",'Data Input'!K18)","v":""},{"$f":"IF('Data Input'!O18=\"\",\"\",'Data Input'!O18)","v":""},{"$f":"IF('Data Input'!L18=\"\",\"\",'Data Input'!L18)","v":""},{"$f":"IF('Data Input'!M18=\"\",\"\",'Data Input'!M18)","v":""},{"$f":"IF('Data Input'!Q18=\"\",\"\",'Data Input'!Q18)","v":""},{"$f":"IF('Data Input'!N18=\"\",\"\",'Data Input'!N18)","v":""},null,null,null,null,null,null,null,null,"",{"$f":"IFERROR(VLOOKUP($Z20,Lookup!$C:$E,2,FALSE),\"\")","v":""},{"$f":"IFERROR(VLOOKUP($AA20,Lookup!$D:$E,2,FALSE),\"\")","v":""},"",{"$f":"IFERROR(VLOOKUP($AC20,Lookup!$C:$E,2,FALSE),\"\")","v":""},{"$f":"IFERROR(VLOOKUP($AD20,Lookup!$D:$E,2,FALSE),\"\")","v":""},"",{"$f":"IFERROR(VLOOKUP($AF20,Lookup!$C:$E,2,FALSE),\"\")","v":""},{"$f":"IFERROR(VLOOKUP($AG20,Lookup!$D:$E,2,FALSE),\"\")","v":""},""]
[{"$f":"IF('Data Input'!I19=\"\",\"\",'Data Input'!I19)","v":""},{"$f":"IF('Data Input'!H19=\"\",\"\",'Data Input'!H19)","v":""},{"$f":"IF('Data Input'!A19=\"\",\"\",'Data Input'!A19)","v":""},{"$f":"IF('Data Input'!R19=\"\",\"\",'Data Input'!R19)","v":""},{"$f":"IF('Data Input'!D19=\"\",\"\",'Data Input'!D19)","v":""},{"$f":"IF('Data Input'!E19=\"\",\"\",'Data Input'!E19)","v":""},{"$f":"IF('Data Input'!F19=\"\",\"\",'Data Input'!F19)","v":""},{"$f":"IF('Data Input'!G19=\"\",\"\",'Data Input'!G19)","v":""},{"$f":"IF('Data Input'!B19=\"\",\"\",'Data Input'!B19)","v":""},{"$f":"IF('Data Input'!C19=\"\",\"\",'Data Input'!C19)","v":""},{"$f":"IF('Data Input'!J19=\"\",\"\",'Data Input'!J19)","v":""},{"$f":"IF('Data Input'!K19=\"\",\"\",'Data Input'!K19)","v":""},{"$f":"IF('Data Input'!O19=\"\",\"\",'Data Input'!O19)","v":""},{"$f":"IF('Data Input'!L19=\"\",\"\",'Data Input'!L19)","v":""},{"$f":"IF('Data Input'!M19=\"\",\"\",'Data Input'!M19)","v":""},{"$f":"IF('Data Input'!Q19=\"\",\"\",'Data Input'!Q19)","v":""},{"$f":"IF('Data Input'!N19=\"\",\"\",'Data Input'!N19)","v":""},null,null,null,null,null,null,null,null,"",{"$f":"IFERROR(VLOOKUP($Z21,Lookup!$C:$E,2,FALSE),\"\")","v":""},{"$f":"IFERROR(VLOOKUP($AA21,Lookup!$D:$E,2,FALSE),\"\")","v":""},"",{"$f":"IFERROR(VLOOKUP($AC21,Lookup!$C:$E,2,FALSE),\"\")","v":""},{"$f":"IFERROR(VLOOKUP($AD21,Lookup!$D:$E,2,FALSE),\"\")","v":""},"",{"$f":"IFERROR(VLOOKUP($AF21,Lookup!$C:$E,2,FALSE),\"\")","v":""},{"$f":"IFERROR(VLOOKUP($AG21,Lookup!$D:$E,2,FALSE),\"\")","v":""},""]
[{"$f":"IF('Data Input'!I20=\"\",\"\",'Data Input'!I20)","v":""},{"$f":"IF('Data Input'!H20=\"\",\"\",'Data Input'!H20)","v":""},{"$f":"IF('Data Input'!A20=\"\",\"\",'Data Input'!A20)","v":""},{"$f":"IF('Data Input'!R20=\"\",\"\",'Data Input'!R20)","v":""},{"$f":"IF('Data Input'!D20=\"\",\"\",'Data Input'!D20)","v":""},{"$f":"IF('Data Input'!E20=\"\",\"\",'Data Input'!E20)","v":""},{"$f":"IF('Data Input'!F20=\"\",\"\",'Data Input'!F20)","v":""},{"$f":"IF('Data Input'!G20=\"\",\"\",'Data Input'!G20)","v":""},{"$f":"IF('Data Input'!B20=\"\",\"\",'Data Input'!B20)","v":""},{"$f":"IF('Data Input'!C20=\"\",\"\",'Data Input'!C20)","v":""},{"$f":"IF('Data Input'!J20=\"\",\"\",'Data Input'!J20)","v":""},{"$f":"IF('Data Input'!K20=\"\",\"\",'Data Input'!K20)","v":""},{"$f":"IF('Data Input'!O20=\"\",\"\",'Data Input'!O20)","v":""},{"$f":"IF('Data Input'!L20=\"\",\"\",'Data Input'!L20)","v":""},{"$f":"IF('Data Input'!M20=\"\",\"\",'Data Input'!M20)","v":""},{"$f":"IF('Data Input'!Q20=\"\",\"\",'Data Input'!Q20)","v":""},{"$f":"IF('Data Input'!N20=\"\",\"\",'Data Input'!N20)","v":""},null,null,null,null,null,null,null,null,"",{"$f":"IFERROR(VLOOKUP($Z22,Lookup!$C:$E,2,FALSE),\"\")","v":""},{"$f":"IFERROR(VLOOKUP($AA22,Lookup!$D:$E,2,FALSE),\"\")","v":""},"",{"$f":"IFERROR(VLOOKUP($AC22,Lookup!$C:$E,2,FALSE),\"\")","v":""},{"$f":"IFERROR(VLOOKUP($AD22,Lookup!$D:$E,2,FALSE),\"\")","v":""},"",{"$f":"IFERROR(VLOOKUP($AF22,Lookup!$C:$E,2,FALSE),\"\")","v":""},{"$f":"IFERROR(VLOOKUP($AG22,Lookup!$D:$E,2,FALSE),\"\")","v":""},""]
[{"$f":"IF('Data Input'!I21=\"\",\"\",'Data Input'!I21)","v":""},{"$f":"IF('Data Input'!H21=\"\",\"\",'Data Input'!H21)","v":""},{"$f":"IF('Data Input'!A21=\"\",\"\",'Data Input'!A21)","v":""},{"$f":"IF('Data Input'!R21=\"\",\"\",'Data Input'!R21)","v":""},{"$f":"IF('Data Input'!D21=\"\",\"\",'Data Input'!D21)","v":""},{"$f":"IF('Data Input'!E21=\"\",\"\",'Data Input'!E21)","v":""},{"$f":"IF('Data Input'!F21=\"\",\"\",'Data Input'!F21)","v":""},{"$f":"IF('Data Input'!G21=\"\",\"\",'Data Input'!G21)","v":""},{"$f":"IF('Data Input'!B21=\"\",\"\",'Data Input'!B21)","v":""},{"$f":"IF('Data Input'!C21=\"\",\"\",'Data Input'!C21)","v":""},{"$f":"IF('Data Input'!J21=\"\",\"\",'Data Input'!J21)","v":""},{"$f":"IF('Data Input'!K21=\"\",\"\",'Data Input'!K21)","v":""},{"$f":"IF('Data Input'!O21=\"\",\"\",'Data Input'!O21)","v":""},{"$f":"IF('Data Input'!L21=\"\",\"\",'Data Input'!L21)","v":""},{"$f":"IF('Data Input'!M21=\"\",\"\",'Data Input'!M21)","v":""},{"$f":"IF('Data Input'!Q21=\"\",\"\",'Data Input'!Q21)","v":""},{"$f":"IF('Data Input'!N21=\"\",\"\",'Data Input'!N21)","v":""},null,null,null,null,null,null,null,null,"",{"$f":"IFERROR(VLOOKUP($Z23,Lookup!$C:$E,2,FALSE),\"\")","v":""},{"$f":"IFERROR(VLOOKUP($AA23,Lookup!$D:$E,2,FALSE),\"\")","v":""},"",{"$f":"IFERROR(VLOOKUP($AC23,Lookup!$C:$E,2,FALSE),\"\")","v":""},{"$f":"IFERROR(VLOOKUP($AD23,Lookup!$D:$E,2,FALSE),\"\")","v":""},"",{"$f":"IFERROR(VLOOKUP($AF23,Lookup!$C:$E,2,FALSE),\"\")","v":""},{"$f":"IFERROR(VLOOKUP($AG23,Lookup!$D:$E,2,FALSE),\"\")","v":""},""]
[{"$f":"IF('Data Input'!I22=\"\",\"\",'Data Input'!I22)","v":""},{"$f":"IF('Data Input'!H22=\"\",\"\",'Data Input'!H22)","v":""},{"$f":"IF('Data Input'!A22=\"\",\"\",'Data Input'!A22)","v":""},{"$f":"IF('Data Input'!R22=\"\",\"\",'Data Input'!R22)","v":""},{"$f":"IF('Data Input'!D22=\"\",\"\",'Data Input'!D22)","v":""},{"$f":"IF('Data Input'!E22=\"\",\"\",'Data Input'!E22)","v":""},{"$f":"IF('Data Input'!F22=\"\",\"\",'Data Input'!F22)","v":""},{"$f":"IF('Data Input'!G22=\"\",\"\",'Data Input'!G22)","v":""},{"$f":"IF('Data Input'!B22=\"\",\"\",'Data Input'!B22)","v":""},{"$f":"IF('Data Input'!C22=\"\",\"\",'Data Input'!C22)","v":""},{"$f":"IF('Data Input'!J22=\"\",\"\",'Data Input'!J22)","v":""},{"$f":"IF('Data Input'!K22=\"\",\"\",'Data Input'!K22)","v":""},{"$f":"IF('Data Input'!O22=\"\",\"\",'Data Input'!O22)","v":""},{"$f":"IF('Data Input'!L22=\"\",\"\",'Data Input'!L22)","v":""},{"$f":"IF('Data Input'!M22=\"\",\"\",'Data Input'!M22)","v":""},{"$f":"IF('Data Input'!Q22=\"\",\"\",'Data Input'!Q22)","v":""},{"$f":"IF('Data Input'!N22=\"\",\"\",'Data Input'!N22)","v":""},null,null,null,null,null,null,null,null,"",{"$f":"IFERROR(VLOOKUP($Z24,Lookup!$C:$E,2,FALSE),\"\")","v":""},{"$f":"IFERROR(VLOOKUP($AA24,Lookup!$D:$E,2,FALSE),\"\")","v":""},"",{"$f":"IFERROR(VLOOKUP($AC24,Lookup!$C:$E,2,FALSE),\"\")","v":""},{"$f":"IFERROR(VLOOKUP($AD24,Lookup!$D:$E,2,FALSE),\"\")","v":""},"",{"$f":"IFERROR(VLOOKUP($AF24,Lookup!$C:$E,2,FALSE),\"\")","v":""},{"$f":"IFERROR(VLOOKUP($AG24,Lookup!$D:$E,2,FALSE),\"\")","v":""},""]
[{"$f":"IF('Data Input'!I23=\"\",\"\",'Data Input'!I23)","v":""},{"$f":"IF('Data Input'!H23=\"\",\"\",'Data Input'!H23)","v":""},{"$f":"IF('Data Input'!A23=\"\",\"\",'Data Input'!A23)","v":""},{"$f":"IF('Data Input'!R23=\"\",\"\",'Data Input'!R23)","v":""},{"$f":"IF('Data Input'!D23=\"\",\"\",'Data Input'!D23)","v":""},{"$f":"IF('Data Input'!E23=\"\",\"\",'Data Input'!E23)","v":""},{"$f":"IF('Data Input'!F23=\"\",\"\",'Data Input'!F23)","v":""},{"$f":"IF('Data Input'!G23=\"\",\"\",'Data Input'!G23)","v":""},{"$f":"IF('Data Input'!B23=\"\",\"\",'Data Input'!B23)","v":""},{"$f":"IF('Data Input'!C23=\"\",\"\",'Data Input'!C23)","v":""},{"$f":"IF('Data Input'!J23=\"\",\"\",'Data Input'!J23)","v":""},{"$f":"IF('Data Input'!K23=\"\",\"\",'Data Input'!K23)","v":""},{"$f":"IF('Data Input'!O23=\"\",\"\",'Data Input'!O23)","v":""},{"$f":"IF('Data Input'!L23=\"\",\"\",'Data Input'!L23)","v":""},{"$f":"IF('Data Input'!M23=\"\",\"\",'Data Input'!M23)","v":""},{"$f":"IF('Data Input'!Q23=\"\",\"\",'Data Input'!Q23)","v":""},{"$f":"IF('Data Input'!N23=\"\",\"\",'Data Input'!N23)","v":""},null,null,null,null,null,null,null,null,"",{"$f":"IFERROR(VLOOKUP($Z25,Lookup!$C:$E,2,FALSE),\"\")","v":""},{"$f":"IFERROR(VLOOKUP($AA25,Lookup!$D:$E,2,FALSE),\"\")","v":""},"",{"$f":"IFERROR(VLOOKUP($AC25,Lookup!$C:$E,2,FALSE),\"\")","v":""},{"$f":"IFERROR(VLOOKUP($AD25,Lookup!$D:$E,2,FALSE),\"\")","v":""},"",{"$f":"IFERROR(VLOOKUP($AF25,Lookup!$C:$E,2,FALSE),\"\")","v":""},{"$f":"IFERROR(VLOOKUP($AG25,Lookup!$D:$E,2,FALSE),\"\")","v":""},""]
[{"$f":"IF('Data Input'!I24=\"\",\"\",'Data Input'!I24)","v":""},{"$f":"IF('Data Input'!H24=\"\",\"\",'Data Input'!H24)","v":""},{"$f":"IF('Data Input'!A24=\"\",\"\",'Data Input'!A24)","v":""},{"$f":"IF('Data Input'!R24=\"\",\"\",'Data Input'!R24)","v":""},{"$f":"IF('Data Input'!D24=\"\",\"\",'Data Input'!D24)","v":""},{"$f":"IF('Data Input'!E24=\"\",\"\",'Data Input'!E24)","v":""},{"$f":"IF('Data Input'!F24=\"\",\"\",'Data Input'!F24)","v":""},{"$f":"IF('Data Input'!G24=\"\",\"\",'Data Input'!G24)","v":""},{"$f":"IF('Data Input'!B24=\"\",\"\",'Data Input'!B24)","v":""},{"$f":"IF('Data Input'!C24=\"\",\"\",'Data Input'!C24)","v":""},{"$f":"IF('Data Input'!J24=\"\",\"\",'Data Input'!J24)","v":""},{"$f":"IF('Data Input'!K24=\"\",\"\",'Data Input'!K24)","v":""},{"$f":"IF('Data Input'!O24=\"\",\"\",'Data Input'!O24)","v":""},{"$f":"IF('Data Input'!L24=\"\",\"\",'Data Input'!L24)","v":""},{"$f":"IF('Data Input'!M24=\"\",\"\",'Data Input'!M24)","v":""},{"$f":"IF('Data Input'!Q24=\"\",\"\",'Data Input'!Q24)","v":""},{"$f":"IF('Data Input'!N24=\"\",\"\",'Data Input'!N24)","v":""},null,null,null,null,null,null,null,null,"",{"$f":"IFERROR(VLOOKUP($Z26,Lookup!$C:$E,2,FALSE),\"\")","v":""},{"$f":"IFERROR(VLOOKUP($AA26,Lookup!$D:$E,2,FALSE),\"\")","v":""},"",{"$f":"IFERROR(VLOOKUP($AC26,Lookup!$C:$E,2,FALSE),\"\")","v":""},{"$f":"IFERROR(VLOOKUP($AD26,Lookup!$D:$E,2,FALSE),\"\")","v":""},"",{"$f":"IFERROR(VLOOKUP($AF26,Lookup!$C:$E,2,FALSE),\"\")","v":""},{"$f":"IFERROR(VLOOKUP($AG26,Lookup!$D:$E,2,FALSE),\"\")","v":""},""]
[{"$f":"IF('Data Input'!I25=\"\",\"\",'Data Input'!I25)","v":""},{"$f":"IF('Data Input'!H25=\"\",\"\",'Data Input'!H25)","v":""},{"$f":"IF('Data Input'!A25=\"\",\"\",'Data Input'!A25)","v":""},{"$f":"IF('Data Input'!R25=\"\",\"\",'Data Input'!R25)","v":""},{"$f":"IF('Data Input'!D25=\"\",\"\",'Data Input'!D25)","v":""},{"$f":"IF('Data Input'!E25=\"\",\"\",'Data Input'!E25)","v":""},{"$f":"IF('Data Input'!F25=\"\",\"\",'Data Input'!F25)","v":""},{"$f":"IF('Data Input'!G25=\"\",\"\",'Data Input'!G25)","v":""},{"$f":"IF('Data Input'!B25=\"\",\"\",'Data Input'!B25)","v":""},{"$f":"IF('Data Input'!C25=\"\",\"\",'Data Input'!C25)","v":""},{"$f":"IF('Data Input'!J25=\"\",\"\",'Data Input'!J25)","v":""},{"$f":"IF('Data Input'!K25=\"\",\"\",'Data Input'!K25)","v":""},{"$f":"IF('Data Input'!O25=\"\",\"\",'Data Input'!O25)","v":""},{"$f":"IF('Data Input'!L25=\"\",\"\",'Data Input'!L25)","v":""},{"$f":"IF('Data Input'!M25=\"\",\"\",'Data Input'!M25)","v":""},{"$f":"IF('Data Input'!Q25=\"\",\"\",'Data Input'!Q25)","v":""},{"$f":"IF('Data Input'!N25=\"\",\"\",'Data Input'!N25)","v":""},null,null,null,null,null,null,null,null,"",{"$f":"IFERROR(VLOOKUP($Z27,Lookup!$C:$E,2,FALSE),\"\")","v":""},{"$f":"IFERROR(VLOOKUP($AA27,Lookup!$D:$E,2,FALSE),\"\")","v":""},"",{"$f":"IFERROR(VLOOKUP($AC27,Lookup!$C:$E,2,FALSE),\"\")","v":""},{"$f":"IFERROR(VLOOKUP($AD27,Lookup!$D:$E,2,FALSE),\"\")","v":""},"",{"$f":"IFERROR(VLOOKUP($AF27,Lookup!$C:$E,2,FALSE),\"\")","v":""},{"$f":"IFERROR(VLOOKUP($AG27,Lookup!$D:$E,2,FALSE),\"\")","v":""},""]
[{"$f":"IF('Data Input'!I26=\"\",\"\",'Data Input'!I26)","v":""},{"$f":"IF('Data Input'!H26=\"\",\"\",'Data Input'!H26)","v":""},{"$f":"IF('Data Input'!A26=\"\",\"\",'Data Input'!A26)","v":""},{"$f":"IF('Data Input'!R26=\"\",\"\",'Data Input'!R26)","v":""},{"$f":"IF('Data Input'!D26=\"\",\"\",'Data Input'!D26)","v":""},{"$f":"IF('Data Input'!E26=\"\",\"\",'Data Input'!E26)","v":""},{"$f":"IF('Data Input'!F26=\"\",\"\",'Data Input'!F26)","v":""},{"$f":"IF('Data Input'!G26=\"\",\"\",'Data Input'!G26)","v":""},{"$f":"IF('Data Input'!B26=\"\",\"\",'Data Input'!B26)","v":""},{"$f":"IF('Data Input'!C26=\"\",\"\",'Data Input'!C26)","v":""},{"$f":"IF('Data Input'!J26=\"\",\"\",'Data Input'!J26)","v":""},{"$f":"IF('Data Input'!K26=\"\",\"\",'Data Input'!K26)","v":""},{"$f":"IF('Data Input'!O26=\"\",\"\",'Data Input'!O26)","v":""},{"$f":"IF('Data Input'!L26=\"\",\"\",'Data Input'!L26)","v":""},{"$f":"IF('Data Input'!M26=\"\",\"\",'Data Input'!M26)","v":""},{"$f":"IF('Data Input'!Q26=\"\",\"\",'Data Input'!Q26)","v":""},{"$f":"IF('Data Input'!N26=\"\",\"\",'Data Input'!N26)","v":""},null,null,null,null,null,null,null,null,"",{"$f":"IFERROR(VLOOKUP($Z28,Lookup!$C:$E,2,FALSE),\"\")","v":""},{"$f":"IFERROR(VLOOKUP($AA28,Lookup!$D:$E,2,FALSE),\"\")","v":""},"",{"$f":"IFERROR(VLOOKUP($AC28,Lookup!$C:$E,2,FALSE),\"\")","v":""},{"$f":"IFERROR(VLOOKUP($AD28,Lookup!$D:$E,2,FALSE),\"\")","v":""},"",{"$f":"IFERROR(VLOOKUP($AF28,Lookup!$C:$E,2,FALSE),\"\")","v":""},{"$f":"IFERROR(VLOOKUP($AG28,Lookup!$D:$E,2,FALSE),\"\")","v":""},""]
[{"$f":"IF('Data Input'!I27=\"\",\"\",'Data Input'!I27)","v":""},{"$f":"IF('Data Input'!H27=\"\",\"\",'Data Input'!H27)","v":""},{"$f":"IF('Data Input'!A27=\"\",\"\",'Data Input'!A27)","v":""},{"$f":"IF('Data Input'!R27=\"\",\"\",'Data Input'!R27)","v":""},{"$f":"IF('Data Input'!D27=\"\",\"\",'Data Input'!D27)","v":""},{"$f":"IF('Data Input'!E27=\"\",\"\",'Data Input'!E27)","v":""},{"$f":"IF('Data Input'!F27=\"\",\"\",'Data Input'!F27)","v":""},{"$f":"IF('Data Input'!G27=\"\",\"\",'Data Input'!G27)","v":""},{"$f":"IF('Data Input'!B27=\"\",\"\",'Data Input'!B27)","v":""},{"$f":"IF('Data Input'!C27=\"\",\"\",'Data Input'!C27)","v":""},{"$f":"IF('Data Input'!J27=\"\",\"\",'Data Input'!J27)","v":""},{"$f":"IF('Data Input'!K27=\"\",\"\",'Data Input'!K27)","v":""},{"$f":"IF('Data Input'!O27=\"\",\"\",'Data Input'!O27)","v":""},{"$f":"IF('Data Input'!L27=\"\",\"\",'Data Input'!L27)","v":""},{"$f":"IF('Data Input'!M27=\"\",\"\",'Data Input'!M27)","v":""},{"$f":"IF('Data Input'!Q27=\"\",\"\",'Data Input'!Q27)","v":""},{"$f":"IF('Data Input'!N27=\"\",\"\",'Data Input'!N27)","v":""},null,null,null,null,null,null,null,null,"",{"$f":"IFERROR(VLOOKUP($Z29,Lookup!$C:$E,2,FALSE),\"\")","v":""},{"$f":"IFERROR(VLOOKUP($AA29,Lookup!$D:$E,2,FALSE),\"\")","v":""},"",{"$f":"IFERROR(VLOOKUP($AC29,Lookup!$C:$E,2,FALSE),\"\")","v":""},{"$f":"IFERROR(VLOOKUP($AD29,Lookup!$D:$E,2,FALSE),\"\")","v":""},"",{"$f":"IFERROR(VLOOKUP($AF29,Lookup!$C:$E,2,FALSE),\"\")","v":""},{"$f":"IFERROR(VLOOKUP($AG29,Lookup!$D:$E,2,FALSE),\"\")","v":""},""]
[{"$f":"IF('Data Input'!I28=\"\",\"\",'Data Input'!I28)","v":""},{"$f":"IF('Data Input'!H28=\"\",\"\",'Data Input'!H28)","v":""},{"$f":"IF('Data Input'!A28=\"\",\"\",'Data Input'!A28)","v":""},{"$f":"IF('Data Input'!R28=\"\",\"\",'Data Input'!R28)","v":""},{"$f":"IF('Data Input'!D28=\"\",\"\",'Data Input'!D28)","v":""},{"$f":"IF('Data Input'!E28=\"\",\"\",'Data Input'!E28)","v":""},{"$f":"IF('Data Input'!F28=\"\",\"\",'Data Input'!F28)","v":""},{"$f":"IF('Data Input'!G28=\"\",\"\",'Data Input'!G28)","v":""},{"$f":"IF('Data Input'!B28=\"\",\"\",'Data Input'!B28)","v":""},{"$f":"IF('Data Input'!C28=\"\",\"\",'Data Input'!C28)","v":""},{"$f":"IF('Data Input'!J28=\"\",\"\",'Data Input'!J28)","v":""},{"$f":"IF('Data Input'!K28=\"\",\"\",'Data Input'!K28)","v":""},{"$f":"IF('Data Input'!O28=\"\",\"\",'Data Input'!O28)","v":""},{"$f":"IF('Data Input'!L28=\"\",\"\",'Data Input'!L28)","v":""},{"$f":"IF('Data Input'!M28=\"\",\"\",'Data Input'!M28)","v":""},{"$f":"IF('Data Input'!Q28=\"\",\"\",'Data Input'!Q28)","v":""},{"$f":"IF('Data Input'!N28=\"\",\"\",'Data Input'!N28)","v":""},null,null,null,null,null,null,null,null,"",{"$f":"IFERROR(VLOOKUP($Z30,Lookup!$C:$E,2,FALSE),\"\")","v":""},{"$f":"IFERROR(VLOOKUP($AA30,Lookup!$D:$E,2,FALSE),\"\")","v":""},"",{"$f":"IFERROR(VLOOKUP($AC30,Lookup!$C:$E,2,FALSE),\"\")","v":""},{"$f":"IFERROR(VLOOKUP($AD30,Lookup!$D:$E,2,FALSE),\"\")","v":""},"",{"$f":"IFERROR(VLOOKUP($AF30,Lookup!$C:$E,2,FALSE),\"\")","v":""},{"$f":"IFERROR(VLOOKUP($AG30,Lookup!$D:$E,2,FALSE),\"\")","v":""},""]
[{"$f":"IF('Data Input'!I29=\"\",\"\",'Data Input'!I29)","v":""},{"$f":"IF('Data Input'!H29=\"\",\"\",'Data Input'!H29)","v":""},{"$f":"IF('Data Input'!A29=\"\",\"\",'Data Input'!A29)","v":""},{"$f":"IF('Data Input'!R29=\"\",\"\",'Data Input'!R29)","v":""},{"$f":"IF('Data Input'!D29=\"\",\"\",'Data Input'!D29)","v":""},{"$f":"IF('Data Input'!E29=\"\",\"\",'Data Input'!E29)","v":""},{"$f":"IF('Data Input'!F29=\"\",\"\",'Data Input'!F29)","v":""},{"$f":"IF('Data Input'!G29=\"\",\"\",'Data Input'!G29)","v":""},{"$f":"IF('Data Input'!B29=\"\",\"\",'Data Input'!B29)","v":""},{"$f":"IF('Data Input'!C29=\"\",\"\",'Data Input'!C29)","v":""},{"$f":"IF('Data Input'!J29=\"\",\"\",'Data Input'!J29)","v":""},{"$f":"IF('Data Input'!K29=\"\",\"\",'Data Input'!K29)","v":""},{"$f":"IF('Data Input'!O29=\"\",\"\",'Data Input'!O29)","v":""},{"$f":"IF('Data Input'!L29=\"\",\"\",'Data Input'!L29)","v":""},{"$f":"IF('Data Input'!M29=\"\",\"\",'Data Input'!M29)","v":""},{"$f":"IF('Data Input'!Q29=\"\",\"\",'Data Input'!Q29)","v":""},{"$f":"IF('Data Input'!N29=\"\",\"\",'Data Input'!N29)","v":""},null,null,null,null,null,null,null,null,"",{"$f":"IFERROR(VLOOKUP($Z31,Lookup!$C:$E,2,FALSE),\"\")","v":""},{"$f":"IFERROR(VLOOKUP($AA31,Lookup!$D:$E,2,FALSE),\"\")","v":""},"",{"$f":"IFERROR(VLOOKUP($AC31,Lookup!$C:$E,2,FALSE),\"\")","v":""},{"$f":"IFERROR(VLOOKUP($AD31,Lookup!$D:$E,2,FALSE),\"\")","v":""},"",{"$f":"IFERROR(VLOOKUP($AF31,Lookup!$C:$E,2,FALSE),\"\")","v":""},{"$f":"IFERROR(VLOOKUP($AG31,Lookup!$D:$E,2,FALSE),\"\")","v":""},""]
[{"$f":"IF('Data Input'!I30=\"\",\"\",'Data Input'!I30)","v":""},{"$f":"IF('Data Input'!H30=\"\",\"\",'Data Input'!H30)","v":""},{"$f":"IF('Data Input'!A30=\"\",\"\",'Data Input'!A30)","v":""},{"$f":"IF('Data Input'!R30=\"\",\"\",'Data Input'!R30)","v":""},{"$f":"IF('Data Input'!D30=\"\",\"\",'Data Input'!D30)","v":""},{"$f":"IF('Data Input'!E30=\"\",\"\",'Data Input'!E30)","v":""},{"$f":"IF('Data Input'!F30=\"\",\"\",'Data Input'!F30)","v":""},{"$f":"IF('Data Input'!G30=\"\",\"\",'Data Input'!G30)","v":""},{"$f":"IF('Data Input'!B30=\"\",\"\",'Data Input'!B30)","v":""},{"$f":"IF('Data Input'!C30=\"\",\"\",'Data Input'!C30)","v":""},{"$f":"IF('Data Input'!J30=\"\",\"\",'Data Input'!J30)","v":""},{"$f":"IF('Data Input'!K30=\"\",\"\",'Data Input'!K30)","v":""},{"$f":"IF('Data Input'!O30=\"\",\"\",'Data Input'!O30)","v":""},{"$f":"IF('Data Input'!L30=\"\",\"\",'Data Input'!L30)","v":""},{"$f":"IF('Data Input'!M30=\"\",\"\",'Data Input'!M30)","v":""},{"$f":"IF('Data Input'!Q30=\"\",\"\",'Data Input'!Q30)","v":""},{"$f":"IF('Data Input'!N30=\"\",\"\",'Data Input'!N30)","v":""},null,null,null,null,null,null,null,null,"",{"$f":"IFERROR(VLOOKUP($Z32,Lookup!$C:$E,2,FALSE),\"\")","v":""},{"$f":"IFERROR(VLOOKUP($AA32,Lookup!$D:$E,2,FALSE),\"\")","v":""},"",{"$f":"IFERROR(VLOOKUP($AC32,Lookup!$C:$E,2,FALSE),\"\")","v":""},{"$f":"IFERROR(VLOOKUP($AD32,Lookup!$D:$E,2,FALSE),\"\")","v":""},"",{"$f":"IFERROR(VLOOKUP($AF32,Lookup!$C:$E,2,FALSE),\"\")","v":""},{"$f":"IFERROR(VLOOKUP($AG32,Lookup!$D:$E,2,FALSE),\"\")","v":""},""]
[{"$f":"IF('Data Input'!I31=\"\",\"\",'Data Input'!I31)","v":""},{"$f":"IF('Data Input'!H31=\"\",\"\",'Data Input'!H31)","v":""},{"$f":"IF('Data Input'!A31=\"\",\"\",'Data Input'!A31)","v":""},{"$f":"IF('Data Input'!R31=\"\",\"\",'Data Input'!R31)","v":""},{"$f":"IF('Data Input'!D31=\"\",\"\",'Data Input'!D31)","v":""},{"$f":"IF('Data Input'!E31=\"\",\"\",'Data Input'!E31)","v":""},{"$f":"IF('Data Input'!F31=\"\",\"\",'Data Input'!F31)","v":""},{"$f":"IF('Data Input'!G31=\"\",\"\",'Data Input'!G31)","v":""},{"$f":"IF('Data Input'!B31=\"\",\"\",'Data Input'!B31)","v":""},{"$f":"IF('Data Input'!C31=\"\",\"\",'Data Input'!C31)","v":""},{"$f":"IF('Data Input'!J31=\"\",\"\",'Data Input'!J31)","v":""},{"$f":"IF('Data Input'!K31=\"\",\"\",'Data Input'!K31)","v":""},{"$f":"IF('Data Input'!O31=\"\",\"\",'Data Input'!O31)","v":""},{"$f":"IF('Data Input'!L31=\"\",\"\",'Data Input'!L31)","v":""},{"$f":"IF('Data Input'!M31=\"\",\"\",'Data Input'!M31)","v":""},{"$f":"IF('Data Input'!Q31=\"\",\"\",'Data Input'!Q31)","v":""},{"$f":"IF('Data Input'!N31=\"\",\"\",'Data Input'!N31)","v":""},null,null,null,null,null,null,null,null,"",{"$f":"IFERROR(VLOOKUP($Z33,Lookup!$C:$E,2,FALSE),\"\")","v":""},{"$f":"IFERROR(VLOOKUP($AA33,Lookup!$D:$E,2,FALSE),\"\")","v":""},"",{"$f":"IFERROR(VLOOKUP($AC33,Lookup!$C:$E,2,FALSE),\"\")","v":""},{"$f":"IFERROR(VLOOKUP($AD33,Lookup!$D:$E,2,FALSE),\"\")","v":""},"",{"$f":"IFERROR(VLOOKUP($AF33,Lookup!$C:$E,2,FALSE),\"\")","v":""},{"$f":"IFERROR(VLOOKUP($AG33,Lookup!$D:$E,2,FALSE),\"\")","v":""},""]
[{"$f":"IF('Data Input'!I32=\"\",\"\",'Data Input'!I32)","v":""},{"$f":"IF('Data Input'!H32=\"\",\"\",'Data Input'!H32)","v":""},{"$f":"IF('Data Input'!A32=\"\",\"\",'Data Input'!A32)","v":""},{"$f":"IF('Data Input'!R32=\"\",\"\",'Data Input'!R32)","v":""},{"$f":"IF('Data Input'!D32=\"\",\"\",'Data Input'!D32)","v":""},{"$f":"IF('Data Input'!E32=\"\",\"\",'Data Input'!E32)","v":""},{"$f":"IF('Data Input'!F32=\"\",\"\",'Data Input'!F32)","v":""},{"$f":"IF('Data Input'!G32=\"\",\"\",'Data Input'!G32)","v":""},{"$f":"IF('Data Input'!B32=\"\",\"\",'Data Input'!B32)","v":""},{"$f":"IF('Data Input'!C32=\"\",\"\",'Data Input'!C32)","v":""},{"$f":"IF('Data Input'!J32=\"\",\"\",'Data Input'!J32)","v":""},{"$f":"IF('Data Input'!K32=\"\",\"\",'Data Input'!K32)","v":""},{"$f":"IF('Data Input'!O32=\"\",\"\",'Data Input'!O32)","v":""},{"$f":"IF('Data Input'!L32=\"\",\"\",'Data Input'!L32)","v":""},{"$f":"IF('Data Input'!M32=\"\",\"\",'Data Input'!M32)","v":""},{"$f":"IF('Data Input'!Q32=\"\",\"\",'Data Input'!Q32)","v":""},{"$f":"IF('Data Input'!N32=\"\",\"\",'Data Input'!N32)","v":""},null,null,null,null,null,null,null,null,"",{"$f":"IFERROR(VLOOKUP($Z34,Lookup!$C:$E,2,FALSE),\"\")","v":""},{"$f":"IFERROR(VLOOKUP($AA34,Lookup!$D:$E,2,FALSE),\"\")","v":""},"",{"$f":"IFERROR(VLOOKUP($AC34,Lookup!$C:$E,2,FALSE),\"\")","v":""},{"$f":"IFERROR(VLOOKUP($AD34,Lookup!$D:$E,2,FALSE),\"\")","v":""},"",{"$f":"IFERROR(VLOOKUP($AF34,Lookup!$C:$E,2,FALSE),\"\")","v":""},{"$f":"IFERROR(VLOOKUP($AG34,Lookup!$D:$E,2,FALSE),\"\")","v":""},""]
[{"$f":"IF('Data Input'!I33=\"\",\"\",'Data Input'!I33)","v":""},{"$f":"IF('Data Input'!H33=\"\",\"\",'Data Input'!H33)","v":""},{"$f":"IF('Data Input'!A33=\"\",\"\",'Data Input'!A33)","v":""},{"$f":"IF('Data Input'!R33=\"\",\"\",'Data Input'!R33)","v":""},{"$f":"IF('Data Input'!D33=\"\",\"\",'Data Input'!D33)","v":""},{"$f":"IF('Data Input'!E33=\"\",\"\",'Data Input'!E33)","v":""},{"$f":"IF('Data Input'!F33=\"\",\"\",'Data Input'!F33)","v":""},{"$f":"IF('Data Input'!G33=\"\",\"\",'Data Input'!G33)","v":""},{"$f":"IF('Data Input'!B33=\"\",\"\",'Data Input'!B33)","v":""},{"$f":"IF('Data Input'!C33=\"\",\"\",'Data Input'!C33)","v":""},{"$f":"IF('Data Input'!J33=\"\",\"\",'Data Input'!J33)","v":""},{"$f":"IF('Data Input'!K33=\"\",\"\",'Data Input'!K33)","v":""},{"$f":"IF('Data Input'!O33=\"\",\"\",'Data Input'!O33)","v":""},{"$f":"IF('Data Input'!L33=\"\",\"\",'Data Input'!L33)","v":""},{"$f":"IF('Data Input'!M33=\"\",\"\",'Data Input'!M33)","v":""},{"$f":"IF('Data Input'!Q33=\"\",\"\",'Data Input'!Q33)","v":""},{"$f":"IF('Data Input'!N33=\"\",\"\",'Data Input'!N33)","v":""},null,null,null,null,null,null,null,null,"",{"$f":"IFERROR(VLOOKUP($Z35,Lookup!$C:$E,2,FALSE),\"\")","v":""},{"$f":"IFERROR(VLOOKUP($AA35,Lookup!$D:$E,2,FALSE),\"\")","v":""},"",{"$f":"IFERROR(VLOOKUP($AC35,Lookup!$C:$E,2,FALSE),\"\")","v":""},{"$f":"IFERROR(VLOOKUP($AD35,Lookup!$D:$E,2,FALSE),\"\")","v":""},"",{"$f":"IFERROR(VLOOKUP($AF35,Lookup!$C:$E,2,FALSE),\"\")","v":""},{"$f":"IFERROR(VLOOKUP($AG35,Lookup!$D:$E,2,FALSE),\"\")","v":""},""]
[{"$f":"IF('Data Input'!I34=\"\",\"\",'Data Input'!I34)","v":""},{"$f":"IF('Data Input'!H34=\"\",\"\",'Data Input'!H34)","v":""},{"$f":"IF('Data Input'!A34=\"\",\"\",'Data Input'!A34)","v":""},{"$f":"IF('Data Input'!R34=\"\",\"\",'Data Input'!R34)","v":""},{"$f":"IF('Data Input'!D34=\"\",\"\",'Data Input'!D34)","v":""},{"$f":"IF('Data Input'!E34=\"\",\"\",'Data Input'!E34)","v":""},{"$f":"IF('Data Input'!F34=\"\",\"\",'Data Input'!F34)","v":""},{"$f":"IF('Data Input'!G34=\"\",\"\",'Data Input'!G34)","v":""},{"$f":"IF('Data Input'!B34=\"\",\"\",'Data Input'!B34)","v":""},{"$f":"IF('Data Input'!C34=\"\",\"\",'Data Input'!C34)","v":""},{"$f":"IF('Data Input'!J34=\"\",\"\",'Data Input'!J34)","v":""},{"$f":"IF('Data Input'!K34=\"\",\"\",'Data Input'!K34)","v":""},{"$f":"IF('Data Input'!O34=\"\",\"\",'Data Input'!O34)","v":""},{"$f":"IF('Data Input'!L34=\"\",\"\",'Data Input'!L34)","v":""},{"$f":"IF('Data Input'!M34=\"\",\"\",'Data Input'!M34)","v":""},{"$f":"IF('Data Input'!Q34=\"\",\"\",'Data Input'!Q34)","v":""},{"$f":"IF('Data Input'!N34=\"\",\"\",'Data Input'!N34)","v":""},null,null,null,null,null,null,null,null,"",{"$f":"IFERROR(VLOOKUP($Z36,Lookup!$C:$E,2,FALSE),\"\")","v":""},{"$f":"IFERROR(VLOOKUP($AA36,Lookup!$D:$E,2,FALSE),\"\")","v":""},"",{"$f":"IFERROR(VLOOKUP($AC36,Lookup!$C:$E,2,FALSE),\"\")","v":""},{"$f":"IFERROR(VLOOKUP($AD36,Lookup!$D:$E,2,FALSE),\"\")","v":""},"",{"$f":"IFERROR(VLOOKUP($AF36,Lookup!$C:$E,2,FALSE),\"\")","v":""},{"$f":"IFERROR(VLOOKUP($AG36,Lookup!$D:$E,2,FALSE),\"\")","v":""},""]
[{"$f":"IF('Data Input'!I35=\"\",\"\",'Data Input'!I35)","v":""},{"$f":"IF('Data Input'!H35=\"\",\"\",'Data Input'!H35)","v":""},{"$f":"IF('Data Input'!A35=\"\",\"\",'Data Input'!A35)","v":""},{"$f":"IF('Data Input'!R35=\"\",\"\",'Data Input'!R35)","v":""},{"$f":"IF('Data Input'!D35=\"\",\"\",'Data Input'!D35)","v":""},{"$f":"IF('Data Input'!E35=\"\",\"\",'Data Input'!E35)","v":""},{"$f":"IF('Data Input'!F35=\"\",\"\",'Data Input'!F35)","v":""},{"$f":"IF('Data Input'!G35=\"\",\"\",'Data Input'!G35)","v":""},{"$f":"IF('Data Input'!B35=\"\",\"\",'Data Input'!B35)","v":""},{"$f":"IF('Data Input'!C35=\"\",\"\",'Data Input'!C35)","v":""},{"$f":"IF('Data Input'!J35=\"\",\"\",'Data Input'!J35)","v":""},{"$f":"IF('Data Input'!K35=\"\",\"\",'Data Input'!K35)","v":""},{"$f":"IF('Data Input'!O35=\"\",\"\",'Data Input'!O35)","v":""},{"$f":"IF('Data Input'!L35=\"\",\"\",'Data Input'!L35)","v":""},{"$f":"IF('Data Input'!M35=\"\",\"\",'Data Input'!M35)","v":""},{"$f":"IF('Data Input'!Q35=\"\",\"\",'Data Input'!Q35)","v":""},{"$f":"IF('Data Input'!N35=\"\",\"\",'Data Input'!N35)","v":""},null,null,null,null,null,null,null,null,"",{"$f":"IFERROR(VLOOKUP($Z37,Lookup!$C:$E,2,FALSE),\"\")","v":""},{"$f":"IFERROR(VLOOKUP($AA37,Lookup!$D:$E,2,FALSE),\"\")","v":""},"",{"$f":"IFERROR(VLOOKUP($AC37,Lookup!$C:$E,2,FALSE),\"\")","v":""},{"$f":"IFERROR(VLOOKUP($AD37,Lookup!$D:$E,2,FALSE),\"\")","v":""},"",{"$f":"IFERROR(VLOOKUP($AF37,Lookup!$C:$E,2,FALSE),\"\")","v":""},{"$f":"IFERROR(VLOOKUP($AG37,Lookup!$D:$E,2,FALSE),\"\")","v":""},""]
[{"$f":"IF('Data Input'!I36=\"\",\"\",'Data Input'!I36)","v":""},{"$f":"IF('Data Input'!H36=\"\",\"\",'Data Input'!H36)","v":""},{"$f":"IF('Data Input'!A36=\"\",\"\",'Data Input'!A36)","v":""},{"$f":"IF('Data Input'!R36=\"\",\"\",'Data Input'!R36)","v":""},{"$f":"IF('Data Input'!D36=\"\",\"\",'Data Input'!D36)","v":""},{"$f":"IF('Data Input'!E36=\"\",\"\",'Data Input'!E36)","v":""},{"$f":"IF('Data Input'!F36=\"\",\"\",'Data Input'!F36)","v":""},{"$f":"IF('Data Input'!G36=\"\",\"\",'Data Input'!G36)","v":""},{"$f":"IF('Data Input'!B36=\"\",\"\",'Data Input'!B36)","v":""},{"$f":"IF('Data Input'!C36=\"\",\"\",'Data Input'!C36)","v":""},{"$f":"IF('Data Input'!J36=\"\",\"\",'Data Input'!J36)","v":""},{"$f":"IF('Data Input'!K36=\"\",\"\",'Data Input'!K36)","v":""},{"$f":"IF('Data Input'!O36=\"\",\"\",'Data Input'!O36)","v":""},{"$f":"IF('Data Input'!L36=\"\",\"\",'Data Input'!L36)","v":""},{"$f":"IF('Data Input'!M36=\"\",\"\",'Data Input'!M36)","v":""},{"$f":"IF('Data Input'!Q36=\"\",\"\",'Data Input'!Q36)","v":""},{"$f":"IF('Data Input'!N36=\"\",\"\",'Data Input'!N36)","v":""},null,null,null,null,null,null,null,null,"",{"$f":"IFERROR(VLOOKUP($Z38,Lookup!$C:$E,2,FALSE),\"\")","v":""},{"$f":"IFERROR(VLOOKUP($AA38,Lookup!$D:$E,2,FALSE),\"\")","v":""},"",{"$f":"IFERROR(VLOOKUP($AC38,Lookup!$C:$E,2,FALSE),\"\")","v":""},{"$f":"IFERROR(VLOOKUP($AD38,Lookup!$D:$E,2,FALSE),\"\")","v":""},"",{"$f":"IFERROR(VLOOKUP($AF38,Lookup!$C:$E,2,FALSE),\"\")","v":""},{"$f":"IFERROR(VLOOKUP($AG38,Lookup!$D:$E,2,FALSE),\"\")","v":""},""]
[{"$f":"IF('Data Input'!I37=\"\",\"\",'Data Input'!I37)","v":""},{"$f":"IF('Data Input'!H37=\"\",\"\",'Data Input'!H37)","v":""},{"$f":"IF('Data Input'!A37=\"\",\"\",'Data Input'!A37)","v":""},{"$f":"IF('Data Input'!R37=\"\",\"\",'Data Input'!R37)","v":""},{"$f":"IF('Data Input'!D37=\"\",\"\",'Data Input'!D37)","v":""},{"$f":"IF('Data Input'!E37=\"\",\"\",'Data Input'!E37)","v":""},{"$f":"IF('Data Input'!F37=\"\",\"\",'Data Input'!F37)","v":""},{"$f":"IF('Data Input'!G37=\"\",\"\",'Data Input'!G37)","v":""},{"$f":"IF('Data Input'!B37=\"\",\"\",'Data Input'!B37)","v":""},{"$f":"IF('Data Input'!C37=\"\",\"\",'Data Input'!C37)","v":""},{"$f":"IF('Data Input'!J37=\"\",\"\",'Data Input'!J37)","v":""},{"$f":"IF('Data Input'!K37=\"\",\"\",'Data Input'!K37)","v":""},{"$f":"IF('Data Input'!O37=\"\",\"\",'Data Input'!O37)","v":""},{"$f":"IF('Data Input'!L37=\"\",\"\",'Data Input'!L37)","v":""},{"$f":"IF('Data Input'!M37=\"\",\"\",'Data Input'!M37)","v":""},{"$f":"IF('Data Input'!Q37=\"\",\"\",'Data Input'!Q37)","v":""},{"$f":"IF('Data Input'!N37=\"\",\"\",'Data Input'!N37)","v":""},null,null,null,null,null,null,null,null,"",{"$f":"IFERROR(VLOOKUP($Z39,Lookup!$C:$E,2,FALSE),\"\")","v":""},{"$f":"IFERROR(VLOOKUP($AA39,Lookup!$D:$E,2,FALSE),\"\")","v":""},"",{"$f":"IFERROR(VLOOKUP($AC39,Lookup!$C:$E,2,FALSE),\"\")","v":""},{"$f":"IFERROR(VLOOKUP($AD39,Lookup!$D:$E,2,FALSE),\"\")","v":""},"",{"$f":"IFERROR(VLOOKUP($AF39,Lookup!$C:$E,2,FALSE),\"\")","v":""},{"$f":"IFERROR(VLOOKUP($AG39,Lookup!$D:$E,2,FALSE),\"\")","v":""},""]
[{"$f":"IF('Data Input'!I38=\"\",\"\",'Data Input'!I38)","v":""},{"$f":"IF('Data Input'!H38=\"\",\"\",'Data Input'!H38)","v":""},{"$f":"IF('Data Input'!A38=\"\",\"\",'Data Input'!A38)","v":""},{"$f":"IF('Data Input'!R38=\"\",\"\",'Data Input'!R38)","v":""},{"$f":"IF('Data Input'!D38=\"\",\"\",'Data Input'!D38)","v":""},{"$f":"IF('Data Input'!E38=\"\",\"\",'Data Input'!E38)","v":""},{"$f":"IF('Data Input'!F38=\"\",\"\",'Data Input'!F38)","v":""},{"$f":"IF('Data Input'!G38=\"\",\"\",'Data Input'!G38)","v":""},{"$f":"IF('Data Input'!B38=\"\",\"\",'Data Input'!B38)","v":""},{"$f":"IF('Data Input'!C38=\"\",\"\",'Data Input'!C38)","v":""},{"$f":"IF('Data Input'!J38=\"\",\"\",'Data Input'!J38)","v":""},{"$f":"IF('Data Input'!K38=\"\",\"\",'Data Input'!K38)","v":""},{"$f":"IF('Data Input'!O38=\"\",\"\",'Data Input'!O38)","v":""},{"$f":"IF('Data Input'!L38=\"\",\"\",'Data Input'!L38)","v":""},{"$f":"IF('Data Input'!M38=\"\",\"\",'Data Input'!M38)","v":""},{"$f":"IF('Data Input'!Q38=\"\",\"\",'Data Input'!Q38)","v":""},{"$f":"IF('Data Input'!N38=\"\",\"\",'Data Input'!N38)","v":""},null,null,null,null,null,null,null,null,"",{"$f":"IFERROR(VLOOKUP($Z40,Lookup!$C:$E,2,FALSE),\"\")","v":""},{"$f":"IFERROR(VLOOKUP($AA40,Lookup!$D:$E,2,FALSE),\"\")","v":""},"",{"$f":"IFERROR(VLOOKUP($AC40,Lookup!$C:$E,2,FALSE),\"\")","v":""},{"$f":"IFERROR(VLOOKUP($AD40,Lookup!$D:$E,2,FALSE),\"\")","v":""},"",{"$f":"IFERROR(VLOOKUP($AF40,Lookup!$C:$E,2,FALSE),\"\")","v":""},{"$f":"IFERROR(VLOOKUP($AG40,Lookup!$D:$E,2,FALSE),\"\")","v":""},""]
[{"$f":"IF('Data Input'!I39=\"\",\"\",'Data Input'!I39)","v":""},{"$f":"IF('Data Input'!H39=\"\",\"\",'Data Input'!H39)","v":""},{"$f":"IF('Data Input'!A39=\"\",\"\",'Data Input'!A39)","v":""},{"$f":"IF('Data Input'!R39=\"\",\"\",'Data Input'!R39)","v":""},{"$f":"IF('Data Input'!D39=\"\",\"\",'Data Input'!D39)","v":""},{"$f":"IF('Data Input'!E39=\"\",\"\",'Data Input'!E39)","v":""},{"$f":"IF('Data Input'!F39=\"\",\"\",'Data Input'!F39)","v":""},{"$f":"IF('Data Input'!G39=\"\",\"\",'Data Input'!G39)","v":""},{"$f":"IF('Data Input'!B39=\"\",\"\",'Data Input'!B39)","v":""},{"$f":"IF('Data Input'!C39=\"\",\"\",'Data Input'!C39)","v":""},{"$f":"IF('Data Input'!J39=\"\",\"\",'Data Input'!J39)","v":""},{"$f":"IF('Data Input'!K39=\"\",\"\",'Data Input'!K39)","v":""},{"$f":"IF('Data Input'!O39=\"\",\"\",'Data Input'!O39)","v":""},{"$f":"IF('Data Input'!L39=\"\",\"\",'Data Input'!L39)","v":""},{"$f":"IF('Data Input'!M39=\"\",\"\",'Data Input'!M39)","v":""},{"$f":"IF('Data Input'!Q39=\"\",\"\",'Data Input'!Q39)","v":""},{"$f":"IF('Data Input'!N39=\"\",\"\",'Data Input'!N39)","v":""},null,null,null,null,null,null,null,null,"",{"$f":"IFERROR(VLOOKUP($Z41,Lookup!$C:$E,2,FALSE),\"\")","v":""},{"$f":"IFERROR(VLOOKUP($AA41,Lookup!$D:$E,2,FALSE),\"\")","v":""},"",{"$f":"IFERROR(VLOOKUP($AC41,Lookup!$C:$E,2,FALSE),\"\")","v":""},{"$f":"IFERROR(VLOOKUP($AD41,Lookup!$D:$E,2,FALSE),\"\")","v":""},"",{"$f":"IFERROR(VLOOKUP($AF41,Lookup!$C:$E,2,FALSE),\"\")","v":""},{"$f":"IFERROR(VLOOKUP($AG41,Lookup!$D:$E,2,FALSE),\"\")","v":""},""]
[{"$f":"IF('Data Input'!I40=\"\",\"\",'Data Input'!I40)","v":""},{"$f":"IF('Data Input'!H40=\"\",\"\",'Data Input'!H40)","v":""},{"$f":"IF('Data Input'!A40=\"\",\"\",'Data Input'!A40)","v":""},{"$f":"IF('Data Input'!R40=\"\",\"\",'Data Input'!R40)","v":""},{"$f":"IF('Data Input'!D40=\"\",\"\",'Data Input'!D40)","v":""},{"$f":"IF('Data Input'!E40=\"\",\"\",'Data Input'!E40)","v":""},{"$f":"IF('Data Input'!F40=\"\",\"\",'Data Input'!F40)","v":""},{"$f":"IF('Data Input'!G40=\"\",\"\",'Data Input'!G40)","v":""},{"$f":"IF('Data Input'!B40=\"\",\"\",'Data Input'!B40)","v":""},{"$f":"IF('Data Input'!C40=\"\",\"\",'Data Input'!C40)","v":""},{"$f":"IF('Data Input'!J40=\"\",\"\",'Data Input'!J40)","v":""},{"$f":"IF('Data Input'!K40=\"\",\"\",'Data Input'!K40)","v":""},{"$f":"IF('Data Input'!O40=\"\",\"\",'Data Input'!O40)","v":""},{"$f":"IF('Data Input'!L40=\"\",\"\",'Data Input'!L40)","v":""},{"$f":"IF('Data Input'!M40=\"\",\"\",'Data Input'!M40)","v":""},{"$f":"IF('Data Input'!Q40=\"\",\"\",'Data Input'!Q40)","v":""},{"$f":"IF('Data Input'!N40=\"\",\"\",'Data Input'!N40)","v":""},null,null,null,null,null,null,null,null,"",{"$f":"IFERROR(VLOOKUP($Z42,Lookup!$C:$E,2,FALSE),\"\")","v":""},{"$f":"IFERROR(VLOOKUP($AA42,Lookup!$D:$E,2,FALSE),\"\")","v":""},"",{"$f":"IFERROR(VLOOKUP($AC42,Lookup!$C:$E,2,FALSE),\"\")","v":""},{"$f":"IFERROR(VLOOKUP($AD42,Lookup!$D:$E,2,FALSE),\"\")","v":""},"",{"$f":"IFERROR(VLOOKUP($AF42,Lookup!$C:$E,2,FALSE),\"\")","v":""},{"$f":"IFERROR(VLOOKUP($AG42,Lookup!$D:$E,2,FALSE),\"\")","v":""},""]
[{"$f":"IF('Data Input'!I41=\"\",\"\",'Data Input'!I41)","v":""},{"$f":"IF('Data Input'!H41=\"\",\"\",'Data Input'!H41)","v":""},{"$f":"IF('Data Input'!A41=\"\",\"\",'Data Input'!A41)","v":""},{"$f":"IF('Data Input'!R41=\"\",\"\",'Data Input'!R41)","v":""},{"$f":"IF('Data Input'!D41=\"\",\"\",'Data Input'!D41)","v":""},{"$f":"IF('Data Input'!E41=\"\",\"\",'Data Input'!E41)","v":""},{"$f":"IF('Data Input'!F41=\"\",\"\",'Data Input'!F41)","v":""},{"$f":"IF('Data Input'!G41=\"\",\"\",'Data Input'!G41)","v":""},{"$f":"IF('Data Input'!B41=\"\",\"\",'Data Input'!B41)","v":""},{"$f":"IF('Data Input'!C41=\"\",\"\",'Data Input'!C41)","v":""},{"$f":"IF('Data Input'!J41=\"\",\"\",'Data Input'!J41)","v":""},{"$f":"IF('Data Input'!K41=\"\",\"\",'Data Input'!K41)","v":""},{"$f":"IF('Data Input'!O41=\"\",\"\",'Data Input'!O41)","v":""},{"$f":"IF('Data Input'!L41=\"\",\"\",'Data Input'!L41)","v":""},{"$f":"IF('Data Input'!M41=\"\",\"\",'Data Input'!M41)","v":""},{"$f":"IF('Data Input'!Q41=\"\",\"\",'Data Input'!Q41)","v":""},{"$f":"IF('Data Input'!N41=\"\",\"\",'Data Input'!N41)","v":""},null,null,null,null,null,null,null,null,"",{"$f":"IFERROR(VLOOKUP($Z43,Lookup!$C:$E,2,FALSE),\"\")","v":""},{"$f":"IFERROR(VLOOKUP($AA43,Lookup!$D:$E,2,FALSE),\"\")","v":""},"",{"$f":"IFERROR(VLOOKUP($AC43,Lookup!$C:$E,2,FALSE),\"\")","v":""},{"$f":"IFERROR(VLOOKUP($AD43,Lookup!$D:$E,2,FALSE),\"\")","v":""},"",{"$f":"IFERROR(VLOOKUP($AF43,Lookup!$C:$E,2,FALSE),\"\")","v":""},{"$f":"IFERROR(VLOOKUP($AG43,Lookup!$D:$E,2,FALSE),\"\")","v":""},""]
[{"$f":"IF('Data Input'!I42=\"\",\"\",'Data Input'!I42)","v":""},{"$f":"IF('Data Input'!H42=\"\",\"\",'Data Input'!H42)","v":""},{"$f":"IF('Data Input'!A42=\"\",\"\",'Data Input'!A42)","v":""},{"$f":"IF('Data Input'!R42=\"\",\"\",'Data Input'!R42)","v":""},{"$f":"IF('Data Input'!D42=\"\",\"\",'Data Input'!D42)","v":""},{"$f":"IF('Data Input'!E42=\"\",\"\",'Data Input'!E42)","v":""},{"$f":"IF('Data Input'!F42=\"\",\"\",'Data Input'!F42)","v":""},{"$f":"IF('Data Input'!G42=\"\",\"\",'Data Input'!G42)","v":""},{"$f":"IF('Data Input'!B42=\"\",\"\",'Data Input'!B42)","v":""},{"$f":"IF('Data Input'!C42=\"\",\"\",'Data Input'!C42)","v":""},{"$f":"IF('Data Input'!J42=\"\",\"\",'Data Input'!J42)","v":""},{"$f":"IF('Data Input'!K42=\"\",\"\",'Data Input'!K42)","v":""},{"$f":"IF('Data Input'!O42=\"\",\"\",'Data Input'!O42)","v":""},{"$f":"IF('Data Input'!L42=\"\",\"\",'Data Input'!L42)","v":""},{"$f":"IF('Data Input'!M42=\"\",\"\",'Data Input'!M42)","v":""},{"$f":"IF('Data Input'!Q42=\"\",\"\",'Data Input'!Q42)","v":""},{"$f":"IF('Data Input'!N42=\"\",\"\",'Data Input'!N42)","v":""},null,null,null,null,null,null,null,null,"",{"$f":"IFERROR(VLOOKUP($Z44,Lookup!$C:$E,2,FALSE),\"\")","v":""},{"$f":"IFERROR(VLOOKUP($AA44,Lookup!$D:$E,2,FALSE),\"\")","v":""},"",{"$f":"IFERROR(VLOOKUP($AC44,Lookup!$C:$E,2,FALSE),\"\")","v":""},{"$f":"IFERROR(VLOOKUP($AD44,Lookup!$D:$E,2,FALSE),\"\")","v":""},"",{"$f":"IFERROR(VLOOKUP($AF44,Lookup!$C:$E,2,FALSE),\"\")","v":""},{"$f":"IFERROR(VLOOKUP($AG44,Lookup!$D:$E,2,FALSE),\"\")","v":""},""]
[{"$f":"IF('Data Input'!I43=\"\",\"\",'Data Input'!I43)","v":""},{"$f":"IF('Data Input'!H43=\"\",\"\",'Data Input'!H43)","v":""},{"$f":"IF('Data Input'!A43=\"\",\"\",'Data Input'!A43)","v":""},{"$f":"IF('Data Input'!R43=\"\",\"\",'Data Input'!R43)","v":""},{"$f":"IF('Data Input'!D43=\"\",\"\",'Data Input'!D43)","v":""},{"$f":"IF('Data Input'!E43=\"\",\"\",'Data Input'!E43)","v":""},{"$f":"IF('Data Input'!F43=\"\",\"\",'Data Input'!F43)","v":""},{"$f":"IF('Data Input'!G43=\"\",\"\",'Data Input'!G43)","v":""},{"$f":"IF('Data Input'!B43=\"\",\"\",'Data Input'!B43)","v":""},{"$f":"IF('Data Input'!C43=\"\",\"\",'Data Input'!C43)","v":""},{"$f":"IF('Data Input'!J43=\"\",\"\",'Data Input'!J43)","v":""},{"$f":"IF('Data Input'!K43=\"\",\"\",'Data Input'!K43)","v":""},{"$f":"IF('Data Input'!O43=\"\",\"\",'Data Input'!O43)","v":""},{"$f":"IF('Data Input'!L43=\"\",\"\",'Data Input'!L43)","v":""},{"$f":"IF('Data Input'!M43=\"\",\"\",'Data Input'!M43)","v":""},{"$f":"IF('Data Input'!Q43=\"\",\"\",'Data Input'!Q43)","v":""},{"$f":"IF('Data Input'!N43=\"\",\"\",'Data Input'!N43)","v":""},null,null,null,null,null,null,null,null,"",{"$f":"IFERROR(VLOOKUP($Z45,Lookup!$C:$E,2,FALSE),\"\")","v":""},{"$f":"IFERROR(VLOOKUP($AA45,Lookup!$D:$E,2,FALSE),\"\")","v":""},"",{"$f":"IFERROR(VLOOKUP($AC45,Lookup!$C:$E,2,FALSE),\"\")","v":""},{"$f":"IFERROR(VLOOKUP($AD45,Lookup!$D:$E,2,FALSE),\"\")","v":""},"",{"$f":"IFERROR(VLOOKUP($AF45,Lookup!$C:$E,2,FALSE),\"\")","v":""},{"$f":"IFERROR(VLOOKUP($AG45,Lookup!$D:$E,2,FALSE),\"\")","v":""},""]
[{"$f":"IF('Data Input'!I44=\"\",\"\",'Data Input'!I44)","v":""},{"$f":"IF('Data Input'!H44=\"\",\"\",'Data Input'!H44)","v":""},{"$f":"IF('Data Input'!A44=\"\",\"\",'Data Input'!A44)","v":""},{"$f":"IF('Data Input'!R44=\"\",\"\",'Data Input'!R44)","v":""},{"$f":"IF('Data Input'!D44=\"\",\"\",'Data Input'!D44)","v":""},{"$f":"IF('Data Input'!E44=\"\",\"\",'Data Input'!E44)","v":""},{"$f":"IF('Data Input'!F44=\"\",\"\",'Data Input'!F44)","v":""},{"$f":"IF('Data Input'!G44=\"\",\"\",'Data Input'!G44)","v":""},{"$f":"IF('Data Input'!B44=\"\",\"\",'Data Input'!B44)","v":""},{"$f":"IF('Data Input'!C44=\"\",\"\",'Data Input'!C44)","v":""},{"$f":"IF('Data Input'!J44=\"\",\"\",'Data Input'!J44)","v":""},{"$f":"IF('Data Input'!K44=\"\",\"\",'Data Input'!K44)","v":""},{"$f":"IF('Data Input'!O44=\"\",\"\",'Data Input'!O44)","v":""},{"$f":"IF('Data Input'!L44=\"\",\"\",'Data Input'!L44)","v":""},{"$f":"IF('Data Input'!M44=\"\",\"\",'Data Input'!M44)","v":""},{"$f":"IF('Data Input'!Q44=\"\",\"\",'Data Input'!Q44)","v":""},{"$f":"IF('Data Input'!N44=\"\",\"\",'Data Input'!N44)","v":""},null,null,null,null,null,null,null,null,"",{"$f":"IFERROR(VLOOKUP($Z46,Lookup!$C:$E,2,FALSE),\"\")","v":""},{"$f":"IFERROR(VLOOKUP($AA46,Lookup!$D:$E,2,FALSE),\"\")","v":""},"",{"$f":"IFERROR(VLOOKUP($AC46,Lookup!$C:$E,2,FALSE),\"\")","v":""},{"$f":"IFERROR(VLOOKUP($AD46,Lookup!$D:$E,2,FALSE),\"\")","v":""},"",{"$f":"IFERROR(VLOOKUP($AF46,Lookup!$C:$E,2,FALSE),\"\")","v":""},{"$f":"IFERROR(VLOOKUP($AG46,Lookup!$D:$E,2,FALSE),\"\")","v":""},""]
[{"$f":"IF('Data Input'!I45=\"\",\"\",'Data Input'!I45)","v":""},{"$f":"IF('Data Input'!H45=\"\",\"\",'Data Input'!H45)","v":""},{"$f":"IF('Data Input'!A45=\"\",\"\",'Data Input'!A45)","v":""},{"$f":"IF('Data Input'!R45=\"\",\"\",'Data Input'!R45)","v":""},{"$f":"IF('Data Input'!D45=\"\",\"\",'Data Input'!D45)","v":""},{"$f":"IF('Data Input'!E45=\"\",\"\",'Data Input'!E45)","v":""},{"$f":"IF('Data Input'!F45=\"\",\"\",'Data Input'!F45)","v":""},{"$f":"IF('Data Input'!G45=\"\",\"\",'Data Input'!G45)","v":""},{"$f":"IF('Data Input'!B45=\"\",\"\",'Data Input'!B45)","v":""},{"$f":"IF('Data Input'!C45=\"\",\"\",'Data Input'!C45)","v":""},{"$f":"IF('Data Input'!J45=\"\",\"\",'Data Input'!J45)","v":""},{"$f":"IF('Data Input'!K45=\"\",\"\",'Data Input'!K45)","v":""},{"$f":"IF('Data Input'!O45=\"\",\"\",'Data Input'!O45)","v":""},{"$f":"IF('Data Input'!L45=\"\",\"\",'Data Input'!L45)","v":""},{"$f":"IF('Data Input'!M45=\"\",\"\",'Data Input'!M45)","v":""},{"$f":"IF('Data Input'!Q45=\"\",\"\",'Data Input'!Q45)","v":""},{"$f":"IF('Data Input'!N45=\"\",\"\",'Data Input'!N45)","v":""},null,null,null,null,null,null,null,null,"",{"$f":"IFERROR(VLOOKUP($Z47,Lookup!$C:$E,2,FALSE),\"\")","v":""},{"$f":"IFERROR(VLOOKUP($AA47,Lookup!$D:$E,2,FALSE),\"\")","v":""},"",{"$f":"IFERROR(VLOOKUP($AC47,Lookup!$C:$E,2,FALSE),\"\")","v":""},{"$f":"IFERROR(VLOOKUP($AD47,Lookup!$D:$E,2,FALSE),\"\")","v":""},"",{"$f":"IFERROR(VLOOKUP($AF47,Lookup!$C:$E,2,FALSE),\"\")","v":""},{"$f":"IFERROR(VLOOKUP($AG47,Lookup!$D:$E,2,FALSE),\"\")","v":""},""]
[{"$f":"IF('Data Input'!I46=\"\",\"\",'Data Input'!I46)","v":""},{"$f":"IF('Data Input'!H46=\"\",\"\",'Data Input'!H46)","v":""},{"$f":"IF('Data Input'!A46=\"\",\"\",'Data Input'!A46)","v":""},{"$f":"IF('Data Input'!R46=\"\",\"\",'Data Input'!R46)","v":""},{"$f":"IF('Data Input'!D46=\"\",\"\",'Data Input'!D46)","v":""},{"$f":"IF('Data Input'!E46=\"\",\"\",'Data Input'!E46)","v":""},{"$f":"IF('Data Input'!F46=\"\",\"\",'Data Input'!F46)","v":""},{"$f":"IF('Data Input'!G46=\"\",\"\",'Data Input'!G46)","v":""},{"$f":"IF('Data Input'!B46=\"\",\"\",'Data Input'!B46)","v":""},{"$f":"IF('Data Input'!C46=\"\",\"\",'Data Input'!C46)","v":""},{"$f":"IF('Data Input'!J46=\"\",\"\",'Data Input'!J46)","v":""},{"$f":"IF('Data Input'!K46=\"\",\"\",'Data Input'!K46)","v":""},{"$f":"IF('Data Input'!O46=\"\",\"\",'Data Input'!O46)","v":""},{"$f":"IF('Data Input'!L46=\"\",\"\",'Data Input'!L46)","v":""},{"$f":"IF('Data Input'!M46=\"\",\"\",'Data Input'!M46)","v":""},{"$f":"IF('Data Input'!Q46=\"\",\"\",'Data Input'!Q46)","v":""},{"$f":"IF('Data Input'!N46=\"\",\"\",'Data Input'!N46)","v":""},null,null,null,null,null,null,null,null,"",{"$f":"IFERROR(VLOOKUP($Z48,Lookup!$C:$E,2,FALSE),\"\")","v":""},{"$f":"IFERROR(VLOOKUP($AA48,Lookup!$D:$E,2,FALSE),\"\")","v":""},"",{"$f":"IFERROR(VLOOKUP($AC48,Lookup!$C:$E,2,FALSE),\"\")","v":""},{"$f":"IFERROR(VLOOKUP($AD48,Lookup!$D:$E,2,FALSE),\"\")","v":""},"",{"$f":"IFERROR(VLOOKUP($AF48,Lookup!$C:$E,2,FALSE),\"\")","v":""},{"$f":"IFERROR(VLOOKUP($AG48,Lookup!$D:$E,2,FALSE),\"\")","v":""},""]
[{"$f":"IF('Data Input'!I47=\"\",\"\",'Data Input'!I47)","v":""},{"$f":"IF('Data Input'!H47=\"\",\"\",'Data Input'!H47)","v":""},{"$f":"IF('Data Input'!A47=\"\",\"\",'Data Input'!A47)","v":""},{"$f":"IF('Data Input'!R47=\"\",\"\",'Data Input'!R47)","v":""},{"$f":"IF('Data Input'!D47=\"\",\"\",'Data Input'!D47)","v":""},{"$f":"IF('Data Input'!E47=\"\",\"\",'Data Input'!E47)","v":""},{"$f":"IF('Data Input'!F47=\"\",\"\",'Data Input'!F47)","v":""},{"$f":"IF('Data Input'!G47=\"\",\"\",'Data Input'!G47)","v":""},{"$f":"IF('Data Input'!B47=\"\",\"\",'Data Input'!B47)","v":""},{"$f":"IF('Data Input'!C47=\"\",\"\",'Data Input'!C47)","v":""},{"$f":"IF('Data Input'!J47=\"\",\"\",'Data Input'!J47)","v":""},{"$f":"IF('Data Input'!K47=\"\",\"\",'Data Input'!K47)","v":""},{"$f":"IF('Data Input'!O47=\"\",\"\",'Data Input'!O47)","v":""},{"$f":"IF('Data Input'!L47=\"\",\"\",'Data Input'!L47)","v":""},{"$f":"IF('Data Input'!M47=\"\",\"\",'Data Input'!M47)","v":""},{"$f":"IF('Data Input'!Q47=\"\",\"\",'Data Input'!Q47)","v":""},{"$f":"IF('Data Input'!N47=\"\",\"\",'Data Input'!N47)","v":""},null,null,null,null,null,null,null,null,"",{"$f":"IFERROR(VLOOKUP($Z49,Lookup!$C:$E,2,FALSE),\"\")","v":""},{"$f":"IFERROR(VLOOKUP($AA49,Lookup!$D:$E,2,FALSE),\"\")","v":""},"",{"$f":"IFERROR(VLOOKUP($AC49,Lookup!$C:$E,2,FALSE),\"\")","v":""},{"$f":"IFERROR(VLOOKUP($AD49,Lookup!$D:$E,2,FALSE),\"\")","v":""},"",{"$f":"IFERROR(VLOOKUP($AF49,Lookup!$C:$E,2,FALSE),\"\")","v":""},{"$f":"IFERROR(VLOOKUP($AG49,Lookup!$D:$E,2,FALSE),\"\")","v":""},""]
[{"$f":"IF('Data Input'!I48=\"\",\"\",'Data Input'!I48)","v":""},{"$f":"IF('Data Input'!H48=\"\",\"\",'Data Input'!H48)","v":""},{"$f":"IF('Data Input'!A48=\"\",\"\",'Data Input'!A48)","v":""},{"$f":"IF('Data Input'!R48=\"\",\"\",'Data Input'!R48)","v":""},{"$f":"IF('Data Input'!D48=\"\",\"\",'Data Input'!D48)","v":""},{"$f":"IF('Data Input'!E48=\"\",\"\",'Data Input'!E48)","v":""},{"$f":"IF('Data Input'!F48=\"\",\"\",'Data Input'!F48)","v":""},{"$f":"IF('Data Input'!G48=\"\",\"\",'Data Input'!G48)","v":""},{"$f":"IF('Data Input'!B48=\"\",\"\",'Data Input'!B48)","v":""},{"$f":"IF('Data Input'!C48=\"\",\"\",'Data Input'!C48)","v":""},{"$f":"IF('Data Input'!J48=\"\",\"\",'Data Input'!J48)","v":""},{"$f":"IF('Data Input'!K48=\"\",\"\",'Data Input'!K48)","v":""},{"$f":"IF('Data Input'!O48=\"\",\"\",'Data Input'!O48)","v":""},{"$f":"IF('Data Input'!L48=\"\",\"\",'Data Input'!L48)","v":""},{"$f":"IF('Data Input'!M48=\"\",\"\",'Data Input'!M48)","v":""},{"$f":"IF('Data Input'!Q48=\"\",\"\",'Data Input'!Q48)","v":""},{"$f":"IF('Data Input'!N48=\"\",\"\",'Data Input'!N48)","v":""},null,null,null,null,null,null,null,null,"",{"$f":"IFERROR(VLOOKUP($Z50,Lookup!$C:$E,2,FALSE),\"\")","v":""},{"$f":"IFERROR(VLOOKUP($AA50,Lookup!$D:$E,2,FALSE),\"\")","v":""},"",{"$f":"IFERROR(VLOOKUP($AC50,Lookup!$C:$E,2,FALSE),\"\")","v":""},{"$f":"IFERROR(VLOOKUP($AD50,Lookup!$D:$E,2,FALSE),\"\")","v":""},"",{"$f":"IFERROR(VLOOKUP($AF50,Lookup!$C:$E,2,FALSE),\"\")","v":""},{"$f":"IFERROR(VLOOKUP($AG50,Lookup!$D:$E,2,FALSE),\"\")","v":""},""]
[{"$f":"IF('Data Input'!I49=\"\",\"\",'Data Input'!I49)","v":""},{"$f":"IF('Data Input'!H49=\"\",\"\",'Data Input'!H49)","v":""},{"$f":"IF('Data Input'!A49=\"\",\"\",'Data Input'!A49)","v":""},{"$f":"IF('Data Input'!R49=\"\",\"\",'Data Input'!R49)","v":""},{"$f":"IF('Data Input'!D49=\"\",\"\",'Data Input'!D49)","v":""},{"$f":"IF('Data Input'!E49=\"\",\"\",'Data Input'!E49)","v":""},{"$f":"IF('Data Input'!F49=\"\",\"\",'Data Input'!F49)","v":""},{"$f":"IF('Data Input'!G49=\"\",\"\",'Data Input'!G49)","v":""},{"$f":"IF('Data Input'!B49=\"\",\"\",'Data Input'!B49)","v":""},{"$f":"IF('Data Input'!C49=\"\",\"\",'Data Input'!C49)","v":""},{"$f":"IF('Data Input'!J49=\"\",\"\",'Data Input'!J49)","v":""},{"$f":"IF('Data Input'!K49=\"\",\"\",'Data Input'!K49)","v":""},{"$f":"IF('Data Input'!O49=\"\",\"\",'Data Input'!O49)","v":""},{"$f":"IF('Data Input'!L49=\"\",\"\",'Data Input'!L49)","v":""},{"$f":"IF('Data Input'!M49=\"\",\"\",'Data Input'!M49)","v":""},{"$f":"IF('Data Input'!Q49=\"\",\"\",'Data Input'!Q49)","v":""},{"$f":"IF('Data Input'!N49=\"\",\"\",'Data Input'!N49)","v":""},null,null,null,null,null,null,null,null,"",{"$f":"IFERROR(VLOOKUP($Z51,Lookup!$C:$E,2,FALSE),\"\")","v":""},{"$f":"IFERROR(VLOOKUP($AA51,Lookup!$D:$E,2,FALSE),\"\")","v":""},"",{"$f":"IFERROR(VLOOKUP($AC51,Lookup!$C:$E,2,FALSE),\"\")","v":""},{"$f":"IFERROR(VLOOKUP($AD51,Lookup!$D:$E,2,FALSE),\"\")","v":""},"",{"$f":"IFERROR(VLOOKUP($AF51,Lookup!$C:$E,2,FALSE),\"\")","v":""},{"$f":"IFERROR(VLOOKUP($AG51,Lookup!$D:$E,2,FALSE),\"\")","v":""},""]
[{"$f":"IF('Data Input'!I50=\"\",\"\",'Data Input'!I50)","v":""},{"$f":"IF('Data Input'!H50=\"\",\"\",'Data Input'!H50)","v":""},{"$f":"IF('Data Input'!A50=\"\",\"\",'Data Input'!A50)","v":""},{"$f":"IF('Data Input'!R50=\"\",\"\",'Data Input'!R50)","v":""},{"$f":"IF('Data Input'!D50=\"\",\"\",'Data Input'!D50)","v":""},{"$f":"IF('Data Input'!E50=\"\",\"\",'Data Input'!E50)","v":""},{"$f":"IF('Data Input'!F50=\"\",\"\",'Data Input'!F50)","v":""},{"$f":"IF('Data Input'!G50=\"\",\"\",'Data Input'!G50)","v":""},{"$f":"IF('Data Input'!B50=\"\",\"\",'Data Input'!B50)","v":""},{"$f":"IF('Data Input'!C50=\"\",\"\",'Data Input'!C50)","v":""},{"$f":"IF('Data Input'!J50=\"\",\"\",'Data Input'!J50)","v":""},{"$f":"IF('Data Input'!K50=\"\",\"\",'Data Input'!K50)","v":""},{"$f":"IF('Data Input'!O50=\"\",\"\",'Data Input'!O50)","v":""},{"$f":"IF('Data Input'!L50=\"\",\"\",'Data Input'!L50)","v":""},{"$f":"IF('Data Input'!M50=\"\",\"\",'Data Input'!M50)","v":""},{"$f":"IF('Data Input'!Q50=\"\",\"\",'Data Input'!Q50)","v":""},{"$f":"IF('Data Input'!N50=\"\",\"\",'Data Input'!N50)","v":""},null,null,null,null,null,null,null,null,"",{"$f":"IFERROR(VLOOKUP($Z52,Lookup!$C:$E,2,FALSE),\"\")","v":""},{"$f":"IFERROR(VLOOKUP($AA52,Lookup!$D:$E,2,FALSE),\"\")","v":""},"",{"$f":"IFERROR(VLOOKUP($AC52,Lookup!$C:$E,2,FALSE),\"\")","v":""},{"$f":"IFERROR(VLOOKUP($AD52,Lookup!$D:$E,2,FALSE),\"\")","v":""},"",{"$f":"IFERROR(VLOOKUP($AF52,Lookup!$C:$E,2,FALSE),\"\")","v":""},{"$f":"IFERROR(VLOOKUP($AG52,Lookup!$D:$E,2,FALSE),\"\")","v":""},""]
[{"$f":"IF('Data Input'!I51=\"\",\"\",'Data Input'!I51)","v":""},{"$f":"IF('Data Input'!H51=\"\",\"\",'Data Input'!H51)","v":""},{"$f":"IF('Data Input'!A51=\"\",\"\",'Data Input'!A51)","v":""},{"$f":"IF('Data Input'!R51=\"\",\"\",'Data Input'!R51)","v":""},{"$f":"IF('Data Input'!D51=\"\",\"\",'Data Input'!D51)","v":""},{"$f":"IF('Data Input'!E51=\"\",\"\",'Data Input'!E51)","v":""},{"$f":"IF('Data Input'!F51=\"\",\"\",'Data Input'!F51)","v":""},{"$f":"IF('Data Input'!G51=\"\",\"\",'Data Input'!G51)","v":""},{"$f":"IF('Data Input'!B51=\"\",\"\",'Data Input'!B51)","v":""},{"$f":"IF('Data Input'!C51=\"\",\"\",'Data Input'!C51)","v":""},{"$f":"IF('Data Input'!J51=\"\",\"\",'Data Input'!J51)","v":""},{"$f":"IF('Data Input'!K51=\"\",\"\",'Data Input'!K51)","v":""},{"$f":"IF('Data Input'!O51=\"\",\"\",'Data Input'!O51)","v":""},{"$f":"IF('Data Input'!L51=\"\",\"\",'Data Input'!L51)","v":""},{"$f":"IF('Data Input'!M51=\"\",\"\",'Data Input'!M51)","v":""},{"$f":"IF('Data Input'!Q51=\"\",\"\",'Data Input'!Q51)","v":""},{"$f":"IF('Data Input'!N51=\"\",\"\",'Data Input'!N51)","v":""},null,null,null,null,null,null,null,null,"",{"$f":"IFERROR(VLOOKUP($Z53,Lookup!$C:$E,2,FALSE),\"\")","v":""},{"$f":"IFERROR(VLOOKUP($AA53,Lookup!$D:$E,2,FALSE),\"\")","v":""},"",{"$f":"IFERROR(VLOOKUP($AC53,Lookup!$C:$E,2,FALSE),\"\")","v":""},{"$f":"IFERROR(VLOOKUP($AD53,Lookup!$D:$E,2,FALSE),\"\")","v":""},"",{"$f":"IFERROR(VLOOKUP($AF53,Lookup!$C:$E,2,FALSE),\"\")","v":""},{"$f":"IFERROR(VLOOKUP($AG53,Lookup!$D:$E,2,FALSE),\"\")","v":""},""]
[{"$f":"IF('Data Input'!I52=\"\",\"\",'Data Input'!I52)","v":""},{"$f":"IF('Data Input'!H52=\"\",\"\",'Data Input'!H52)","v":""},{"$f":"IF('Data Input'!A52=\"\",\"\",'Data Input'!A52)","v":""},{"$f":"IF('Data Input'!R52=\"\",\"\",'Data Input'!R52)","v":""},{"$f":"IF('Data Input'!D52=\"\",\"\",'Data Input'!D52)","v":""},{"$f":"IF('Data Input'!E52=\"\",\"\",'Data Input'!E52)","v":""},{"$f":"IF('Data Input'!F52=\"\",\"\",'Data Input'!F52)","v":""},{"$f":"IF('Data Input'!G52=\"\",\"\",'Data Input'!G52)","v":""},{"$f":"IF('Data Input'!B52=\"\",\"\",'Data Input'!B52)","v":""},{"$f":"IF('Data Input'!C52=\"\",\"\",'Data Input'!C52)","v":""},{"$f":"IF('Data Input'!J52=\"\",\"\",'Data Input'!J52)","v":""},{"$f":"IF('Data Input'!K52=\"\",\"\",'Data Input'!K52)","v":""},{"$f":"IF('Data Input'!O52=\"\",\"\",'Data Input'!O52)","v":""},{"$f":"IF('Data Input'!L52=\"\",\"\",'Data Input'!L52)","v":""},{"$f":"IF('Data Input'!M52=\"\",\"\",'Data Input'!M52)","v":""},{"$f":"IF('Data Input'!Q52=\"\",\"\",'Data Input'!Q52)","v":""},{"$f":"IF('Data Input'!N52=\"\",\"\",'Data Input'!N52)","v":""},null,null,null,null,null,null,null,null,"",{"$f":"IFERROR(VLOOKUP($Z54,Lookup!$C:$E,2,FALSE),\"\")","v":""},{"$f":"IFERROR(VLOOKUP($AA54,Lookup!$D:$E,2,FALSE),\"\")","v":""},"",{"$f":"IFERROR(VLOOKUP($AC54,Lookup!$C:$E,2,FALSE),\"\")","v":""},{"$f":"IFERROR(VLOOKUP($AD54,Lookup!$D:$E,2,FALSE),\"\")","v":""},"",{"$f":"IFERROR(VLOOKUP($AF54,Lookup!$C:$E,2,FALSE),\"\")","v":""},{"$f":"IFERROR(VLOOKUP($AG54,Lookup!$D:$E,2,FALSE),\"\")","v":""},""]
[{"$f":"IF('Data Input'!I53=\"\",\"\",'Data Input'!I53)","v":""},{"$f":"IF('Data Input'!H53=\"\",\"\",'Data Input'!H53)","v":""},{"$f":"IF('Data Input'!A53=\"\",\"\",'Data Input'!A53)","v":""},{"$f":"IF('Data Input'!R53=\"\",\"\",'Data Input'!R53)","v":""},{"$f":"IF('Data Input'!D53=\"\",\"\",'Data Input'!D53)","v":""},{"$f":"IF('Data Input'!E53=\"\",\"\",'Data Input'!E53)","v":""},{"$f":"IF('Data Input'!F53=\"\",\"\",'Data Input'!F53)","v":""},{"$f":"IF('Data Input'!G53=\"\",\"\",'Data Input'!G53)","v":""},{"$f":"IF('Data Input'!B53=\"\",\"\",'Data Input'!B53)","v":""},{"$f":"IF('Data Input'!C53=\"\",\"\",'Data Input'!C53)","v":""},{"$f":"IF('Data Input'!J53=\"\",\"\",'Data Input'!J53)","v":""},{"$f":"IF('Data Input'!K53=\"\",\"\",'Data Input'!K53)","v":""},{"$f":"IF('Data Input'!O53=\"\",\"\",'Data Input'!O53)","v":""},{"$f":"IF('Data Input'!L53=\"\",\"\",'Data Input'!L53)","v":""},{"$f":"IF('Data Input'!M53=\"\",\"\",'Data Input'!M53)","v":""},{"$f":"IF('Data Input'!Q53=\"\",\"\",'Data Input'!Q53)","v":""},{"$f":"IF('Data Input'!N53=\"\",\"\",'Data Input'!N53)","v":""},null,null,null,null,null,null,null,null,"",{"$f":"IFERROR(VLOOKUP($Z55,Lookup!$C:$E,2,FALSE),\"\")","v":""},{"$f":"IFERROR(VLOOKUP($AA55,Lookup!$D:$E,2,FALSE),\"\")","v":""},"",{"$f":"IFERROR(VLOOKUP($AC55,Lookup!$C:$E,2,FALSE),\"\")","v":""},{"$f":"IFERROR(VLOOKUP($AD55,Lookup!$D:$E,2,FALSE),\"\")","v":""},"",{"$f":"IFERROR(VLOOKUP($AF55,Lookup!$C:$E,2,FALSE),\"\")","v":""},{"$f":"IFERROR(VLOOKUP($AG55,Lookup!$D:$E,2,FALSE),\"\")","v":""},""]
[{"$f":"IF('Data Input'!I54=\"\",\"\",'Data Input'!I54)","v":""},{"$f":"IF('Data Input'!H54=\"\",\"\",'Data Input'!H54)","v":""},{"$f":"IF('Data Input'!A54=\"\",\"\",'Data Input'!A54)","v":""},{"$f":"IF('Data Input'!R54=\"\",\"\",'Data Input'!R54)","v":""},{"$f":"IF('Data Input'!D54=\"\",\"\",'Data Input'!D54)","v":""},{"$f":"IF('Data Input'!E54=\"\",\"\",'Data Input'!E54)","v":""},{"$f":"IF('Data Input'!F54=\"\",\"\",'Data Input'!F54)","v":""},{"$f":"IF('Data Input'!G54=\"\",\"\",'Data Input'!G54)","v":""},{"$f":"IF('Data Input'!B54=\"\",\"\",'Data Input'!B54)","v":""},{"$f":"IF('Data Input'!C54=\"\",\"\",'Data Input'!C54)","v":""},{"$f":"IF('Data Input'!J54=\"\",\"\",'Data Input'!J54)","v":""},{"$f":"IF('Data Input'!K54=\"\",\"\",'Data Input'!K54)","v":""},{"$f":"IF('Data Input'!O54=\"\",\"\",'Data Input'!O54)","v":""},{"$f":"IF('Data Input'!L54=\"\",\"\",'Data Input'!L54)","v":""},{"$f":"IF('Data Input'!M54=\"\",\"\",'Data Input'!M54)","v":""},{"$f":"IF('Data Input'!Q54=\"\",\"\",'Data Input'!Q54)","v":""},{"$f":"IF('Data Input'!N54=\"\",\"\",'Data Input'!N54)","v":""},null,null,null,null,null,null,null,null,"",{"$f":"IFERROR(VLOOKUP($Z56,Lookup!$C:$E,2,FALSE),\"\")","v":""},{"$f":"IFERROR(VLOOKUP($AA56,Lookup!$D:$E,2,FALSE),\"\")","v":""},"",{"$f":"IFERROR(VLOOKUP($AC56,Lookup!$C:$E,2,FALSE),\"\")","v":""},{"$f":"IFERROR(VLOOKUP($AD56,Lookup!$D:$E,2,FALSE),\"\")","v":""},"",{"$f":"IFERROR(VLOOKUP($AF56,Lookup!$C:$E,2,FALSE),\"\")","v":""},{"$f":"IFERROR(VLOOKUP($AG56,Lookup!$D:$E,2,FALSE),\"\")","v":""},""]
[{"$f":"IF('Data Input'!I55=\"\",\"\",'Data Input'!I55)","v":""},{"$f":"IF('Data Input'!H55=\"\",\"\",'Data Input'!H55)","v":""},{"$f":"IF('Data Input'!A55=\"\",\"\",'Data Input'!A55)","v":""},{"$f":"IF('Data Input'!R55=\"\",\"\",'Data Input'!R55)","v":""},{"$f":"IF('Data Input'!D55=\"\",\"\",'Data Input'!D55)","v":""},{"$f":"IF('Data Input'!E55=\"\",\"\",'Data Input'!E55)","v":""},{"$f":"IF('Data Input'!F55=\"\",\"\",'Data Input'!F55)","v":""},{"$f":"IF('Data Input'!G55=\"\",\"\",'Data Input'!G55)","v":""},{"$f":"IF('Data Input'!B55=\"\",\"\",'Data Input'!B55)","v":""},{"$f":"IF('Data Input'!C55=\"\",\"\",'Data Input'!C55)","v":""},{"$f":"IF('Data Input'!J55=\"\",\"\",'Data Input'!J55)","v":""},{"$f":"IF('Data Input'!K55=\"\",\"\",'Data Input'!K55)","v":""},{"$f":"IF('Data Input'!O55=\"\",\"\",'Data Input'!O55)","v":""},{"$f":"IF('Data Input'!L55=\"\",\"\",'Data Input'!L55)","v":""},{"$f":"IF('Data Input'!M55=\"\",\"\",'Data Input'!M55)","v":""},{"$f":"IF('Data Input'!Q55=\"\",\"\",'Data Input'!Q55)","v":""},{"$f":"IF('Data Input'!N55=\"\",\"\",'Data Input'!N55)","v":""},null,null,null,null,null,null,null,null,"",{"$f":"IFERROR(VLOOKUP($Z57,Lookup!$C:$E,2,FALSE),\"\")","v":""},{"$f":"IFERROR(VLOOKUP($AA57,Lookup!$D:$E,2,FALSE),\"\")","v":""},"",{"$f":"IFERROR(VLOOKUP($AC57,Lookup!$C:$E,2,FALSE),\"\")","v":""},{"$f":"IFERROR(VLOOKUP($AD57,Lookup!$D:$E,2,FALSE),\"\")","v":""},"",{"$f":"IFERROR(VLOOKUP($AF57,Lookup!$C:$E,2,FALSE),\"\")","v":""},{"$f":"IFERROR(VLOOKUP($AG57,Lookup!$D:$E,2,FALSE),\"\")","v":""},""]
[{"$f":"IF('Data Input'!I56=\"\",\"\",'Data Input'!I56)","v":""},{"$f":"IF('Data Input'!H56=\"\",\"\",'Data Input'!H56)","v":""},{"$f":"IF('Data Input'!A56=\"\",\"\",'Data Input'!A56)","v":""},{"$f":"IF('Data Input'!R56=\"\",\"\",'Data Input'!R56)","v":""},{"$f":"IF('Data Input'!D56=\"\",\"\",'Data Input'!D56)","v":""},{"$f":"IF('Data Input'!E56=\"\",\"\",'Data Input'!E56)","v":""},{"$f":"IF('Data Input'!F56=\"\",\"\",'Data Input'!F56)","v":""},{"$f":"IF('Data Input'!G56=\"\",\"\",'Data Input'!G56)","v":""},{"$f":"IF('Data Input'!B56=\"\",\"\",'Data Input'!B56)","v":""},{"$f":"IF('Data Input'!C56=\"\",\"\",'Data Input'!C56)","v":""},{"$f":"IF('Data Input'!J56=\"\",\"\",'Data Input'!J56)","v":""},{"$f":"IF('Data Input'!K56=\"\",\"\",'Data Input'!K56)","v":""},{"$f":"IF('Data Input'!O56=\"\",\"\",'Data Input'!O56)","v":""},{"$f":"IF('Data Input'!L56=\"\",\"\",'Data Input'!L56)","v":""},{"$f":"IF('Data Input'!M56=\"\",\"\",'Data Input'!M56)","v":""},{"$f":"IF('Data Input'!Q56=\"\",\"\",'Data Input'!Q56)","v":""},{"$f":"IF('Data Input'!N56=\"\",\"\",'Data Input'!N56)","v":""},null,null,null,null,null,null,null,null,"",{"$f":"IFERROR(VLOOKUP($Z58,Lookup!$C:$E,2,FALSE),\"\")","v":""},{"$f":"IFERROR(VLOOKUP($AA58,Lookup!$D:$E,2,FALSE),\"\")","v":""},"",{"$f":"IFERROR(VLOOKUP($AC58,Lookup!$C:$E,2,FALSE),\"\")","v":""},{"$f":"IFERROR(VLOOKUP($AD58,Lookup!$D:$E,2,FALSE),\"\")","v":""},"",{"$f":"IFERROR(VLOOKUP($AF58,Lookup!$C:$E,2,FALSE),\"\")","v":""},{"$f":"IFERROR(VLOOKUP($AG58,Lookup!$D:$E,2,FALSE),\"\")","v":""},""]
[{"$f":"IF('Data Input'!I57=\"\",\"\",'Data Input'!I57)","v":""},{"$f":"IF('Data Input'!H57=\"\",\"\",'Data Input'!H57)","v":""},{"$f":"IF('Data Input'!A57=\"\",\"\",'Data Input'!A57)","v":""},{"$f":"IF('Data Input'!R57=\"\",\"\",'Data Input'!R57)","v":""},{"$f":"IF('Data Input'!D57=\"\",\"\",'Data Input'!D57)","v":""},{"$f":"IF('Data Input'!E57=\"\",\"\",'Data Input'!E57)","v":""},{"$f":"IF('Data Input'!F57=\"\",\"\",'Data Input'!F57)","v":""},{"$f":"IF('Data Input'!G57=\"\",\"\",'Data Input'!G57)","v":""},{"$f":"IF('Data Input'!B57=\"\",\"\",'Data Input'!B57)","v":""},{"$f":"IF('Data Input'!C57=\"\",\"\",'Data Input'!C57)","v":""},{"$f":"IF('Data Input'!J57=\"\",\"\",'Data Input'!J57)","v":""},{"$f":"IF('Data Input'!K57=\"\",\"\",'Data Input'!K57)","v":""},{"$f":"IF('Data Input'!O57=\"\",\"\",'Data Input'!O57)","v":""},{"$f":"IF('Data Input'!L57=\"\",\"\",'Data Input'!L57)","v":""},{"$f":"IF('Data Input'!M57=\"\",\"\",'Data Input'!M57)","v":""},{"$f":"IF('Data Input'!Q57=\"\",\"\",'Data Input'!Q57)","v":""},{"$f":"IF('Data Input'!N57=\"\",\"\",'Data Input'!N57)","v":""},null,null,null,null,null,null,null,null,"",{"$f":"IFERROR(VLOOKUP($Z59,Lookup!$C:$E,2,FALSE),\"\")","v":""},{"$f":"IFERROR(VLOOKUP($AA59,Lookup!$D:$E,2,FALSE),\"\")","v":""},"",{"$f":"IFERROR(VLOOKUP($AC59,Lookup!$C:$E,2,FALSE),\"\")","v":""},{"$f":"IFERROR(VLOOKUP($AD59,Lookup!$D:$E,2,FALSE),\"\")","v":""},"",{"$f":"IFERROR(VLOOKUP($AF59,Lookup!$C:$E,2,FALSE),\"\")","v":""},{"$f":"IFERROR(VLOOKUP($AG59,Lookup!$D:$E,2,FALSE),\"\")","v":""},""]
[{"$f":"IF('Data Input'!I58=\"\",\"\",'Data Input'!I58)","v":""},{"$f":"IF('Data Input'!H58=\"\",\"\",'Data Input'!H58)","v":""},{"$f":"IF('Data Input'!A58=\"\",\"\",'Data Input'!A58)","v":""},{"$f":"IF('Data Input'!R58=\"\",\"\",'Data Input'!R58)","v":""},{"$f":"IF('Data Input'!D58=\"\",\"\",'Data Input'!D58)","v":""},{"$f":"IF('Data Input'!E58=\"\",\"\",'Data Input'!E58)","v":""},{"$f":"IF('Data Input'!F58=\"\",\"\",'Data Input'!F58)","v":""},{"$f":"IF('Data Input'!G58=\"\",\"\",'Data Input'!G58)","v":""},{"$f":"IF('Data Input'!B58=\"\",\"\",'Data Input'!B58)","v":""},{"$f":"IF('Data Input'!C58=\"\",\"\",'Data Input'!C58)","v":""},{"$f":"IF('Data Input'!J58=\"\",\"\",'Data Input'!J58)","v":""},{"$f":"IF('Data Input'!K58=\"\",\"\",'Data Input'!K58)","v":""},{"$f":"IF('Data Input'!O58=\"\",\"\",'Data Input'!O58)","v":""},{"$f":"IF('Data Input'!L58=\"\",\"\",'Data Input'!L58)","v":""},{"$f":"IF('Data Input'!M58=\"\",\"\",'Data Input'!M58)","v":""},{"$f":"IF('Data Input'!Q58=\"\",\"\",'Data Input'!Q58)","v":""},{"$f":"IF('Data Input'!N58=\"\",\"\",'Data Input'!N58)","v":""},null,null,null,null,null,null,null,null,"",{"$f":"IFERROR(VLOOKUP($Z60,Lookup!$C:$E,2,FALSE),\"\")","v":""},{"$f":"IFERROR(VLOOKUP($AA60,Lookup!$D:$E,2,FALSE),\"\")","v":""},"",{"$f":"IFERROR(VLOOKUP($AC60,Lookup!$C:$E,2,FALSE),\"\")","v":""},{"$f":"IFERROR(VLOOKUP($AD60,Lookup!$D:$E,2,FALSE),\"\")","v":""},"",{"$f":"IFERROR(VLOOKUP($AF60,Lookup!$C:$E,2,FALSE),\"\")","v":""},{"$f":"IFERROR(VLOOKUP($AG60,Lookup!$D:$E,2,FALSE),\"\")","v":""},""]
[{"$f":"IF('Data Input'!I59=\"\",\"\",'Data Input'!I59)","v":""},{"$f":"IF('Data Input'!H59=\"\",\"\",'Data Input'!H59)","v":""},{"$f":"IF('Data Input'!A59=\"\",\"\",'Data Input'!A59)","v":""},{"$f":"IF('Data Input'!R59=\"\",\"\",'Data Input'!R59)","v":""},{"$f":"IF('Data Input'!D59=\"\",\"\",'Data Input'!D59)","v":""},{"$f":"IF('Data Input'!E59=\"\",\"\",'Data Input'!E59)","v":""},{"$f":"IF('Data Input'!F59=\"\",\"\",'Data Input'!F59)","v":""},{"$f":"IF('Data Input'!G59=\"\",\"\",'Data Input'!G59)","v":""},{"$f":"IF('Data Input'!B59=\"\",\"\",'Data Input'!B59)","v":""},{"$f":"IF('Data Input'!C59=\"\",\"\",'Data Input'!C59)","v":""},{"$f":"IF('Data Input'!J59=\"\",\"\",'Data Input'!J59)","v":""},{"$f":"IF('Data Input'!K59=\"\",\"\",'Data Input'!K59)","v":""},{"$f":"IF('Data Input'!O59=\"\",\"\",'Data Input'!O59)","v":""},{"$f":"IF('Data Input'!L59=\"\",\"\",'Data Input'!L59)","v":""},{"$f":"IF('Data Input'!M59=\"\",\"\",'Data Input'!M59)","v":""},{"$f":"IF('Data Input'!Q59=\"\",\"\",'Data Input'!Q59)","v":""},{"$f":"IF('Data Input'!N59=\"\",\"\",'Data Input'!N59)","v":""},null,null,null,null,null,null,null,null,"",{"$f":"IFERROR(VLOOKUP($Z61,Lookup!$C:$E,2,FALSE),\"\")","v":""},{"$f":"IFERROR(VLOOKUP($AA61,Lookup!$D:$E,2,FALSE),\"\")","v":""},"",{"$f":"IFERROR(VLOOKUP($AC61,Lookup!$C:$E,2,FALSE),\"\")","v":""},{"$f":"IFERROR(VLOOKUP($AD61,Lookup!$D:$E,2,FALSE),\"\")","v":""},"",{"$f":"IFERROR(VLOOKUP($AF61,Lookup!$C:$E,2,FALSE),\"\")","v":""},{"$f":"IFERROR(VLOOKUP($AG61,Lookup!$D:$E,2,FALSE),\"\")","v":""},""]
[{"$f":"IF('Data Input'!I60=\"\",\"\",'Data Input'!I60)","v":""},{"$f":"IF('Data Input'!H60=\"\",\"\",'Data Input'!H60)","v":""},{"$f":"IF('Data Input'!A60=\"\",\"\",'Data Input'!A60)","v":""},{"$f":"IF('Data Input'!R60=\"\",\"\",'Data Input'!R60)","v":""},{"$f":"IF('Data Input'!D60=\"\",\"\",'Data Input'!D60)","v":""},{"$f":"IF('Data Input'!E60=\"\",\"\",'Data Input'!E60)","v":""},{"$f":"IF('Data Input'!F60=\"\",\"\",'Data Input'!F60)","v":""},{"$f":"IF('Data Input'!G60=\"\",\"\",'Data Input'!G60)","v":""},{"$f":"IF('Data Input'!B60=\"\",\"\",'Data Input'!B60)","v":""},{"$f":"IF('Data Input'!C60=\"\",\"\",'Data Input'!C60)","v":""},{"$f":"IF('Data Input'!J60=\"\",\"\",'Data Input'!J60)","v":""},{"$f":"IF('Data Input'!K60=\"\",\"\",'Data Input'!K60)","v":""},{"$f":"IF('Data Input'!O60=\"\",\"\",'Data Input'!O60)","v":""},{"$f":"IF('Data Input'!L60=\"\",\"\",'Data Input'!L60)","v":""},{"$f":"IF('Data Input'!M60=\"\",\"\",'Data Input'!M60)","v":""},{"$f":"IF('Data Input'!Q60=\"\",\"\",'Data Input'!Q60)","v":""},{"$f":"IF('Data Input'!N60=\"\",\"\",'Data Input'!N60)","v":""},null,null,null,null,null,null,null,null,"",{"$f":"IFERROR(VLOOKUP($Z62,Lookup!$C:$E,2,FALSE),\"\")","v":""},{"$f":"IFERROR(VLOOKUP($AA62,Lookup!$D:$E,2,FALSE),\"\")","v":""},"",{"$f":"IFERROR(VLOOKUP($AC62,Lookup!$C:$E,2,FALSE),\"\")","v":""},{"$f":"IFERROR(VLOOKUP($AD62,Lookup!$D:$E,2,FALSE),\"\")","v":""},"",{"$f":"IFERROR(VLOOKUP($AF62,Lookup!$C:$E,2,FALSE),\"\")","v":""},{"$f":"IFERROR(VLOOKUP($AG62,Lookup!$D:$E,2,FALSE),\"\")","v":""},""]
[{"$f":"IF('Data Input'!I61=\"\",\"\",'Data Input'!I61)","v":""},{"$f":"IF('Data Input'!H61=\"\",\"\",'Data Input'!H61)","v":""},{"$f":"IF('Data Input'!A61=\"\",\"\",'Data Input'!A61)","v":""},{"$f":"IF('Data Input'!R61=\"\",\"\",'Data Input'!R61)","v":""},{"$f":"IF('Data Input'!D61=\"\",\"\",'Data Input'!D61)","v":""},{"$f":"IF('Data Input'!E61=\"\",\"\",'Data Input'!E61)","v":""},{"$f":"IF('Data Input'!F61=\"\",\"\",'Data Input'!F61)","v":""},{"$f":"IF('Data Input'!G61=\"\",\"\",'Data Input'!G61)","v":""},{"$f":"IF('Data Input'!B61=\"\",\"\",'Data Input'!B61)","v":""},{"$f":"IF('Data Input'!C61=\"\",\"\",'Data Input'!C61)","v":""},{"$f":"IF('Data Input'!J61=\"\",\"\",'Data Input'!J61)","v":""},{"$f":"IF('Data Input'!K61=\"\",\"\",'Data Input'!K61)","v":""},{"$f":"IF('Data Input'!O61=\"\",\"\",'Data Input'!O61)","v":""},{"$f":"IF('Data Input'!L61=\"\",\"\",'Data Input'!L61)","v":""},{"$f":"IF('Data Input'!M61=\"\",\"\",'Data Input'!M61)","v":""},{"$f":"IF('Data Input'!Q61=\"\",\"\",'Data Input'!Q61)","v":""},{"$f":"IF('Data Input'!N61=\"\",\"\",'Data Input'!N61)","v":""},null,null,null,null,null,null,null,null,"",{"$f":"IFERROR(VLOOKUP($Z63,Lookup!$C:$E,2,FALSE),\"\")","v":""},{"$f":"IFERROR(VLOOKUP($AA63,Lookup!$D:$E,2,FALSE),\"\")","v":""},"",{"$f":"IFERROR(VLOOKUP($AC63,Lookup!$C:$E,2,FALSE),\"\")","v":""},{"$f":"IFERROR(VLOOKUP($AD63,Lookup!$D:$E,2,FALSE),\"\")","v":""},"",{"$f":"IFERROR(VLOOKUP($AF63,Lookup!$C:$E,2,FALSE),\"\")","v":""},{"$f":"IFERROR(VLOOKUP($AG63,Lookup!$D:$E,2,FALSE),\"\")","v":""},""]
[{"$f":"IF('Data Input'!I62=\"\",\"\",'Data Input'!I62)","v":""},{"$f":"IF('Data Input'!H62=\"\",\"\",'Data Input'!H62)","v":""},{"$f":"IF('Data Input'!A62=\"\",\"\",'Data Input'!A62)","v":""},{"$f":"IF('Data Input'!R62=\"\",\"\",'Data Input'!R62)","v":""},{"$f":"IF('Data Input'!D62=\"\",\"\",'Data Input'!D62)","v":""},{"$f":"IF('Data Input'!E62=\"\",\"\",'Data Input'!E62)","v":""},{"$f":"IF('Data Input'!F62=\"\",\"\",'Data Input'!F62)","v":""},{"$f":"IF('Data Input'!G62=\"\",\"\",'Data Input'!G62)","v":""},{"$f":"IF('Data Input'!B62=\"\",\"\",'Data Input'!B62)","v":""},{"$f":"IF('Data Input'!C62=\"\",\"\",'Data Input'!C62)","v":""},{"$f":"IF('Data Input'!J62=\"\",\"\",'Data Input'!J62)","v":""},{"$f":"IF('Data Input'!K62=\"\",\"\",'Data Input'!K62)","v":""},{"$f":"IF('Data Input'!O62=\"\",\"\",'Data Input'!O62)","v":""},{"$f":"IF('Data Input'!L62=\"\",\"\",'Data Input'!L62)","v":""},{"$f":"IF('Data Input'!M62=\"\",\"\",'Data Input'!M62)","v":""},{"$f":"IF('Data Input'!Q62=\"\",\"\",'Data Input'!Q62)","v":""},{"$f":"IF('Data Input'!N62=\"\",\"\",'Data Input'!N62)","v":""},null,null,null,null,null,null,null,null,"",{"$f":"IFERROR(VLOOKUP($Z64,Lookup!$C:$E,2,FALSE),\"\")","v":""},{"$f":"IFERROR(VLOOKUP($AA64,Lookup!$D:$E,2,FALSE),\"\")","v":""},"",{"$f":"IFERROR(VLOOKUP($AC64,Lookup!$C:$E,2,FALSE),\"\")","v":""},{"$f":"IFERROR(VLOOKUP($AD64,Lookup!$D:$E,2,FALSE),\"\")","v":""},"",{"$f":"IFERROR(VLOOKUP($AF64,Lookup!$C:$E,2,FALSE),\"\")","v":""},{"$f":"IFERROR(VLOOKUP($AG64,Lookup!$D:$E,2,FALSE),\"\")","v":""},""]
[{"$f":"IF('Data Input'!I63=\"\",\"\",'Data Input'!I63)","v":""},{"$f":"IF('Data Input'!H63=\"\",\"\",'Data Input'!H63)","v":""},{"$f":"IF('Data Input'!A63=\"\",\"\",'Data Input'!A63)","v":""},{"$f":"IF('Data Input'!R63=\"\",\"\",'Data Input'!R63)","v":""},{"$f":"IF('Data Input'!D63=\"\",\"\",'Data Input'!D63)","v":""},{"$f":"IF('Data Input'!E63=\"\",\"\",'Data Input'!E63)","v":""},{"$f":"IF('Data Input'!F63=\"\",\"\",'Data Input'!F63)","v":""},{"$f":"IF('Data Input'!G63=\"\",\"\",'Data Input'!G63)","v":""},{"$f":"IF('Data Input'!B63=\"\",\"\",'Data Input'!B63)","v":""},{"$f":"IF('Data Input'!C63=\"\",\"\",'Data Input'!C63)","v":""},{"$f":"IF('Data Input'!J63=\"\",\"\",'Data Input'!J63)","v":""},{"$f":"IF('Data Input'!K63=\"\",\"\",'Data Input'!K63)","v":""},{"$f":"IF('Data Input'!O63=\"\",\"\",'Data Input'!O63)","v":""},{"$f":"IF('Data Input'!L63=\"\",\"\",'Data Input'!L63)","v":""},{"$f":"IF('Data Input'!M63=\"\",\"\",'Data Input'!M63)","v":""},{"$f":"IF('Data Input'!Q63=\"\",\"\",'Data Input'!Q63)","v":""},{"$f":"IF('Data Input'!N63=\"\",\"\",'Data Input'!N63)","v":""},null,null,null,null,null,null,null,null,"",{"$f":"IFERROR(VLOOKUP($Z65,Lookup!$C:$E,2,FALSE),\"\")","v":""},{"$f":"IFERROR(VLOOKUP($AA65,Lookup!$D:$E,2,FALSE),\"\")","v":""},"",{"$f":"IFERROR(VLOOKUP($AC65,Lookup!$C:$E,2,FALSE),\"\")","v":""},{"$f":"IFERROR(VLOOKUP($AD65,Lookup!$D:$E,2,FALSE),\"\")","v":""},"",{"$f":"IFERROR(VLOOKUP($AF65,Lookup!$C:$E,2,FALSE),\"\")","v":""},{"$f":"IFERROR(VLOOKUP($AG65,Lookup!$D:$E,2,FALSE),\"\")","v":""},""]
[{"$f":"IF('Data Input'!I64=\"\",\"\",'Data Input'!I64)","v":""},{"$f":"IF('Data Input'!H64=\"\",\"\",'Data Input'!H64)","v":""},{"$f":"IF('Data Input'!A64=\"\",\"\",'Data Input'!A64)","v":""},{"$f":"IF('Data Input'!R64=\"\",\"\",'Data Input'!R64)","v":""},{"$f":"IF('Data Input'!D64=\"\",\"\",'Data Input'!D64)","v":""},{"$f":"IF('Data Input'!E64=\"\",\"\",'Data Input'!E64)","v":""},{"$f":"IF('Data Input'!F64=\"\",\"\",'Data Input'!F64)","v":""},{"$f":"IF('Data Input'!G64=\"\",\"\",'Data Input'!G64)","v":""},{"$f":"IF('Data Input'!B64=\"\",\"\",'Data Input'!B64)","v":""},{"$f":"IF('Data Input'!C64=\"\",\"\",'Data Input'!C64)","v":""},{"$f":"IF('Data Input'!J64=\"\",\"\",'Data Input'!J64)","v":""},{"$f":"IF('Data Input'!K64=\"\",\"\",'Data Input'!K64)","v":""},{"$f":"IF('Data Input'!O64=\"\",\"\",'Data Input'!O64)","v":""},{"$f":"IF('Data Input'!L64=\"\",\"\",'Data Input'!L64)","v":""},{"$f":"IF('Data Input'!M64=\"\",\"\",'Data Input'!M64)","v":""},{"$f":"IF('Data Input'!Q64=\"\",\"\",'Data Input'!Q64)","v":""},{"$f":"IF('Data Input'!N64=\"\",\"\",'Data Input'!N64)","v":""},null,null,null,null,null,null,null,null,"",{"$f":"IFERROR(VLOOKUP($Z66,Lookup!$C:$E,2,FALSE),\"\")","v":""},{"$f":"IFERROR(VLOOKUP($AA66,Lookup!$D:$E,2,FALSE),\"\")","v":""},"",{"$f":"IFERROR(VLOOKUP($AC66,Lookup!$C:$E,2,FALSE),\"\")","v":""},{"$f":"IFERROR(VLOOKUP($AD66,Lookup!$D:$E,2,FALSE),\"\")","v":""},"",{"$f":"IFERROR(VLOOKUP($AF66,Lookup!$C:$E,2,FALSE),\"\")","v":""},{"$f":"IFERROR(VLOOKUP($AG66,Lookup!$D:$E,2,FALSE),\"\")","v":""},""]
[{"$f":"IF('Data Input'!I65=\"\",\"\",'Data Input'!I65)","v":""},{"$f":"IF('Data Input'!H65=\"\",\"\",'Data Input'!H65)","v":""},{"$f":"IF('Data Input'!A65=\"\",\"\",'Data Input'!A65)","v":""},{"$f":"IF('Data Input'!R65=\"\",\"\",'Data Input'!R65)","v":""},{"$f":"IF('Data Input'!D65=\"\",\"\",'Data Input'!D65)","v":""},{"$f":"IF('Data Input'!E65=\"\",\"\",'Data Input'!E65)","v":""},{"$f":"IF('Data Input'!F65=\"\",\"\",'Data Input'!F65)","v":""},{"$f":"IF('Data Input'!G65=\"\",\"\",'Data Input'!G65)","v":""},{"$f":"IF('Data Input'!B65=\"\",\"\",'Data Input'!B65)","v":""},{"$f":"IF('Data Input'!C65=\"\",\"\",'Data Input'!C65)","v":""},{"$f":"IF('Data Input'!J65=\"\",\"\",'Data Input'!J65)","v":""},{"$f":"IF('Data Input'!K65=\"\",\"\",'Data Input'!K65)","v":""},{"$f":"IF('Data Input'!O65=\"\",\"\",'Data Input'!O65)","v":""},{"$f":"IF('Data Input'!L65=\"\",\"\",'Data Input'!L65)","v":""},{"$f":"IF('Data Input'!M65=\"\",\"\",'Data Input'!M65)","v":""},{"$f":"IF('Data Input'!Q65=\"\",\"\",'Data Input'!Q65)","v":""},{"$f":"IF('Data Input'!N65=\"\",\"\",'Data Input'!N65)","v":""},null,null,null,null,null,null,null,null,"",{"$f":"IFERROR(VLOOKUP($Z67,Lookup!$C:$E,2,FALSE),\"\")","v":""},{"$f":"IFERROR(VLOOKUP($AA67,Lookup!$D:$E,2,FALSE),\"\")","v":""},"",{"$f":"IFERROR(VLOOKUP($AC67,Lookup!$C:$E,2,FALSE),\"\")","v":""},{"$f":"IFERROR(VLOOKUP($AD67,Lookup!$D:$E,2,FALSE),\"\")","v":""},"",{"$f":"IFERROR(VLOOKUP($AF67,Lookup!$C:$E,2,FALSE),\"\")","v":""},{"$f":"IFERROR(VLOOKUP($AG67,Lookup!$D:$E,2,FALSE),\"\")","v":""},""]
[{"$f":"IF('Data Input'!I66=\"\",\"\",'Data Input'!I66)","v":""},{"$f":"IF('Data Input'!H66=\"\",\"\",'Data Input'!H66)","v":""},{"$f":"IF('Data Input'!A66=\"\",\"\",'Data Input'!A66)","v":""},{"$f":"IF('Data Input'!R66=\"\",\"\",'Data Input'!R66)","v":""},{"$f":"IF('Data Input'!D66=\"\",\"\",'Data Input'!D66)","v":""},{"$f":"IF('Data Input'!E66=\"\",\"\",'Data Input'!E66)","v":""},{"$f":"IF('Data Input'!F66=\"\",\"\",'Data Input'!F66)","v":""},{"$f":"IF('Data Input'!G66=\"\",\"\",'Data Input'!G66)","v":""},{"$f":"IF('Data Input'!B66=\"\",\"\",'Data Input'!B66)","v":""},{"$f":"IF('Data Input'!C66=\"\",\"\",'Data Input'!C66)","v":""},{"$f":"IF('Data Input'!J66=\"\",\"\",'Data Input'!J66)","v":""},{"$f":"IF('Data Input'!K66=\"\",\"\",'Data Input'!K66)","v":""},{"$f":"IF('Data Input'!O66=\"\",\"\",'Data Input'!O66)","v":""},{"$f":"IF('Data Input'!L66=\"\",\"\",'Data Input'!L66)","v":""},{"$f":"IF('Data Input'!M66=\"\",\"\",'Data Input'!M66)","v":""},{"$f":"IF('Data Input'!Q66=\"\",\"\",'Data Input'!Q66)","v":""},{"$f":"IF('Data Input'!N66=\"\",\"\",'Data Input'!N66)","v":""},null,null,null,null,null,null,null,null,"",{"$f":"IFERROR(VLOOKUP($Z68,Lookup!$C:$E,2,FALSE),\"\")","v":""},{"$f":"IFERROR(VLOOKUP($AA68,Lookup!$D:$E,2,FALSE),\"\")","v":""},"",{"$f":"IFERROR(VLOOKUP($AC68,Lookup!$C:$E,2,FALSE),\"\")","v":""},{"$f":"IFERROR(VLOOKUP($AD68,Lookup!$D:$E,2,FALSE),\"\")","v":""},"",{"$f":"IFERROR(VLOOKUP($AF68,Lookup!$C:$E,2,FALSE),\"\")","v":""},{"$f":"IFERROR(VLOOKUP($AG68,Lookup!$D:$E,2,FALSE),\"\")","v":""},""]
[{"$f":"IF('Data Input'!I67=\"\",\"\",'Data Input'!I67)","v":""},{"$f":"IF('Data Input'!H67=\"\",\"\",'Data Input'!H67)","v":""},{"$f":"IF('Data Input'!A67=\"\",\"\",'Data Input'!A67)","v":""},{"$f":"IF('Data Input'!R67=\"\",\"\",'Data Input'!R67)","v":""},{"$f":"IF('Data Input'!D67=\"\",\"\",'Data Input'!D67)","v":""},{"$f":"IF('Data Input'!E67=\"\",\"\",'Data Input'!E67)","v":""},{"$f":"IF('Data Input'!F67=\"\",\"\",'Data Input'!F67)","v":""},{"$f":"IF('Data Input'!G67=\"\",\"\",'Data Input'!G67)","v":""},{"$f":"IF('Data Input'!B67=\"\",\"\",'Data Input'!B67)","v":""},{"$f":"IF('Data Input'!C67=\"\",\"\",'Data Input'!C67)","v":""},{"$f":"IF('Data Input'!J67=\"\",\"\",'Data Input'!J67)","v":""},{"$f":"IF('Data Input'!K67=\"\",\"\",'Data Input'!K67)","v":""},{"$f":"IF('Data Input'!O67=\"\",\"\",'Data Input'!O67)","v":""},{"$f":"IF('Data Input'!L67=\"\",\"\",'Data Input'!L67)","v":""},{"$f":"IF('Data Input'!M67=\"\",\"\",'Data Input'!M67)","v":""},{"$f":"IF('Data Input'!Q67=\"\",\"\",'Data Input'!Q67)","v":""},{"$f":"IF('Data Input'!N67=\"\",\"\",'Data Input'!N67)","v":""},null,null,null,null,null,null,null,null,{"$f":"_xlfn.CONCAT($C69,$O69)","v":""},{"$f":"IFERROR(VLOOKUP($Z69,Lookup!$C:$E,2,FALSE),\"\")","v":""},{"$f":"IFERROR(VLOOKUP($AA69,Lookup!$D:$E,2,FALSE),\"\")","v":""},{"$f":"_xlfn.CONCAT($C69,$R69)","v":""},{"$f":"IFERROR(VLOOKUP($AC69,Lookup!$C:$E,2,FALSE),\"\")","v":""},{"$f":"IFERROR(VLOOKUP($AD69,Lookup!$D:$E,2,FALSE),\"\")","v":""},{"$f":"_xlfn.CONCAT($C69,$S69)","v":""},{"$f":"IFERROR(VLOOKUP($AF69,Lookup!$C:$E,2,FALSE),\"\")","v":""},{"$f":"IFERROR(VLOOKUP($AG69,Lookup!$D:$E,2,FALSE),\"\")","v":""},{"$f":"P69","v":""}]
[{"$f":"IF('Data Input'!I68=\"\",\"\",'Data Input'!I68)","v":""},{"$f":"IF('Data Input'!H68=\"\",\"\",'Data Input'!H68)","v":""},{"$f":"IF('Data Input'!A68=\"\",\"\",'Data Input'!A68)","v":""},{"$f":"IF('Data Input'!R68=\"\",\"\",'Data Input'!R68)","v":""},{"$f":"IF('Data Input'!D68=\"\",\"\",'Data Input'!D68)","v":""},{"$f":"IF('Data Input'!E68=\"\",\"\",'Data Input'!E68)","v":""},{"$f":"IF('Data Input'!F68=\"\",\"\",'Data Input'!F68)","v":""},{"$f":"IF('Data Input'!G68=\"\",\"\",'Data Input'!G68)","v":""},{"$f":"IF('Data Input'!B68=\"\",\"\",'Data Input'!B68)","v":""},{"$f":"IF('Data Input'!C68=\"\",\"\",'Data Input'!C68)","v":""},{"$f":"IF('Data Input'!J68=\"\",\"\",'Data Input'!J68)","v":""},{"$f":"IF('Data Input'!K68=\"\",\"\",'Data Input'!K68)","v":""},{"$f":"IF('Data Input'!O68=\"\",\"\",'Data Input'!O68)","v":""},{"$f":"IF('Data Input'!L68=\"\",\"\",'Data Input'!L68)","v":""},{"$f":"IF('Data Input'!M68=\"\",\"\",'Data Input'!M68)","v":""},{"$f":"IF('Data Input'!Q68=\"\",\"\",'Data Input'!Q68)","v":""},{"$f":"IF('Data Input'!N68=\"\",\"\",'Data Input'!N68)","v":""},null,null,null,null,null,null,null,null,"",{"$f":"IFERROR(VLOOKUP($Z70,Lookup!$C:$E,2,FALSE),\"\")","v":""},{"$f":"IFERROR(VLOOKUP($AA70,Lookup!$D:$E,2,FALSE),\"\")","v":""},"",{"$f":"IFERROR(VLOOKUP($AC70,Lookup!$C:$E,2,FALSE),\"\")","v":""},{"$f":"IFERROR(VLOOKUP($AD70,Lookup!$D:$E,2,FALSE),\"\")","v":""},"",{"$f":"IFERROR(VLOOKUP($AF70,Lookup!$C:$E,2,FALSE),\"\")","v":""},{"$f":"IFERROR(VLOOKUP($AG70,Lookup!$D:$E,2,FALSE),\"\")","v":""},""]
[{"$f":"IF('Data Input'!I69=\"\",\"\",'Data Input'!I69)","v":""},{"$f":"IF('Data Input'!H69=\"\",\"\",'Data Input'!H69)","v":""},{"$f":"IF('Data Input'!A69=\"\",\"\",'Data Input'!A69)","v":""},{"$f":"IF('Data Input'!R69=\"\",\"\",'Data Input'!R69)","v":""},{"$f":"IF('Data Input'!D69=\"\",\"\",'Data Input'!D69)","v":""},{"$f":"IF('Data Input'!E69=\"\",\"\",'Data Input'!E69)","v":""},{"$f":"IF('Data Input'!F69=\"\",\"\",'Data Input'!F69)","v":""},{"$f":"IF('Data Input'!G69=\"\",\"\",'Data Input'!G69)","v":""},{"$f":"IF('Data Input'!B69=\"\",\"\",'Data Input'!B69)","v":""},{"$f":"IF('Data Input'!C69=\"\",\"\",'Data Input'!C69)","v":""},{"$f":"IF('Data Input'!J69=\"\",\"\",'Data Input'!J69)","v":""},{"$f":"IF('Data Input'!K69=\"\",\"\",'Data Input'!K69)","v":""},{"$f":"IF('Data Input'!O69=\"\",\"\",'Data Input'!O69)","v":""},{"$f":"IF('Data Input'!L69=\"\",\"\",'Data Input'!L69)","v":""},{"$f":"IF('Data Input'!M69=\"\",\"\",'Data Input'!M69)","v":""},{"$f":"IF('Data Input'!Q69=\"\",\"\",'Data Input'!Q69)","v":""},{"$f":"IF('Data Input'!N69=\"\",\"\",'Data Input'!N69)","v":""},null,null,null,null,null,null,null,null,"",{"$f":"IFERROR(VLOOKUP($Z71,Lookup!$C:$E,2,FALSE),\"\")","v":""},{"$f":"IFERROR(VLOOKUP($AA71,Lookup!$D:$E,2,FALSE),\"\")","v":""},"",{"$f":"IFERROR(VLOOKUP($AC71,Lookup!$C:$E,2,FALSE),\"\")","v":""},{"$f":"IFERROR(VLOOKUP($AD71,Lookup!$D:$E,2,FALSE),\"\")","v":""},"",{"$f":"IFERROR(VLOOKUP($AF71,Lookup!$C:$E,2,FALSE),\"\")","v":""},{"$f":"IFERROR(VLOOKUP($AG71,Lookup!$D:$E,2,FALSE),\"\")","v":""},""]
[{"$f":"IF('Data Input'!I70=\"\",\"\",'Data Input'!I70)","v":""},{"$f":"IF('Data Input'!H70=\"\",\"\",'Data Input'!H70)","v":""},{"$f":"IF('Data Input'!A70=\"\",\"\",'Data Input'!A70)","v":""},{"$f":"IF('Data Input'!R70=\"\",\"\",'Data Input'!R70)","v":""},{"$f":"IF('Data Input'!D70=\"\",\"\",'Data Input'!D70)","v":""},{"$f":"IF('Data Input'!E70=\"\",\"\",'Data Input'!E70)","v":""},{"$f":"IF('Data Input'!F70=\"\",\"\",'Data Input'!F70)","v":""},{"$f":"IF('Data Input'!G70=\"\",\"\",'Data Input'!G70)","v":""},{"$f":"IF('Data Input'!B70=\"\",\"\",'Data Input'!B70)","v":""},{"$f":"IF('Data Input'!C70=\"\",\"\",'Data Input'!C70)","v":""},{"$f":"IF('Data Input'!J70=\"\",\"\",'Data Input'!J70)","v":""},{"$f":"IF('Data Input'!K70=\"\",\"\",'Data Input'!K70)","v":""},{"$f":"IF('Data Input'!O70=\"\",\"\",'Data Input'!O70)","v":""},{"$f":"IF('Data Input'!L70=\"\",\"\",'Data Input'!L70)","v":""},{"$f":"IF('Data Input'!M70=\"\",\"\",'Data Input'!M70)","v":""},{"$f":"IF('Data Input'!Q70=\"\",\"\",'Data Input'!Q70)","v":""},{"$f":"IF('Data Input'!N70=\"\",\"\",'Data Input'!N70)","v":""},null,null,null,null,null,null,null,null,"",{"$f":"IFERROR(VLOOKUP($Z72,Lookup!$C:$E,2,FALSE),\"\")","v":""},{"$f":"IFERROR(VLOOKUP($AA72,Lookup!$D:$E,2,FALSE),\"\")","v":""},"",{"$f":"IFERROR(VLOOKUP($AC72,Lookup!$C:$E,2,FALSE),\"\")","v":""},{"$f":"IFERROR(VLOOKUP($AD72,Lookup!$D:$E,2,FALSE),\"\")","v":""},"",{"$f":"IFERROR(VLOOKUP($AF72,Lookup!$C:$E,2,FALSE),\"\")","v":""},{"$f":"IFERROR(VLOOKUP($AG72,Lookup!$D:$E,2,FALSE),\"\")","v":""},""]
[{"$f":"IF('Data Input'!I71=\"\",\"\",'Data Input'!I71)","v":""},{"$f":"IF('Data Input'!H71=\"\",\"\",'Data Input'!H71)","v":""},{"$f":"IF('Data Input'!A71=\"\",\"\",'Data Input'!A71)","v":""},{"$f":"IF('Data Input'!R71=\"\",\"\",'Data Input'!R71)","v":""},{"$f":"IF('Data Input'!D71=\"\",\"\",'Data Input'!D71)","v":""},{"$f":"IF('Data Input'!E71=\"\",\"\",'Data Input'!E71)","v":""},{"$f":"IF('Data Input'!F71=\"\",\"\",'Data Input'!F71)","v":""},{"$f":"IF('Data Input'!G71=\"\",\"\",'Data Input'!G71)","v":""},{"$f":"IF('Data Input'!B71=\"\",\"\",'Data Input'!B71)","v":""},{"$f":"IF('Data Input'!C71=\"\",\"\",'Data Input'!C71)","v":""},{"$f":"IF('Data Input'!J71=\"\",\"\",'Data Input'!J71)","v":""},{"$f":"IF('Data Input'!K71=\"\",\"\",'Data Input'!K71)","v":""},{"$f":"IF('Data Input'!O71=\"\",\"\",'Data Input'!O71)","v":""},{"$f":"IF('Data Input'!L71=\"\",\"\",'Data Input'!L71)","v":""},{"$f":"IF('Data Input'!M71=\"\",\"\",'Data Input'!M71)","v":""},{"$f":"IF('Data Input'!Q71=\"\",\"\",'Data Input'!Q71)","v":""},{"$f":"IF('Data Input'!N71=\"\",\"\",'Data Input'!N71)","v":""},null,null,null,null,null,null,null,null,"",{"$f":"IFERROR(VLOOKUP($Z73,Lookup!$C:$E,2,FALSE),\"\")","v":""},{"$f":"IFERROR(VLOOKUP($AA73,Lookup!$D:$E,2,FALSE),\"\")","v":""},"",{"$f":"IFERROR(VLOOKUP($AC73,Lookup!$C:$E,2,FALSE),\"\")","v":""},{"$f":"IFERROR(VLOOKUP($AD73,Lookup!$D:$E,2,FALSE),\"\")","v":""},"",{"$f":"IFERROR(VLOOKUP($AF73,Lookup!$C:$E,2,FALSE),\"\")","v":""},{"$f":"IFERROR(VLOOKUP($AG73,Lookup!$D:$E,2,FALSE),\"\")","v":""},""]
[{"$f":"IF('Data Input'!I72=\"\",\"\",'Data Input'!I72)","v":""},{"$f":"IF('Data Input'!H72=\"\",\"\",'Data Input'!H72)","v":""},{"$f":"IF('Data Input'!A72=\"\",\"\",'Data Input'!A72)","v":""},{"$f":"IF('Data Input'!R72=\"\",\"\",'Data Input'!R72)","v":""},{"$f":"IF('Data Input'!D72=\"\",\"\",'Data Input'!D72)","v":""},{"$f":"IF('Data Input'!E72=\"\",\"\",'Data Input'!E72)","v":""},{"$f":"IF('Data Input'!F72=\"\",\"\",'Data Input'!F72)","v":""},{"$f":"IF('Data Input'!G72=\"\",\"\",'Data Input'!G72)","v":""},{"$f":"IF('Data Input'!B72=\"\",\"\",'Data Input'!B72)","v":""},{"$f":"IF('Data Input'!C72=\"\",\"\",'Data Input'!C72)","v":""},{"$f":"IF('Data Input'!J72=\"\",\"\",'Data Input'!J72)","v":""},{"$f":"IF('Data Input'!K72=\"\",\"\",'Data Input'!K72)","v":""},{"$f":"IF('Data Input'!O72=\"\",\"\",'Data Input'!O72)","v":""},{"$f":"IF('Data Input'!L72=\"\",\"\",'Data Input'!L72)","v":""},{"$f":"IF('Data Input'!M72=\"\",\"\",'Data Input'!M72)","v":""},{"$f":"IF('Data Input'!Q72=\"\",\"\",'Data Input'!Q72)","v":""},{"$f":"IF('Data Input'!N72=\"\",\"\",'Data Input'!N72)","v":""},null,null,null,null,null,null,null,null,"",{"$f":"IFERROR(VLOOKUP($Z74,Lookup!$C:$E,2,FALSE),\"\")","v":""},{"$f":"IFERROR(VLOOKUP($AA74,Lookup!$D:$E,2,FALSE),\"\")","v":""},"",{"$f":"IFERROR(VLOOKUP($AC74,Lookup!$C:$E,2,FALSE),\"\")","v":""},{"$f":"IFERROR(VLOOKUP($AD74,Lookup!$D:$E,2,FALSE),\"\")","v":""},"",{"$f":"IFERROR(VLOOKUP($AF74,Lookup!$C:$E,2,FALSE),\"\")","v":""},{"$f":"IFERROR(VLOOKUP($AG74,Lookup!$D:$E,2,FALSE),\"\")","v":""},""]
[{"$f":"IF('Data Input'!I73=\"\",\"\",'Data Input'!I73)","v":""},{"$f":"IF('Data Input'!H73=\"\",\"\",'Data Input'!H73)","v":""},{"$f":"IF('Data Input'!A73=\"\",\"\",'Data Input'!A73)","v":""},{"$f":"IF('Data Input'!R73=\"\",\"\",'Data Input'!R73)","v":""},{"$f":"IF('Data Input'!D73=\"\",\"\",'Data Input'!D73)","v":""},{"$f":"IF('Data Input'!E73=\"\",\"\",'Data Input'!E73)","v":""},{"$f":"IF('Data Input'!F73=\"\",\"\",'Data Input'!F73)","v":""},{"$f":"IF('Data Input'!G73=\"\",\"\",'Data Input'!G73)","v":""},{"$f":"IF('Data Input'!B73=\"\",\"\",'Data Input'!B73)","v":""},{"$f":"IF('Data Input'!C73=\"\",\"\",'Data Input'!C73)","v":""},{"$f":"IF('Data Input'!J73=\"\",\"\",'Data Input'!J73)","v":""},{"$f":"IF('Data Input'!K73=\"\",\"\",'Data Input'!K73)","v":""},{"$f":"IF('Data Input'!O73=\"\",\"\",'Data Input'!O73)","v":""},{"$f":"IF('Data Input'!L73=\"\",\"\",'Data Input'!L73)","v":""},{"$f":"IF('Data Input'!M73=\"\",\"\",'Data Input'!M73)","v":""},{"$f":"IF('Data Input'!Q73=\"\",\"\",'Data Input'!Q73)","v":""},{"$f":"IF('Data Input'!N73=\"\",\"\",'Data Input'!N73)","v":""},null,null,null,null,null,null,null,null,"",{"$f":"IFERROR(VLOOKUP($Z75,Lookup!$C:$E,2,FALSE),\"\")","v":""},{"$f":"IFERROR(VLOOKUP($AA75,Lookup!$D:$E,2,FALSE),\"\")","v":""},"",{"$f":"IFERROR(VLOOKUP($AC75,Lookup!$C:$E,2,FALSE),\"\")","v":""},{"$f":"IFERROR(VLOOKUP($AD75,Lookup!$D:$E,2,FALSE),\"\")","v":""},"",{"$f":"IFERROR(VLOOKUP($AF75,Lookup!$C:$E,2,FALSE),\"\")","v":""},{"$f":"IFERROR(VLOOKUP($AG75,Lookup!$D:$E,2,FALSE),\"\")","v":""},""]
[{"$f":"IF('Data Input'!I74=\"\",\"\",'Data Input'!I74)","v":""},{"$f":"IF('Data Input'!H74=\"\",\"\",'Data Input'!H74)","v":""},{"$f":"IF('Data Input'!A74=\"\",\"\",'Data Input'!A74)","v":""},{"$f":"IF('Data Input'!R74=\"\",\"\",'Data Input'!R74)","v":""},{"$f":"IF('Data Input'!D74=\"\",\"\",'Data Input'!D74)","v":""},{"$f":"IF('Data Input'!E74=\"\",\"\",'Data Input'!E74)","v":""},{"$f":"IF('Data Input'!F74=\"\",\"\",'Data Input'!F74)","v":""},{"$f":"IF('Data Input'!G74=\"\",\"\",'Data Input'!G74)","v":""},{"$f":"IF('Data Input'!B74=\"\",\"\",'Data Input'!B74)","v":""},{"$f":"IF('Data Input'!C74=\"\",\"\",'Data Input'!C74)","v":""},{"$f":"IF('Data Input'!J74=\"\",\"\",'Data Input'!J74)","v":""},{"$f":"IF('Data Input'!K74=\"\",\"\",'Data Input'!K74)","v":""},{"$f":"IF('Data Input'!O74=\"\",\"\",'Data Input'!O74)","v":""},{"$f":"IF('Data Input'!L74=\"\",\"\",'Data Input'!L74)","v":""},{"$f":"IF('Data Input'!M74=\"\",\"\",'Data Input'!M74)","v":""},{"$f":"IF('Data Input'!Q74=\"\",\"\",'Data Input'!Q74)","v":""},{"$f":"IF('Data Input'!N74=\"\",\"\",'Data Input'!N74)","v":""},null,null,null,null,null,null,null,null,"",{"$f":"IFERROR(VLOOKUP($Z76,Lookup!$C:$E,2,FALSE),\"\")","v":""},{"$f":"IFERROR(VLOOKUP($AA76,Lookup!$D:$E,2,FALSE),\"\")","v":""},"",{"$f":"IFERROR(VLOOKUP($AC76,Lookup!$C:$E,2,FALSE),\"\")","v":""},{"$f":"IFERROR(VLOOKUP($AD76,Lookup!$D:$E,2,FALSE),\"\")","v":""},"",{"$f":"IFERROR(VLOOKUP($AF76,Lookup!$C:$E,2,FALSE),\"\")","v":""},{"$f":"IFERROR(VLOOKUP($AG76,Lookup!$D:$E,2,FALSE),\"\")","v":""},""]
[{"$f":"IF('Data Input'!I75=\"\",\"\",'Data Input'!I75)","v":""},{"$f":"IF('Data Input'!H75=\"\",\"\",'Data Input'!H75)","v":""},{"$f":"IF('Data Input'!A75=\"\",\"\",'Data Input'!A75)","v":""},{"$f":"IF('Data Input'!R75=\"\",\"\",'Data Input'!R75)","v":""},{"$f":"IF('Data Input'!D75=\"\",\"\",'Data Input'!D75)","v":""},{"$f":"IF('Data Input'!E75=\"\",\"\",'Data Input'!E75)","v":""},{"$f":"IF('Data Input'!F75=\"\",\"\",'Data Input'!F75)","v":""},{"$f":"IF('Data Input'!G75=\"\",\"\",'Data Input'!G75)","v":""},{"$f":"IF('Data Input'!B75=\"\",\"\",'Data Input'!B75)","v":""},{"$f":"IF('Data Input'!C75=\"\",\"\",'Data Input'!C75)","v":""},{"$f":"IF('Data Input'!J75=\"\",\"\",'Data Input'!J75)","v":""},{"$f":"IF('Data Input'!K75=\"\",\"\",'Data Input'!K75)","v":""},{"$f":"IF('Data Input'!O75=\"\",\"\",'Data Input'!O75)","v":""},{"$f":"IF('Data Input'!L75=\"\",\"\",'Data Input'!L75)","v":""},{"$f":"IF('Data Input'!M75=\"\",\"\",'Data Input'!M75)","v":""},{"$f":"IF('Data Input'!Q75=\"\",\"\",'Data Input'!Q75)","v":""},{"$f":"IF('Data Input'!N75=\"\",\"\",'Data Input'!N75)","v":""},null,null,null,null,null,null,null,null,"",{"$f":"IFERROR(VLOOKUP($Z77,Lookup!$C:$E,2,FALSE),\"\")","v":""},{"$f":"IFERROR(VLOOKUP($AA77,Lookup!$D:$E,2,FALSE),\"\")","v":""},"",{"$f":"IFERROR(VLOOKUP($AC77,Lookup!$C:$E,2,FALSE),\"\")","v":""},{"$f":"IFERROR(VLOOKUP($AD77,Lookup!$D:$E,2,FALSE),\"\")","v":""},"",{"$f":"IFERROR(VLOOKUP($AF77,Lookup!$C:$E,2,FALSE),\"\")","v":""},{"$f":"IFERROR(VLOOKUP($AG77,Lookup!$D:$E,2,FALSE),\"\")","v":""},""]
[{"$f":"IF('Data Input'!I76=\"\",\"\",'Data Input'!I76)","v":""},{"$f":"IF('Data Input'!H76=\"\",\"\",'Data Input'!H76)","v":""},{"$f":"IF('Data Input'!A76=\"\",\"\",'Data Input'!A76)","v":""},{"$f":"IF('Data Input'!R76=\"\",\"\",'Data Input'!R76)","v":""},{"$f":"IF('Data Input'!D76=\"\",\"\",'Data Input'!D76)","v":""},{"$f":"IF('Data Input'!E76=\"\",\"\",'Data Input'!E76)","v":""},{"$f":"IF('Data Input'!F76=\"\",\"\",'Data Input'!F76)","v":""},{"$f":"IF('Data Input'!G76=\"\",\"\",'Data Input'!G76)","v":""},{"$f":"IF('Data Input'!B76=\"\",\"\",'Data Input'!B76)","v":""},{"$f":"IF('Data Input'!C76=\"\",\"\",'Data Input'!C76)","v":""},{"$f":"IF('Data Input'!J76=\"\",\"\",'Data Input'!J76)","v":""},{"$f":"IF('Data Input'!K76=\"\",\"\",'Data Input'!K76)","v":""},{"$f":"IF('Data Input'!O76=\"\",\"\",'Data Input'!O76)","v":""},{"$f":"IF('Data Input'!L76=\"\",\"\",'Data Input'!L76)","v":""},{"$f":"IF('Data Input'!M76=\"\",\"\",'Data Input'!M76)","v":""},{"$f":"IF('Data Input'!Q76=\"\",\"\",'Data Input'!Q76)","v":""},{"$f":"IF('Data Input'!N76=\"\",\"\",'Data Input'!N76)","v":""},null,null,null,null,null,null,null,null,"",{"$f":"IFERROR(VLOOKUP($Z78,Lookup!$C:$E,2,FALSE),\"\")","v":""},{"$f":"IFERROR(VLOOKUP($AA78,Lookup!$D:$E,2,FALSE),\"\")","v":""},"",{"$f":"IFERROR(VLOOKUP($AC78,Lookup!$C:$E,2,FALSE),\"\")","v":""},{"$f":"IFERROR(VLOOKUP($AD78,Lookup!$D:$E,2,FALSE),\"\")","v":""},"",{"$f":"IFERROR(VLOOKUP($AF78,Lookup!$C:$E,2,FALSE),\"\")","v":""},{"$f":"IFERROR(VLOOKUP($AG78,Lookup!$D:$E,2,FALSE),\"\")","v":""},""]
[{"$f":"IF('Data Input'!I77=\"\",\"\",'Data Input'!I77)","v":""},{"$f":"IF('Data Input'!H77=\"\",\"\",'Data Input'!H77)","v":""},{"$f":"IF('Data Input'!A77=\"\",\"\",'Data Input'!A77)","v":""},{"$f":"IF('Data Input'!R77=\"\",\"\",'Data Input'!R77)","v":""},{"$f":"IF('Data Input'!D77=\"\",\"\",'Data Input'!D77)","v":""},{"$f":"IF('Data Input'!E77=\"\",\"\",'Data Input'!E77)","v":""},{"$f":"IF('Data Input'!F77=\"\",\"\",'Data Input'!F77)","v":""},{"$f":"IF('Data Input'!G77=\"\",\"\",'Data Input'!G77)","v":""},{"$f":"IF('Data Input'!B77=\"\",\"\",'Data Input'!B77)","v":""},{"$f":"IF('Data Input'!C77=\"\",\"\",'Data Input'!C77)","v":""},{"$f":"IF('Data Input'!J77=\"\",\"\",'Data Input'!J77)","v":""},{"$f":"IF('Data Input'!K77=\"\",\"\",'Data Input'!K77)","v":""},{"$f":"IF('Data Input'!O77=\"\",\"\",'Data Input'!O77)","v":""},{"$f":"IF('Data Input'!L77=\"\",\"\",'Data Input'!L77)","v":""},{"$f":"IF('Data Input'!M77=\"\",\"\",'Data Input'!M77)","v":""},{"$f":"IF('Data Input'!Q77=\"\",\"\",'Data Input'!Q77)","v":""},{"$f":"IF('Data Input'!N77=\"\",\"\",'Data Input'!N77)","v":""},null,null,null,null,null,null,null,null,"",{"$f":"IFERROR(VLOOKUP($Z79,Lookup!$C:$E,2,FALSE),\"\")","v":""},{"$f":"IFERROR(VLOOKUP($AA79,Lookup!$D:$E,2,FALSE),\"\")","v":""},"",{"$f":"IFERROR(VLOOKUP($AC79,Lookup!$C:$E,2,FALSE),\"\")","v":""},{"$f":"IFERROR(VLOOKUP($AD79,Lookup!$D:$E,2,FALSE),\"\")","v":""},"",{"$f":"IFERROR(VLOOKUP($AF79,Lookup!$C:$E,2,FALSE),\"\")","v":""},{"$f":"IFERROR(VLOOKUP($AG79,Lookup!$D:$E,2,FALSE),\"\")","v":""},""]
[{"$f":"IF('Data Input'!I78=\"\",\"\",'Data Input'!I78)","v":""},{"$f":"IF('Data Input'!H78=\"\",\"\",'Data Input'!H78)","v":""},{"$f":"IF('Data Input'!A78=\"\",\"\",'Data Input'!A78)","v":""},{"$f":"IF('Data Input'!R78=\"\",\"\",'Data Input'!R78)","v":""},{"$f":"IF('Data Input'!D78=\"\",\"\",'Data Input'!D78)","v":""},{"$f":"IF('Data Input'!E78=\"\",\"\",'Data Input'!E78)","v":""},{"$f":"IF('Data Input'!F78=\"\",\"\",'Data Input'!F78)","v":""},{"$f":"IF('Data Input'!G78=\"\",\"\",'Data Input'!G78)","v":""},{"$f":"IF('Data Input'!B78=\"\",\"\",'Data Input'!B78)","v":""},{"$f":"IF('Data Input'!C78=\"\",\"\",'Data Input'!C78)","v":""},{"$f":"IF('Data Input'!J78=\"\",\"\",'Data Input'!J78)","v":""},{"$f":"IF('Data Input'!K78=\"\",\"\",'Data Input'!K78)","v":""},{"$f":"IF('Data Input'!O78=\"\",\"\",'Data Input'!O78)","v":""},{"$f":"IF('Data Input'!L78=\"\",\"\",'Data Input'!L78)","v":""},{"$f":"IF('Data Input'!M78=\"\",\"\",'Data Input'!M78)","v":""},{"$f":"IF('Data Input'!Q78=\"\",\"\",'Data Input'!Q78)","v":""},{"$f":"IF('Data Input'!N78=\"\",\"\",'Data Input'!N78)","v":""},null,null,null,null,null,null,null,null,"",{"$f":"IFERROR(VLOOKUP($Z80,Lookup!$C:$E,2,FALSE),\"\")","v":""},{"$f":"IFERROR(VLOOKUP($AA80,Lookup!$D:$E,2,FALSE),\"\")","v":""},"",{"$f":"IFERROR(VLOOKUP($AC80,Lookup!$C:$E,2,FALSE),\"\")","v":""},{"$f":"IFERROR(VLOOKUP($AD80,Lookup!$D:$E,2,FALSE),\"\")","v":""},"",{"$f":"IFERROR(VLOOKUP($AF80,Lookup!$C:$E,2,FALSE),\"\")","v":""},{"$f":"IFERROR(VLOOKUP($AG80,Lookup!$D:$E,2,FALSE),\"\")","v":""},""]
[{"$f":"IF('Data Input'!I79=\"\",\"\",'Data Input'!I79)","v":""},{"$f":"IF('Data Input'!H79=\"\",\"\",'Data Input'!H79)","v":""},{"$f":"IF('Data Input'!A79=\"\",\"\",'Data Input'!A79)","v":""},{"$f":"IF('Data Input'!R79=\"\",\"\",'Data Input'!R79)","v":""},{"$f":"IF('Data Input'!D79=\"\",\"\",'Data Input'!D79)","v":""},{"$f":"IF('Data Input'!E79=\"\",\"\",'Data Input'!E79)","v":""},{"$f":"IF('Data Input'!F79=\"\",\"\",'Data Input'!F79)","v":""},{"$f":"IF('Data Input'!G79=\"\",\"\",'Data Input'!G79)","v":""},{"$f":"IF('Data Input'!B79=\"\",\"\",'Data Input'!B79)","v":""},{"$f":"IF('Data Input'!C79=\"\",\"\",'Data Input'!C79)","v":""},{"$f":"IF('Data Input'!J79=\"\",\"\",'Data Input'!J79)","v":""},{"$f":"IF('Data Input'!K79=\"\",\"\",'Data Input'!K79)","v":""},{"$f":"IF('Data Input'!O79=\"\",\"\",'Data Input'!O79)","v":""},{"$f":"IF('Data Input'!L79=\"\",\"\",'Data Input'!L79)","v":""},{"$f":"IF('Data Input'!M79=\"\",\"\",'Data Input'!M79)","v":""},{"$f":"IF('Data Input'!Q79=\"\",\"\",'Data Input'!Q79)","v":""},{"$f":"IF('Data Input'!N79=\"\",\"\",'Data Input'!N79)","v":""},null,null,null,null,null,null,null,null,"",{"$f":"IFERROR(VLOOKUP($Z81,Lookup!$C:$E,2,FALSE),\"\")","v":""},{"$f":"IFERROR(VLOOKUP($AA81,Lookup!$D:$E,2,FALSE),\"\")","v":""},"",{"$f":"IFERROR(VLOOKUP($AC81,Lookup!$C:$E,2,FALSE),\"\")","v":""},{"$f":"IFERROR(VLOOKUP($AD81,Lookup!$D:$E,2,FALSE),\"\")","v":""},"",{"$f":"IFERROR(VLOOKUP($AF81,Lookup!$C:$E,2,FALSE),\"\")","v":""},{"$f":"IFERROR(VLOOKUP($AG81,Lookup!$D:$E,2,FALSE),\"\")","v":""},""]
[{"$f":"IF('Data Input'!I80=\"\",\"\",'Data Input'!I80)","v":""},{"$f":"IF('Data Input'!H80=\"\",\"\",'Data Input'!H80)","v":""},{"$f":"IF('Data Input'!A80=\"\",\"\",'Data Input'!A80)","v":""},{"$f":"IF('Data Input'!R80=\"\",\"\",'Data Input'!R80)","v":""},{"$f":"IF('Data Input'!D80=\"\",\"\",'Data Input'!D80)","v":""},{"$f":"IF('Data Input'!E80=\"\",\"\",'Data Input'!E80)","v":""},{"$f":"IF('Data Input'!F80=\"\",\"\",'Data Input'!F80)","v":""},{"$f":"IF('Data Input'!G80=\"\",\"\",'Data Input'!G80)","v":""},{"$f":"IF('Data Input'!B80=\"\",\"\",'Data Input'!B80)","v":""},{"$f":"IF('Data Input'!C80=\"\",\"\",'Data Input'!C80)","v":""},{"$f":"IF('Data Input'!J80=\"\",\"\",'Data Input'!J80)","v":""},{"$f":"IF('Data Input'!K80=\"\",\"\",'Data Input'!K80)","v":""},{"$f":"IF('Data Input'!O80=\"\",\"\",'Data Input'!O80)","v":""},{"$f":"IF('Data Input'!L80=\"\",\"\",'Data Input'!L80)","v":""},{"$f":"IF('Data Input'!M80=\"\",\"\",'Data Input'!M80)","v":""},{"$f":"IF('Data Input'!Q80=\"\",\"\",'Data Input'!Q80)","v":""},{"$f":"IF('Data Input'!N80=\"\",\"\",'Data Input'!N80)","v":""},null,null,null,null,null,null,null,null,"",{"$f":"IFERROR(VLOOKUP($Z82,Lookup!$C:$E,2,FALSE),\"\")","v":""},{"$f":"IFERROR(VLOOKUP($AA82,Lookup!$D:$E,2,FALSE),\"\")","v":""},"",{"$f":"IFERROR(VLOOKUP($AC82,Lookup!$C:$E,2,FALSE),\"\")","v":""},{"$f":"IFERROR(VLOOKUP($AD82,Lookup!$D:$E,2,FALSE),\"\")","v":""},"",{"$f":"IFERROR(VLOOKUP($AF82,Lookup!$C:$E,2,FALSE),\"\")","v":""},{"$f":"IFERROR(VLOOKUP($AG82,Lookup!$D:$E,2,FALSE),\"\")","v":""},""]
[{"$f":"IF('Data Input'!I81=\"\",\"\",'Data Input'!I81)","v":""},{"$f":"IF('Data Input'!H81=\"\",\"\",'Data Input'!H81)","v":""},{"$f":"IF('Data Input'!A81=\"\",\"\",'Data Input'!A81)","v":""},{"$f":"IF('Data Input'!R81=\"\",\"\",'Data Input'!R81)","v":""},{"$f":"IF('Data Input'!D81=\"\",\"\",'Data Input'!D81)","v":""},{"$f":"IF('Data Input'!E81=\"\",\"\",'Data Input'!E81)","v":""},{"$f":"IF('Data Input'!F81=\"\",\"\",'Data Input'!F81)","v":""},{"$f":"IF('Data Input'!G81=\"\",\"\",'Data Input'!G81)","v":""},{"$f":"IF('Data Input'!B81=\"\",\"\",'Data Input'!B81)","v":""},{"$f":"IF('Data Input'!C81=\"\",\"\",'Data Input'!C81)","v":""},{"$f":"IF('Data Input'!J81=\"\",\"\",'Data Input'!J81)","v":""},{"$f":"IF('Data Input'!K81=\"\",\"\",'Data Input'!K81)","v":""},{"$f":"IF('Data Input'!O81=\"\",\"\",'Data Input'!O81)","v":""},{"$f":"IF('Data Input'!L81=\"\",\"\",'Data Input'!L81)","v":""},{"$f":"IF('Data Input'!M81=\"\",\"\",'Data Input'!M81)","v":""},{"$f":"IF('Data Input'!Q81=\"\",\"\",'Data Input'!Q81)","v":""},{"$f":"IF('Data Input'!N81=\"\",\"\",'Data Input'!N81)","v":""},null,null,null,null,null,null,null,null,"",{"$f":"IFERROR(VLOOKUP($Z83,Lookup!$C:$E,2,FALSE),\"\")","v":""},{"$f":"IFERROR(VLOOKUP($AA83,Lookup!$D:$E,2,FALSE),\"\")","v":""},"",{"$f":"IFERROR(VLOOKUP($AC83,Lookup!$C:$E,2,FALSE),\"\")","v":""},{"$f":"IFERROR(VLOOKUP($AD83,Lookup!$D:$E,2,FALSE),\"\")","v":""},"",{"$f":"IFERROR(VLOOKUP($AF83,Lookup!$C:$E,2,FALSE),\"\")","v":""},{"$f":"IFERROR(VLOOKUP($AG83,Lookup!$D:$E,2,FALSE),\"\")","v":""},""]
[{"$f":"IF('Data Input'!I82=\"\",\"\",'Data Input'!I82)","v":""},{"$f":"IF('Data Input'!H82=\"\",\"\",'Data Input'!H82)","v":""},{"$f":"IF('Data Input'!A82=\"\",\"\",'Data Input'!A82)","v":""},{"$f":"IF('Data Input'!R82=\"\",\"\",'Data Input'!R82)","v":""},{"$f":"IF('Data Input'!D82=\"\",\"\",'Data Input'!D82)","v":""},{"$f":"IF('Data Input'!E82=\"\",\"\",'Data Input'!E82)","v":""},{"$f":"IF('Data Input'!F82=\"\",\"\",'Data Input'!F82)","v":""},{"$f":"IF('Data Input'!G82=\"\",\"\",'Data Input'!G82)","v":""},{"$f":"IF('Data Input'!B82=\"\",\"\",'Data Input'!B82)","v":""},{"$f":"IF('Data Input'!C82=\"\",\"\",'Data Input'!C82)","v":""},{"$f":"IF('Data Input'!J82=\"\",\"\",'Data Input'!J82)","v":""},{"$f":"IF('Data Input'!K82=\"\",\"\",'Data Input'!K82)","v":""},{"$f":"IF('Data Input'!O82=\"\",\"\",'Data Input'!O82)","v":""},{"$f":"IF('Data Input'!L82=\"\",\"\",'Data Input'!L82)","v":""},{"$f":"IF('Data Input'!M82=\"\",\"\",'Data Input'!M82)","v":""},{"$f":"IF('Data Input'!Q82=\"\",\"\",'Data Input'!Q82)","v":""},{"$f":"IF('Data Input'!N82=\"\",\"\",'Data Input'!N82)","v":""},null,null,null,null,null,null,null,null,"",{"$f":"IFERROR(VLOOKUP($Z84,Lookup!$C:$E,2,FALSE),\"\")","v":""},{"$f":"IFERROR(VLOOKUP($AA84,Lookup!$D:$E,2,FALSE),\"\")","v":""},"",{"$f":"IFERROR(VLOOKUP($AC84,Lookup!$C:$E,2,FALSE),\"\")","v":""},{"$f":"IFERROR(VLOOKUP($AD84,Lookup!$D:$E,2,FALSE),\"\")","v":""},"",{"$f":"IFERROR(VLOOKUP($AF84,Lookup!$C:$E,2,FALSE),\"\")","v":""},{"$f":"IFERROR(VLOOKUP($AG84,Lookup!$D:$E,2,FALSE),\"\")","v":""},""]
[{"$f":"IF('Data Input'!I83=\"\",\"\",'Data Input'!I83)","v":""},{"$f":"IF('Data Input'!H83=\"\",\"\",'Data Input'!H83)","v":""},{"$f":"IF('Data Input'!A83=\"\",\"\",'Data Input'!A83)","v":""},{"$f":"IF('Data Input'!R83=\"\",\"\",'Data Input'!R83)","v":""},{"$f":"IF('Data Input'!D83=\"\",\"\",'Data Input'!D83)","v":""},{"$f":"IF('Data Input'!E83=\"\",\"\",'Data Input'!E83)","v":""},{"$f":"IF('Data Input'!F83=\"\",\"\",'Data Input'!F83)","v":""},{"$f":"IF('Data Input'!G83=\"\",\"\",'Data Input'!G83)","v":""},{"$f":"IF('Data Input'!B83=\"\",\"\",'Data Input'!B83)","v":""},{"$f":"IF('Data Input'!C83=\"\",\"\",'Data Input'!C83)","v":""},{"$f":"IF('Data Input'!J83=\"\",\"\",'Data Input'!J83)","v":""},{"$f":"IF('Data Input'!K83=\"\",\"\",'Data Input'!K83)","v":""},{"$f":"IF('Data Input'!O83=\"\",\"\",'Data Input'!O83)","v":""},{"$f":"IF('Data Input'!L83=\"\",\"\",'Data Input'!L83)","v":""},{"$f":"IF('Data Input'!M83=\"\",\"\",'Data Input'!M83)","v":""},{"$f":"IF('Data Input'!Q83=\"\",\"\",'Data Input'!Q83)","v":""},{"$f":"IF('Data Input'!N83=\"\",\"\",'Data Input'!N83)","v":""},null,null,null,null,null,null,null,null,"",{"$f":"IFERROR(VLOOKUP($Z85,Lookup!$C:$E,2,FALSE),\"\")","v":""},{"$f":"IFERROR(VLOOKUP($AA85,Lookup!$D:$E,2,FALSE),\"\")","v":""},"",{"$f":"IFERROR(VLOOKUP($AC85,Lookup!$C:$E,2,FALSE),\"\")","v":""},{"$f":"IFERROR(VLOOKUP($AD85,Lookup!$D:$E,2,FALSE),\"\")","v":""},"",{"$f":"IFERROR(VLOOKUP($AF85,Lookup!$C:$E,2,FALSE),\"\")","v":""},{"$f":"IFERROR(VLOOKUP($AG85,Lookup!$D:$E,2,FALSE),\"\")","v":""},""]
[{"$f":"IF('Data Input'!I84=\"\",\"\",'Data Input'!I84)","v":""},{"$f":"IF('Data Input'!H84=\"\",\"\",'Data Input'!H84)","v":""},{"$f":"IF('Data Input'!A84=\"\",\"\",'Data Input'!A84)","v":""},{"$f":"IF('Data Input'!R84=\"\",\"\",'Data Input'!R84)","v":""},{"$f":"IF('Data Input'!D84=\"\",\"\",'Data Input'!D84)","v":""},{"$f":"IF('Data Input'!E84=\"\",\"\",'Data Input'!E84)","v":""},{"$f":"IF('Data Input'!F84=\"\",\"\",'Data Input'!F84)","v":""},{"$f":"IF('Data Input'!G84=\"\",\"\",'Data Input'!G84)","v":""},{"$f":"IF('Data Input'!B84=\"\",\"\",'Data Input'!B84)","v":""},{"$f":"IF('Data Input'!C84=\"\",\"\",'Data Input'!C84)","v":""},{"$f":"IF('Data Input'!J84=\"\",\"\",'Data Input'!J84)","v":""},{"$f":"IF('Data Input'!K84=\"\",\"\",'Data Input'!K84)","v":""},{"$f":"IF('Data Input'!O84=\"\",\"\",'Data Input'!O84)","v":""},{"$f":"IF('Data Input'!L84=\"\",\"\",'Data Input'!L84)","v":""},{"$f":"IF('Data Input'!M84=\"\",\"\",'Data Input'!M84)","v":""},{"$f":"IF('Data Input'!Q84=\"\",\"\",'Data Input'!Q84)","v":""},{"$f":"IF('Data Input'!N84=\"\",\"\",'Data Input'!N84)","v":""},null,null,null,null,null,null,null,null,"",{"$f":"IFERROR(VLOOKUP($Z86,Lookup!$C:$E,2,FALSE),\"\")","v":""},{"$f":"IFERROR(VLOOKUP($AA86,Lookup!$D:$E,2,FALSE),\"\")","v":""},"",{"$f":"IFERROR(VLOOKUP($AC86,Lookup!$C:$E,2,FALSE),\"\")","v":""},{"$f":"IFERROR(VLOOKUP($AD86,Lookup!$D:$E,2,FALSE),\"\")","v":""},"",{"$f":"IFERROR(VLOOKUP($AF86,Lookup!$C:$E,2,FALSE),\"\")","v":""},{"$f":"IFERROR(VLOOKUP($AG86,Lookup!$D:$E,2,FALSE),\"\")","v":""},""]
[{"$f":"IF('Data Input'!I85=\"\",\"\",'Data Input'!I85)","v":""},{"$f":"IF('Data Input'!H85=\"\",\"\",'Data Input'!H85)","v":""},{"$f":"IF('Data Input'!A85=\"\",\"\",'Data Input'!A85)","v":""},{"$f":"IF('Data Input'!R85=\"\",\"\",'Data Input'!R85)","v":""},{"$f":"IF('Data Input'!D85=\"\",\"\",'Data Input'!D85)","v":""},{"$f":"IF('Data Input'!E85=\"\",\"\",'Data Input'!E85)","v":""},{"$f":"IF('Data Input'!F85=\"\",\"\",'Data Input'!F85)","v":""},{"$f":"IF('Data Input'!G85=\"\",\"\",'Data Input'!G85)","v":""},{"$f":"IF('Data Input'!B85=\"\",\"\",'Data Input'!B85)","v":""},{"$f":"IF('Data Input'!C85=\"\",\"\",'Data Input'!C85)","v":""},{"$f":"IF('Data Input'!J85=\"\",\"\",'Data Input'!J85)","v":""},{"$f":"IF('Data Input'!K85=\"\",\"\",'Data Input'!K85)","v":""},{"$f":"IF('Data Input'!O85=\"\",\"\",'Data Input'!O85)","v":""},{"$f":"IF('Data Input'!L85=\"\",\"\",'Data Input'!L85)","v":""},{"$f":"IF('Data Input'!M85=\"\",\"\",'Data Input'!M85)","v":""},{"$f":"IF('Data Input'!Q85=\"\",\"\",'Data Input'!Q85)","v":""},{"$f":"IF('Data Input'!N85=\"\",\"\",'Data Input'!N85)","v":""},null,null,null,null,null,null,null,null,"",{"$f":"IFERROR(VLOOKUP($Z87,Lookup!$C:$E,2,FALSE),\"\")","v":""},{"$f":"IFERROR(VLOOKUP($AA87,Lookup!$D:$E,2,FALSE),\"\")","v":""},"",{"$f":"IFERROR(VLOOKUP($AC87,Lookup!$C:$E,2,FALSE),\"\")","v":""},{"$f":"IFERROR(VLOOKUP($AD87,Lookup!$D:$E,2,FALSE),\"\")","v":""},"",{"$f":"IFERROR(VLOOKUP($AF87,Lookup!$C:$E,2,FALSE),\"\")","v":""},{"$f":"IFERROR(VLOOKUP($AG87,Lookup!$D:$E,2,FALSE),\"\")","v":""},""]
[{"$f":"IF('Data Input'!I86=\"\",\"\",'Data Input'!I86)","v":""},{"$f":"IF('Data Input'!H86=\"\",\"\",'Data Input'!H86)","v":""},{"$f":"IF('Data Input'!A86=\"\",\"\",'Data Input'!A86)","v":""},{"$f":"IF('Data Input'!R86=\"\",\"\",'Data Input'!R86)","v":""},{"$f":"IF('Data Input'!D86=\"\",\"\",'Data Input'!D86)","v":""},{"$f":"IF('Data Input'!E86=\"\",\"\",'Data Input'!E86)","v":""},{"$f":"IF('Data Input'!F86=\"\",\"\",'Data Input'!F86)","v":""},{"$f":"IF('Data Input'!G86=\"\",\"\",'Data Input'!G86)","v":""},{"$f":"IF('Data Input'!B86=\"\",\"\",'Data Input'!B86)","v":""},{"$f":"IF('Data Input'!C86=\"\",\"\",'Data Input'!C86)","v":""},{"$f":"IF('Data Input'!J86=\"\",\"\",'Data Input'!J86)","v":""},{"$f":"IF('Data Input'!K86=\"\",\"\",'Data Input'!K86)","v":""},{"$f":"IF('Data Input'!O86=\"\",\"\",'Data Input'!O86)","v":""},{"$f":"IF('Data Input'!L86=\"\",\"\",'Data Input'!L86)","v":""},{"$f":"IF('Data Input'!M86=\"\",\"\",'Data Input'!M86)","v":""},{"$f":"IF('Data Input'!Q86=\"\",\"\",'Data Input'!Q86)","v":""},{"$f":"IF('Data Input'!N86=\"\",\"\",'Data Input'!N86)","v":""},null,null,null,null,null,null,null,null,"",{"$f":"IFERROR(VLOOKUP($Z88,Lookup!$C:$E,2,FALSE),\"\")","v":""},{"$f":"IFERROR(VLOOKUP($AA88,Lookup!$D:$E,2,FALSE),\"\")","v":""},"",{"$f":"IFERROR(VLOOKUP($AC88,Lookup!$C:$E,2,FALSE),\"\")","v":""},{"$f":"IFERROR(VLOOKUP($AD88,Lookup!$D:$E,2,FALSE),\"\")","v":""},"",{"$f":"IFERROR(VLOOKUP($AF88,Lookup!$C:$E,2,FALSE),\"\")","v":""},{"$f":"IFERROR(VLOOKUP($AG88,Lookup!$D:$E,2,FALSE),\"\")","v":""},""]
[{"$f":"IF('Data Input'!I87=\"\",\"\",'Data Input'!I87)","v":""},{"$f":"IF('Data Input'!H87=\"\",\"\",'Data Input'!H87)","v":""},{"$f":"IF('Data Input'!A87=\"\",\"\",'Data Input'!A87)","v":""},{"$f":"IF('Data Input'!R87=\"\",\"\",'Data Input'!R87)","v":""},{"$f":"IF('Data Input'!D87=\"\",\"\",'Data Input'!D87)","v":""},{"$f":"IF('Data Input'!E87=\"\",\"\",'Data Input'!E87)","v":""},{"$f":"IF('Data Input'!F87=\"\",\"\",'Data Input'!F87)","v":""},{"$f":"IF('Data Input'!G87=\"\",\"\",'Data Input'!G87)","v":""},{"$f":"IF('Data Input'!B87=\"\",\"\",'Data Input'!B87)","v":""},{"$f":"IF('Data Input'!C87=\"\",\"\",'Data Input'!C87)","v":""},{"$f":"IF('Data Input'!J87=\"\",\"\",'Data Input'!J87)","v":""},{"$f":"IF('Data Input'!K87=\"\",\"\",'Data Input'!K87)","v":""},{"$f":"IF('Data Input'!O87=\"\",\"\",'Data Input'!O87)","v":""},{"$f":"IF('Data Input'!L87=\"\",\"\",'Data Input'!L87)","v":""},{"$f":"IF('Data Input'!M87=\"\",\"\",'Data Input'!M87)","v":""},{"$f":"IF('Data Input'!Q87=\"\",\"\",'Data Input'!Q87)","v":""},{"$f":"IF('Data Input'!N87=\"\",\"\",'Data Input'!N87)","v":""},null,null,null,null,null,null,null,null,"",{"$f":"IFERROR(VLOOKUP($Z89,Lookup!$C:$E,2,FALSE),\"\")","v":""},{"$f":"IFERROR(VLOOKUP($AA89,Lookup!$D:$E,2,FALSE),\"\")","v":""},"",{"$f":"IFERROR(VLOOKUP($AC89,Lookup!$C:$E,2,FALSE),\"\")","v":""},{"$f":"IFERROR(VLOOKUP($AD89,Lookup!$D:$E,2,FALSE),\"\")","v":""},"",{"$f":"IFERROR(VLOOKUP($AF89,Lookup!$C:$E,2,FALSE),\"\")","v":""},{"$f":"IFERROR(VLOOKUP($AG89,Lookup!$D:$E,2,FALSE),\"\")","v":""},""]
[{"$f":"IF('Data Input'!I88=\"\",\"\",'Data Input'!I88)","v":""},{"$f":"IF('Data Input'!H88=\"\",\"\",'Data Input'!H88)","v":""},{"$f":"IF('Data Input'!A88=\"\",\"\",'Data Input'!A88)","v":""},{"$f":"IF('Data Input'!R88=\"\",\"\",'Data Input'!R88)","v":""},{"$f":"IF('Data Input'!D88=\"\",\"\",'Data Input'!D88)","v":""},{"$f":"IF('Data Input'!E88=\"\",\"\",'Data Input'!E88)","v":""},{"$f":"IF('Data Input'!F88=\"\",\"\",'Data Input'!F88)","v":""},{"$f":"IF('Data Input'!G88=\"\",\"\",'Data Input'!G88)","v":""},{"$f":"IF('Data Input'!B88=\"\",\"\",'Data Input'!B88)","v":""},{"$f":"IF('Data Input'!C88=\"\",\"\",'Data Input'!C88)","v":""},{"$f":"IF('Data Input'!J88=\"\",\"\",'Data Input'!J88)","v":""},{"$f":"IF('Data Input'!K88=\"\",\"\",'Data Input'!K88)","v":""},{"$f":"IF('Data Input'!O88=\"\",\"\",'Data Input'!O88)","v":""},{"$f":"IF('Data Input'!L88=\"\",\"\",'Data Input'!L88)","v":""},{"$f":"IF('Data Input'!M88=\"\",\"\",'Data Input'!M88)","v":""},{"$f":"IF('Data Input'!Q88=\"\",\"\",'Data Input'!Q88)","v":""},{"$f":"IF('Data Input'!N88=\"\",\"\",'Data Input'!N88)","v":""},null,null,null,null,null,null,null,null,"",{"$f":"IFERROR(VLOOKUP($Z90,Lookup!$C:$E,2,FALSE),\"\")","v":""},{"$f":"IFERROR(VLOOKUP($AA90,Lookup!$D:$E,2,FALSE),\"\")","v":""},"",{"$f":"IFERROR(VLOOKUP($AC90,Lookup!$C:$E,2,FALSE),\"\")","v":""},{"$f":"IFERROR(VLOOKUP($AD90,Lookup!$D:$E,2,FALSE),\"\")","v":""},"",{"$f":"IFERROR(VLOOKUP($AF90,Lookup!$C:$E,2,FALSE),\"\")","v":""},{"$f":"IFERROR(VLOOKUP($AG90,Lookup!$D:$E,2,FALSE),\"\")","v":""},""]
[{"$f":"IF('Data Input'!I89=\"\",\"\",'Data Input'!I89)","v":""},{"$f":"IF('Data Input'!H89=\"\",\"\",'Data Input'!H89)","v":""},{"$f":"IF('Data Input'!A89=\"\",\"\",'Data Input'!A89)","v":""},{"$f":"IF('Data Input'!R89=\"\",\"\",'Data Input'!R89)","v":""},{"$f":"IF('Data Input'!D89=\"\",\"\",'Data Input'!D89)","v":""},{"$f":"IF('Data Input'!E89=\"\",\"\",'Data Input'!E89)","v":""},{"$f":"IF('Data Input'!F89=\"\",\"\",'Data Input'!F89)","v":""},{"$f":"IF('Data Input'!G89=\"\",\"\",'Data Input'!G89)","v":""},{"$f":"IF('Data Input'!B89=\"\",\"\",'Data Input'!B89)","v":""},{"$f":"IF('Data Input'!C89=\"\",\"\",'Data Input'!C89)","v":""},{"$f":"IF('Data Input'!J89=\"\",\"\",'Data Input'!J89)","v":""},{"$f":"IF('Data Input'!K89=\"\",\"\",'Data Input'!K89)","v":""},{"$f":"IF('Data Input'!O89=\"\",\"\",'Data Input'!O89)","v":""},{"$f":"IF('Data Input'!L89=\"\",\"\",'Data Input'!L89)","v":""},{"$f":"IF('Data Input'!M89=\"\",\"\",'Data Input'!M89)","v":""},{"$f":"IF('Data Input'!Q89=\"\",\"\",'Data Input'!Q89)","v":""},{"$f":"IF('Data Input'!N89=\"\",\"\",'Data Input'!N89)","v":""},null,null,null,null,null,null,null,null,"",{"$f":"IFERROR(VLOOKUP($Z91,Lookup!$C:$E,2,FALSE),\"\")","v":""},{"$f":"IFERROR(VLOOKUP($AA91,Lookup!$D:$E,2,FALSE),\"\")","v":""},"",{"$f":"IFERROR(VLOOKUP($AC91,Lookup!$C:$E,2,FALSE),\"\")","v":""},{"$f":"IFERROR(VLOOKUP($AD91,Lookup!$D:$E,2,FALSE),\"\")","v":""},"",{"$f":"IFERROR(VLOOKUP($AF91,Lookup!$C:$E,2,FALSE),\"\")","v":""},{"$f":"IFERROR(VLOOKUP($AG91,Lookup!$D:$E,2,FALSE),\"\")","v":""},""]
[{"$f":"IF('Data Input'!I90=\"\",\"\",'Data Input'!I90)","v":""},{"$f":"IF('Data Input'!H90=\"\",\"\",'Data Input'!H90)","v":""},{"$f":"IF('Data Input'!A90=\"\",\"\",'Data Input'!A90)","v":""},{"$f":"IF('Data Input'!R90=\"\",\"\",'Data Input'!R90)","v":""},{"$f":"IF('Data Input'!D90=\"\",\"\",'Data Input'!D90)","v":""},{"$f":"IF('Data Input'!E90=\"\",\"\",'Data Input'!E90)","v":""},{"$f":"IF('Data Input'!F90=\"\",\"\",'Data Input'!F90)","v":""},{"$f":"IF('Data Input'!G90=\"\",\"\",'Data Input'!G90)","v":""},{"$f":"IF('Data Input'!B90=\"\",\"\",'Data Input'!B90)","v":""},{"$f":"IF('Data Input'!C90=\"\",\"\",'Data Input'!C90)","v":""},{"$f":"IF('Data Input'!J90=\"\",\"\",'Data Input'!J90)","v":""},{"$f":"IF('Data Input'!K90=\"\",\"\",'Data Input'!K90)","v":""},{"$f":"IF('Data Input'!O90=\"\",\"\",'Data Input'!O90)","v":""},{"$f":"IF('Data Input'!L90=\"\",\"\",'Data Input'!L90)","v":""},{"$f":"IF('Data Input'!M90=\"\",\"\",'Data Input'!M90)","v":""},{"$f":"IF('Data Input'!Q90=\"\",\"\",'Data Input'!Q90)","v":""},{"$f":"IF('Data Input'!N90=\"\",\"\",'Data Input'!N90)","v":""},null,null,null,null,null,null,null,null,"",{"$f":"IFERROR(VLOOKUP($Z92,Lookup!$C:$E,2,FALSE),\"\")","v":""},{"$f":"IFERROR(VLOOKUP($AA92,Lookup!$D:$E,2,FALSE),\"\")","v":""},"",{"$f":"IFERROR(VLOOKUP($AC92,Lookup!$C:$E,2,FALSE),\"\")","v":""},{"$f":"IFERROR(VLOOKUP($AD92,Lookup!$D:$E,2,FALSE),\"\")","v":""},"",{"$f":"IFERROR(VLOOKUP($AF92,Lookup!$C:$E,2,FALSE),\"\")","v":""},{"$f":"IFERROR(VLOOKUP($AG92,Lookup!$D:$E,2,FALSE),\"\")","v":""},""]
[{"$f":"IF('Data Input'!I91=\"\",\"\",'Data Input'!I91)","v":""},{"$f":"IF('Data Input'!H91=\"\",\"\",'Data Input'!H91)","v":""},{"$f":"IF('Data Input'!A91=\"\",\"\",'Data Input'!A91)","v":""},{"$f":"IF('Data Input'!R91=\"\",\"\",'Data Input'!R91)","v":""},{"$f":"IF('Data Input'!D91=\"\",\"\",'Data Input'!D91)","v":""},{"$f":"IF('Data Input'!E91=\"\",\"\",'Data Input'!E91)","v":""},{"$f":"IF('Data Input'!F91=\"\",\"\",'Data Input'!F91)","v":""},{"$f":"IF('Data Input'!G91=\"\",\"\",'Data Input'!G91)","v":""},{"$f":"IF('Data Input'!B91=\"\",\"\",'Data Input'!B91)","v":""},{"$f":"IF('Data Input'!C91=\"\",\"\",'Data Input'!C91)","v":""},{"$f":"IF('Data Input'!J91=\"\",\"\",'Data Input'!J91)","v":""},{"$f":"IF('Data Input'!K91=\"\",\"\",'Data Input'!K91)","v":""},{"$f":"IF('Data Input'!O91=\"\",\"\",'Data Input'!O91)","v":""},{"$f":"IF('Data Input'!L91=\"\",\"\",'Data Input'!L91)","v":""},{"$f":"IF('Data Input'!M91=\"\",\"\",'Data Input'!M91)","v":""},{"$f":"IF('Data Input'!Q91=\"\",\"\",'Data Input'!Q91)","v":""},{"$f":"IF('Data Input'!N91=\"\",\"\",'Data Input'!N91)","v":""},null,null,null,null,null,null,null,null,"",{"$f":"IFERROR(VLOOKUP($Z93,Lookup!$C:$E,2,FALSE),\"\")","v":""},{"$f":"IFERROR(VLOOKUP($AA93,Lookup!$D:$E,2,FALSE),\"\")","v":""},"",{"$f":"IFERROR(VLOOKUP($AC93,Lookup!$C:$E,2,FALSE),\"\")","v":""},{"$f":"IFERROR(VLOOKUP($AD93,Lookup!$D:$E,2,FALSE),\"\")","v":""},"",{"$f":"IFERROR(VLOOKUP($AF93,Lookup!$C:$E,2,FALSE),\"\")","v":""},{"$f":"IFERROR(VLOOKUP($AG93,Lookup!$D:$E,2,FALSE),\"\")","v":""},""]
[{"$f":"IF('Data Input'!I92=\"\",\"\",'Data Input'!I92)","v":""},{"$f":"IF('Data Input'!H92=\"\",\"\",'Data Input'!H92)","v":""},{"$f":"IF('Data Input'!A92=\"\",\"\",'Data Input'!A92)","v":""},{"$f":"IF('Data Input'!R92=\"\",\"\",'Data Input'!R92)","v":""},{"$f":"IF('Data Input'!D92=\"\",\"\",'Data Input'!D92)","v":""},{"$f":"IF('Data Input'!E92=\"\",\"\",'Data Input'!E92)","v":""},{"$f":"IF('Data Input'!F92=\"\",\"\",'Data Input'!F92)","v":""},{"$f":"IF('Data Input'!G92=\"\",\"\",'Data Input'!G92)","v":""},{"$f":"IF('Data Input'!B92=\"\",\"\",'Data Input'!B92)","v":""},{"$f":"IF('Data Input'!C92=\"\",\"\",'Data Input'!C92)","v":""},{"$f":"IF('Data Input'!J92=\"\",\"\",'Data Input'!J92)","v":""},{"$f":"IF('Data Input'!K92=\"\",\"\",'Data Input'!K92)","v":""},{"$f":"IF('Data Input'!O92=\"\",\"\",'Data Input'!O92)","v":""},{"$f":"IF('Data Input'!L92=\"\",\"\",'Data Input'!L92)","v":""},{"$f":"IF('Data Input'!M92=\"\",\"\",'Data Input'!M92)","v":""},{"$f":"IF('Data Input'!Q92=\"\",\"\",'Data Input'!Q92)","v":""},{"$f":"IF('Data Input'!N92=\"\",\"\",'Data Input'!N92)","v":""},null,null,null,null,null,null,null,null,"",{"$f":"IFERROR(VLOOKUP($Z94,Lookup!$C:$E,2,FALSE),\"\")","v":""},{"$f":"IFERROR(VLOOKUP($AA94,Lookup!$D:$E,2,FALSE),\"\")","v":""},"",{"$f":"IFERROR(VLOOKUP($AC94,Lookup!$C:$E,2,FALSE),\"\")","v":""},{"$f":"IFERROR(VLOOKUP($AD94,Lookup!$D:$E,2,FALSE),\"\")","v":""},"",{"$f":"IFERROR(VLOOKUP($AF94,Lookup!$C:$E,2,FALSE),\"\")","v":""},{"$f":"IFERROR(VLOOKUP($AG94,Lookup!$D:$E,2,FALSE),\"\")","v":""},""]
[{"$f":"IF('Data Input'!I93=\"\",\"\",'Data Input'!I93)","v":""},{"$f":"IF('Data Input'!H93=\"\",\"\",'Data Input'!H93)","v":""},{"$f":"IF('Data Input'!A93=\"\",\"\",'Data Input'!A93)","v":""},{"$f":"IF('Data Input'!R93=\"\",\"\",'Data Input'!R93)","v":""},{"$f":"IF('Data Input'!D93=\"\",\"\",'Data Input'!D93)","v":""},{"$f":"IF('Data Input'!E93=\"\",\"\",'Data Input'!E93)","v":""},{"$f":"IF('Data Input'!F93=\"\",\"\",'Data Input'!F93)","v":""},{"$f":"IF('Data Input'!G93=\"\",\"\",'Data Input'!G93)","v":""},{"$f":"IF('Data Input'!B93=\"\",\"\",'Data Input'!B93)","v":""},{"$f":"IF('Data Input'!C93=\"\",\"\",'Data Input'!C93)","v":""},{"$f":"IF('Data Input'!J93=\"\",\"\",'Data Input'!J93)","v":""},{"$f":"IF('Data Input'!K93=\"\",\"\",'Data Input'!K93)","v":""},{"$f":"IF('Data Input'!O93=\"\",\"\",'Data Input'!O93)","v":""},{"$f":"IF('Data Input'!L93=\"\",\"\",'Data Input'!L93)","v":""},{"$f":"IF('Data Input'!M93=\"\",\"\",'Data Input'!M93)","v":""},{"$f":"IF('Data Input'!Q93=\"\",\"\",'Data Input'!Q93)","v":""},{"$f":"IF('Data Input'!N93=\"\",\"\",'Data Input'!N93)","v":""},null,null,null,null,null,null,null,null,"",{"$f":"IFERROR(VLOOKUP($Z95,Lookup!$C:$E,2,FALSE),\"\")","v":""},{"$f":"IFERROR(VLOOKUP($AA95,Lookup!$D:$E,2,FALSE),\"\")","v":""},"",{"$f":"IFERROR(VLOOKUP($AC95,Lookup!$C:$E,2,FALSE),\"\")","v":""},{"$f":"IFERROR(VLOOKUP($AD95,Lookup!$D:$E,2,FALSE),\"\")","v":""},"",{"$f":"IFERROR(VLOOKUP($AF95,Lookup!$C:$E,2,FALSE),\"\")","v":""},{"$f":"IFERROR(VLOOKUP($AG95,Lookup!$D:$E,2,FALSE),\"\")","v":""},""]
[{"$f":"IF('Data Input'!I94=\"\",\"\",'Data Input'!I94)","v":""},{"$f":"IF('Data Input'!H94=\"\",\"\",'Data Input'!H94)","v":""},{"$f":"IF('Data Input'!A94=\"\",\"\",'Data Input'!A94)","v":""},{"$f":"IF('Data Input'!R94=\"\",\"\",'Data Input'!R94)","v":""},{"$f":"IF('Data Input'!D94=\"\",\"\",'Data Input'!D94)","v":""},{"$f":"IF('Data Input'!E94=\"\",\"\",'Data Input'!E94)","v":""},{"$f":"IF('Data Input'!F94=\"\",\"\",'Data Input'!F94)","v":""},{"$f":"IF('Data Input'!G94=\"\",\"\",'Data Input'!G94)","v":""},{"$f":"IF('Data Input'!B94=\"\",\"\",'Data Input'!B94)","v":""},{"$f":"IF('Data Input'!C94=\"\",\"\",'Data Input'!C94)","v":""},{"$f":"IF('Data Input'!J94=\"\",\"\",'Data Input'!J94)","v":""},{"$f":"IF('Data Input'!K94=\"\",\"\",'Data Input'!K94)","v":""},{"$f":"IF('Data Input'!O94=\"\",\"\",'Data Input'!O94)","v":""},{"$f":"IF('Data Input'!L94=\"\",\"\",'Data Input'!L94)","v":""},{"$f":"IF('Data Input'!M94=\"\",\"\",'Data Input'!M94)","v":""},{"$f":"IF('Data Input'!Q94=\"\",\"\",'Data Input'!Q94)","v":""},{"$f":"IF('Data Input'!N94=\"\",\"\",'Data Input'!N94)","v":""},null,null,null,null,null,null,null,null,"",{"$f":"IFERROR(VLOOKUP($Z96,Lookup!$C:$E,2,FALSE),\"\")","v":""},{"$f":"IFERROR(VLOOKUP($AA96,Lookup!$D:$E,2,FALSE),\"\")","v":""},"",{"$f":"IFERROR(VLOOKUP($AC96,Lookup!$C:$E,2,FALSE),\"\")","v":""},{"$f":"IFERROR(VLOOKUP($AD96,Lookup!$D:$E,2,FALSE),\"\")","v":""},"",{"$f":"IFERROR(VLOOKUP($AF96,Lookup!$C:$E,2,FALSE),\"\")","v":""},{"$f":"IFERROR(VLOOKUP($AG96,Lookup!$D:$E,2,FALSE),\"\")","v":""},""]
[{"$f":"IF('Data Input'!I95=\"\",\"\",'Data Input'!I95)","v":""},{"$f":"IF('Data Input'!H95=\"\",\"\",'Data Input'!H95)","v":""},{"$f":"IF('Data Input'!A95=\"\",\"\",'Data Input'!A95)","v":""},{"$f":"IF('Data Input'!R95=\"\",\"\",'Data Input'!R95)","v":""},{"$f":"IF('Data Input'!D95=\"\",\"\",'Data Input'!D95)","v":""},{"$f":"IF('Data Input'!E95=\"\",\"\",'Data Input'!E95)","v":""},{"$f":"IF('Data Input'!F95=\"\",\"\",'Data Input'!F95)","v":""},{"$f":"IF('Data Input'!G95=\"\",\"\",'Data Input'!G95)","v":""},{"$f":"IF('Data Input'!B95=\"\",\"\",'Data Input'!B95)","v":""},{"$f":"IF('Data Input'!C95=\"\",\"\",'Data Input'!C95)","v":""},{"$f":"IF('Data Input'!J95=\"\",\"\",'Data Input'!J95)","v":""},{"$f":"IF('Data Input'!K95=\"\",\"\",'Data Input'!K95)","v":""},{"$f":"IF('Data Input'!O95=\"\",\"\",'Data Input'!O95)","v":""},{"$f":"IF('Data Input'!L95=\"\",\"\",'Data Input'!L95)","v":""},{"$f":"IF('Data Input'!M95=\"\",\"\",'Data Input'!M95)","v":""},{"$f":"IF('Data Input'!Q95=\"\",\"\",'Data Input'!Q95)","v":""},{"$f":"IF('Data Input'!N95=\"\",\"\",'Data Input'!N95)","v":""},null,null,null,null,null,null,null,null,"",{"$f":"IFERROR(VLOOKUP($Z97,Lookup!$C:$E,2,FALSE),\"\")","v":""},{"$f":"IFERROR(VLOOKUP($AA97,Lookup!$D:$E,2,FALSE),\"\")","v":""},"",{"$f":"IFERROR(VLOOKUP($AC97,Lookup!$C:$E,2,FALSE),\"\")","v":""},{"$f":"IFERROR(VLOOKUP($AD97,Lookup!$D:$E,2,FALSE),\"\")","v":""},"",{"$f":"IFERROR(VLOOKUP($AF97,Lookup!$C:$E,2,FALSE),\"\")","v":""},{"$f":"IFERROR(VLOOKUP($AG97,Lookup!$D:$E,2,FALSE),\"\")","v":""},""]
[{"$f":"IF('Data Input'!I96=\"\",\"\",'Data Input'!I96)","v":""},{"$f":"IF('Data Input'!H96=\"\",\"\",'Data Input'!H96)","v":""},{"$f":"IF('Data Input'!A96=\"\",\"\",'Data Input'!A96)","v":""},{"$f":"IF('Data Input'!R96=\"\",\"\",'Data Input'!R96)","v":""},{"$f":"IF('Data Input'!D96=\"\",\"\",'Data Input'!D96)","v":""},{"$f":"IF('Data Input'!E96=\"\",\"\",'Data Input'!E96)","v":""},{"$f":"IF('Data Input'!F96=\"\",\"\",'Data Input'!F96)","v":""},{"$f":"IF('Data Input'!G96=\"\",\"\",'Data Input'!G96)","v":""},{"$f":"IF('Data Input'!B96=\"\",\"\",'Data Input'!B96)","v":""},{"$f":"IF('Data Input'!C96=\"\",\"\",'Data Input'!C96)","v":""},{"$f":"IF('Data Input'!J96=\"\",\"\",'Data Input'!J96)","v":""},{"$f":"IF('Data Input'!K96=\"\",\"\",'Data Input'!K96)","v":""},{"$f":"IF('Data Input'!O96=\"\",\"\",'Data Input'!O96)","v":""},{"$f":"IF('Data Input'!L96=\"\",\"\",'Data Input'!L96)","v":""},{"$f":"IF('Data Input'!M96=\"\",\"\",'Data Input'!M96)","v":""},{"$f":"IF('Data Input'!Q96=\"\",\"\",'Data Input'!Q96)","v":""},{"$f":"IF('Data Input'!N96=\"\",\"\",'Data Input'!N96)","v":""},null,null,null,null,null,null,null,null,"",{"$f":"IFERROR(VLOOKUP($Z98,Lookup!$C:$E,2,FALSE),\"\")","v":""},{"$f":"IFERROR(VLOOKUP($AA98,Lookup!$D:$E,2,FALSE),\"\")","v":""},"",{"$f":"IFERROR(VLOOKUP($AC98,Lookup!$C:$E,2,FALSE),\"\")","v":""},{"$f":"IFERROR(VLOOKUP($AD98,Lookup!$D:$E,2,FALSE),\"\")","v":""},"",{"$f":"IFERROR(VLOOKUP($AF98,Lookup!$C:$E,2,FALSE),\"\")","v":""},{"$f":"IFERROR(VLOOKUP($AG98,Lookup!$D:$E,2,FALSE),\"\")","v":""},""]
[{"$f":"IF('Data Input'!I97=\"\",\"\",'Data Input'!I97)","v":""},{"$f":"IF('Data Input'!H97=\"\",\"\",'Data Input'!H97)","v":""},{"$f":"IF('Data Input'!A97=\"\",\"\",'Data Input'!A97)","v":""},{"$f":"IF('Data Input'!R97=\"\",\"\",'Data Input'!R97)","v":""},{"$f":"IF('Data Input'!D97=\"\",\"\",'Data Input'!D97)","v":""},{"$f":"IF('Data Input'!E97=\"\",\"\",'Data Input'!E97)","v":""},{"$f":"IF('Data Input'!F97=\"\",\"\",'Data Input'!F97)","v":""},{"$f":"IF('Data Input'!G97=\"\",\"\",'Data Input'!G97)","v":""},{"$f":"IF('Data Input'!B97=\"\",\"\",'Data Input'!B97)","v":""},{"$f":"IF('Data Input'!C97=\"\",\"\",'Data Input'!C97)","v":""},{"$f":"IF('Data Input'!J97=\"\",\"\",'Data Input'!J97)","v":""},{"$f":"IF('Data Input'!K97=\"\",\"\",'Data Input'!K97)","v":""},{"$f":"IF('Data Input'!O97=\"\",\"\",'Data Input'!O97)","v":""},{"$f":"IF('Data Input'!L97=\"\",\"\",'Data Input'!L97)","v":""},{"$f":"IF('Data Input'!M97=\"\",\"\",'Data Input'!M97)","v":""},{"$f":"IF('Data Input'!Q97=\"\",\"\",'Data Input'!Q97)","v":""},{"$f":"IF('Data Input'!N97=\"\",\"\",'Data Input'!N97)","v":""},null,null,null,null,null,null,null,null,"",{"$f":"IFERROR(VLOOKUP($Z99,Lookup!$C:$E,2,FALSE),\"\")","v":""},{"$f":"IFERROR(VLOOKUP($AA99,Lookup!$D:$E,2,FALSE),\"\")","v":""},"",{"$f":"IFERROR(VLOOKUP($AC99,Lookup!$C:$E,2,FALSE),\"\")","v":""},{"$f":"IFERROR(VLOOKUP($AD99,Lookup!$D:$E,2,FALSE),\"\")","v":""},"",{"$f":"IFERROR(VLOOKUP($AF99,Lookup!$C:$E,2,FALSE),\"\")","v":""},{"$f":"IFERROR(VLOOKUP($AG99,Lookup!$D:$E,2,FALSE),\"\")","v":""},""]
[{"$f":"IF('Data Input'!I98=\"\",\"\",'Data Input'!I98)","v":""},{"$f":"IF('Data Input'!H98=\"\",\"\",'Data Input'!H98)","v":""},{"$f":"IF('Data Input'!A98=\"\",\"\",'Data Input'!A98)","v":""},{"$f":"IF('Data Input'!R98=\"\",\"\",'Data Input'!R98)","v":""},{"$f":"IF('Data Input'!D98=\"\",\"\",'Data Input'!D98)","v":""},{"$f":"IF('Data Input'!E98=\"\",\"\",'Data Input'!E98)","v":""},{"$f":"IF('Data Input'!F98=\"\",\"\",'Data Input'!F98)","v":""},{"$f":"IF('Data Input'!G98=\"\",\"\",'Data Input'!G98)","v":""},{"$f":"IF('Data Input'!B98=\"\",\"\",'Data Input'!B98)","v":""},{"$f":"IF('Data Input'!C98=\"\",\"\",'Data Input'!C98)","v":""},{"$f":"IF('Data Input'!J98=\"\",\"\",'Data Input'!J98)","v":""},{"$f":"IF('Data Input'!K98=\"\",\"\",'Data Input'!K98)","v":""},{"$f":"IF('Data Input'!O98=\"\",\"\",'Data Input'!O98)","v":""},{"$f":"IF('Data Input'!L98=\"\",\"\",'Data Input'!L98)","v":""},{"$f":"IF('Data Input'!M98=\"\",\"\",'Data Input'!M98)","v":""},{"$f":"IF('Data Input'!Q98=\"\",\"\",'Data Input'!Q98)","v":""},{"$f":"IF('Data Input'!N98=\"\",\"\",'Data Input'!N98)","v":""},null,null,null,null,null,null,null,null,"",{"$f":"IFERROR(VLOOKUP($Z100,Lookup!$C:$E,2,FALSE),\"\")","v":""},{"$f":"IFERROR(VLOOKUP($AA100,Lookup!$D:$E,2,FALSE),\"\")","v":""},"",{"$f":"IFERROR(VLOOKUP($AC100,Lookup!$C:$E,2,FALSE),\"\")","v":""},{"$f":"IFERROR(VLOOKUP($AD100,Lookup!$D:$E,2,FALSE),\"\")","v":""},"",{"$f":"IFERROR(VLOOKUP($AF100,Lookup!$C:$E,2,FALSE),\"\")","v":""},{"$f":"IFERROR(VLOOKUP($AG100,Lookup!$D:$E,2,FALSE),\"\")","v":""},""]
[{"$f":"IF('Data Input'!I99=\"\",\"\",'Data Input'!I99)","v":""},{"$f":"IF('Data Input'!H99=\"\",\"\",'Data Input'!H99)","v":""},{"$f":"IF('Data Input'!A99=\"\",\"\",'Data Input'!A99)","v":""},{"$f":"IF('Data Input'!R99=\"\",\"\",'Data Input'!R99)","v":""},{"$f":"IF('Data Input'!D99=\"\",\"\",'Data Input'!D99)","v":""},{"$f":"IF('Data Input'!E99=\"\",\"\",'Data Input'!E99)","v":""},{"$f":"IF('Data Input'!F99=\"\",\"\",'Data Input'!F99)","v":""},{"$f":"IF('Data Input'!G99=\"\",\"\",'Data Input'!G99)","v":""},{"$f":"IF('Data Input'!B99=\"\",\"\",'Data Input'!B99)","v":""},{"$f":"IF('Data Input'!C99=\"\",\"\",'Data Input'!C99)","v":""},{"$f":"IF('Data Input'!J99=\"\",\"\",'Data Input'!J99)","v":""},{"$f":"IF('Data Input'!K99=\"\",\"\",'Data Input'!K99)","v":""},{"$f":"IF('Data Input'!O99=\"\",\"\",'Data Input'!O99)","v":""},{"$f":"IF('Data Input'!L99=\"\",\"\",'Data Input'!L99)","v":""},{"$f":"IF('Data Input'!M99=\"\",\"\",'Data Input'!M99)","v":""},{"$f":"IF('Data Input'!Q99=\"\",\"\",'Data Input'!Q99)","v":""},{"$f":"IF('Data Input'!N99=\"\",\"\",'Data Input'!N99)","v":""},null,null,null,null,null,null,null,null,"",{"$f":"IFERROR(VLOOKUP($Z101,Lookup!$C:$E,2,FALSE),\"\")","v":""},{"$f":"IFERROR(VLOOKUP($AA101,Lookup!$D:$E,2,FALSE),\"\")","v":""},"",{"$f":"IFERROR(VLOOKUP($AC101,Lookup!$C:$E,2,FALSE),\"\")","v":""},{"$f":"IFERROR(VLOOKUP($AD101,Lookup!$D:$E,2,FALSE),\"\")","v":""},"",{"$f":"IFERROR(VLOOKUP($AF101,Lookup!$C:$E,2,FALSE),\"\")","v":""},{"$f":"IFERROR(VLOOKUP($AG101,Lookup!$D:$E,2,FALSE),\"\")","v":""},""]
[{"$f":"IF('Data Input'!I100=\"\",\"\",'Data Input'!I100)","v":""},{"$f":"IF('Data Input'!H100=\"\",\"\",'Data Input'!H100)","v":""},{"$f":"IF('Data Input'!A100=\"\",\"\",'Data Input'!A100)","v":""},{"$f":"IF('Data Input'!R100=\"\",\"\",'Data Input'!R100)","v":""},{"$f":"IF('Data Input'!D100=\"\",\"\",'Data Input'!D100)","v":""},{"$f":"IF('Data Input'!E100=\"\",\"\",'Data Input'!E100)","v":""},{"$f":"IF('Data Input'!F100=\"\",\"\",'Data Input'!F100)","v":""},{"$f":"IF('Data Input'!G100=\"\",\"\",'Data Input'!G100)","v":""},{"$f":"IF('Data Input'!B100=\"\",\"\",'Data Input'!B100)","v":""},{"$f":"IF('Data Input'!C100=\"\",\"\",'Data Input'!C100)","v":""},{"$f":"IF('Data Input'!J100=\"\",\"\",'Data Input'!J100)","v":""},{"$f":"IF('Data Input'!K100=\"\",\"\",'Data Input'!K100)","v":""},{"$f":"IF('Data Input'!O100=\"\",\"\",'Data Input'!O100)","v":""},{"$f":"IF('Data Input'!L100=\"\",\"\",'Data Input'!L100)","v":""},{"$f":"IF('Data Input'!M100=\"\",\"\",'Data Input'!M100)","v":""},{"$f":"IF('Data Input'!Q100=\"\",\"\",'Data Input'!Q100)","v":""},{"$f":"IF('Data Input'!N100=\"\",\"\",'Data Input'!N100)","v":""},null,null,null,null,null,null,null,null,"",{"$f":"IFERROR(VLOOKUP($Z102,Lookup!$C:$E,2,FALSE),\"\")","v":""},{"$f":"IFERROR(VLOOKUP($AA102,Lookup!$D:$E,2,FALSE),\"\")","v":""},"",{"$f":"IFERROR(VLOOKUP($AC102,Lookup!$C:$E,2,FALSE),\"\")","v":""},{"$f":"IFERROR(VLOOKUP($AD102,Lookup!$D:$E,2,FALSE),\"\")","v":""},"",{"$f":"IFERROR(VLOOKUP($AF102,Lookup!$C:$E,2,FALSE),\"\")","v":""},{"$f":"IFERROR(VLOOKUP($AG102,Lookup!$D:$E,2,FALSE),\"\")","v":""},""]
[{"$f":"IF('Data Input'!I101=\"\",\"\",'Data Input'!I101)","v":""},{"$f":"IF('Data Input'!H101=\"\",\"\",'Data Input'!H101)","v":""},{"$f":"IF('Data Input'!A101=\"\",\"\",'Data Input'!A101)","v":""},{"$f":"IF('Data Input'!R101=\"\",\"\",'Data Input'!R101)","v":""},{"$f":"IF('Data Input'!D101=\"\",\"\",'Data Input'!D101)","v":""},{"$f":"IF('Data Input'!E101=\"\",\"\",'Data Input'!E101)","v":""},{"$f":"IF('Data Input'!F101=\"\",\"\",'Data Input'!F101)","v":""},{"$f":"IF('Data Input'!G101=\"\",\"\",'Data Input'!G101)","v":""},{"$f":"IF('Data Input'!B101=\"\",\"\",'Data Input'!B101)","v":""},{"$f":"IF('Data Input'!C101=\"\",\"\",'Data Input'!C101)","v":""},{"$f":"IF('Data Input'!J101=\"\",\"\",'Data Input'!J101)","v":""},{"$f":"IF('Data Input'!K101=\"\",\"\",'Data Input'!K101)","v":""},{"$f":"IF('Data Input'!O101=\"\",\"\",'Data Input'!O101)","v":""},{"$f":"IF('Data Input'!L101=\"\",\"\",'Data Input'!L101)","v":""},{"$f":"IF('Data Input'!M101=\"\",\"\",'Data Input'!M101)","v":""},{"$f":"IF('Data Input'!Q101=\"\",\"\",'Data Input'!Q101)","v":""},{"$f":"IF('Data Input'!N101=\"\",\"\",'Data Input'!N101)","v":""},null,null,null,null,null,null,null,null,"",{"$f":"IFERROR(VLOOKUP($Z103,Lookup!$C:$E,2,FALSE),\"\")","v":""},{"$f":"IFERROR(VLOOKUP($AA103,Lookup!$D:$E,2,FALSE),\"\")","v":""},"",{"$f":"IFERROR(VLOOKUP($AC103,Lookup!$C:$E,2,FALSE),\"\")","v":""},{"$f":"IFERROR(VLOOKUP($AD103,Lookup!$D:$E,2,FALSE),\"\")","v":""},"",{"$f":"IFERROR(VLOOKUP($AF103,Lookup!$C:$E,2,FALSE),\"\")","v":""},{"$f":"IFERROR(VLOOKUP($AG103,Lookup!$D:$E,2,FALSE),\"\")","v":""},""]
[{"$f":"IF('Data Input'!I102=\"\",\"\",'Data Input'!I102)","v":""},{"$f":"IF('Data Input'!H102=\"\",\"\",'Data Input'!H102)","v":""},{"$f":"IF('Data Input'!A102=\"\",\"\",'Data Input'!A102)","v":""},{"$f":"IF('Data Input'!R102=\"\",\"\",'Data Input'!R102)","v":""},{"$f":"IF('Data Input'!D102=\"\",\"\",'Data Input'!D102)","v":""},{"$f":"IF('Data Input'!E102=\"\",\"\",'Data Input'!E102)","v":""},{"$f":"IF('Data Input'!F102=\"\",\"\",'Data Input'!F102)","v":""},{"$f":"IF('Data Input'!G102=\"\",\"\",'Data Input'!G102)","v":""},{"$f":"IF('Data Input'!B102=\"\",\"\",'Data Input'!B102)","v":""},{"$f":"IF('Data Input'!C102=\"\",\"\",'Data Input'!C102)","v":""},{"$f":"IF('Data Input'!J102=\"\",\"\",'Data Input'!J102)","v":""},{"$f":"IF('Data Input'!K102=\"\",\"\",'Data Input'!K102)","v":""},{"$f":"IF('Data Input'!O102=\"\",\"\",'Data Input'!O102)","v":""},{"$f":"IF('Data Input'!L102=\"\",\"\",'Data Input'!L102)","v":""},{"$f":"IF('Data Input'!M102=\"\",\"\",'Data Input'!M102)","v":""},{"$f":"IF('Data Input'!Q102=\"\",\"\",'Data Input'!Q102)","v":""},{"$f":"IF('Data Input'!N102=\"\",\"\",'Data Input'!N102)","v":""},null,null,null,null,null,null,null,null,"",{"$f":"IFERROR(VLOOKUP($Z104,Lookup!$C:$E,2,FALSE),\"\")","v":""},{"$f":"IFERROR(VLOOKUP($AA104,Lookup!$D:$E,2,FALSE),\"\")","v":""},"",{"$f":"IFERROR(VLOOKUP($AC104,Lookup!$C:$E,2,FALSE),\"\")","v":""},{"$f":"IFERROR(VLOOKUP($AD104,Lookup!$D:$E,2,FALSE),\"\")","v":""},"",{"$f":"IFERROR(VLOOKUP($AF104,Lookup!$C:$E,2,FALSE),\"\")","v":""},{"$f":"IFERROR(VLOOKUP($AG104,Lookup!$D:$E,2,FALSE),\"\")","v":""},""]
[{"$f":"IF('Data Input'!I103=\"\",\"\",'Data Input'!I103)","v":""},{"$f":"IF('Data Input'!H103=\"\",\"\",'Data Input'!H103)","v":""},{"$f":"IF('Data Input'!A103=\"\",\"\",'Data Input'!A103)","v":""},{"$f":"IF('Data Input'!R103=\"\",\"\",'Data Input'!R103)","v":""},{"$f":"IF('Data Input'!D103=\"\",\"\",'Data Input'!D103)","v":""},{"$f":"IF('Data Input'!E103=\"\",\"\",'Data Input'!E103)","v":""},{"$f":"IF('Data Input'!F103=\"\",\"\",'Data Input'!F103)","v":""},{"$f":"IF('Data Input'!G103=\"\",\"\",'Data Input'!G103)","v":""},{"$f":"IF('Data Input'!B103=\"\",\"\",'Data Input'!B103)","v":""},{"$f":"IF('Data Input'!C103=\"\",\"\",'Data Input'!C103)","v":""},{"$f":"IF('Data Input'!J103=\"\",\"\",'Data Input'!J103)","v":""},{"$f":"IF('Data Input'!K103=\"\",\"\",'Data Input'!K103)","v":""},{"$f":"IF('Data Input'!O103=\"\",\"\",'Data Input'!O103)","v":""},{"$f":"IF('Data Input'!L103=\"\",\"\",'Data Input'!L103)","v":""},{"$f":"IF('Data Input'!M103=\"\",\"\",'Data Input'!M103)","v":""},{"$f":"IF('Data Input'!Q103=\"\",\"\",'Data Input'!Q103)","v":""},{"$f":"IF('Data Input'!N103=\"\",\"\",'Data Input'!N103)","v":""},null,null,null,null,null,null,null,null,"",{"$f":"IFERROR(VLOOKUP($Z105,Lookup!$C:$E,2,FALSE),\"\")","v":""},{"$f":"IFERROR(VLOOKUP($AA105,Lookup!$D:$E,2,FALSE),\"\")","v":""},"",{"$f":"IFERROR(VLOOKUP($AC105,Lookup!$C:$E,2,FALSE),\"\")","v":""},{"$f":"IFERROR(VLOOKUP($AD105,Lookup!$D:$E,2,FALSE),\"\")","v":""},"",{"$f":"IFERROR(VLOOKUP($AF105,Lookup!$C:$E,2,FALSE),\"\")","v":""},{"$f":"IFERROR(VLOOKUP($AG105,Lookup!$D:$E,2,FALSE),\"\")","v":""},""]
[{"$f":"IF('Data Input'!I104=\"\",\"\",'Data Input'!I104)","v":""},{"$f":"IF('Data Input'!H104=\"\",\"\",'Data Input'!H104)","v":""},{"$f":"IF('Data Input'!A104=\"\",\"\",'Data Input'!A104)","v":""},{"$f":"IF('Data Input'!R104=\"\",\"\",'Data Input'!R104)","v":""},{"$f":"IF('Data Input'!D104=\"\",\"\",'Data Input'!D104)","v":""},{"$f":"IF('Data Input'!E104=\"\",\"\",'Data Input'!E104)","v":""},{"$f":"IF('Data Input'!F104=\"\",\"\",'Data Input'!F104)","v":""},{"$f":"IF('Data Input'!G104=\"\",\"\",'Data Input'!G104)","v":""},{"$f":"IF('Data Input'!B104=\"\",\"\",'Data Input'!B104)","v":""},{"$f":"IF('Data Input'!C104=\"\",\"\",'Data Input'!C104)","v":""},{"$f":"IF('Data Input'!J104=\"\",\"\",'Data Input'!J104)","v":""},{"$f":"IF('Data Input'!K104=\"\",\"\",'Data Input'!K104)","v":""},{"$f":"IF('Data Input'!O104=\"\",\"\",'Data Input'!O104)","v":""},{"$f":"IF('Data Input'!L104=\"\",\"\",'Data Input'!L104)","v":""},{"$f":"IF('Data Input'!M104=\"\",\"\",'Data Input'!M104)","v":""},{"$f":"IF('Data Input'!Q104=\"\",\"\",'Data Input'!Q104)","v":""},{"$f":"IF('Data Input'!N104=\"\",\"\",'Data Input'!N104)","v":""},null,null,null,null,null,null,null,null,"",{"$f":"IFERROR(VLOOKUP($Z106,Lookup!$C:$E,2,FALSE),\"\")","v":""},{"$f":"IFERROR(VLOOKUP($AA106,Lookup!$D:$E,2,FALSE),\"\")","v":""},"",{"$f":"IFERROR(VLOOKUP($AC106,Lookup!$C:$E,2,FALSE),\"\")","v":""},{"$f":"IFERROR(VLOOKUP($AD106,Lookup!$D:$E,2,FALSE),\"\")","v":""},"",{"$f":"IFERROR(VLOOKUP($AF106,Lookup!$C:$E,2,FALSE),\"\")","v":""},{"$f":"IFERROR(VLOOKUP($AG106,Lookup!$D:$E,2,FALSE),\"\")","v":""},""]
[{"$f":"IF('Data Input'!I105=\"\",\"\",'Data Input'!I105)","v":""},{"$f":"IF('Data Input'!H105=\"\",\"\",'Data Input'!H105)","v":""},{"$f":"IF('Data Input'!A105=\"\",\"\",'Data Input'!A105)","v":""},{"$f":"IF('Data Input'!R105=\"\",\"\",'Data Input'!R105)","v":""},{"$f":"IF('Data Input'!D105=\"\",\"\",'Data Input'!D105)","v":""},{"$f":"IF('Data Input'!E105=\"\",\"\",'Data Input'!E105)","v":""},{"$f":"IF('Data Input'!F105=\"\",\"\",'Data Input'!F105)","v":""},{"$f":"IF('Data Input'!G105=\"\",\"\",'Data Input'!G105)","v":""},{"$f":"IF('Data Input'!B105=\"\",\"\",'Data Input'!B105)","v":""},{"$f":"IF('Data Input'!C105=\"\",\"\",'Data Input'!C105)","v":""},{"$f":"IF('Data Input'!J105=\"\",\"\",'Data Input'!J105)","v":""},{"$f":"IF('Data Input'!K105=\"\",\"\",'Data Input'!K105)","v":""},{"$f":"IF('Data Input'!O105=\"\",\"\",'Data Input'!O105)","v":""},{"$f":"IF('Data Input'!L105=\"\",\"\",'Data Input'!L105)","v":""},{"$f":"IF('Data Input'!M105=\"\",\"\",'Data Input'!M105)","v":""},{"$f":"IF('Data Input'!Q105=\"\",\"\",'Data Input'!Q105)","v":""},{"$f":"IF('Data Input'!N105=\"\",\"\",'Data Input'!N105)","v":""},null,null,null,null,null,null,null,null,"",{"$f":"IFERROR(VLOOKUP($Z107,Lookup!$C:$E,2,FALSE),\"\")","v":""},{"$f":"IFERROR(VLOOKUP($AA107,Lookup!$D:$E,2,FALSE),\"\")","v":""},"",{"$f":"IFERROR(VLOOKUP($AC107,Lookup!$C:$E,2,FALSE),\"\")","v":""},{"$f":"IFERROR(VLOOKUP($AD107,Lookup!$D:$E,2,FALSE),\"\")","v":""},"",{"$f":"IFERROR(VLOOKUP($AF107,Lookup!$C:$E,2,FALSE),\"\")","v":""},{"$f":"IFERROR(VLOOKUP($AG107,Lookup!$D:$E,2,FALSE),\"\")","v":""},""]
[{"$f":"IF('Data Input'!I106=\"\",\"\",'Data Input'!I106)","v":""},{"$f":"IF('Data Input'!H106=\"\",\"\",'Data Input'!H106)","v":""},{"$f":"IF('Data Input'!A106=\"\",\"\",'Data Input'!A106)","v":""},{"$f":"IF('Data Input'!R106=\"\",\"\",'Data Input'!R106)","v":""},{"$f":"IF('Data Input'!D106=\"\",\"\",'Data Input'!D106)","v":""},{"$f":"IF('Data Input'!E106=\"\",\"\",'Data Input'!E106)","v":""},{"$f":"IF('Data Input'!F106=\"\",\"\",'Data Input'!F106)","v":""},{"$f":"IF('Data Input'!G106=\"\",\"\",'Data Input'!G106)","v":""},{"$f":"IF('Data Input'!B106=\"\",\"\",'Data Input'!B106)","v":""},{"$f":"IF('Data Input'!C106=\"\",\"\",'Data Input'!C106)","v":""},{"$f":"IF('Data Input'!J106=\"\",\"\",'Data Input'!J106)","v":""},{"$f":"IF('Data Input'!K106=\"\",\"\",'Data Input'!K106)","v":""},{"$f":"IF('Data Input'!O106=\"\",\"\",'Data Input'!O106)","v":""},{"$f":"IF('Data Input'!L106=\"\",\"\",'Data Input'!L106)","v":""},{"$f":"IF('Data Input'!M106=\"\",\"\",'Data Input'!M106)","v":""},{"$f":"IF('Data Input'!Q106=\"\",\"\",'Data Input'!Q106)","v":""},{"$f":"IF('Data Input'!N106=\"\",\"\",'Data Input'!N106)","v":""},null,null,null,null,null,null,null,null,"",{"$f":"IFERROR(VLOOKUP($Z108,Lookup!$C:$E,2,FALSE),\"\")","v":""},{"$f":"IFERROR(VLOOKUP($AA108,Lookup!$D:$E,2,FALSE),\"\")","v":""},"",{"$f":"IFERROR(VLOOKUP($AC108,Lookup!$C:$E,2,FALSE),\"\")","v":""},{"$f":"IFERROR(VLOOKUP($AD108,Lookup!$D:$E,2,FALSE),\"\")","v":""},"",{"$f":"IFERROR(VLOOKUP($AF108,Lookup!$C:$E,2,FALSE),\"\")","v":""},{"$f":"IFERROR(VLOOKUP($AG108,Lookup!$D:$E,2,FALSE),\"\")","v":""},""]
[{"$f":"IF('Data Input'!I107=\"\",\"\",'Data Input'!I107)","v":""},{"$f":"IF('Data Input'!H107=\"\",\"\",'Data Input'!H107)","v":""},{"$f":"IF('Data Input'!A107=\"\",\"\",'Data Input'!A107)","v":""},{"$f":"IF('Data Input'!R107=\"\",\"\",'Data Input'!R107)","v":""},{"$f":"IF('Data Input'!D107=\"\",\"\",'Data Input'!D107)","v":""},{"$f":"IF('Data Input'!E107=\"\",\"\",'Data Input'!E107)","v":""},{"$f":"IF('Data Input'!F107=\"\",\"\",'Data Input'!F107)","v":""},{"$f":"IF('Data Input'!G107=\"\",\"\",'Data Input'!G107)","v":""},{"$f":"IF('Data Input'!B107=\"\",\"\",'Data Input'!B107)","v":""},{"$f":"IF('Data Input'!C107=\"\",\"\",'Data Input'!C107)","v":""},{"$f":"IF('Data Input'!J107=\"\",\"\",'Data Input'!J107)","v":""},{"$f":"IF('Data Input'!K107=\"\",\"\",'Data Input'!K107)","v":""},{"$f":"IF('Data Input'!O107=\"\",\"\",'Data Input'!O107)","v":""},{"$f":"IF('Data Input'!L107=\"\",\"\",'Data Input'!L107)","v":""},{"$f":"IF('Data Input'!M107=\"\",\"\",'Data Input'!M107)","v":""},{"$f":"IF('Data Input'!Q107=\"\",\"\",'Data Input'!Q107)","v":""},{"$f":"IF('Data Input'!N107=\"\",\"\",'Data Input'!N107)","v":""},null,null,null,null,null,null,null,null,"",{"$f":"IFERROR(VLOOKUP($Z109,Lookup!$C:$E,2,FALSE),\"\")","v":""},{"$f":"IFERROR(VLOOKUP($AA109,Lookup!$D:$E,2,FALSE),\"\")","v":""},"",{"$f":"IFERROR(VLOOKUP($AC109,Lookup!$C:$E,2,FALSE),\"\")","v":""},{"$f":"IFERROR(VLOOKUP($AD109,Lookup!$D:$E,2,FALSE),\"\")","v":""},"",{"$f":"IFERROR(VLOOKUP($AF109,Lookup!$C:$E,2,FALSE),\"\")","v":""},{"$f":"IFERROR(VLOOKUP($AG109,Lookup!$D:$E,2,FALSE),\"\")","v":""},""]
[{"$f":"IF('Data Input'!I108=\"\",\"\",'Data Input'!I108)","v":""},{"$f":"IF('Data Input'!H108=\"\",\"\",'Data Input'!H108)","v":""},{"$f":"IF('Data Input'!A108=\"\",\"\",'Data Input'!A108)","v":""},{"$f":"IF('Data Input'!R108=\"\",\"\",'Data Input'!R108)","v":""},{"$f":"IF('Data Input'!D108=\"\",\"\",'Data Input'!D108)","v":""},{"$f":"IF('Data Input'!E108=\"\",\"\",'Data Input'!E108)","v":""},{"$f":"IF('Data Input'!F108=\"\",\"\",'Data Input'!F108)","v":""},{"$f":"IF('Data Input'!G108=\"\",\"\",'Data Input'!G108)","v":""},{"$f":"IF('Data Input'!B108=\"\",\"\",'Data Input'!B108)","v":""},{"$f":"IF('Data Input'!C108=\"\",\"\",'Data Input'!C108)","v":""},{"$f":"IF('Data Input'!J108=\"\",\"\",'Data Input'!J108)","v":""},{"$f":"IF('Data Input'!K108=\"\",\"\",'Data Input'!K108)","v":""},{"$f":"IF('Data Input'!O108=\"\",\"\",'Data Input'!O108)","v":""},{"$f":"IF('Data Input'!L108=\"\",\"\",'Data Input'!L108)","v":""},{"$f":"IF('Data Input'!M108=\"\",\"\",'Data Input'!M108)","v":""},{"$f":"IF('Data Input'!Q108=\"\",\"\",'Data Input'!Q108)","v":""},{"$f":"IF('Data Input'!N108=\"\",\"\",'Data Input'!N108)","v":""},null,null,null,null,null,null,null,null,"",{"$f":"IFERROR(VLOOKUP($Z110,Lookup!$C:$E,2,FALSE),\"\")","v":""},{"$f":"IFERROR(VLOOKUP($AA110,Lookup!$D:$E,2,FALSE),\"\")","v":""},"",{"$f":"IFERROR(VLOOKUP($AC110,Lookup!$C:$E,2,FALSE),\"\")","v":""},{"$f":"IFERROR(VLOOKUP($AD110,Lookup!$D:$E,2,FALSE),\"\")","v":""},"",{"$f":"IFERROR(VLOOKUP($AF110,Lookup!$C:$E,2,FALSE),\"\")","v":""},{"$f":"IFERROR(VLOOKUP($AG110,Lookup!$D:$E,2,FALSE),\"\")","v":""},""]
[{"$f":"IF('Data Input'!I109=\"\",\"\",'Data Input'!I109)","v":""},{"$f":"IF('Data Input'!H109=\"\",\"\",'Data Input'!H109)","v":""},{"$f":"IF('Data Input'!A109=\"\",\"\",'Data Input'!A109)","v":""},{"$f":"IF('Data Input'!R109=\"\",\"\",'Data Input'!R109)","v":""},{"$f":"IF('Data Input'!D109=\"\",\"\",'Data Input'!D109)","v":""},{"$f":"IF('Data Input'!E109=\"\",\"\",'Data Input'!E109)","v":""},{"$f":"IF('Data Input'!F109=\"\",\"\",'Data Input'!F109)","v":""},{"$f":"IF('Data Input'!G109=\"\",\"\",'Data Input'!G109)","v":""},{"$f":"IF('Data Input'!B109=\"\",\"\",'Data Input'!B109)","v":""},{"$f":"IF('Data Input'!C109=\"\",\"\",'Data Input'!C109)","v":""},{"$f":"IF('Data Input'!J109=\"\",\"\",'Data Input'!J109)","v":""},{"$f":"IF('Data Input'!K109=\"\",\"\",'Data Input'!K109)","v":""},{"$f":"IF('Data Input'!O109=\"\",\"\",'Data Input'!O109)","v":""},{"$f":"IF('Data Input'!L109=\"\",\"\",'Data Input'!L109)","v":""},{"$f":"IF('Data Input'!M109=\"\",\"\",'Data Input'!M109)","v":""},{"$f":"IF('Data Input'!Q109=\"\",\"\",'Data Input'!Q109)","v":""},{"$f":"IF('Data Input'!N109=\"\",\"\",'Data Input'!N109)","v":""},null,null,null,null,null,null,null,null,"",{"$f":"IFERROR(VLOOKUP($Z111,Lookup!$C:$E,2,FALSE),\"\")","v":""},{"$f":"IFERROR(VLOOKUP($AA111,Lookup!$D:$E,2,FALSE),\"\")","v":""},"",{"$f":"IFERROR(VLOOKUP($AC111,Lookup!$C:$E,2,FALSE),\"\")","v":""},{"$f":"IFERROR(VLOOKUP($AD111,Lookup!$D:$E,2,FALSE),\"\")","v":""},"",{"$f":"IFERROR(VLOOKUP($AF111,Lookup!$C:$E,2,FALSE),\"\")","v":""},{"$f":"IFERROR(VLOOKUP($AG111,Lookup!$D:$E,2,FALSE),\"\")","v":""},""]
[{"$f":"IF('Data Input'!I110=\"\",\"\",'Data Input'!I110)","v":""},{"$f":"IF('Data Input'!H110=\"\",\"\",'Data Input'!H110)","v":""},{"$f":"IF('Data Input'!A110=\"\",\"\",'Data Input'!A110)","v":""},{"$f":"IF('Data Input'!R110=\"\",\"\",'Data Input'!R110)","v":""},{"$f":"IF('Data Input'!D110=\"\",\"\",'Data Input'!D110)","v":""},{"$f":"IF('Data Input'!E110=\"\",\"\",'Data Input'!E110)","v":""},{"$f":"IF('Data Input'!F110=\"\",\"\",'Data Input'!F110)","v":""},{"$f":"IF('Data Input'!G110=\"\",\"\",'Data Input'!G110)","v":""},{"$f":"IF('Data Input'!B110=\"\",\"\",'Data Input'!B110)","v":""},{"$f":"IF('Data Input'!C110=\"\",\"\",'Data Input'!C110)","v":""},{"$f":"IF('Data Input'!J110=\"\",\"\",'Data Input'!J110)","v":""},{"$f":"IF('Data Input'!K110=\"\",\"\",'Data Input'!K110)","v":""},{"$f":"IF('Data Input'!O110=\"\",\"\",'Data Input'!O110)","v":""},{"$f":"IF('Data Input'!L110=\"\",\"\",'Data Input'!L110)","v":""},{"$f":"IF('Data Input'!M110=\"\",\"\",'Data Input'!M110)","v":""},{"$f":"IF('Data Input'!Q110=\"\",\"\",'Data Input'!Q110)","v":""},{"$f":"IF('Data Input'!N110=\"\",\"\",'Data Input'!N110)","v":""},null,null,null,null,null,null,null,null,"",{"$f":"IFERROR(VLOOKUP($Z112,Lookup!$C:$E,2,FALSE),\"\")","v":""},{"$f":"IFERROR(VLOOKUP($AA112,Lookup!$D:$E,2,FALSE),\"\")","v":""},"",{"$f":"IFERROR(VLOOKUP($AC112,Lookup!$C:$E,2,FALSE),\"\")","v":""},{"$f":"IFERROR(VLOOKUP($AD112,Lookup!$D:$E,2,FALSE),\"\")","v":""},"",{"$f":"IFERROR(VLOOKUP($AF112,Lookup!$C:$E,2,FALSE),\"\")","v":""},{"$f":"IFERROR(VLOOKUP($AG112,Lookup!$D:$E,2,FALSE),\"\")","v":""},""]
[{"$f":"IF('Data Input'!I111=\"\",\"\",'Data Input'!I111)","v":""},{"$f":"IF('Data Input'!H111=\"\",\"\",'Data Input'!H111)","v":""},{"$f":"IF('Data Input'!A111=\"\",\"\",'Data Input'!A111)","v":""},{"$f":"IF('Data Input'!R111=\"\",\"\",'Data Input'!R111)","v":""},{"$f":"IF('Data Input'!D111=\"\",\"\",'Data Input'!D111)","v":""},{"$f":"IF('Data Input'!E111=\"\",\"\",'Data Input'!E111)","v":""},{"$f":"IF('Data Input'!F111=\"\",\"\",'Data Input'!F111)","v":""},{"$f":"IF('Data Input'!G111=\"\",\"\",'Data Input'!G111)","v":""},{"$f":"IF('Data Input'!B111=\"\",\"\",'Data Input'!B111)","v":""},{"$f":"IF('Data Input'!C111=\"\",\"\",'Data Input'!C111)","v":""},{"$f":"IF('Data Input'!J111=\"\",\"\",'Data Input'!J111)","v":""},{"$f":"IF('Data Input'!K111=\"\",\"\",'Data Input'!K111)","v":""},{"$f":"IF('Data Input'!O111=\"\",\"\",'Data Input'!O111)","v":""},{"$f":"IF('Data Input'!L111=\"\",\"\",'Data Input'!L111)","v":""},{"$f":"IF('Data Input'!M111=\"\",\"\",'Data Input'!M111)","v":""},{"$f":"IF('Data Input'!Q111=\"\",\"\",'Data Input'!Q111)","v":""},{"$f":"IF('Data Input'!N111=\"\",\"\",'Data Input'!N111)","v":""},null,null,null,null,null,null,null,null,"",{"$f":"IFERROR(VLOOKUP($Z113,Lookup!$C:$E,2,FALSE),\"\")","v":""},{"$f":"IFERROR(VLOOKUP($AA113,Lookup!$D:$E,2,FALSE),\"\")","v":""},"",{"$f":"IFERROR(VLOOKUP($AC113,Lookup!$C:$E,2,FALSE),\"\")","v":""},{"$f":"IFERROR(VLOOKUP($AD113,Lookup!$D:$E,2,FALSE),\"\")","v":""},"",{"$f":"IFERROR(VLOOKUP($AF113,Lookup!$C:$E,2,FALSE),\"\")","v":""},{"$f":"IFERROR(VLOOKUP($AG113,Lookup!$D:$E,2,FALSE),\"\")","v":""},""]
[{"$f":"IF('Data Input'!I112=\"\",\"\",'Data Input'!I112)","v":""},{"$f":"IF('Data Input'!H112=\"\",\"\",'Data Input'!H112)","v":""},{"$f":"IF('Data Input'!A112=\"\",\"\",'Data Input'!A112)","v":""},{"$f":"IF('Data Input'!R112=\"\",\"\",'Data Input'!R112)","v":""},{"$f":"IF('Data Input'!D112=\"\",\"\",'Data Input'!D112)","v":""},{"$f":"IF('Data Input'!E112=\"\",\"\",'Data Input'!E112)","v":""},{"$f":"IF('Data Input'!F112=\"\",\"\",'Data Input'!F112)","v":""},{"$f":"IF('Data Input'!G112=\"\",\"\",'Data Input'!G112)","v":""},{"$f":"IF('Data Input'!B112=\"\",\"\",'Data Input'!B112)","v":""},{"$f":"IF('Data Input'!C112=\"\",\"\",'Data Input'!C112)","v":""},{"$f":"IF('Data Input'!J112=\"\",\"\",'Data Input'!J112)","v":""},{"$f":"IF('Data Input'!K112=\"\",\"\",'Data Input'!K112)","v":""},{"$f":"IF('Data Input'!O112=\"\",\"\",'Data Input'!O112)","v":""},{"$f":"IF('Data Input'!L112=\"\",\"\",'Data Input'!L112)","v":""},{"$f":"IF('Data Input'!M112=\"\",\"\",'Data Input'!M112)","v":""},{"$f":"IF('Data Input'!Q112=\"\",\"\",'Data Input'!Q112)","v":""},{"$f":"IF('Data Input'!N112=\"\",\"\",'Data Input'!N112)","v":""},null,null,null,null,null,null,null,null,"",{"$f":"IFERROR(VLOOKUP($Z114,Lookup!$C:$E,2,FALSE),\"\")","v":""},{"$f":"IFERROR(VLOOKUP($AA114,Lookup!$D:$E,2,FALSE),\"\")","v":""},"",{"$f":"IFERROR(VLOOKUP($AC114,Lookup!$C:$E,2,FALSE),\"\")","v":""},{"$f":"IFERROR(VLOOKUP($AD114,Lookup!$D:$E,2,FALSE),\"\")","v":""},"",{"$f":"IFERROR(VLOOKUP($AF114,Lookup!$C:$E,2,FALSE),\"\")","v":""},{"$f":"IFERROR(VLOOKUP($AG114,Lookup!$D:$E,2,FALSE),\"\")","v":""},""]
[{"$f":"IF('Data Input'!I113=\"\",\"\",'Data Input'!I113)","v":""},{"$f":"IF('Data Input'!H113=\"\",\"\",'Data Input'!H113)","v":""},{"$f":"IF('Data Input'!A113=\"\",\"\",'Data Input'!A113)","v":""},{"$f":"IF('Data Input'!R113=\"\",\"\",'Data Input'!R113)","v":""},{"$f":"IF('Data Input'!D113=\"\",\"\",'Data Input'!D113)","v":""},{"$f":"IF('Data Input'!E113=\"\",\"\",'Data Input'!E113)","v":""},{"$f":"IF('Data Input'!F113=\"\",\"\",'Data Input'!F113)","v":""},{"$f":"IF('Data Input'!G113=\"\",\"\",'Data Input'!G113)","v":""},{"$f":"IF('Data Input'!B113=\"\",\"\",'Data Input'!B113)","v":""},{"$f":"IF('Data Input'!C113=\"\",\"\",'Data Input'!C113)","v":""},{"$f":"IF('Data Input'!J113=\"\",\"\",'Data Input'!J113)","v":""},{"$f":"IF('Data Input'!K113=\"\",\"\",'Data Input'!K113)","v":""},{"$f":"IF('Data Input'!O113=\"\",\"\",'Data Input'!O113)","v":""},{"$f":"IF('Data Input'!L113=\"\",\"\",'Data Input'!L113)","v":""},{"$f":"IF('Data Input'!M113=\"\",\"\",'Data Input'!M113)","v":""},{"$f":"IF('Data Input'!Q113=\"\",\"\",'Data Input'!Q113)","v":""},{"$f":"IF('Data Input'!N113=\"\",\"\",'Data Input'!N113)","v":""},null,null,null,null,null,null,null,null,"",{"$f":"IFERROR(VLOOKUP($Z115,Lookup!$C:$E,2,FALSE),\"\")","v":""},{"$f":"IFERROR(VLOOKUP($AA115,Lookup!$D:$E,2,FALSE),\"\")","v":""},"",{"$f":"IFERROR(VLOOKUP($AC115,Lookup!$C:$E,2,FALSE),\"\")","v":""},{"$f":"IFERROR(VLOOKUP($AD115,Lookup!$D:$E,2,FALSE),\"\")","v":""},"",{"$f":"IFERROR(VLOOKUP($AF115,Lookup!$C:$E,2,FALSE),\"\")","v":""},{"$f":"IFERROR(VLOOKUP($AG115,Lookup!$D:$E,2,FALSE),\"\")","v":""},""]
[{"$f":"IF('Data Input'!I114=\"\",\"\",'Data Input'!I114)","v":""},{"$f":"IF('Data Input'!H114=\"\",\"\",'Data Input'!H114)","v":""},{"$f":"IF('Data Input'!A114=\"\",\"\",'Data Input'!A114)","v":""},{"$f":"IF('Data Input'!R114=\"\",\"\",'Data Input'!R114)","v":""},{"$f":"IF('Data Input'!D114=\"\",\"\",'Data Input'!D114)","v":""},{"$f":"IF('Data Input'!E114=\"\",\"\",'Data Input'!E114)","v":""},{"$f":"IF('Data Input'!F114=\"\",\"\",'Data Input'!F114)","v":""},{"$f":"IF('Data Input'!G114=\"\",\"\",'Data Input'!G114)","v":""},{"$f":"IF('Data Input'!B114=\"\",\"\",'Data Input'!B114)","v":""},{"$f":"IF('Data Input'!C114=\"\",\"\",'Data Input'!C114)","v":""},{"$f":"IF('Data Input'!J114=\"\",\"\",'Data Input'!J114)","v":""},{"$f":"IF('Data Input'!K114=\"\",\"\",'Data Input'!K114)","v":""},{"$f":"IF('Data Input'!O114=\"\",\"\",'Data Input'!O114)","v":""},{"$f":"IF('Data Input'!L114=\"\",\"\",'Data Input'!L114)","v":""},{"$f":"IF('Data Input'!M114=\"\",\"\",'Data Input'!M114)","v":""},{"$f":"IF('Data Input'!Q114=\"\",\"\",'Data Input'!Q114)","v":""},{"$f":"IF('Data Input'!N114=\"\",\"\",'Data Input'!N114)","v":""},null,null,null,null,null,null,null,null,"",{"$f":"IFERROR(VLOOKUP($Z116,Lookup!$C:$E,2,FALSE),\"\")","v":""},{"$f":"IFERROR(VLOOKUP($AA116,Lookup!$D:$E,2,FALSE),\"\")","v":""},"",{"$f":"IFERROR(VLOOKUP($AC116,Lookup!$C:$E,2,FALSE),\"\")","v":""},{"$f":"IFERROR(VLOOKUP($AD116,Lookup!$D:$E,2,FALSE),\"\")","v":""},"",{"$f":"IFERROR(VLOOKUP($AF116,Lookup!$C:$E,2,FALSE),\"\")","v":""},{"$f":"IFERROR(VLOOKUP($AG116,Lookup!$D:$E,2,FALSE),\"\")","v":""},""]
[{"$f":"IF('Data Input'!I115=\"\",\"\",'Data Input'!I115)","v":""},{"$f":"IF('Data Input'!H115=\"\",\"\",'Data Input'!H115)","v":""},{"$f":"IF('Data Input'!A115=\"\",\"\",'Data Input'!A115)","v":""},{"$f":"IF('Data Input'!R115=\"\",\"\",'Data Input'!R115)","v":""},{"$f":"IF('Data Input'!D115=\"\",\"\",'Data Input'!D115)","v":""},{"$f":"IF('Data Input'!E115=\"\",\"\",'Data Input'!E115)","v":""},{"$f":"IF('Data Input'!F115=\"\",\"\",'Data Input'!F115)","v":""},{"$f":"IF('Data Input'!G115=\"\",\"\",'Data Input'!G115)","v":""},{"$f":"IF('Data Input'!B115=\"\",\"\",'Data Input'!B115)","v":""},{"$f":"IF('Data Input'!C115=\"\",\"\",'Data Input'!C115)","v":""},{"$f":"IF('Data Input'!J115=\"\",\"\",'Data Input'!J115)","v":""},{"$f":"IF('Data Input'!K115=\"\",\"\",'Data Input'!K115)","v":""},{"$f":"IF('Data Input'!O115=\"\",\"\",'Data Input'!O115)","v":""},{"$f":"IF('Data Input'!L115=\"\",\"\",'Data Input'!L115)","v":""},{"$f":"IF('Data Input'!M115=\"\",\"\",'Data Input'!M115)","v":""},{"$f":"IF('Data Input'!Q115=\"\",\"\",'Data Input'!Q115)","v":""},{"$f":"IF('Data Input'!N115=\"\",\"\",'Data Input'!N115)","v":""},null,null,null,null,null,null,null,null,"",{"$f":"IFERROR(VLOOKUP($Z117,Lookup!$C:$E,2,FALSE),\"\")","v":""},{"$f":"IFERROR(VLOOKUP($AA117,Lookup!$D:$E,2,FALSE),\"\")","v":""},"",{"$f":"IFERROR(VLOOKUP($AC117,Lookup!$C:$E,2,FALSE),\"\")","v":""},{"$f":"IFERROR(VLOOKUP($AD117,Lookup!$D:$E,2,FALSE),\"\")","v":""},"",{"$f":"IFERROR(VLOOKUP($AF117,Lookup!$C:$E,2,FALSE),\"\")","v":""},{"$f":"IFERROR(VLOOKUP($AG117,Lookup!$D:$E,2,FALSE),\"\")","v":""},""]
[{"$f":"IF('Data Input'!I116=\"\",\"\",'Data Input'!I116)","v":""},{"$f":"IF('Data Input'!H116=\"\",\"\",'Data Input'!H116)","v":""},{"$f":"IF('Data Input'!A116=\"\",\"\",'Data Input'!A116)","v":""},{"$f":"IF('Data Input'!R116=\"\",\"\",'Data Input'!R116)","v":""},{"$f":"IF('Data Input'!D116=\"\",\"\",'Data Input'!D116)","v":""},{"$f":"IF('Data Input'!E116=\"\",\"\",'Data Input'!E116)","v":""},{"$f":"IF('Data Input'!F116=\"\",\"\",'Data Input'!F116)","v":""},{"$f":"IF('Data Input'!G116=\"\",\"\",'Data Input'!G116)","v":""},{"$f":"IF('Data Input'!B116=\"\",\"\",'Data Input'!B116)","v":""},{"$f":"IF('Data Input'!C116=\"\",\"\",'Data Input'!C116)","v":""},{"$f":"IF('Data Input'!J116=\"\",\"\",'Data Input'!J116)","v":""},{"$f":"IF('Data Input'!K116=\"\",\"\",'Data Input'!K116)","v":""},{"$f":"IF('Data Input'!O116=\"\",\"\",'Data Input'!O116)","v":""},{"$f":"IF('Data Input'!L116=\"\",\"\",'Data Input'!L116)","v":""},{"$f":"IF('Data Input'!M116=\"\",\"\",'Data Input'!M116)","v":""},{"$f":"IF('Data Input'!Q116=\"\",\"\",'Data Input'!Q116)","v":""},{"$f":"IF('Data Input'!N116=\"\",\"\",'Data Input'!N116)","v":""},null,null,null,null,null,null,null,null,"",{"$f":"IFERROR(VLOOKUP($Z118,Lookup!$C:$E,2,FALSE),\"\")","v":""},{"$f":"IFERROR(VLOOKUP($AA118,Lookup!$D:$E,2,FALSE),\"\")","v":""},"",{"$f":"IFERROR(VLOOKUP($AC118,Lookup!$C:$E,2,FALSE),\"\")","v":""},{"$f":"IFERROR(VLOOKUP($AD118,Lookup!$D:$E,2,FALSE),\"\")","v":""},"",{"$f":"IFERROR(VLOOKUP($AF118,Lookup!$C:$E,2,FALSE),\"\")","v":""},{"$f":"IFERROR(VLOOKUP($AG118,Lookup!$D:$E,2,FALSE),\"\")","v":""},""]
[{"$f":"IF('Data Input'!I117=\"\",\"\",'Data Input'!I117)","v":""},{"$f":"IF('Data Input'!H117=\"\",\"\",'Data Input'!H117)","v":""},{"$f":"IF('Data Input'!A117=\"\",\"\",'Data Input'!A117)","v":""},{"$f":"IF('Data Input'!R117=\"\",\"\",'Data Input'!R117)","v":""},{"$f":"IF('Data Input'!D117=\"\",\"\",'Data Input'!D117)","v":""},{"$f":"IF('Data Input'!E117=\"\",\"\",'Data Input'!E117)","v":""},{"$f":"IF('Data Input'!F117=\"\",\"\",'Data Input'!F117)","v":""},{"$f":"IF('Data Input'!G117=\"\",\"\",'Data Input'!G117)","v":""},{"$f":"IF('Data Input'!B117=\"\",\"\",'Data Input'!B117)","v":""},{"$f":"IF('Data Input'!C117=\"\",\"\",'Data Input'!C117)","v":""},{"$f":"IF('Data Input'!J117=\"\",\"\",'Data Input'!J117)","v":""},{"$f":"IF('Data Input'!K117=\"\",\"\",'Data Input'!K117)","v":""},{"$f":"IF('Data Input'!O117=\"\",\"\",'Data Input'!O117)","v":""},{"$f":"IF('Data Input'!L117=\"\",\"\",'Data Input'!L117)","v":""},{"$f":"IF('Data Input'!M117=\"\",\"\",'Data Input'!M117)","v":""},{"$f":"IF('Data Input'!Q117=\"\",\"\",'Data Input'!Q117)","v":""},{"$f":"IF('Data Input'!N117=\"\",\"\",'Data Input'!N117)","v":""},null,null,null,null,null,null,null,null,"",{"$f":"IFERROR(VLOOKUP($Z119,Lookup!$C:$E,2,FALSE),\"\")","v":""},{"$f":"IFERROR(VLOOKUP($AA119,Lookup!$D:$E,2,FALSE),\"\")","v":""},"",{"$f":"IFERROR(VLOOKUP($AC119,Lookup!$C:$E,2,FALSE),\"\")","v":""},{"$f":"IFERROR(VLOOKUP($AD119,Lookup!$D:$E,2,FALSE),\"\")","v":""},"",{"$f":"IFERROR(VLOOKUP($AF119,Lookup!$C:$E,2,FALSE),\"\")","v":""},{"$f":"IFERROR(VLOOKUP($AG119,Lookup!$D:$E,2,FALSE),\"\")","v":""},""]
[{"$f":"IF('Data Input'!I118=\"\",\"\",'Data Input'!I118)","v":""},{"$f":"IF('Data Input'!H118=\"\",\"\",'Data Input'!H118)","v":""},{"$f":"IF('Data Input'!A118=\"\",\"\",'Data Input'!A118)","v":""},{"$f":"IF('Data Input'!R118=\"\",\"\",'Data Input'!R118)","v":""},{"$f":"IF('Data Input'!D118=\"\",\"\",'Data Input'!D118)","v":""},{"$f":"IF('Data Input'!E118=\"\",\"\",'Data Input'!E118)","v":""},{"$f":"IF('Data Input'!F118=\"\",\"\",'Data Input'!F118)","v":""},{"$f":"IF('Data Input'!G118=\"\",\"\",'Data Input'!G118)","v":""},{"$f":"IF('Data Input'!B118=\"\",\"\",'Data Input'!B118)","v":""},{"$f":"IF('Data Input'!C118=\"\",\"\",'Data Input'!C118)","v":""},{"$f":"IF('Data Input'!J118=\"\",\"\",'Data Input'!J118)","v":""},{"$f":"IF('Data Input'!K118=\"\",\"\",'Data Input'!K118)","v":""},{"$f":"IF('Data Input'!O118=\"\",\"\",'Data Input'!O118)","v":""},{"$f":"IF('Data Input'!L118=\"\",\"\",'Data Input'!L118)","v":""},{"$f":"IF('Data Input'!M118=\"\",\"\",'Data Input'!M118)","v":""},{"$f":"IF('Data Input'!Q118=\"\",\"\",'Data Input'!Q118)","v":""},{"$f":"IF('Data Input'!N118=\"\",\"\",'Data Input'!N118)","v":""},null,null,null,null,null,null,null,null,"",{"$f":"IFERROR(VLOOKUP($Z120,Lookup!$C:$E,2,FALSE),\"\")","v":""},{"$f":"IFERROR(VLOOKUP($AA120,Lookup!$D:$E,2,FALSE),\"\")","v":""},"",{"$f":"IFERROR(VLOOKUP($AC120,Lookup!$C:$E,2,FALSE),\"\")","v":""},{"$f":"IFERROR(VLOOKUP($AD120,Lookup!$D:$E,2,FALSE),\"\")","v":""},"",{"$f":"IFERROR(VLOOKUP($AF120,Lookup!$C:$E,2,FALSE),\"\")","v":""},{"$f":"IFERROR(VLOOKUP($AG120,Lookup!$D:$E,2,FALSE),\"\")","v":""},""]
[{"$f":"IF('Data Input'!I119=\"\",\"\",'Data Input'!I119)","v":""},{"$f":"IF('Data Input'!H119=\"\",\"\",'Data Input'!H119)","v":""},{"$f":"IF('Data Input'!A119=\"\",\"\",'Data Input'!A119)","v":""},{"$f":"IF('Data Input'!R119=\"\",\"\",'Data Input'!R119)","v":""},{"$f":"IF('Data Input'!D119=\"\",\"\",'Data Input'!D119)","v":""},{"$f":"IF('Data Input'!E119=\"\",\"\",'Data Input'!E119)","v":""},{"$f":"IF('Data Input'!F119=\"\",\"\",'Data Input'!F119)","v":""},{"$f":"IF('Data Input'!G119=\"\",\"\",'Data Input'!G119)","v":""},{"$f":"IF('Data Input'!B119=\"\",\"\",'Data Input'!B119)","v":""},{"$f":"IF('Data Input'!C119=\"\",\"\",'Data Input'!C119)","v":""},{"$f":"IF('Data Input'!J119=\"\",\"\",'Data Input'!J119)","v":""},{"$f":"IF('Data Input'!K119=\"\",\"\",'Data Input'!K119)","v":""},{"$f":"IF('Data Input'!O119=\"\",\"\",'Data Input'!O119)","v":""},{"$f":"IF('Data Input'!L119=\"\",\"\",'Data Input'!L119)","v":""},{"$f":"IF('Data Input'!M119=\"\",\"\",'Data Input'!M119)","v":""},{"$f":"IF('Data Input'!Q119=\"\",\"\",'Data Input'!Q119)","v":""},{"$f":"IF('Data Input'!N119=\"\",\"\",'Data Input'!N119)","v":""},null,null,null,null,null,null,null,null,"",{"$f":"IFERROR(VLOOKUP($Z121,Lookup!$C:$E,2,FALSE),\"\")","v":""},{"$f":"IFERROR(VLOOKUP($AA121,Lookup!$D:$E,2,FALSE),\"\")","v":""},"",{"$f":"IFERROR(VLOOKUP($AC121,Lookup!$C:$E,2,FALSE),\"\")","v":""},{"$f":"IFERROR(VLOOKUP($AD121,Lookup!$D:$E,2,FALSE),\"\")","v":""},"",{"$f":"IFERROR(VLOOKUP($AF121,Lookup!$C:$E,2,FALSE),\"\")","v":""},{"$f":"IFERROR(VLOOKUP($AG121,Lookup!$D:$E,2,FALSE),\"\")","v":""},""]
[{"$f":"IF('Data Input'!I120=\"\",\"\",'Data Input'!I120)","v":""},{"$f":"IF('Data Input'!H120=\"\",\"\",'Data Input'!H120)","v":""},{"$f":"IF('Data Input'!A120=\"\",\"\",'Data Input'!A120)","v":""},{"$f":"IF('Data Input'!R120=\"\",\"\",'Data Input'!R120)","v":""},{"$f":"IF('Data Input'!D120=\"\",\"\",'Data Input'!D120)","v":""},{"$f":"IF('Data Input'!E120=\"\",\"\",'Data Input'!E120)","v":""},{"$f":"IF('Data Input'!F120=\"\",\"\",'Data Input'!F120)","v":""},{"$f":"IF('Data Input'!G120=\"\",\"\",'Data Input'!G120)","v":""},{"$f":"IF('Data Input'!B120=\"\",\"\",'Data Input'!B120)","v":""},{"$f":"IF('Data Input'!C120=\"\",\"\",'Data Input'!C120)","v":""},{"$f":"IF('Data Input'!J120=\"\",\"\",'Data Input'!J120)","v":""},{"$f":"IF('Data Input'!K120=\"\",\"\",'Data Input'!K120)","v":""},{"$f":"IF('Data Input'!O120=\"\",\"\",'Data Input'!O120)","v":""},{"$f":"IF('Data Input'!L120=\"\",\"\",'Data Input'!L120)","v":""},{"$f":"IF('Data Input'!M120=\"\",\"\",'Data Input'!M120)","v":""},{"$f":"IF('Data Input'!Q120=\"\",\"\",'Data Input'!Q120)","v":""},{"$f":"IF('Data Input'!N120=\"\",\"\",'Data Input'!N120)","v":""},null,null,null,null,null,null,null,null,"",{"$f":"IFERROR(VLOOKUP($Z122,Lookup!$C:$E,2,FALSE),\"\")","v":""},{"$f":"IFERROR(VLOOKUP($AA122,Lookup!$D:$E,2,FALSE),\"\")","v":""},"",{"$f":"IFERROR(VLOOKUP($AC122,Lookup!$C:$E,2,FALSE),\"\")","v":""},{"$f":"IFERROR(VLOOKUP($AD122,Lookup!$D:$E,2,FALSE),\"\")","v":""},"",{"$f":"IFERROR(VLOOKUP($AF122,Lookup!$C:$E,2,FALSE),\"\")","v":""},{"$f":"IFERROR(VLOOKUP($AG122,Lookup!$D:$E,2,FALSE),\"\")","v":""},""]
[{"$f":"IF('Data Input'!I121=\"\",\"\",'Data Input'!I121)","v":""},{"$f":"IF('Data Input'!H121=\"\",\"\",'Data Input'!H121)","v":""},{"$f":"IF('Data Input'!A121=\"\",\"\",'Data Input'!A121)","v":""},{"$f":"IF('Data Input'!R121=\"\",\"\",'Data Input'!R121)","v":""},{"$f":"IF('Data Input'!D121=\"\",\"\",'Data Input'!D121)","v":""},{"$f":"IF('Data Input'!E121=\"\",\"\",'Data Input'!E121)","v":""},{"$f":"IF('Data Input'!F121=\"\",\"\",'Data Input'!F121)","v":""},{"$f":"IF('Data Input'!G121=\"\",\"\",'Data Input'!G121)","v":""},{"$f":"IF('Data Input'!B121=\"\",\"\",'Data Input'!B121)","v":""},{"$f":"IF('Data Input'!C121=\"\",\"\",'Data Input'!C121)","v":""},{"$f":"IF('Data Input'!J121=\"\",\"\",'Data Input'!J121)","v":""},{"$f":"IF('Data Input'!K121=\"\",\"\",'Data Input'!K121)","v":""},{"$f":"IF('Data Input'!O121=\"\",\"\",'Data Input'!O121)","v":""},{"$f":"IF('Data Input'!L121=\"\",\"\",'Data Input'!L121)","v":""},{"$f":"IF('Data Input'!M121=\"\",\"\",'Data Input'!M121)","v":""},{"$f":"IF('Data Input'!Q121=\"\",\"\",'Data Input'!Q121)","v":""},{"$f":"IF('Data Input'!N121=\"\",\"\",'Data Input'!N121)","v":""},null,null,null,null,null,null,null,null,"",{"$f":"IFERROR(VLOOKUP($Z123,Lookup!$C:$E,2,FALSE),\"\")","v":""},{"$f":"IFERROR(VLOOKUP($AA123,Lookup!$D:$E,2,FALSE),\"\")","v":""},"",{"$f":"IFERROR(VLOOKUP($AC123,Lookup!$C:$E,2,FALSE),\"\")","v":""},{"$f":"IFERROR(VLOOKUP($AD123,Lookup!$D:$E,2,FALSE),\"\")","v":""},"",{"$f":"IFERROR(VLOOKUP($AF123,Lookup!$C:$E,2,FALSE),\"\")","v":""},{"$f":"IFERROR(VLOOKUP($AG123,Lookup!$D:$E,2,FALSE),\"\")","v":""},""]
[{"$f":"IF('Data Input'!I122=\"\",\"\",'Data Input'!I122)","v":""},{"$f":"IF('Data Input'!H122=\"\",\"\",'Data Input'!H122)","v":""},{"$f":"IF('Data Input'!A122=\"\",\"\",'Data Input'!A122)","v":""},{"$f":"IF('Data Input'!R122=\"\",\"\",'Data Input'!R122)","v":""},{"$f":"IF('Data Input'!D122=\"\",\"\",'Data Input'!D122)","v":""},{"$f":"IF('Data Input'!E122=\"\",\"\",'Data Input'!E122)","v":""},{"$f":"IF('Data Input'!F122=\"\",\"\",'Data Input'!F122)","v":""},{"$f":"IF('Data Input'!G122=\"\",\"\",'Data Input'!G122)","v":""},{"$f":"IF('Data Input'!B122=\"\",\"\",'Data Input'!B122)","v":""},{"$f":"IF('Data Input'!C122=\"\",\"\",'Data Input'!C122)","v":""},{"$f":"IF('Data Input'!J122=\"\",\"\",'Data Input'!J122)","v":""},{"$f":"IF('Data Input'!K122=\"\",\"\",'Data Input'!K122)","v":""},{"$f":"IF('Data Input'!O122=\"\",\"\",'Data Input'!O122)","v":""},{"$f":"IF('Data Input'!L122=\"\",\"\",'Data Input'!L122)","v":""},{"$f":"IF('Data Input'!M122=\"\",\"\",'Data Input'!M122)","v":""},{"$f":"IF('Data Input'!Q122=\"\",\"\",'Data Input'!Q122)","v":""},{"$f":"IF('Data Input'!N122=\"\",\"\",'Data Input'!N122)","v":""},null,null,null,null,null,null,null,null,"",{"$f":"IFERROR(VLOOKUP($Z124,Lookup!$C:$E,2,FALSE),\"\")","v":""},{"$f":"IFERROR(VLOOKUP($AA124,Lookup!$D:$E,2,FALSE),\"\")","v":""},"",{"$f":"IFERROR(VLOOKUP($AC124,Lookup!$C:$E,2,FALSE),\"\")","v":""},{"$f":"IFERROR(VLOOKUP($AD124,Lookup!$D:$E,2,FALSE),\"\")","v":""},"",{"$f":"IFERROR(VLOOKUP($AF124,Lookup!$C:$E,2,FALSE),\"\")","v":""},{"$f":"IFERROR(VLOOKUP($AG124,Lookup!$D:$E,2,FALSE),\"\")","v":""},""]
[{"$f":"IF('Data Input'!I123=\"\",\"\",'Data Input'!I123)","v":""},{"$f":"IF('Data Input'!H123=\"\",\"\",'Data Input'!H123)","v":""},{"$f":"IF('Data Input'!A123=\"\",\"\",'Data Input'!A123)","v":""},{"$f":"IF('Data Input'!R123=\"\",\"\",'Data Input'!R123)","v":""},{"$f":"IF('Data Input'!D123=\"\",\"\",'Data Input'!D123)","v":""},{"$f":"IF('Data Input'!E123=\"\",\"\",'Data Input'!E123)","v":""},{"$f":"IF('Data Input'!F123=\"\",\"\",'Data Input'!F123)","v":""},{"$f":"IF('Data Input'!G123=\"\",\"\",'Data Input'!G123)","v":""},{"$f":"IF('Data Input'!B123=\"\",\"\",'Data Input'!B123)","v":""},{"$f":"IF('Data Input'!C123=\"\",\"\",'Data Input'!C123)","v":""},{"$f":"IF('Data Input'!J123=\"\",\"\",'Data Input'!J123)","v":""},{"$f":"IF('Data Input'!K123=\"\",\"\",'Data Input'!K123)","v":""},{"$f":"IF('Data Input'!O123=\"\",\"\",'Data Input'!O123)","v":""},{"$f":"IF('Data Input'!L123=\"\",\"\",'Data Input'!L123)","v":""},{"$f":"IF('Data Input'!M123=\"\",\"\",'Data Input'!M123)","v":""},{"$f":"IF('Data Input'!Q123=\"\",\"\",'Data Input'!Q123)","v":""},{"$f":"IF('Data Input'!N123=\"\",\"\",'Data Input'!N123)","v":""},null,null,null,null,null,null,null,null,"",{"$f":"IFERROR(VLOOKUP($Z125,Lookup!$C:$E,2,FALSE),\"\")","v":""},{"$f":"IFERROR(VLOOKUP($AA125,Lookup!$D:$E,2,FALSE),\"\")","v":""},"",{"$f":"IFERROR(VLOOKUP($AC125,Lookup!$C:$E,2,FALSE),\"\")","v":""},{"$f":"IFERROR(VLOOKUP($AD125,Lookup!$D:$E,2,FALSE),\"\")","v":""},"",{"$f":"IFERROR(VLOOKUP($AF125,Lookup!$C:$E,2,FALSE),\"\")","v":""},{"$f":"IFERROR(VLOOKUP($AG125,Lookup!$D:$E,2,FALSE),\"\")","v":""},""]
[{"$f":"IF('Data Input'!I124=\"\",\"\",'Data Input'!I124)","v":""},{"$f":"IF('Data Input'!H124=\"\",\"\",'Data Input'!H124)","v":""},{"$f":"IF('Data Input'!A124=\"\",\"\",'Data Input'!A124)","v":""},{"$f":"IF('Data Input'!R124=\"\",\"\",'Data Input'!R124)","v":""},{"$f":"IF('Data Input'!D124=\"\",\"\",'Data Input'!D124)","v":""},{"$f":"IF('Data Input'!E124=\"\",\"\",'Data Input'!E124)","v":""},{"$f":"IF('Data Input'!F124=\"\",\"\",'Data Input'!F124)","v":""},{"$f":"IF('Data Input'!G124=\"\",\"\",'Data Input'!G124)","v":""},{"$f":"IF('Data Input'!B124=\"\",\"\",'Data Input'!B124)","v":""},{"$f":"IF('Data Input'!C124=\"\",\"\",'Data Input'!C124)","v":""},{"$f":"IF('Data Input'!J124=\"\",\"\",'Data Input'!J124)","v":""},{"$f":"IF('Data Input'!K124=\"\",\"\",'Data Input'!K124)","v":""},{"$f":"IF('Data Input'!O124=\"\",\"\",'Data Input'!O124)","v":""},{"$f":"IF('Data Input'!L124=\"\",\"\",'Data Input'!L124)","v":""},{"$f":"IF('Data Input'!M124=\"\",\"\",'Data Input'!M124)","v":""},{"$f":"IF('Data Input'!Q124=\"\",\"\",'Data Input'!Q124)","v":""},{"$f":"IF('Data Input'!N124=\"\",\"\",'Data Input'!N124)","v":""},null,null,null,null,null,null,null,null,"",{"$f":"IFERROR(VLOOKUP($Z126,Lookup!$C:$E,2,FALSE),\"\")","v":""},{"$f":"IFERROR(VLOOKUP($AA126,Lookup!$D:$E,2,FALSE),\"\")","v":""},"",{"$f":"IFERROR(VLOOKUP($AC126,Lookup!$C:$E,2,FALSE),\"\")","v":""},{"$f":"IFERROR(VLOOKUP($AD126,Lookup!$D:$E,2,FALSE),\"\")","v":""},"",{"$f":"IFERROR(VLOOKUP($AF126,Lookup!$C:$E,2,FALSE),\"\")","v":""},{"$f":"IFERROR(VLOOKUP($AG126,Lookup!$D:$E,2,FALSE),\"\")","v":""},""]
[{"$f":"IF('Data Input'!I125=\"\",\"\",'Data Input'!I125)","v":""},{"$f":"IF('Data Input'!H125=\"\",\"\",'Data Input'!H125)","v":""},{"$f":"IF('Data Input'!A125=\"\",\"\",'Data Input'!A125)","v":""},{"$f":"IF('Data Input'!R125=\"\",\"\",'Data Input'!R125)","v":""},{"$f":"IF('Data Input'!D125=\"\",\"\",'Data Input'!D125)","v":""},{"$f":"IF('Data Input'!E125=\"\",\"\",'Data Input'!E125)","v":""},{"$f":"IF('Data Input'!F125=\"\",\"\",'Data Input'!F125)","v":""},{"$f":"IF('Data Input'!G125=\"\",\"\",'Data Input'!G125)","v":""},{"$f":"IF('Data Input'!B125=\"\",\"\",'Data Input'!B125)","v":""},{"$f":"IF('Data Input'!C125=\"\",\"\",'Data Input'!C125)","v":""},{"$f":"IF('Data Input'!J125=\"\",\"\",'Data Input'!J125)","v":""},{"$f":"IF('Data Input'!K125=\"\",\"\",'Data Input'!K125)","v":""},{"$f":"IF('Data Input'!O125=\"\",\"\",'Data Input'!O125)","v":""},{"$f":"IF('Data Input'!L125=\"\",\"\",'Data Input'!L125)","v":""},{"$f":"IF('Data Input'!M125=\"\",\"\",'Data Input'!M125)","v":""},{"$f":"IF('Data Input'!Q125=\"\",\"\",'Data Input'!Q125)","v":""},{"$f":"IF('Data Input'!N125=\"\",\"\",'Data Input'!N125)","v":""},null,null,null,null,null,null,null,null,"",{"$f":"IFERROR(VLOOKUP($Z127,Lookup!$C:$E,2,FALSE),\"\")","v":""},{"$f":"IFERROR(VLOOKUP($AA127,Lookup!$D:$E,2,FALSE),\"\")","v":""},"",{"$f":"IFERROR(VLOOKUP($AC127,Lookup!$C:$E,2,FALSE),\"\")","v":""},{"$f":"IFERROR(VLOOKUP($AD127,Lookup!$D:$E,2,FALSE),\"\")","v":""},"",{"$f":"IFERROR(VLOOKUP($AF127,Lookup!$C:$E,2,FALSE),\"\")","v":""},{"$f":"IFERROR(VLOOKUP($AG127,Lookup!$D:$E,2,FALSE),\"\")","v":""},""]
[{"$f":"IF('Data Input'!I126=\"\",\"\",'Data Input'!I126)","v":""},{"$f":"IF('Data Input'!H126=\"\",\"\",'Data Input'!H126)","v":""},{"$f":"IF('Data Input'!A126=\"\",\"\",'Data Input'!A126)","v":""},{"$f":"IF('Data Input'!R126=\"\",\"\",'Data Input'!R126)","v":""},{"$f":"IF('Data Input'!D126=\"\",\"\",'Data Input'!D126)","v":""},{"$f":"IF('Data Input'!E126=\"\",\"\",'Data Input'!E126)","v":""},{"$f":"IF('Data Input'!F126=\"\",\"\",'Data Input'!F126)","v":""},{"$f":"IF('Data Input'!G126=\"\",\"\",'Data Input'!G126)","v":""},{"$f":"IF('Data Input'!B126=\"\",\"\",'Data Input'!B126)","v":""},{"$f":"IF('Data Input'!C126=\"\",\"\",'Data Input'!C126)","v":""},{"$f":"IF('Data Input'!J126=\"\",\"\",'Data Input'!J126)","v":""},{"$f":"IF('Data Input'!K126=\"\",\"\",'Data Input'!K126)","v":""},{"$f":"IF('Data Input'!O126=\"\",\"\",'Data Input'!O126)","v":""},{"$f":"IF('Data Input'!L126=\"\",\"\",'Data Input'!L126)","v":""},{"$f":"IF('Data Input'!M126=\"\",\"\",'Data Input'!M126)","v":""},{"$f":"IF('Data Input'!Q126=\"\",\"\",'Data Input'!Q126)","v":""},{"$f":"IF('Data Input'!N126=\"\",\"\",'Data Input'!N126)","v":""},null,null,null,null,null,null,null,null,"",{"$f":"IFERROR(VLOOKUP($Z128,Lookup!$C:$E,2,FALSE),\"\")","v":""},{"$f":"IFERROR(VLOOKUP($AA128,Lookup!$D:$E,2,FALSE),\"\")","v":""},"",{"$f":"IFERROR(VLOOKUP($AC128,Lookup!$C:$E,2,FALSE),\"\")","v":""},{"$f":"IFERROR(VLOOKUP($AD128,Lookup!$D:$E,2,FALSE),\"\")","v":""},"",{"$f":"IFERROR(VLOOKUP($AF128,Lookup!$C:$E,2,FALSE),\"\")","v":""},{"$f":"IFERROR(VLOOKUP($AG128,Lookup!$D:$E,2,FALSE),\"\")","v":""},""]
[{"$f":"IF('Data Input'!I127=\"\",\"\",'Data Input'!I127)","v":""},{"$f":"IF('Data Input'!H127=\"\",\"\",'Data Input'!H127)","v":""},{"$f":"IF('Data Input'!A127=\"\",\"\",'Data Input'!A127)","v":""},{"$f":"IF('Data Input'!R127=\"\",\"\",'Data Input'!R127)","v":""},{"$f":"IF('Data Input'!D127=\"\",\"\",'Data Input'!D127)","v":""},{"$f":"IF('Data Input'!E127=\"\",\"\",'Data Input'!E127)","v":""},{"$f":"IF('Data Input'!F127=\"\",\"\",'Data Input'!F127)","v":""},{"$f":"IF('Data Input'!G127=\"\",\"\",'Data Input'!G127)","v":""},{"$f":"IF('Data Input'!B127=\"\",\"\",'Data Input'!B127)","v":""},{"$f":"IF('Data Input'!C127=\"\",\"\",'Data Input'!C127)","v":""},{"$f":"IF('Data Input'!J127=\"\",\"\",'Data Input'!J127)","v":""},{"$f":"IF('Data Input'!K127=\"\",\"\",'Data Input'!K127)","v":""},{"$f":"IF('Data Input'!O127=\"\",\"\",'Data Input'!O127)","v":""},{"$f":"IF('Data Input'!L127=\"\",\"\",'Data Input'!L127)","v":""},{"$f":"IF('Data Input'!M127=\"\",\"\",'Data Input'!M127)","v":""},{"$f":"IF('Data Input'!Q127=\"\",\"\",'Data Input'!Q127)","v":""},{"$f":"IF('Data Input'!N127=\"\",\"\",'Data Input'!N127)","v":""},null,null,null,null,null,null,null,null,"",{"$f":"IFERROR(VLOOKUP($Z129,Lookup!$C:$E,2,FALSE),\"\")","v":""},{"$f":"IFERROR(VLOOKUP($AA129,Lookup!$D:$E,2,FALSE),\"\")","v":""},"",{"$f":"IFERROR(VLOOKUP($AC129,Lookup!$C:$E,2,FALSE),\"\")","v":""},{"$f":"IFERROR(VLOOKUP($AD129,Lookup!$D:$E,2,FALSE),\"\")","v":""},"",{"$f":"IFERROR(VLOOKUP($AF129,Lookup!$C:$E,2,FALSE),\"\")","v":""},{"$f":"IFERROR(VLOOKUP($AG129,Lookup!$D:$E,2,FALSE),\"\")","v":""},""]
[{"$f":"IF('Data Input'!I128=\"\",\"\",'Data Input'!I128)","v":""},{"$f":"IF('Data Input'!H128=\"\",\"\",'Data Input'!H128)","v":""},{"$f":"IF('Data Input'!A128=\"\",\"\",'Data Input'!A128)","v":""},{"$f":"IF('Data Input'!R128=\"\",\"\",'Data Input'!R128)","v":""},{"$f":"IF('Data Input'!D128=\"\",\"\",'Data Input'!D128)","v":""},{"$f":"IF('Data Input'!E128=\"\",\"\",'Data Input'!E128)","v":""},{"$f":"IF('Data Input'!F128=\"\",\"\",'Data Input'!F128)","v":""},{"$f":"IF('Data Input'!G128=\"\",\"\",'Data Input'!G128)","v":""},{"$f":"IF('Data Input'!B128=\"\",\"\",'Data Input'!B128)","v":""},{"$f":"IF('Data Input'!C128=\"\",\"\",'Data Input'!C128)","v":""},{"$f":"IF('Data Input'!J128=\"\",\"\",'Data Input'!J128)","v":""},{"$f":"IF('Data Input'!K128=\"\",\"\",'Data Input'!K128)","v":""},{"$f":"IF('Data Input'!O128=\"\",\"\",'Data Input'!O128)","v":""},{"$f":"IF('Data Input'!L128=\"\",\"\",'Data Input'!L128)","v":""},{"$f":"IF('Data Input'!M128=\"\",\"\",'Data Input'!M128)","v":""},{"$f":"IF('Data Input'!Q128=\"\",\"\",'Data Input'!Q128)","v":""},{"$f":"IF('Data Input'!N128=\"\",\"\",'Data Input'!N128)","v":""},null,null,null,null,null,null,null,null,"",{"$f":"IFERROR(VLOOKUP($Z130,Lookup!$C:$E,2,FALSE),\"\")","v":""},{"$f":"IFERROR(VLOOKUP($AA130,Lookup!$D:$E,2,FALSE),\"\")","v":""},"",{"$f":"IFERROR(VLOOKUP($AC130,Lookup!$C:$E,2,FALSE),\"\")","v":""},{"$f":"IFERROR(VLOOKUP($AD130,Lookup!$D:$E,2,FALSE),\"\")","v":""},"",{"$f":"IFERROR(VLOOKUP($AF130,Lookup!$C:$E,2,FALSE),\"\")","v":""},{"$f":"IFERROR(VLOOKUP($AG130,Lookup!$D:$E,2,FALSE),\"\")","v":""},""]
[{"$f":"IF('Data Input'!I129=\"\",\"\",'Data Input'!I129)","v":""},{"$f":"IF('Data Input'!H129=\"\",\"\",'Data Input'!H129)","v":""},{"$f":"IF('Data Input'!A129=\"\",\"\",'Data Input'!A129)","v":""},{"$f":"IF('Data Input'!R129=\"\",\"\",'Data Input'!R129)","v":""},{"$f":"IF('Data Input'!D129=\"\",\"\",'Data Input'!D129)","v":""},{"$f":"IF('Data Input'!E129=\"\",\"\",'Data Input'!E129)","v":""},{"$f":"IF('Data Input'!F129=\"\",\"\",'Data Input'!F129)","v":""},{"$f":"IF('Data Input'!G129=\"\",\"\",'Data Input'!G129)","v":""},{"$f":"IF('Data Input'!B129=\"\",\"\",'Data Input'!B129)","v":""},{"$f":"IF('Data Input'!C129=\"\",\"\",'Data Input'!C129)","v":""},{"$f":"IF('Data Input'!J129=\"\",\"\",'Data Input'!J129)","v":""},{"$f":"IF('Data Input'!K129=\"\",\"\",'Data Input'!K129)","v":""},{"$f":"IF('Data Input'!O129=\"\",\"\",'Data Input'!O129)","v":""},{"$f":"IF('Data Input'!L129=\"\",\"\",'Data Input'!L129)","v":""},{"$f":"IF('Data Input'!M129=\"\",\"\",'Data Input'!M129)","v":""},{"$f":"IF('Data Input'!Q129=\"\",\"\",'Data Input'!Q129)","v":""},{"$f":"IF('Data Input'!N129=\"\",\"\",'Data Input'!N129)","v":""},null,null,null,null,null,null,null,null,"",{"$f":"IFERROR(VLOOKUP($Z131,Lookup!$C:$E,2,FALSE),\"\")","v":""},{"$f":"IFERROR(VLOOKUP($AA131,Lookup!$D:$E,2,FALSE),\"\")","v":""},"",{"$f":"IFERROR(VLOOKUP($AC131,Lookup!$C:$E,2,FALSE),\"\")","v":""},{"$f":"IFERROR(VLOOKUP($AD131,Lookup!$D:$E,2,FALSE),\"\")","v":""},"",{"$f":"IFERROR(VLOOKUP($AF131,Lookup!$C:$E,2,FALSE),\"\")","v":""},{"$f":"IFERROR(VLOOKUP($AG131,Lookup!$D:$E,2,FALSE),\"\")","v":""},""]
[{"$f":"IF('Data Input'!I130=\"\",\"\",'Data Input'!I130)","v":""},{"$f":"IF('Data Input'!H130=\"\",\"\",'Data Input'!H130)","v":""},{"$f":"IF('Data Input'!A130=\"\",\"\",'Data Input'!A130)","v":""},{"$f":"IF('Data Input'!R130=\"\",\"\",'Data Input'!R130)","v":""},{"$f":"IF('Data Input'!D130=\"\",\"\",'Data Input'!D130)","v":""},{"$f":"IF('Data Input'!E130=\"\",\"\",'Data Input'!E130)","v":""},{"$f":"IF('Data Input'!F130=\"\",\"\",'Data Input'!F130)","v":""},{"$f":"IF('Data Input'!G130=\"\",\"\",'Data Input'!G130)","v":""},{"$f":"IF('Data Input'!B130=\"\",\"\",'Data Input'!B130)","v":""},{"$f":"IF('Data Input'!C130=\"\",\"\",'Data Input'!C130)","v":""},{"$f":"IF('Data Input'!J130=\"\",\"\",'Data Input'!J130)","v":""},{"$f":"IF('Data Input'!K130=\"\",\"\",'Data Input'!K130)","v":""},{"$f":"IF('Data Input'!O130=\"\",\"\",'Data Input'!O130)","v":""},{"$f":"IF('Data Input'!L130=\"\",\"\",'Data Input'!L130)","v":""},{"$f":"IF('Data Input'!M130=\"\",\"\",'Data Input'!M130)","v":""},{"$f":"IF('Data Input'!Q130=\"\",\"\",'Data Input'!Q130)","v":""},{"$f":"IF('Data Input'!N130=\"\",\"\",'Data Input'!N130)","v":""},null,null,null,null,null,null,null,null,"",{"$f":"IFERROR(VLOOKUP($Z132,Lookup!$C:$E,2,FALSE),\"\")","v":""},{"$f":"IFERROR(VLOOKUP($AA132,Lookup!$D:$E,2,FALSE),\"\")","v":""},"",{"$f":"IFERROR(VLOOKUP($AC132,Lookup!$C:$E,2,FALSE),\"\")","v":""},{"$f":"IFERROR(VLOOKUP($AD132,Lookup!$D:$E,2,FALSE),\"\")","v":""},"",{"$f":"IFERROR(VLOOKUP($AF132,Lookup!$C:$E,2,FALSE),\"\")","v":""},{"$f":"IFERROR(VLOOKUP($AG132,Lookup!$D:$E,2,FALSE),\"\")","v":""},""]
[{"$f":"IF('Data Input'!I131=\"\",\"\",'Data Input'!I131)","v":""},{"$f":"IF('Data Input'!H131=\"\",\"\",'Data Input'!H131)","v":""},{"$f":"IF('Data Input'!A131=\"\",\"\",'Data Input'!A131)","v":""},{"$f":"IF('Data Input'!R131=\"\",\"\",'Data Input'!R131)","v":""},{"$f":"IF('Data Input'!D131=\"\",\"\",'Data Input'!D131)","v":""},{"$f":"IF('Data Input'!E131=\"\",\"\",'Data Input'!E131)","v":""},{"$f":"IF('Data Input'!F131=\"\",\"\",'Data Input'!F131)","v":""},{"$f":"IF('Data Input'!G131=\"\",\"\",'Data Input'!G131)","v":""},{"$f":"IF('Data Input'!B131=\"\",\"\",'Data Input'!B131)","v":""},{"$f":"IF('Data Input'!C131=\"\",\"\",'Data Input'!C131)","v":""},{"$f":"IF('Data Input'!J131=\"\",\"\",'Data Input'!J131)","v":""},{"$f":"IF('Data Input'!K131=\"\",\"\",'Data Input'!K131)","v":""},{"$f":"IF('Data Input'!O131=\"\",\"\",'Data Input'!O131)","v":""},{"$f":"IF('Data Input'!L131=\"\",\"\",'Data Input'!L131)","v":""},{"$f":"IF('Data Input'!M131=\"\",\"\",'Data Input'!M131)","v":""},{"$f":"IF('Data Input'!Q131=\"\",\"\",'Data Input'!Q131)","v":""},{"$f":"IF('Data Input'!N131=\"\",\"\",'Data Input'!N131)","v":""},null,null,null,null,null,null,null,null,{"$f":"_xlfn.CONCAT($C133,$O133)","v":""},{"$f":"IFERROR(VLOOKUP($Z133,Lookup!$C:$E,2,FALSE),\"\")","v":""},{"$f":"IFERROR(VLOOKUP($AA133,Lookup!$D:$E,2,FALSE),\"\")","v":""},{"$f":"_xlfn.CONCAT($C133,$R133)","v":""},{"$f":"IFERROR(VLOOKUP($AC133,Lookup!$C:$E,2,FALSE),\"\")","v":""},{"$f":"IFERROR(VLOOKUP($AD133,Lookup!$D:$E,2,FALSE),\"\")","v":""},{"$f":"_xlfn.CONCAT($C133,$S133)","v":""},{"$f":"IFERROR(VLOOKUP($AF133,Lookup!$C:$E,2,FALSE),\"\")","v":""},{"$f":"IFERROR(VLOOKUP($AG133,Lookup!$D:$E,2,FALSE),\"\")","v":""},{"$f":"P133","v":""}]
[{"$f":"IF('Data Input'!I132=\"\",\"\",'Data Input'!I132)","v":""},{"$f":"IF('Data Input'!H132=\"\",\"\",'Data Input'!H132)","v":""},{"$f":"IF('Data Input'!A132=\"\",\"\",'Data Input'!A132)","v":""},{"$f":"IF('Data Input'!R132=\"\",\"\",'Data Input'!R132)","v":""},{"$f":"IF('Data Input'!D132=\"\",\"\",'Data Input'!D132)","v":""},{"$f":"IF('Data Input'!E132=\"\",\"\",'Data Input'!E132)","v":""},{"$f":"IF('Data Input'!F132=\"\",\"\",'Data Input'!F132)","v":""},{"$f":"IF('Data Input'!G132=\"\",\"\",'Data Input'!G132)","v":""},{"$f":"IF('Data Input'!B132=\"\",\"\",'Data Input'!B132)","v":""},{"$f":"IF('Data Input'!C132=\"\",\"\",'Data Input'!C132)","v":""},{"$f":"IF('Data Input'!J132=\"\",\"\",'Data Input'!J132)","v":""},{"$f":"IF('Data Input'!K132=\"\",\"\",'Data Input'!K132)","v":""},{"$f":"IF('Data Input'!O132=\"\",\"\",'Data Input'!O132)","v":""},{"$f":"IF('Data Input'!L132=\"\",\"\",'Data Input'!L132)","v":""},{"$f":"IF('Data Input'!M132=\"\",\"\",'Data Input'!M132)","v":""},{"$f":"IF('Data Input'!Q132=\"\",\"\",'Data Input'!Q132)","v":""},{"$f":"IF('Data Input'!N132=\"\",\"\",'Data Input'!N132)","v":""},null,null,null,null,null,null,null,null,"",{"$f":"IFERROR(VLOOKUP($Z134,Lookup!$C:$E,2,FALSE),\"\")","v":""},{"$f":"IFERROR(VLOOKUP($AA134,Lookup!$D:$E,2,FALSE),\"\")","v":""},"",{"$f":"IFERROR(VLOOKUP($AC134,Lookup!$C:$E,2,FALSE),\"\")","v":""},{"$f":"IFERROR(VLOOKUP($AD134,Lookup!$D:$E,2,FALSE),\"\")","v":""},"",{"$f":"IFERROR(VLOOKUP($AF134,Lookup!$C:$E,2,FALSE),\"\")","v":""},{"$f":"IFERROR(VLOOKUP($AG134,Lookup!$D:$E,2,FALSE),\"\")","v":""},""]
[{"$f":"IF('Data Input'!I133=\"\",\"\",'Data Input'!I133)","v":""},{"$f":"IF('Data Input'!H133=\"\",\"\",'Data Input'!H133)","v":""},{"$f":"IF('Data Input'!A133=\"\",\"\",'Data Input'!A133)","v":""},{"$f":"IF('Data Input'!R133=\"\",\"\",'Data Input'!R133)","v":""},{"$f":"IF('Data Input'!D133=\"\",\"\",'Data Input'!D133)","v":""},{"$f":"IF('Data Input'!E133=\"\",\"\",'Data Input'!E133)","v":""},{"$f":"IF('Data Input'!F133=\"\",\"\",'Data Input'!F133)","v":""},{"$f":"IF('Data Input'!G133=\"\",\"\",'Data Input'!G133)","v":""},{"$f":"IF('Data Input'!B133=\"\",\"\",'Data Input'!B133)","v":""},{"$f":"IF('Data Input'!C133=\"\",\"\",'Data Input'!C133)","v":""},{"$f":"IF('Data Input'!J133=\"\",\"\",'Data Input'!J133)","v":""},{"$f":"IF('Data Input'!K133=\"\",\"\",'Data Input'!K133)","v":""},{"$f":"IF('Data Input'!O133=\"\",\"\",'Data Input'!O133)","v":""},{"$f":"IF('Data Input'!L133=\"\",\"\",'Data Input'!L133)","v":""},{"$f":"IF('Data Input'!M133=\"\",\"\",'Data Input'!M133)","v":""},{"$f":"IF('Data Input'!Q133=\"\",\"\",'Data Input'!Q133)","v":""},{"$f":"IF('Data Input'!N133=\"\",\"\",'Data Input'!N133)","v":""},null,null,null,null,null,null,null,null,"",{"$f":"IFERROR(VLOOKUP($Z135,Lookup!$C:$E,2,FALSE),\"\")","v":""},{"$f":"IFERROR(VLOOKUP($AA135,Lookup!$D:$E,2,FALSE),\"\")","v":""},"",{"$f":"IFERROR(VLOOKUP($AC135,Lookup!$C:$E,2,FALSE),\"\")","v":""},{"$f":"IFERROR(VLOOKUP($AD135,Lookup!$D:$E,2,FALSE),\"\")","v":""},"",{"$f":"IFERROR(VLOOKUP($AF135,Lookup!$C:$E,2,FALSE),\"\")","v":""},{"$f":"IFERROR(VLOOKUP($AG135,Lookup!$D:$E,2,FALSE),\"\")","v":""},""]
[{"$f":"IF('Data Input'!I134=\"\",\"\",'Data Input'!I134)","v":""},{"$f":"IF('Data Input'!H134=\"\",\"\",'Data Input'!H134)","v":""},{"$f":"IF('Data Input'!A134=\"\",\"\",'Data Input'!A134)","v":""},{"$f":"IF('Data Input'!R134=\"\",\"\",'Data Input'!R134)","v":""},{"$f":"IF('Data Input'!D134=\"\",\"\",'Data Input'!D134)","v":""},{"$f":"IF('Data Input'!E134=\"\",\"\",'Data Input'!E134)","v":""},{"$f":"IF('Data Input'!F134=\"\",\"\",'Data Input'!F134)","v":""},{"$f":"IF('Data Input'!G134=\"\",\"\",'Data Input'!G134)","v":""},{"$f":"IF('Data Input'!B134=\"\",\"\",'Data Input'!B134)","v":""},{"$f":"IF('Data Input'!C134=\"\",\"\",'Data Input'!C134)","v":""},{"$f":"IF('Data Input'!J134=\"\",\"\",'Data Input'!J134)","v":""},{"$f":"IF('Data Input'!K134=\"\",\"\",'Data Input'!K134)","v":""},{"$f":"IF('Data Input'!O134=\"\",\"\",'Data Input'!O134)","v":""},{"$f":"IF('Data Input'!L134=\"\",\"\",'Data Input'!L134)","v":""},{"$f":"IF('Data Input'!M134=\"\",\"\",'Data Input'!M134)","v":""},{"$f":"IF('Data Input'!Q134=\"\",\"\",'Data Input'!Q134)","v":""},{"$f":"IF('Data Input'!N134=\"\",\"\",'Data Input'!N134)","v":""},null,null,null,null,null,null,null,null,"",{"$f":"IFERROR(VLOOKUP($Z136,Lookup!$C:$E,2,FALSE),\"\")","v":""},{"$f":"IFERROR(VLOOKUP($AA136,Lookup!$D:$E,2,FALSE),\"\")","v":""},"",{"$f":"IFERROR(VLOOKUP($AC136,Lookup!$C:$E,2,FALSE),\"\")","v":""},{"$f":"IFERROR(VLOOKUP($AD136,Lookup!$D:$E,2,FALSE),\"\")","v":""},"",{"$f":"IFERROR(VLOOKUP($AF136,Lookup!$C:$E,2,FALSE),\"\")","v":""},{"$f":"IFERROR(VLOOKUP($AG136,Lookup!$D:$E,2,FALSE),\"\")","v":""},""]
[{"$f":"IF('Data Input'!I135=\"\",\"\",'Data Input'!I135)","v":""},{"$f":"IF('Data Input'!H135=\"\",\"\",'Data Input'!H135)","v":""},{"$f":"IF('Data Input'!A135=\"\",\"\",'Data Input'!A135)","v":""},{"$f":"IF('Data Input'!R135=\"\",\"\",'Data Input'!R135)","v":""},{"$f":"IF('Data Input'!D135=\"\",\"\",'Data Input'!D135)","v":""},{"$f":"IF('Data Input'!E135=\"\",\"\",'Data Input'!E135)","v":""},{"$f":"IF('Data Input'!F135=\"\",\"\",'Data Input'!F135)","v":""},{"$f":"IF('Data Input'!G135=\"\",\"\",'Data Input'!G135)","v":""},{"$f":"IF('Data Input'!B135=\"\",\"\",'Data Input'!B135)","v":""},{"$f":"IF('Data Input'!C135=\"\",\"\",'Data Input'!C135)","v":""},{"$f":"IF('Data Input'!J135=\"\",\"\",'Data Input'!J135)","v":""},{"$f":"IF('Data Input'!K135=\"\",\"\",'Data Input'!K135)","v":""},{"$f":"IF('Data Input'!O135=\"\",\"\",'Data Input'!O135)","v":""},{"$f":"IF('Data Input'!L135=\"\",\"\",'Data Input'!L135)","v":""},{"$f":"IF('Data Input'!M135=\"\",\"\",'Data Input'!M135)","v":""},{"$f":"IF('Data Input'!Q135=\"\",\"\",'Data Input'!Q135)","v":""},{"$f":"IF('Data Input'!N135=\"\",\"\",'Data Input'!N135)","v":""},null,null,null,null,null,null,null,null,"",{"$f":"IFERROR(VLOOKUP($Z137,Lookup!$C:$E,2,FALSE),\"\")","v":""},{"$f":"IFERROR(VLOOKUP($AA137,Lookup!$D:$E,2,FALSE),\"\")","v":""},"",{"$f":"IFERROR(VLOOKUP($AC137,Lookup!$C:$E,2,FALSE),\"\")","v":""},{"$f":"IFERROR(VLOOKUP($AD137,Lookup!$D:$E,2,FALSE),\"\")","v":""},"",{"$f":"IFERROR(VLOOKUP($AF137,Lookup!$C:$E,2,FALSE),\"\")","v":""},{"$f":"IFERROR(VLOOKUP($AG137,Lookup!$D:$E,2,FALSE),\"\")","v":""},""]
[{"$f":"IF('Data Input'!I136=\"\",\"\",'Data Input'!I136)","v":""},{"$f":"IF('Data Input'!H136=\"\",\"\",'Data Input'!H136)","v":""},{"$f":"IF('Data Input'!A136=\"\",\"\",'Data Input'!A136)","v":""},{"$f":"IF('Data Input'!R136=\"\",\"\",'Data Input'!R136)","v":""},{"$f":"IF('Data Input'!D136=\"\",\"\",'Data Input'!D136)","v":""},{"$f":"IF('Data Input'!E136=\"\",\"\",'Data Input'!E136)","v":""},{"$f":"IF('Data Input'!F136=\"\",\"\",'Data Input'!F136)","v":""},{"$f":"IF('Data Input'!G136=\"\",\"\",'Data Input'!G136)","v":""},{"$f":"IF('Data Input'!B136=\"\",\"\",'Data Input'!B136)","v":""},{"$f":"IF('Data Input'!C136=\"\",\"\",'Data Input'!C136)","v":""},{"$f":"IF('Data Input'!J136=\"\",\"\",'Data Input'!J136)","v":""},{"$f":"IF('Data Input'!K136=\"\",\"\",'Data Input'!K136)","v":""},{"$f":"IF('Data Input'!O136=\"\",\"\",'Data Input'!O136)","v":""},{"$f":"IF('Data Input'!L136=\"\",\"\",'Data Input'!L136)","v":""},{"$f":"IF('Data Input'!M136=\"\",\"\",'Data Input'!M136)","v":""},{"$f":"IF('Data Input'!Q136=\"\",\"\",'Data Input'!Q136)","v":""},{"$f":"IF('Data Input'!N136=\"\",\"\",'Data Input'!N136)","v":""},null,null,null,null,null,null,null,null,"",{"$f":"IFERROR(VLOOKUP($Z138,Lookup!$C:$E,2,FALSE),\"\")","v":""},{"$f":"IFERROR(VLOOKUP($AA138,Lookup!$D:$E,2,FALSE),\"\")","v":""},"",{"$f":"IFERROR(VLOOKUP($AC138,Lookup!$C:$E,2,FALSE),\"\")","v":""},{"$f":"IFERROR(VLOOKUP($AD138,Lookup!$D:$E,2,FALSE),\"\")","v":""},"",{"$f":"IFERROR(VLOOKUP($AF138,Lookup!$C:$E,2,FALSE),\"\")","v":""},{"$f":"IFERROR(VLOOKUP($AG138,Lookup!$D:$E,2,FALSE),\"\")","v":""},""]
[{"$f":"IF('Data Input'!I137=\"\",\"\",'Data Input'!I137)","v":""},{"$f":"IF('Data Input'!H137=\"\",\"\",'Data Input'!H137)","v":""},{"$f":"IF('Data Input'!A137=\"\",\"\",'Data Input'!A137)","v":""},{"$f":"IF('Data Input'!R137=\"\",\"\",'Data Input'!R137)","v":""},{"$f":"IF('Data Input'!D137=\"\",\"\",'Data Input'!D137)","v":""},{"$f":"IF('Data Input'!E137=\"\",\"\",'Data Input'!E137)","v":""},{"$f":"IF('Data Input'!F137=\"\",\"\",'Data Input'!F137)","v":""},{"$f":"IF('Data Input'!G137=\"\",\"\",'Data Input'!G137)","v":""},{"$f":"IF('Data Input'!B137=\"\",\"\",'Data Input'!B137)","v":""},{"$f":"IF('Data Input'!C137=\"\",\"\",'Data Input'!C137)","v":""},{"$f":"IF('Data Input'!J137=\"\",\"\",'Data Input'!J137)","v":""},{"$f":"IF('Data Input'!K137=\"\",\"\",'Data Input'!K137)","v":""},{"$f":"IF('Data Input'!O137=\"\",\"\",'Data Input'!O137)","v":""},{"$f":"IF('Data Input'!L137=\"\",\"\",'Data Input'!L137)","v":""},{"$f":"IF('Data Input'!M137=\"\",\"\",'Data Input'!M137)","v":""},{"$f":"IF('Data Input'!Q137=\"\",\"\",'Data Input'!Q137)","v":""},{"$f":"IF('Data Input'!N137=\"\",\"\",'Data Input'!N137)","v":""},null,null,null,null,null,null,null,null,"",{"$f":"IFERROR(VLOOKUP($Z139,Lookup!$C:$E,2,FALSE),\"\")","v":""},{"$f":"IFERROR(VLOOKUP($AA139,Lookup!$D:$E,2,FALSE),\"\")","v":""},"",{"$f":"IFERROR(VLOOKUP($AC139,Lookup!$C:$E,2,FALSE),\"\")","v":""},{"$f":"IFERROR(VLOOKUP($AD139,Lookup!$D:$E,2,FALSE),\"\")","v":""},"",{"$f":"IFERROR(VLOOKUP($AF139,Lookup!$C:$E,2,FALSE),\"\")","v":""},{"$f":"IFERROR(VLOOKUP($AG139,Lookup!$D:$E,2,FALSE),\"\")","v":""},""]
[{"$f":"IF('Data Input'!I138=\"\",\"\",'Data Input'!I138)","v":""},{"$f":"IF('Data Input'!H138=\"\",\"\",'Data Input'!H138)","v":""},{"$f":"IF('Data Input'!A138=\"\",\"\",'Data Input'!A138)","v":""},{"$f":"IF('Data Input'!R138=\"\",\"\",'Data Input'!R138)","v":""},{"$f":"IF('Data Input'!D138=\"\",\"\",'Data Input'!D138)","v":""},{"$f":"IF('Data Input'!E138=\"\",\"\",'Data Input'!E138)","v":""},{"$f":"IF('Data Input'!F138=\"\",\"\",'Data Input'!F138)","v":""},{"$f":"IF('Data Input'!G138=\"\",\"\",'Data Input'!G138)","v":""},{"$f":"IF('Data Input'!B138=\"\",\"\",'Data Input'!B138)","v":""},{"$f":"IF('Data Input'!C138=\"\",\"\",'Data Input'!C138)","v":""},{"$f":"IF('Data Input'!J138=\"\",\"\",'Data Input'!J138)","v":""},{"$f":"IF('Data Input'!K138=\"\",\"\",'Data Input'!K138)","v":""},{"$f":"IF('Data Input'!O138=\"\",\"\",'Data Input'!O138)","v":""},{"$f":"IF('Data Input'!L138=\"\",\"\",'Data Input'!L138)","v":""},{"$f":"IF('Data Input'!M138=\"\",\"\",'Data Input'!M138)","v":""},{"$f":"IF('Data Input'!Q138=\"\",\"\",'Data Input'!Q138)","v":""},{"$f":"IF('Data Input'!N138=\"\",\"\",'Data Input'!N138)","v":""},null,null,null,null,null,null,null,null,"",{"$f":"IFERROR(VLOOKUP($Z140,Lookup!$C:$E,2,FALSE),\"\")","v":""},{"$f":"IFERROR(VLOOKUP($AA140,Lookup!$D:$E,2,FALSE),\"\")","v":""},"",{"$f":"IFERROR(VLOOKUP($AC140,Lookup!$C:$E,2,FALSE),\"\")","v":""},{"$f":"IFERROR(VLOOKUP($AD140,Lookup!$D:$E,2,FALSE),\"\")","v":""},"",{"$f":"IFERROR(VLOOKUP($AF140,Lookup!$C:$E,2,FALSE),\"\")","v":""},{"$f":"IFERROR(VLOOKUP($AG140,Lookup!$D:$E,2,FALSE),\"\")","v":""},""]
[{"$f":"IF('Data Input'!I139=\"\",\"\",'Data Input'!I139)","v":""},{"$f":"IF('Data Input'!H139=\"\",\"\",'Data Input'!H139)","v":""},{"$f":"IF('Data Input'!A139=\"\",\"\",'Data Input'!A139)","v":""},{"$f":"IF('Data Input'!R139=\"\",\"\",'Data Input'!R139)","v":""},{"$f":"IF('Data Input'!D139=\"\",\"\",'Data Input'!D139)","v":""},{"$f":"IF('Data Input'!E139=\"\",\"\",'Data Input'!E139)","v":""},{"$f":"IF('Data Input'!F139=\"\",\"\",'Data Input'!F139)","v":""},{"$f":"IF('Data Input'!G139=\"\",\"\",'Data Input'!G139)","v":""},{"$f":"IF('Data Input'!B139=\"\",\"\",'Data Input'!B139)","v":""},{"$f":"IF('Data Input'!C139=\"\",\"\",'Data Input'!C139)","v":""},{"$f":"IF('Data Input'!J139=\"\",\"\",'Data Input'!J139)","v":""},{"$f":"IF('Data Input'!K139=\"\",\"\",'Data Input'!K139)","v":""},{"$f":"IF('Data Input'!O139=\"\",\"\",'Data Input'!O139)","v":""},{"$f":"IF('Data Input'!L139=\"\",\"\",'Data Input'!L139)","v":""},{"$f":"IF('Data Input'!M139=\"\",\"\",'Data Input'!M139)","v":""},{"$f":"IF('Data Input'!Q139=\"\",\"\",'Data Input'!Q139)","v":""},{"$f":"IF('Data Input'!N139=\"\",\"\",'Data Input'!N139)","v":""},null,null,null,null,null,null,null,null,"",{"$f":"IFERROR(VLOOKUP($Z141,Lookup!$C:$E,2,FALSE),\"\")","v":""},{"$f":"IFERROR(VLOOKUP($AA141,Lookup!$D:$E,2,FALSE),\"\")","v":""},"",{"$f":"IFERROR(VLOOKUP($AC141,Lookup!$C:$E,2,FALSE),\"\")","v":""},{"$f":"IFERROR(VLOOKUP($AD141,Lookup!$D:$E,2,FALSE),\"\")","v":""},"",{"$f":"IFERROR(VLOOKUP($AF141,Lookup!$C:$E,2,FALSE),\"\")","v":""},{"$f":"IFERROR(VLOOKUP($AG141,Lookup!$D:$E,2,FALSE),\"\")","v":""},""]
[{"$f":"IF('Data Input'!I140=\"\",\"\",'Data Input'!I140)","v":""},{"$f":"IF('Data Input'!H140=\"\",\"\",'Data Input'!H140)","v":""},{"$f":"IF('Data Input'!A140=\"\",\"\",'Data Input'!A140)","v":""},{"$f":"IF('Data Input'!R140=\"\",\"\",'Data Input'!R140)","v":""},{"$f":"IF('Data Input'!D140=\"\",\"\",'Data Input'!D140)","v":""},{"$f":"IF('Data Input'!E140=\"\",\"\",'Data Input'!E140)","v":""},{"$f":"IF('Data Input'!F140=\"\",\"\",'Data Input'!F140)","v":""},{"$f":"IF('Data Input'!G140=\"\",\"\",'Data Input'!G140)","v":""},{"$f":"IF('Data Input'!B140=\"\",\"\",'Data Input'!B140)","v":""},{"$f":"IF('Data Input'!C140=\"\",\"\",'Data Input'!C140)","v":""},{"$f":"IF('Data Input'!J140=\"\",\"\",'Data Input'!J140)","v":""},{"$f":"IF('Data Input'!K140=\"\",\"\",'Data Input'!K140)","v":""},{"$f":"IF('Data Input'!O140=\"\",\"\",'Data Input'!O140)","v":""},{"$f":"IF('Data Input'!L140=\"\",\"\",'Data Input'!L140)","v":""},{"$f":"IF('Data Input'!M140=\"\",\"\",'Data Input'!M140)","v":""},{"$f":"IF('Data Input'!Q140=\"\",\"\",'Data Input'!Q140)","v":""},{"$f":"IF('Data Input'!N140=\"\",\"\",'Data Input'!N140)","v":""},null,null,null,null,null,null,null,null,"",{"$f":"IFERROR(VLOOKUP($Z142,Lookup!$C:$E,2,FALSE),\"\")","v":""},{"$f":"IFERROR(VLOOKUP($AA142,Lookup!$D:$E,2,FALSE),\"\")","v":""},"",{"$f":"IFERROR(VLOOKUP($AC142,Lookup!$C:$E,2,FALSE),\"\")","v":""},{"$f":"IFERROR(VLOOKUP($AD142,Lookup!$D:$E,2,FALSE),\"\")","v":""},"",{"$f":"IFERROR(VLOOKUP($AF142,Lookup!$C:$E,2,FALSE),\"\")","v":""},{"$f":"IFERROR(VLOOKUP($AG142,Lookup!$D:$E,2,FALSE),\"\")","v":""},""]
[{"$f":"IF('Data Input'!I141=\"\",\"\",'Data Input'!I141)","v":""},{"$f":"IF('Data Input'!H141=\"\",\"\",'Data Input'!H141)","v":""},{"$f":"IF('Data Input'!A141=\"\",\"\",'Data Input'!A141)","v":""},{"$f":"IF('Data Input'!R141=\"\",\"\",'Data Input'!R141)","v":""},{"$f":"IF('Data Input'!D141=\"\",\"\",'Data Input'!D141)","v":""},{"$f":"IF('Data Input'!E141=\"\",\"\",'Data Input'!E141)","v":""},{"$f":"IF('Data Input'!F141=\"\",\"\",'Data Input'!F141)","v":""},{"$f":"IF('Data Input'!G141=\"\",\"\",'Data Input'!G141)","v":""},{"$f":"IF('Data Input'!B141=\"\",\"\",'Data Input'!B141)","v":""},{"$f":"IF('Data Input'!C141=\"\",\"\",'Data Input'!C141)","v":""},{"$f":"IF('Data Input'!J141=\"\",\"\",'Data Input'!J141)","v":""},{"$f":"IF('Data Input'!K141=\"\",\"\",'Data Input'!K141)","v":""},{"$f":"IF('Data Input'!O141=\"\",\"\",'Data Input'!O141)","v":""},{"$f":"IF('Data Input'!L141=\"\",\"\",'Data Input'!L141)","v":""},{"$f":"IF('Data Input'!M141=\"\",\"\",'Data Input'!M141)","v":""},{"$f":"IF('Data Input'!Q141=\"\",\"\",'Data Input'!Q141)","v":""},{"$f":"IF('Data Input'!N141=\"\",\"\",'Data Input'!N141)","v":""},null,null,null,null,null,null,null,null,"",{"$f":"IFERROR(VLOOKUP($Z143,Lookup!$C:$E,2,FALSE),\"\")","v":""},{"$f":"IFERROR(VLOOKUP($AA143,Lookup!$D:$E,2,FALSE),\"\")","v":""},"",{"$f":"IFERROR(VLOOKUP($AC143,Lookup!$C:$E,2,FALSE),\"\")","v":""},{"$f":"IFERROR(VLOOKUP($AD143,Lookup!$D:$E,2,FALSE),\"\")","v":""},"",{"$f":"IFERROR(VLOOKUP($AF143,Lookup!$C:$E,2,FALSE),\"\")","v":""},{"$f":"IFERROR(VLOOKUP($AG143,Lookup!$D:$E,2,FALSE),\"\")","v":""},""]
[{"$f":"IF('Data Input'!I142=\"\",\"\",'Data Input'!I142)","v":""},{"$f":"IF('Data Input'!H142=\"\",\"\",'Data Input'!H142)","v":""},{"$f":"IF('Data Input'!A142=\"\",\"\",'Data Input'!A142)","v":""},{"$f":"IF('Data Input'!R142=\"\",\"\",'Data Input'!R142)","v":""},{"$f":"IF('Data Input'!D142=\"\",\"\",'Data Input'!D142)","v":""},{"$f":"IF('Data Input'!E142=\"\",\"\",'Data Input'!E142)","v":""},{"$f":"IF('Data Input'!F142=\"\",\"\",'Data Input'!F142)","v":""},{"$f":"IF('Data Input'!G142=\"\",\"\",'Data Input'!G142)","v":""},{"$f":"IF('Data Input'!B142=\"\",\"\",'Data Input'!B142)","v":""},{"$f":"IF('Data Input'!C142=\"\",\"\",'Data Input'!C142)","v":""},{"$f":"IF('Data Input'!J142=\"\",\"\",'Data Input'!J142)","v":""},{"$f":"IF('Data Input'!K142=\"\",\"\",'Data Input'!K142)","v":""},{"$f":"IF('Data Input'!O142=\"\",\"\",'Data Input'!O142)","v":""},{"$f":"IF('Data Input'!L142=\"\",\"\",'Data Input'!L142)","v":""},{"$f":"IF('Data Input'!M142=\"\",\"\",'Data Input'!M142)","v":""},{"$f":"IF('Data Input'!Q142=\"\",\"\",'Data Input'!Q142)","v":""},{"$f":"IF('Data Input'!N142=\"\",\"\",'Data Input'!N142)","v":""},null,null,null,null,null,null,null,null,"",{"$f":"IFERROR(VLOOKUP($Z144,Lookup!$C:$E,2,FALSE),\"\")","v":""},{"$f":"IFERROR(VLOOKUP($AA144,Lookup!$D:$E,2,FALSE),\"\")","v":""},"",{"$f":"IFERROR(VLOOKUP($AC144,Lookup!$C:$E,2,FALSE),\"\")","v":""},{"$f":"IFERROR(VLOOKUP($AD144,Lookup!$D:$E,2,FALSE),\"\")","v":""},"",{"$f":"IFERROR(VLOOKUP($AF144,Lookup!$C:$E,2,FALSE),\"\")","v":""},{"$f":"IFERROR(VLOOKUP($AG144,Lookup!$D:$E,2,FALSE),\"\")","v":""},""]
[{"$f":"IF('Data Input'!I143=\"\",\"\",'Data Input'!I143)","v":""},{"$f":"IF('Data Input'!H143=\"\",\"\",'Data Input'!H143)","v":""},{"$f":"IF('Data Input'!A143=\"\",\"\",'Data Input'!A143)","v":""},{"$f":"IF('Data Input'!R143=\"\",\"\",'Data Input'!R143)","v":""},{"$f":"IF('Data Input'!D143=\"\",\"\",'Data Input'!D143)","v":""},{"$f":"IF('Data Input'!E143=\"\",\"\",'Data Input'!E143)","v":""},{"$f":"IF('Data Input'!F143=\"\",\"\",'Data Input'!F143)","v":""},{"$f":"IF('Data Input'!G143=\"\",\"\",'Data Input'!G143)","v":""},{"$f":"IF('Data Input'!B143=\"\",\"\",'Data Input'!B143)","v":""},{"$f":"IF('Data Input'!C143=\"\",\"\",'Data Input'!C143)","v":""},{"$f":"IF('Data Input'!J143=\"\",\"\",'Data Input'!J143)","v":""},{"$f":"IF('Data Input'!K143=\"\",\"\",'Data Input'!K143)","v":""},{"$f":"IF('Data Input'!O143=\"\",\"\",'Data Input'!O143)","v":""},{"$f":"IF('Data Input'!L143=\"\",\"\",'Data Input'!L143)","v":""},{"$f":"IF('Data Input'!M143=\"\",\"\",'Data Input'!M143)","v":""},{"$f":"IF('Data Input'!Q143=\"\",\"\",'Data Input'!Q143)","v":""},{"$f":"IF('Data Input'!N143=\"\",\"\",'Data Input'!N143)","v":""},null,null,null,null,null,null,null,null,"",{"$f":"IFERROR(VLOOKUP($Z145,Lookup!$C:$E,2,FALSE),\"\")","v":""},{"$f":"IFERROR(VLOOKUP($AA145,Lookup!$D:$E,2,FALSE),\"\")","v":""},"",{"$f":"IFERROR(VLOOKUP($AC145,Lookup!$C:$E,2,FALSE),\"\")","v":""},{"$f":"IFERROR(VLOOKUP($AD145,Lookup!$D:$E,2,FALSE),\"\")","v":""},"",{"$f":"IFERROR(VLOOKUP($AF145,Lookup!$C:$E,2,FALSE),\"\")","v":""},{"$f":"IFERROR(VLOOKUP($AG145,Lookup!$D:$E,2,FALSE),\"\")","v":""},""]
[{"$f":"IF('Data Input'!I144=\"\",\"\",'Data Input'!I144)","v":""},{"$f":"IF('Data Input'!H144=\"\",\"\",'Data Input'!H144)","v":""},{"$f":"IF('Data Input'!A144=\"\",\"\",'Data Input'!A144)","v":""},{"$f":"IF('Data Input'!R144=\"\",\"\",'Data Input'!R144)","v":""},{"$f":"IF('Data Input'!D144=\"\",\"\",'Data Input'!D144)","v":""},{"$f":"IF('Data Input'!E144=\"\",\"\",'Data Input'!E144)","v":""},{"$f":"IF('Data Input'!F144=\"\",\"\",'Data Input'!F144)","v":""},{"$f":"IF('Data Input'!G144=\"\",\"\",'Data Input'!G144)","v":""},{"$f":"IF('Data Input'!B144=\"\",\"\",'Data Input'!B144)","v":""},{"$f":"IF('Data Input'!C144=\"\",\"\",'Data Input'!C144)","v":""},{"$f":"IF('Data Input'!J144=\"\",\"\",'Data Input'!J144)","v":""},{"$f":"IF('Data Input'!K144=\"\",\"\",'Data Input'!K144)","v":""},{"$f":"IF('Data Input'!O144=\"\",\"\",'Data Input'!O144)","v":""},{"$f":"IF('Data Input'!L144=\"\",\"\",'Data Input'!L144)","v":""},{"$f":"IF('Data Input'!M144=\"\",\"\",'Data Input'!M144)","v":""},{"$f":"IF('Data Input'!Q144=\"\",\"\",'Data Input'!Q144)","v":""},{"$f":"IF('Data Input'!N144=\"\",\"\",'Data Input'!N144)","v":""},null,null,null,null,null,null,null,null,"",{"$f":"IFERROR(VLOOKUP($Z146,Lookup!$C:$E,2,FALSE),\"\")","v":""},{"$f":"IFERROR(VLOOKUP($AA146,Lookup!$D:$E,2,FALSE),\"\")","v":""},"",{"$f":"IFERROR(VLOOKUP($AC146,Lookup!$C:$E,2,FALSE),\"\")","v":""},{"$f":"IFERROR(VLOOKUP($AD146,Lookup!$D:$E,2,FALSE),\"\")","v":""},"",{"$f":"IFERROR(VLOOKUP($AF146,Lookup!$C:$E,2,FALSE),\"\")","v":""},{"$f":"IFERROR(VLOOKUP($AG146,Lookup!$D:$E,2,FALSE),\"\")","v":""},""]
[{"$f":"IF('Data Input'!I145=\"\",\"\",'Data Input'!I145)","v":""},{"$f":"IF('Data Input'!H145=\"\",\"\",'Data Input'!H145)","v":""},{"$f":"IF('Data Input'!A145=\"\",\"\",'Data Input'!A145)","v":""},{"$f":"IF('Data Input'!R145=\"\",\"\",'Data Input'!R145)","v":""},{"$f":"IF('Data Input'!D145=\"\",\"\",'Data Input'!D145)","v":""},{"$f":"IF('Data Input'!E145=\"\",\"\",'Data Input'!E145)","v":""},{"$f":"IF('Data Input'!F145=\"\",\"\",'Data Input'!F145)","v":""},{"$f":"IF('Data Input'!G145=\"\",\"\",'Data Input'!G145)","v":""},{"$f":"IF('Data Input'!B145=\"\",\"\",'Data Input'!B145)","v":""},{"$f":"IF('Data Input'!C145=\"\",\"\",'Data Input'!C145)","v":""},{"$f":"IF('Data Input'!J145=\"\",\"\",'Data Input'!J145)","v":""},{"$f":"IF('Data Input'!K145=\"\",\"\",'Data Input'!K145)","v":""},{"$f":"IF('Data Input'!O145=\"\",\"\",'Data Input'!O145)","v":""},{"$f":"IF('Data Input'!L145=\"\",\"\",'Data Input'!L145)","v":""},{"$f":"IF('Data Input'!M145=\"\",\"\",'Data Input'!M145)","v":""},{"$f":"IF('Data Input'!Q145=\"\",\"\",'Data Input'!Q145)","v":""},{"$f":"IF('Data Input'!N145=\"\",\"\",'Data Input'!N145)","v":""},null,null,null,null,null,null,null,null,"",{"$f":"IFERROR(VLOOKUP($Z147,Lookup!$C:$E,2,FALSE),\"\")","v":""},{"$f":"IFERROR(VLOOKUP($AA147,Lookup!$D:$E,2,FALSE),\"\")","v":""},"",{"$f":"IFERROR(VLOOKUP($AC147,Lookup!$C:$E,2,FALSE),\"\")","v":""},{"$f":"IFERROR(VLOOKUP($AD147,Lookup!$D:$E,2,FALSE),\"\")","v":""},"",{"$f":"IFERROR(VLOOKUP($AF147,Lookup!$C:$E,2,FALSE),\"\")","v":""},{"$f":"IFERROR(VLOOKUP($AG147,Lookup!$D:$E,2,FALSE),\"\")","v":""},""]
[{"$f":"IF('Data Input'!I146=\"\",\"\",'Data Input'!I146)","v":""},{"$f":"IF('Data Input'!H146=\"\",\"\",'Data Input'!H146)","v":""},{"$f":"IF('Data Input'!A146=\"\",\"\",'Data Input'!A146)","v":""},{"$f":"IF('Data Input'!R146=\"\",\"\",'Data Input'!R146)","v":""},{"$f":"IF('Data Input'!D146=\"\",\"\",'Data Input'!D146)","v":""},{"$f":"IF('Data Input'!E146=\"\",\"\",'Data Input'!E146)","v":""},{"$f":"IF('Data Input'!F146=\"\",\"\",'Data Input'!F146)","v":""},{"$f":"IF('Data Input'!G146=\"\",\"\",'Data Input'!G146)","v":""},{"$f":"IF('Data Input'!B146=\"\",\"\",'Data Input'!B146)","v":""},{"$f":"IF('Data Input'!C146=\"\",\"\",'Data Input'!C146)","v":""},{"$f":"IF('Data Input'!J146=\"\",\"\",'Data Input'!J146)","v":""},{"$f":"IF('Data Input'!K146=\"\",\"\",'Data Input'!K146)","v":""},{"$f":"IF('Data Input'!O146=\"\",\"\",'Data Input'!O146)","v":""},{"$f":"IF('Data Input'!L146=\"\",\"\",'Data Input'!L146)","v":""},{"$f":"IF('Data Input'!M146=\"\",\"\",'Data Input'!M146)","v":""},{"$f":"IF('Data Input'!Q146=\"\",\"\",'Data Input'!Q146)","v":""},{"$f":"IF('Data Input'!N146=\"\",\"\",'Data Input'!N146)","v":""},null,null,null,null,null,null,null,null,"",{"$f":"IFERROR(VLOOKUP($Z148,Lookup!$C:$E,2,FALSE),\"\")","v":""},{"$f":"IFERROR(VLOOKUP($AA148,Lookup!$D:$E,2,FALSE),\"\")","v":""},"",{"$f":"IFERROR(VLOOKUP($AC148,Lookup!$C:$E,2,FALSE),\"\")","v":""},{"$f":"IFERROR(VLOOKUP($AD148,Lookup!$D:$E,2,FALSE),\"\")","v":""},"",{"$f":"IFERROR(VLOOKUP($AF148,Lookup!$C:$E,2,FALSE),\"\")","v":""},{"$f":"IFERROR(VLOOKUP($AG148,Lookup!$D:$E,2,FALSE),\"\")","v":""},""]
[{"$f":"IF('Data Input'!I147=\"\",\"\",'Data Input'!I147)","v":""},{"$f":"IF('Data Input'!H147=\"\",\"\",'Data Input'!H147)","v":""},{"$f":"IF('Data Input'!A147=\"\",\"\",'Data Input'!A147)","v":""},{"$f":"IF('Data Input'!R147=\"\",\"\",'Data Input'!R147)","v":""},{"$f":"IF('Data Input'!D147=\"\",\"\",'Data Input'!D147)","v":""},{"$f":"IF('Data Input'!E147=\"\",\"\",'Data Input'!E147)","v":""},{"$f":"IF('Data Input'!F147=\"\",\"\",'Data Input'!F147)","v":""},{"$f":"IF('Data Input'!G147=\"\",\"\",'Data Input'!G147)","v":""},{"$f":"IF('Data Input'!B147=\"\",\"\",'Data Input'!B147)","v":""},{"$f":"IF('Data Input'!C147=\"\",\"\",'Data Input'!C147)","v":""},{"$f":"IF('Data Input'!J147=\"\",\"\",'Data Input'!J147)","v":""},{"$f":"IF('Data Input'!K147=\"\",\"\",'Data Input'!K147)","v":""},{"$f":"IF('Data Input'!O147=\"\",\"\",'Data Input'!O147)","v":""},{"$f":"IF('Data Input'!L147=\"\",\"\",'Data Input'!L147)","v":""},{"$f":"IF('Data Input'!M147=\"\",\"\",'Data Input'!M147)","v":""},{"$f":"IF('Data Input'!Q147=\"\",\"\",'Data Input'!Q147)","v":""},{"$f":"IF('Data Input'!N147=\"\",\"\",'Data Input'!N147)","v":""},null,null,null,null,null,null,null,null,"",{"$f":"IFERROR(VLOOKUP($Z149,Lookup!$C:$E,2,FALSE),\"\")","v":""},{"$f":"IFERROR(VLOOKUP($AA149,Lookup!$D:$E,2,FALSE),\"\")","v":""},"",{"$f":"IFERROR(VLOOKUP($AC149,Lookup!$C:$E,2,FALSE),\"\")","v":""},{"$f":"IFERROR(VLOOKUP($AD149,Lookup!$D:$E,2,FALSE),\"\")","v":""},"",{"$f":"IFERROR(VLOOKUP($AF149,Lookup!$C:$E,2,FALSE),\"\")","v":""},{"$f":"IFERROR(VLOOKUP($AG149,Lookup!$D:$E,2,FALSE),\"\")","v":""},""]
[{"$f":"IF('Data Input'!I148=\"\",\"\",'Data Input'!I148)","v":""},{"$f":"IF('Data Input'!H148=\"\",\"\",'Data Input'!H148)","v":""},{"$f":"IF('Data Input'!A148=\"\",\"\",'Data Input'!A148)","v":""},{"$f":"IF('Data Input'!R148=\"\",\"\",'Data Input'!R148)","v":""},{"$f":"IF('Data Input'!D148=\"\",\"\",'Data Input'!D148)","v":""},{"$f":"IF('Data Input'!E148=\"\",\"\",'Data Input'!E148)","v":""},{"$f":"IF('Data Input'!F148=\"\",\"\",'Data Input'!F148)","v":""},{"$f":"IF('Data Input'!G148=\"\",\"\",'Data Input'!G148)","v":""},{"$f":"IF('Data Input'!B148=\"\",\"\",'Data Input'!B148)","v":""},{"$f":"IF('Data Input'!C148=\"\",\"\",'Data Input'!C148)","v":""},{"$f":"IF('Data Input'!J148=\"\",\"\",'Data Input'!J148)","v":""},{"$f":"IF('Data Input'!K148=\"\",\"\",'Data Input'!K148)","v":""},{"$f":"IF('Data Input'!O148=\"\",\"\",'Data Input'!O148)","v":""},{"$f":"IF('Data Input'!L148=\"\",\"\",'Data Input'!L148)","v":""},{"$f":"IF('Data Input'!M148=\"\",\"\",'Data Input'!M148)","v":""},{"$f":"IF('Data Input'!Q148=\"\",\"\",'Data Input'!Q148)","v":""},{"$f":"IF('Data Input'!N148=\"\",\"\",'Data Input'!N148)","v":""},null,null,null,null,null,null,null,null,"",{"$f":"IFERROR(VLOOKUP($Z150,Lookup!$C:$E,2,FALSE),\"\")","v":""},{"$f":"IFERROR(VLOOKUP($AA150,Lookup!$D:$E,2,FALSE),\"\")","v":""},"",{"$f":"IFERROR(VLOOKUP($AC150,Lookup!$C:$E,2,FALSE),\"\")","v":""},{"$f":"IFERROR(VLOOKUP($AD150,Lookup!$D:$E,2,FALSE),\"\")","v":""},"",{"$f":"IFERROR(VLOOKUP($AF150,Lookup!$C:$E,2,FALSE),\"\")","v":""},{"$f":"IFERROR(VLOOKUP($AG150,Lookup!$D:$E,2,FALSE),\"\")","v":""},""]
[{"$f":"IF('Data Input'!I149=\"\",\"\",'Data Input'!I149)","v":""},{"$f":"IF('Data Input'!H149=\"\",\"\",'Data Input'!H149)","v":""},{"$f":"IF('Data Input'!A149=\"\",\"\",'Data Input'!A149)","v":""},{"$f":"IF('Data Input'!R149=\"\",\"\",'Data Input'!R149)","v":""},{"$f":"IF('Data Input'!D149=\"\",\"\",'Data Input'!D149)","v":""},{"$f":"IF('Data Input'!E149=\"\",\"\",'Data Input'!E149)","v":""},{"$f":"IF('Data Input'!F149=\"\",\"\",'Data Input'!F149)","v":""},{"$f":"IF('Data Input'!G149=\"\",\"\",'Data Input'!G149)","v":""},{"$f":"IF('Data Input'!B149=\"\",\"\",'Data Input'!B149)","v":""},{"$f":"IF('Data Input'!C149=\"\",\"\",'Data Input'!C149)","v":""},{"$f":"IF('Data Input'!J149=\"\",\"\",'Data Input'!J149)","v":""},{"$f":"IF('Data Input'!K149=\"\",\"\",'Data Input'!K149)","v":""},{"$f":"IF('Data Input'!O149=\"\",\"\",'Data Input'!O149)","v":""},{"$f":"IF('Data Input'!L149=\"\",\"\",'Data Input'!L149)","v":""},{"$f":"IF('Data Input'!M149=\"\",\"\",'Data Input'!M149)","v":""},{"$f":"IF('Data Input'!Q149=\"\",\"\",'Data Input'!Q149)","v":""},{"$f":"IF('Data Input'!N149=\"\",\"\",'Data Input'!N149)","v":""},null,null,null,null,null,null,null,null,"",{"$f":"IFERROR(VLOOKUP($Z151,Lookup!$C:$E,2,FALSE),\"\")","v":""},{"$f":"IFERROR(VLOOKUP($AA151,Lookup!$D:$E,2,FALSE),\"\")","v":""},"",{"$f":"IFERROR(VLOOKUP($AC151,Lookup!$C:$E,2,FALSE),\"\")","v":""},{"$f":"IFERROR(VLOOKUP($AD151,Lookup!$D:$E,2,FALSE),\"\")","v":""},"",{"$f":"IFERROR(VLOOKUP($AF151,Lookup!$C:$E,2,FALSE),\"\")","v":""},{"$f":"IFERROR(VLOOKUP($AG151,Lookup!$D:$E,2,FALSE),\"\")","v":""},""]
[{"$f":"IF('Data Input'!I150=\"\",\"\",'Data Input'!I150)","v":""},{"$f":"IF('Data Input'!H150=\"\",\"\",'Data Input'!H150)","v":""},{"$f":"IF('Data Input'!A150=\"\",\"\",'Data Input'!A150)","v":""},{"$f":"IF('Data Input'!R150=\"\",\"\",'Data Input'!R150)","v":""},{"$f":"IF('Data Input'!D150=\"\",\"\",'Data Input'!D150)","v":""},{"$f":"IF('Data Input'!E150=\"\",\"\",'Data Input'!E150)","v":""},{"$f":"IF('Data Input'!F150=\"\",\"\",'Data Input'!F150)","v":""},{"$f":"IF('Data Input'!G150=\"\",\"\",'Data Input'!G150)","v":""},{"$f":"IF('Data Input'!B150=\"\",\"\",'Data Input'!B150)","v":""},{"$f":"IF('Data Input'!C150=\"\",\"\",'Data Input'!C150)","v":""},{"$f":"IF('Data Input'!J150=\"\",\"\",'Data Input'!J150)","v":""},{"$f":"IF('Data Input'!K150=\"\",\"\",'Data Input'!K150)","v":""},{"$f":"IF('Data Input'!O150=\"\",\"\",'Data Input'!O150)","v":""},{"$f":"IF('Data Input'!L150=\"\",\"\",'Data Input'!L150)","v":""},{"$f":"IF('Data Input'!M150=\"\",\"\",'Data Input'!M150)","v":""},{"$f":"IF('Data Input'!Q150=\"\",\"\",'Data Input'!Q150)","v":""},{"$f":"IF('Data Input'!N150=\"\",\"\",'Data Input'!N150)","v":""},null,null,null,null,null,null,null,null,"",{"$f":"IFERROR(VLOOKUP($Z152,Lookup!$C:$E,2,FALSE),\"\")","v":""},{"$f":"IFERROR(VLOOKUP($AA152,Lookup!$D:$E,2,FALSE),\"\")","v":""},"",{"$f":"IFERROR(VLOOKUP($AC152,Lookup!$C:$E,2,FALSE),\"\")","v":""},{"$f":"IFERROR(VLOOKUP($AD152,Lookup!$D:$E,2,FALSE),\"\")","v":""},"",{"$f":"IFERROR(VLOOKUP($AF152,Lookup!$C:$E,2,FALSE),\"\")","v":""},{"$f":"IFERROR(VLOOKUP($AG152,Lookup!$D:$E,2,FALSE),\"\")","v":""},""]
[{"$f":"IF('Data Input'!I151=\"\",\"\",'Data Input'!I151)","v":""},{"$f":"IF('Data Input'!H151=\"\",\"\",'Data Input'!H151)","v":""},{"$f":"IF('Data Input'!A151=\"\",\"\",'Data Input'!A151)","v":""},{"$f":"IF('Data Input'!R151=\"\",\"\",'Data Input'!R151)","v":""},{"$f":"IF('Data Input'!D151=\"\",\"\",'Data Input'!D151)","v":""},{"$f":"IF('Data Input'!E151=\"\",\"\",'Data Input'!E151)","v":""},{"$f":"IF('Data Input'!F151=\"\",\"\",'Data Input'!F151)","v":""},{"$f":"IF('Data Input'!G151=\"\",\"\",'Data Input'!G151)","v":""},{"$f":"IF('Data Input'!B151=\"\",\"\",'Data Input'!B151)","v":""},{"$f":"IF('Data Input'!C151=\"\",\"\",'Data Input'!C151)","v":""},{"$f":"IF('Data Input'!J151=\"\",\"\",'Data Input'!J151)","v":""},{"$f":"IF('Data Input'!K151=\"\",\"\",'Data Input'!K151)","v":""},{"$f":"IF('Data Input'!O151=\"\",\"\",'Data Input'!O151)","v":""},{"$f":"IF('Data Input'!L151=\"\",\"\",'Data Input'!L151)","v":""},{"$f":"IF('Data Input'!M151=\"\",\"\",'Data Input'!M151)","v":""},{"$f":"IF('Data Input'!Q151=\"\",\"\",'Data Input'!Q151)","v":""},{"$f":"IF('Data Input'!N151=\"\",\"\",'Data Input'!N151)","v":""},null,null,null,null,null,null,null,null,"",{"$f":"IFERROR(VLOOKUP($Z153,Lookup!$C:$E,2,FALSE),\"\")","v":""},{"$f":"IFERROR(VLOOKUP($AA153,Lookup!$D:$E,2,FALSE),\"\")","v":""},"",{"$f":"IFERROR(VLOOKUP($AC153,Lookup!$C:$E,2,FALSE),\"\")","v":""},{"$f":"IFERROR(VLOOKUP($AD153,Lookup!$D:$E,2,FALSE),\"\")","v":""},"",{"$f":"IFERROR(VLOOKUP($AF153,Lookup!$C:$E,2,FALSE),\"\")","v":""},{"$f":"IFERROR(VLOOKUP($AG153,Lookup!$D:$E,2,FALSE),\"\")","v":""},""]
[{"$f":"IF('Data Input'!I152=\"\",\"\",'Data Input'!I152)","v":""},{"$f":"IF('Data Input'!H152=\"\",\"\",'Data Input'!H152)","v":""},{"$f":"IF('Data Input'!A152=\"\",\"\",'Data Input'!A152)","v":""},{"$f":"IF('Data Input'!R152=\"\",\"\",'Data Input'!R152)","v":""},{"$f":"IF('Data Input'!D152=\"\",\"\",'Data Input'!D152)","v":""},{"$f":"IF('Data Input'!E152=\"\",\"\",'Data Input'!E152)","v":""},{"$f":"IF('Data Input'!F152=\"\",\"\",'Data Input'!F152)","v":""},{"$f":"IF('Data Input'!G152=\"\",\"\",'Data Input'!G152)","v":""},{"$f":"IF('Data Input'!B152=\"\",\"\",'Data Input'!B152)","v":""},{"$f":"IF('Data Input'!C152=\"\",\"\",'Data Input'!C152)","v":""},{"$f":"IF('Data Input'!J152=\"\",\"\",'Data Input'!J152)","v":""},{"$f":"IF('Data Input'!K152=\"\",\"\",'Data Input'!K152)","v":""},{"$f":"IF('Data Input'!O152=\"\",\"\",'Data Input'!O152)","v":""},{"$f":"IF('Data Input'!L152=\"\",\"\",'Data Input'!L152)","v":""},{"$f":"IF('Data Input'!M152=\"\",\"\",'Data Input'!M152)","v":""},{"$f":"IF('Data Input'!Q152=\"\",\"\",'Data Input'!Q152)","v":""},{"$f":"IF('Data Input'!N152=\"\",\"\",'Data Input'!N152)","v":""},null,null,null,null,null,null,null,null,"",{"$f":"IFERROR(VLOOKUP($Z154,Lookup!$C:$E,2,FALSE),\"\")","v":""},{"$f":"IFERROR(VLOOKUP($AA154,Lookup!$D:$E,2,FALSE),\"\")","v":""},"",{"$f":"IFERROR(VLOOKUP($AC154,Lookup!$C:$E,2,FALSE),\"\")","v":""},{"$f":"IFERROR(VLOOKUP($AD154,Lookup!$D:$E,2,FALSE),\"\")","v":""},"",{"$f":"IFERROR(VLOOKUP($AF154,Lookup!$C:$E,2,FALSE),\"\")","v":""},{"$f":"IFERROR(VLOOKUP($AG154,Lookup!$D:$E,2,FALSE),\"\")","v":""},""]
[{"$f":"IF('Data Input'!I153=\"\",\"\",'Data Input'!I153)","v":""},{"$f":"IF('Data Input'!H153=\"\",\"\",'Data Input'!H153)","v":""},{"$f":"IF('Data Input'!A153=\"\",\"\",'Data Input'!A153)","v":""},{"$f":"IF('Data Input'!R153=\"\",\"\",'Data Input'!R153)","v":""},{"$f":"IF('Data Input'!D153=\"\",\"\",'Data Input'!D153)","v":""},{"$f":"IF('Data Input'!E153=\"\",\"\",'Data Input'!E153)","v":""},{"$f":"IF('Data Input'!F153=\"\",\"\",'Data Input'!F153)","v":""},{"$f":"IF('Data Input'!G153=\"\",\"\",'Data Input'!G153)","v":""},{"$f":"IF('Data Input'!B153=\"\",\"\",'Data Input'!B153)","v":""},{"$f":"IF('Data Input'!C153=\"\",\"\",'Data Input'!C153)","v":""},{"$f":"IF('Data Input'!J153=\"\",\"\",'Data Input'!J153)","v":""},{"$f":"IF('Data Input'!K153=\"\",\"\",'Data Input'!K153)","v":""},{"$f":"IF('Data Input'!O153=\"\",\"\",'Data Input'!O153)","v":""},{"$f":"IF('Data Input'!L153=\"\",\"\",'Data Input'!L153)","v":""},{"$f":"IF('Data Input'!M153=\"\",\"\",'Data Input'!M153)","v":""},{"$f":"IF('Data Input'!Q153=\"\",\"\",'Data Input'!Q153)","v":""},{"$f":"IF('Data Input'!N153=\"\",\"\",'Data Input'!N153)","v":""},null,null,null,null,null,null,null,null,"",{"$f":"IFERROR(VLOOKUP($Z155,Lookup!$C:$E,2,FALSE),\"\")","v":""},{"$f":"IFERROR(VLOOKUP($AA155,Lookup!$D:$E,2,FALSE),\"\")","v":""},"",{"$f":"IFERROR(VLOOKUP($AC155,Lookup!$C:$E,2,FALSE),\"\")","v":""},{"$f":"IFERROR(VLOOKUP($AD155,Lookup!$D:$E,2,FALSE),\"\")","v":""},"",{"$f":"IFERROR(VLOOKUP($AF155,Lookup!$C:$E,2,FALSE),\"\")","v":""},{"$f":"IFERROR(VLOOKUP($AG155,Lookup!$D:$E,2,FALSE),\"\")","v":""},""]
[{"$f":"IF('Data Input'!I154=\"\",\"\",'Data Input'!I154)","v":""},{"$f":"IF('Data Input'!H154=\"\",\"\",'Data Input'!H154)","v":""},{"$f":"IF('Data Input'!A154=\"\",\"\",'Data Input'!A154)","v":""},{"$f":"IF('Data Input'!R154=\"\",\"\",'Data Input'!R154)","v":""},{"$f":"IF('Data Input'!D154=\"\",\"\",'Data Input'!D154)","v":""},{"$f":"IF('Data Input'!E154=\"\",\"\",'Data Input'!E154)","v":""},{"$f":"IF('Data Input'!F154=\"\",\"\",'Data Input'!F154)","v":""},{"$f":"IF('Data Input'!G154=\"\",\"\",'Data Input'!G154)","v":""},{"$f":"IF('Data Input'!B154=\"\",\"\",'Data Input'!B154)","v":""},{"$f":"IF('Data Input'!C154=\"\",\"\",'Data Input'!C154)","v":""},{"$f":"IF('Data Input'!J154=\"\",\"\",'Data Input'!J154)","v":""},{"$f":"IF('Data Input'!K154=\"\",\"\",'Data Input'!K154)","v":""},{"$f":"IF('Data Input'!O154=\"\",\"\",'Data Input'!O154)","v":""},{"$f":"IF('Data Input'!L154=\"\",\"\",'Data Input'!L154)","v":""},{"$f":"IF('Data Input'!M154=\"\",\"\",'Data Input'!M154)","v":""},{"$f":"IF('Data Input'!Q154=\"\",\"\",'Data Input'!Q154)","v":""},{"$f":"IF('Data Input'!N154=\"\",\"\",'Data Input'!N154)","v":""},null,null,null,null,null,null,null,null,"",{"$f":"IFERROR(VLOOKUP($Z156,Lookup!$C:$E,2,FALSE),\"\")","v":""},{"$f":"IFERROR(VLOOKUP($AA156,Lookup!$D:$E,2,FALSE),\"\")","v":""},"",{"$f":"IFERROR(VLOOKUP($AC156,Lookup!$C:$E,2,FALSE),\"\")","v":""},{"$f":"IFERROR(VLOOKUP($AD156,Lookup!$D:$E,2,FALSE),\"\")","v":""},"",{"$f":"IFERROR(VLOOKUP($AF156,Lookup!$C:$E,2,FALSE),\"\")","v":""},{"$f":"IFERROR(VLOOKUP($AG156,Lookup!$D:$E,2,FALSE),\"\")","v":""},""]
[{"$f":"IF('Data Input'!I155=\"\",\"\",'Data Input'!I155)","v":""},{"$f":"IF('Data Input'!H155=\"\",\"\",'Data Input'!H155)","v":""},{"$f":"IF('Data Input'!A155=\"\",\"\",'Data Input'!A155)","v":""},{"$f":"IF('Data Input'!R155=\"\",\"\",'Data Input'!R155)","v":""},{"$f":"IF('Data Input'!D155=\"\",\"\",'Data Input'!D155)","v":""},{"$f":"IF('Data Input'!E155=\"\",\"\",'Data Input'!E155)","v":""},{"$f":"IF('Data Input'!F155=\"\",\"\",'Data Input'!F155)","v":""},{"$f":"IF('Data Input'!G155=\"\",\"\",'Data Input'!G155)","v":""},{"$f":"IF('Data Input'!B155=\"\",\"\",'Data Input'!B155)","v":""},{"$f":"IF('Data Input'!C155=\"\",\"\",'Data Input'!C155)","v":""},{"$f":"IF('Data Input'!J155=\"\",\"\",'Data Input'!J155)","v":""},{"$f":"IF('Data Input'!K155=\"\",\"\",'Data Input'!K155)","v":""},{"$f":"IF('Data Input'!O155=\"\",\"\",'Data Input'!O155)","v":""},{"$f":"IF('Data Input'!L155=\"\",\"\",'Data Input'!L155)","v":""},{"$f":"IF('Data Input'!M155=\"\",\"\",'Data Input'!M155)","v":""},{"$f":"IF('Data Input'!Q155=\"\",\"\",'Data Input'!Q155)","v":""},{"$f":"IF('Data Input'!N155=\"\",\"\",'Data Input'!N155)","v":""},null,null,null,null,null,null,null,null,"",{"$f":"IFERROR(VLOOKUP($Z157,Lookup!$C:$E,2,FALSE),\"\")","v":""},{"$f":"IFERROR(VLOOKUP($AA157,Lookup!$D:$E,2,FALSE),\"\")","v":""},"",{"$f":"IFERROR(VLOOKUP($AC157,Lookup!$C:$E,2,FALSE),\"\")","v":""},{"$f":"IFERROR(VLOOKUP($AD157,Lookup!$D:$E,2,FALSE),\"\")","v":""},"",{"$f":"IFERROR(VLOOKUP($AF157,Lookup!$C:$E,2,FALSE),\"\")","v":""},{"$f":"IFERROR(VLOOKUP($AG157,Lookup!$D:$E,2,FALSE),\"\")","v":""},""]
[{"$f":"IF('Data Input'!I156=\"\",\"\",'Data Input'!I156)","v":""},{"$f":"IF('Data Input'!H156=\"\",\"\",'Data Input'!H156)","v":""},{"$f":"IF('Data Input'!A156=\"\",\"\",'Data Input'!A156)","v":""},{"$f":"IF('Data Input'!R156=\"\",\"\",'Data Input'!R156)","v":""},{"$f":"IF('Data Input'!D156=\"\",\"\",'Data Input'!D156)","v":""},{"$f":"IF('Data Input'!E156=\"\",\"\",'Data Input'!E156)","v":""},{"$f":"IF('Data Input'!F156=\"\",\"\",'Data Input'!F156)","v":""},{"$f":"IF('Data Input'!G156=\"\",\"\",'Data Input'!G156)","v":""},{"$f":"IF('Data Input'!B156=\"\",\"\",'Data Input'!B156)","v":""},{"$f":"IF('Data Input'!C156=\"\",\"\",'Data Input'!C156)","v":""},{"$f":"IF('Data Input'!J156=\"\",\"\",'Data Input'!J156)","v":""},{"$f":"IF('Data Input'!K156=\"\",\"\",'Data Input'!K156)","v":""},{"$f":"IF('Data Input'!O156=\"\",\"\",'Data Input'!O156)","v":""},{"$f":"IF('Data Input'!L156=\"\",\"\",'Data Input'!L156)","v":""},{"$f":"IF('Data Input'!M156=\"\",\"\",'Data Input'!M156)","v":""},{"$f":"IF('Data Input'!Q156=\"\",\"\",'Data Input'!Q156)","v":""},{"$f":"IF('Data Input'!N156=\"\",\"\",'Data Input'!N156)","v":""},null,null,null,null,null,null,null,null,"",{"$f":"IFERROR(VLOOKUP($Z158,Lookup!$C:$E,2,FALSE),\"\")","v":""},{"$f":"IFERROR(VLOOKUP($AA158,Lookup!$D:$E,2,FALSE),\"\")","v":""},"",{"$f":"IFERROR(VLOOKUP($AC158,Lookup!$C:$E,2,FALSE),\"\")","v":""},{"$f":"IFERROR(VLOOKUP($AD158,Lookup!$D:$E,2,FALSE),\"\")","v":""},"",{"$f":"IFERROR(VLOOKUP($AF158,Lookup!$C:$E,2,FALSE),\"\")","v":""},{"$f":"IFERROR(VLOOKUP($AG158,Lookup!$D:$E,2,FALSE),\"\")","v":""},""]
[{"$f":"IF('Data Input'!I157=\"\",\"\",'Data Input'!I157)","v":""},{"$f":"IF('Data Input'!H157=\"\",\"\",'Data Input'!H157)","v":""},{"$f":"IF('Data Input'!A157=\"\",\"\",'Data Input'!A157)","v":""},{"$f":"IF('Data Input'!R157=\"\",\"\",'Data Input'!R157)","v":""},{"$f":"IF('Data Input'!D157=\"\",\"\",'Data Input'!D157)","v":""},{"$f":"IF('Data Input'!E157=\"\",\"\",'Data Input'!E157)","v":""},{"$f":"IF('Data Input'!F157=\"\",\"\",'Data Input'!F157)","v":""},{"$f":"IF('Data Input'!G157=\"\",\"\",'Data Input'!G157)","v":""},{"$f":"IF('Data Input'!B157=\"\",\"\",'Data Input'!B157)","v":""},{"$f":"IF('Data Input'!C157=\"\",\"\",'Data Input'!C157)","v":""},{"$f":"IF('Data Input'!J157=\"\",\"\",'Data Input'!J157)","v":""},{"$f":"IF('Data Input'!K157=\"\",\"\",'Data Input'!K157)","v":""},{"$f":"IF('Data Input'!O157=\"\",\"\",'Data Input'!O157)","v":""},{"$f":"IF('Data Input'!L157=\"\",\"\",'Data Input'!L157)","v":""},{"$f":"IF('Data Input'!M157=\"\",\"\",'Data Input'!M157)","v":""},{"$f":"IF('Data Input'!Q157=\"\",\"\",'Data Input'!Q157)","v":""},{"$f":"IF('Data Input'!N157=\"\",\"\",'Data Input'!N157)","v":""},null,null,null,null,null,null,null,null,"",{"$f":"IFERROR(VLOOKUP($Z159,Lookup!$C:$E,2,FALSE),\"\")","v":""},{"$f":"IFERROR(VLOOKUP($AA159,Lookup!$D:$E,2,FALSE),\"\")","v":""},"",{"$f":"IFERROR(VLOOKUP($AC159,Lookup!$C:$E,2,FALSE),\"\")","v":""},{"$f":"IFERROR(VLOOKUP($AD159,Lookup!$D:$E,2,FALSE),\"\")","v":""},"",{"$f":"IFERROR(VLOOKUP($AF159,Lookup!$C:$E,2,FALSE),\"\")","v":""},{"$f":"IFERROR(VLOOKUP($AG159,Lookup!$D:$E,2,FALSE),\"\")","v":""},""]
[{"$f":"IF('Data Input'!I158=\"\",\"\",'Data Input'!I158)","v":""},{"$f":"IF('Data Input'!H158=\"\",\"\",'Data Input'!H158)","v":""},{"$f":"IF('Data Input'!A158=\"\",\"\",'Data Input'!A158)","v":""},{"$f":"IF('Data Input'!R158=\"\",\"\",'Data Input'!R158)","v":""},{"$f":"IF('Data Input'!D158=\"\",\"\",'Data Input'!D158)","v":""},{"$f":"IF('Data Input'!E158=\"\",\"\",'Data Input'!E158)","v":""},{"$f":"IF('Data Input'!F158=\"\",\"\",'Data Input'!F158)","v":""},{"$f":"IF('Data Input'!G158=\"\",\"\",'Data Input'!G158)","v":""},{"$f":"IF('Data Input'!B158=\"\",\"\",'Data Input'!B158)","v":""},{"$f":"IF('Data Input'!C158=\"\",\"\",'Data Input'!C158)","v":""},{"$f":"IF('Data Input'!J158=\"\",\"\",'Data Input'!J158)","v":""},{"$f":"IF('Data Input'!K158=\"\",\"\",'Data Input'!K158)","v":""},{"$f":"IF('Data Input'!O158=\"\",\"\",'Data Input'!O158)","v":""},{"$f":"IF('Data Input'!L158=\"\",\"\",'Data Input'!L158)","v":""},{"$f":"IF('Data Input'!M158=\"\",\"\",'Data Input'!M158)","v":""},{"$f":"IF('Data Input'!Q158=\"\",\"\",'Data Input'!Q158)","v":""},{"$f":"IF('Data Input'!N158=\"\",\"\",'Data Input'!N158)","v":""},null,null,null,null,null,null,null,null,"",{"$f":"IFERROR(VLOOKUP($Z160,Lookup!$C:$E,2,FALSE),\"\")","v":""},{"$f":"IFERROR(VLOOKUP($AA160,Lookup!$D:$E,2,FALSE),\"\")","v":""},"",{"$f":"IFERROR(VLOOKUP($AC160,Lookup!$C:$E,2,FALSE),\"\")","v":""},{"$f":"IFERROR(VLOOKUP($AD160,Lookup!$D:$E,2,FALSE),\"\")","v":""},"",{"$f":"IFERROR(VLOOKUP($AF160,Lookup!$C:$E,2,FALSE),\"\")","v":""},{"$f":"IFERROR(VLOOKUP($AG160,Lookup!$D:$E,2,FALSE),\"\")","v":""},""]
[{"$f":"IF('Data Input'!I159=\"\",\"\",'Data Input'!I159)","v":""},{"$f":"IF('Data Input'!H159=\"\",\"\",'Data Input'!H159)","v":""},{"$f":"IF('Data Input'!A159=\"\",\"\",'Data Input'!A159)","v":""},{"$f":"IF('Data Input'!R159=\"\",\"\",'Data Input'!R159)","v":""},{"$f":"IF('Data Input'!D159=\"\",\"\",'Data Input'!D159)","v":""},{"$f":"IF('Data Input'!E159=\"\",\"\",'Data Input'!E159)","v":""},{"$f":"IF('Data Input'!F159=\"\",\"\",'Data Input'!F159)","v":""},{"$f":"IF('Data Input'!G159=\"\",\"\",'Data Input'!G159)","v":""},{"$f":"IF('Data Input'!B159=\"\",\"\",'Data Input'!B159)","v":""},{"$f":"IF('Data Input'!C159=\"\",\"\",'Data Input'!C159)","v":""},{"$f":"IF('Data Input'!J159=\"\",\"\",'Data Input'!J159)","v":""},{"$f":"IF('Data Input'!K159=\"\",\"\",'Data Input'!K159)","v":""},{"$f":"IF('Data Input'!O159=\"\",\"\",'Data Input'!O159)","v":""},{"$f":"IF('Data Input'!L159=\"\",\"\",'Data Input'!L159)","v":""},{"$f":"IF('Data Input'!M159=\"\",\"\",'Data Input'!M159)","v":""},{"$f":"IF('Data Input'!Q159=\"\",\"\",'Data Input'!Q159)","v":""},{"$f":"IF('Data Input'!N159=\"\",\"\",'Data Input'!N159)","v":""},null,null,null,null,null,null,null,null,"",{"$f":"IFERROR(VLOOKUP($Z161,Lookup!$C:$E,2,FALSE),\"\")","v":""},{"$f":"IFERROR(VLOOKUP($AA161,Lookup!$D:$E,2,FALSE),\"\")","v":""},"",{"$f":"IFERROR(VLOOKUP($AC161,Lookup!$C:$E,2,FALSE),\"\")","v":""},{"$f":"IFERROR(VLOOKUP($AD161,Lookup!$D:$E,2,FALSE),\"\")","v":""},"",{"$f":"IFERROR(VLOOKUP($AF161,Lookup!$C:$E,2,FALSE),\"\")","v":""},{"$f":"IFERROR(VLOOKUP($AG161,Lookup!$D:$E,2,FALSE),\"\")","v":""},""]
[{"$f":"IF('Data Input'!I160=\"\",\"\",'Data Input'!I160)","v":""},{"$f":"IF('Data Input'!H160=\"\",\"\",'Data Input'!H160)","v":""},{"$f":"IF('Data Input'!A160=\"\",\"\",'Data Input'!A160)","v":""},{"$f":"IF('Data Input'!R160=\"\",\"\",'Data Input'!R160)","v":""},{"$f":"IF('Data Input'!D160=\"\",\"\",'Data Input'!D160)","v":""},{"$f":"IF('Data Input'!E160=\"\",\"\",'Data Input'!E160)","v":""},{"$f":"IF('Data Input'!F160=\"\",\"\",'Data Input'!F160)","v":""},{"$f":"IF('Data Input'!G160=\"\",\"\",'Data Input'!G160)","v":""},{"$f":"IF('Data Input'!B160=\"\",\"\",'Data Input'!B160)","v":""},{"$f":"IF('Data Input'!C160=\"\",\"\",'Data Input'!C160)","v":""},{"$f":"IF('Data Input'!J160=\"\",\"\",'Data Input'!J160)","v":""},{"$f":"IF('Data Input'!K160=\"\",\"\",'Data Input'!K160)","v":""},{"$f":"IF('Data Input'!O160=\"\",\"\",'Data Input'!O160)","v":""},{"$f":"IF('Data Input'!L160=\"\",\"\",'Data Input'!L160)","v":""},{"$f":"IF('Data Input'!M160=\"\",\"\",'Data Input'!M160)","v":""},{"$f":"IF('Data Input'!Q160=\"\",\"\",'Data Input'!Q160)","v":""},{"$f":"IF('Data Input'!N160=\"\",\"\",'Data Input'!N160)","v":""},null,null,null,null,null,null,null,null,"",{"$f":"IFERROR(VLOOKUP($Z162,Lookup!$C:$E,2,FALSE),\"\")","v":""},{"$f":"IFERROR(VLOOKUP($AA162,Lookup!$D:$E,2,FALSE),\"\")","v":""},"",{"$f":"IFERROR(VLOOKUP($AC162,Lookup!$C:$E,2,FALSE),\"\")","v":""},{"$f":"IFERROR(VLOOKUP($AD162,Lookup!$D:$E,2,FALSE),\"\")","v":""},"",{"$f":"IFERROR(VLOOKUP($AF162,Lookup!$C:$E,2,FALSE),\"\")","v":""},{"$f":"IFERROR(VLOOKUP($AG162,Lookup!$D:$E,2,FALSE),\"\")","v":""},""]
[{"$f":"IF('Data Input'!I161=\"\",\"\",'Data Input'!I161)","v":""},{"$f":"IF('Data Input'!H161=\"\",\"\",'Data Input'!H161)","v":""},{"$f":"IF('Data Input'!A161=\"\",\"\",'Data Input'!A161)","v":""},{"$f":"IF('Data Input'!R161=\"\",\"\",'Data Input'!R161)","v":""},{"$f":"IF('Data Input'!D161=\"\",\"\",'Data Input'!D161)","v":""},{"$f":"IF('Data Input'!E161=\"\",\"\",'Data Input'!E161)","v":""},{"$f":"IF('Data Input'!F161=\"\",\"\",'Data Input'!F161)","v":""},{"$f":"IF('Data Input'!G161=\"\",\"\",'Data Input'!G161)","v":""},{"$f":"IF('Data Input'!B161=\"\",\"\",'Data Input'!B161)","v":""},{"$f":"IF('Data Input'!C161=\"\",\"\",'Data Input'!C161)","v":""},{"$f":"IF('Data Input'!J161=\"\",\"\",'Data Input'!J161)","v":""},{"$f":"IF('Data Input'!K161=\"\",\"\",'Data Input'!K161)","v":""},{"$f":"IF('Data Input'!O161=\"\",\"\",'Data Input'!O161)","v":""},{"$f":"IF('Data Input'!L161=\"\",\"\",'Data Input'!L161)","v":""},{"$f":"IF('Data Input'!M161=\"\",\"\",'Data Input'!M161)","v":""},{"$f":"IF('Data Input'!Q161=\"\",\"\",'Data Input'!Q161)","v":""},{"$f":"IF('Data Input'!N161=\"\",\"\",'Data Input'!N161)","v":""},null,null,null,null,null,null,null,null,"",{"$f":"IFERROR(VLOOKUP($Z163,Lookup!$C:$E,2,FALSE),\"\")","v":""},{"$f":"IFERROR(VLOOKUP($AA163,Lookup!$D:$E,2,FALSE),\"\")","v":""},"",{"$f":"IFERROR(VLOOKUP($AC163,Lookup!$C:$E,2,FALSE),\"\")","v":""},{"$f":"IFERROR(VLOOKUP($AD163,Lookup!$D:$E,2,FALSE),\"\")","v":""},"",{"$f":"IFERROR(VLOOKUP($AF163,Lookup!$C:$E,2,FALSE),\"\")","v":""},{"$f":"IFERROR(VLOOKUP($AG163,Lookup!$D:$E,2,FALSE),\"\")","v":""},""]
[{"$f":"IF('Data Input'!I162=\"\",\"\",'Data Input'!I162)","v":""},{"$f":"IF('Data Input'!H162=\"\",\"\",'Data Input'!H162)","v":""},{"$f":"IF('Data Input'!A162=\"\",\"\",'Data Input'!A162)","v":""},{"$f":"IF('Data Input'!R162=\"\",\"\",'Data Input'!R162)","v":""},{"$f":"IF('Data Input'!D162=\"\",\"\",'Data Input'!D162)","v":""},{"$f":"IF('Data Input'!E162=\"\",\"\",'Data Input'!E162)","v":""},{"$f":"IF('Data Input'!F162=\"\",\"\",'Data Input'!F162)","v":""},{"$f":"IF('Data Input'!G162=\"\",\"\",'Data Input'!G162)","v":""},{"$f":"IF('Data Input'!B162=\"\",\"\",'Data Input'!B162)","v":""},{"$f":"IF('Data Input'!C162=\"\",\"\",'Data Input'!C162)","v":""},{"$f":"IF('Data Input'!J162=\"\",\"\",'Data Input'!J162)","v":""},{"$f":"IF('Data Input'!K162=\"\",\"\",'Data Input'!K162)","v":""},{"$f":"IF('Data Input'!O162=\"\",\"\",'Data Input'!O162)","v":""},{"$f":"IF('Data Input'!L162=\"\",\"\",'Data Input'!L162)","v":""},{"$f":"IF('Data Input'!M162=\"\",\"\",'Data Input'!M162)","v":""},{"$f":"IF('Data Input'!Q162=\"\",\"\",'Data Input'!Q162)","v":""},{"$f":"IF('Data Input'!N162=\"\",\"\",'Data Input'!N162)","v":""},null,null,null,null,null,null,null,null,"",{"$f":"IFERROR(VLOOKUP($Z164,Lookup!$C:$E,2,FALSE),\"\")","v":""},{"$f":"IFERROR(VLOOKUP($AA164,Lookup!$D:$E,2,FALSE),\"\")","v":""},"",{"$f":"IFERROR(VLOOKUP($AC164,Lookup!$C:$E,2,FALSE),\"\")","v":""},{"$f":"IFERROR(VLOOKUP($AD164,Lookup!$D:$E,2,FALSE),\"\")","v":""},"",{"$f":"IFERROR(VLOOKUP($AF164,Lookup!$C:$E,2,FALSE),\"\")","v":""},{"$f":"IFERROR(VLOOKUP($AG164,Lookup!$D:$E,2,FALSE),\"\")","v":""},""]
[{"$f":"IF('Data Input'!I163=\"\",\"\",'Data Input'!I163)","v":""},{"$f":"IF('Data Input'!H163=\"\",\"\",'Data Input'!H163)","v":""},{"$f":"IF('Data Input'!A163=\"\",\"\",'Data Input'!A163)","v":""},{"$f":"IF('Data Input'!R163=\"\",\"\",'Data Input'!R163)","v":""},{"$f":"IF('Data Input'!D163=\"\",\"\",'Data Input'!D163)","v":""},{"$f":"IF('Data Input'!E163=\"\",\"\",'Data Input'!E163)","v":""},{"$f":"IF('Data Input'!F163=\"\",\"\",'Data Input'!F163)","v":""},{"$f":"IF('Data Input'!G163=\"\",\"\",'Data Input'!G163)","v":""},{"$f":"IF('Data Input'!B163=\"\",\"\",'Data Input'!B163)","v":""},{"$f":"IF('Data Input'!C163=\"\",\"\",'Data Input'!C163)","v":""},{"$f":"IF('Data Input'!J163=\"\",\"\",'Data Input'!J163)","v":""},{"$f":"IF('Data Input'!K163=\"\",\"\",'Data Input'!K163)","v":""},{"$f":"IF('Data Input'!O163=\"\",\"\",'Data Input'!O163)","v":""},{"$f":"IF('Data Input'!L163=\"\",\"\",'Data Input'!L163)","v":""},{"$f":"IF('Data Input'!M163=\"\",\"\",'Data Input'!M163)","v":""},{"$f":"IF('Data Input'!Q163=\"\",\"\",'Data Input'!Q163)","v":""},{"$f":"IF('Data Input'!N163=\"\",\"\",'Data Input'!N163)","v":""},null,null,null,null,null,null,null,null,"",{"$f":"IFERROR(VLOOKUP($Z165,Lookup!$C:$E,2,FALSE),\"\")","v":""},{"$f":"IFERROR(VLOOKUP($AA165,Lookup!$D:$E,2,FALSE),\"\")","v":""},"",{"$f":"IFERROR(VLOOKUP($AC165,Lookup!$C:$E,2,FALSE),\"\")","v":""},{"$f":"IFERROR(VLOOKUP($AD165,Lookup!$D:$E,2,FALSE),\"\")","v":""},"",{"$f":"IFERROR(VLOOKUP($AF165,Lookup!$C:$E,2,FALSE),\"\")","v":""},{"$f":"IFERROR(VLOOKUP($AG165,Lookup!$D:$E,2,FALSE),\"\")","v":""},""]
[{"$f":"IF('Data Input'!I164=\"\",\"\",'Data Input'!I164)","v":""},{"$f":"IF('Data Input'!H164=\"\",\"\",'Data Input'!H164)","v":""},{"$f":"IF('Data Input'!A164=\"\",\"\",'Data Input'!A164)","v":""},{"$f":"IF('Data Input'!R164=\"\",\"\",'Data Input'!R164)","v":""},{"$f":"IF('Data Input'!D164=\"\",\"\",'Data Input'!D164)","v":""},{"$f":"IF('Data Input'!E164=\"\",\"\",'Data Input'!E164)","v":""},{"$f":"IF('Data Input'!F164=\"\",\"\",'Data Input'!F164)","v":""},{"$f":"IF('Data Input'!G164=\"\",\"\",'Data Input'!G164)","v":""},{"$f":"IF('Data Input'!B164=\"\",\"\",'Data Input'!B164)","v":""},{"$f":"IF('Data Input'!C164=\"\",\"\",'Data Input'!C164)","v":""},{"$f":"IF('Data Input'!J164=\"\",\"\",'Data Input'!J164)","v":""},{"$f":"IF('Data Input'!K164=\"\",\"\",'Data Input'!K164)","v":""},{"$f":"IF('Data Input'!O164=\"\",\"\",'Data Input'!O164)","v":""},{"$f":"IF('Data Input'!L164=\"\",\"\",'Data Input'!L164)","v":""},{"$f":"IF('Data Input'!M164=\"\",\"\",'Data Input'!M164)","v":""},{"$f":"IF('Data Input'!Q164=\"\",\"\",'Data Input'!Q164)","v":""},{"$f":"IF('Data Input'!N164=\"\",\"\",'Data Input'!N164)","v":""},null,null,null,null,null,null,null,null,"",{"$f":"IFERROR(VLOOKUP($Z166,Lookup!$C:$E,2,FALSE),\"\")","v":""},{"$f":"IFERROR(VLOOKUP($AA166,Lookup!$D:$E,2,FALSE),\"\")","v":""},"",{"$f":"IFERROR(VLOOKUP($AC166,Lookup!$C:$E,2,FALSE),\"\")","v":""},{"$f":"IFERROR(VLOOKUP($AD166,Lookup!$D:$E,2,FALSE),\"\")","v":""},"",{"$f":"IFERROR(VLOOKUP($AF166,Lookup!$C:$E,2,FALSE),\"\")","v":""},{"$f":"IFERROR(VLOOKUP($AG166,Lookup!$D:$E,2,FALSE),\"\")","v":""},""]
[{"$f":"IF('Data Input'!I165=\"\",\"\",'Data Input'!I165)","v":""},{"$f":"IF('Data Input'!H165=\"\",\"\",'Data Input'!H165)","v":""},{"$f":"IF('Data Input'!A165=\"\",\"\",'Data Input'!A165)","v":""},{"$f":"IF('Data Input'!R165=\"\",\"\",'Data Input'!R165)","v":""},{"$f":"IF('Data Input'!D165=\"\",\"\",'Data Input'!D165)","v":""},{"$f":"IF('Data Input'!E165=\"\",\"\",'Data Input'!E165)","v":""},{"$f":"IF('Data Input'!F165=\"\",\"\",'Data Input'!F165)","v":""},{"$f":"IF('Data Input'!G165=\"\",\"\",'Data Input'!G165)","v":""},{"$f":"IF('Data Input'!B165=\"\",\"\",'Data Input'!B165)","v":""},{"$f":"IF('Data Input'!C165=\"\",\"\",'Data Input'!C165)","v":""},{"$f":"IF('Data Input'!J165=\"\",\"\",'Data Input'!J165)","v":""},{"$f":"IF('Data Input'!K165=\"\",\"\",'Data Input'!K165)","v":""},{"$f":"IF('Data Input'!O165=\"\",\"\",'Data Input'!O165)","v":""},{"$f":"IF('Data Input'!L165=\"\",\"\",'Data Input'!L165)","v":""},{"$f":"IF('Data Input'!M165=\"\",\"\",'Data Input'!M165)","v":""},{"$f":"IF('Data Input'!Q165=\"\",\"\",'Data Input'!Q165)","v":""},{"$f":"IF('Data Input'!N165=\"\",\"\",'Data Input'!N165)","v":""},null,null,null,null,null,null,null,null,"",{"$f":"IFERROR(VLOOKUP($Z167,Lookup!$C:$E,2,FALSE),\"\")","v":""},{"$f":"IFERROR(VLOOKUP($AA167,Lookup!$D:$E,2,FALSE),\"\")","v":""},"",{"$f":"IFERROR(VLOOKUP($AC167,Lookup!$C:$E,2,FALSE),\"\")","v":""},{"$f":"IFERROR(VLOOKUP($AD167,Lookup!$D:$E,2,FALSE),\"\")","v":""},"",{"$f":"IFERROR(VLOOKUP($AF167,Lookup!$C:$E,2,FALSE),\"\")","v":""},{"$f":"IFERROR(VLOOKUP($AG167,Lookup!$D:$E,2,FALSE),\"\")","v":""},""]
[{"$f":"IF('Data Input'!I166=\"\",\"\",'Data Input'!I166)","v":""},{"$f":"IF('Data Input'!H166=\"\",\"\",'Data Input'!H166)","v":""},{"$f":"IF('Data Input'!A166=\"\",\"\",'Data Input'!A166)","v":""},{"$f":"IF('Data Input'!R166=\"\",\"\",'Data Input'!R166)","v":""},{"$f":"IF('Data Input'!D166=\"\",\"\",'Data Input'!D166)","v":""},{"$f":"IF('Data Input'!E166=\"\",\"\",'Data Input'!E166)","v":""},{"$f":"IF('Data Input'!F166=\"\",\"\",'Data Input'!F166)","v":""},{"$f":"IF('Data Input'!G166=\"\",\"\",'Data Input'!G166)","v":""},{"$f":"IF('Data Input'!B166=\"\",\"\",'Data Input'!B166)","v":""},{"$f":"IF('Data Input'!C166=\"\",\"\",'Data Input'!C166)","v":""},{"$f":"IF('Data Input'!J166=\"\",\"\",'Data Input'!J166)","v":""},{"$f":"IF('Data Input'!K166=\"\",\"\",'Data Input'!K166)","v":""},{"$f":"IF('Data Input'!O166=\"\",\"\",'Data Input'!O166)","v":""},{"$f":"IF('Data Input'!L166=\"\",\"\",'Data Input'!L166)","v":""},{"$f":"IF('Data Input'!M166=\"\",\"\",'Data Input'!M166)","v":""},{"$f":"IF('Data Input'!Q166=\"\",\"\",'Data Input'!Q166)","v":""},{"$f":"IF('Data Input'!N166=\"\",\"\",'Data Input'!N166)","v":""},null,null,null,null,null,null,null,null,"",{"$f":"IFERROR(VLOOKUP($Z168,Lookup!$C:$E,2,FALSE),\"\")","v":""},{"$f":"IFERROR(VLOOKUP($AA168,Lookup!$D:$E,2,FALSE),\"\")","v":""},"",{"$f":"IFERROR(VLOOKUP($AC168,Lookup!$C:$E,2,FALSE),\"\")","v":""},{"$f":"IFERROR(VLOOKUP($AD168,Lookup!$D:$E,2,FALSE),\"\")","v":""},"",{"$f":"IFERROR(VLOOKUP($AF168,Lookup!$C:$E,2,FALSE),\"\")","v":""},{"$f":"IFERROR(VLOOKUP($AG168,Lookup!$D:$E,2,FALSE),\"\")","v":""},""]
[{"$f":"IF('Data Input'!I167=\"\",\"\",'Data Input'!I167)","v":""},{"$f":"IF('Data Input'!H167=\"\",\"\",'Data Input'!H167)","v":""},{"$f":"IF('Data Input'!A167=\"\",\"\",'Data Input'!A167)","v":""},{"$f":"IF('Data Input'!R167=\"\",\"\",'Data Input'!R167)","v":""},{"$f":"IF('Data Input'!D167=\"\",\"\",'Data Input'!D167)","v":""},{"$f":"IF('Data Input'!E167=\"\",\"\",'Data Input'!E167)","v":""},{"$f":"IF('Data Input'!F167=\"\",\"\",'Data Input'!F167)","v":""},{"$f":"IF('Data Input'!G167=\"\",\"\",'Data Input'!G167)","v":""},{"$f":"IF('Data Input'!B167=\"\",\"\",'Data Input'!B167)","v":""},{"$f":"IF('Data Input'!C167=\"\",\"\",'Data Input'!C167)","v":""},{"$f":"IF('Data Input'!J167=\"\",\"\",'Data Input'!J167)","v":""},{"$f":"IF('Data Input'!K167=\"\",\"\",'Data Input'!K167)","v":""},{"$f":"IF('Data Input'!O167=\"\",\"\",'Data Input'!O167)","v":""},{"$f":"IF('Data Input'!L167=\"\",\"\",'Data Input'!L167)","v":""},{"$f":"IF('Data Input'!M167=\"\",\"\",'Data Input'!M167)","v":""},{"$f":"IF('Data Input'!Q167=\"\",\"\",'Data Input'!Q167)","v":""},{"$f":"IF('Data Input'!N167=\"\",\"\",'Data Input'!N167)","v":""},null,null,null,null,null,null,null,null,"",{"$f":"IFERROR(VLOOKUP($Z169,Lookup!$C:$E,2,FALSE),\"\")","v":""},{"$f":"IFERROR(VLOOKUP($AA169,Lookup!$D:$E,2,FALSE),\"\")","v":""},"",{"$f":"IFERROR(VLOOKUP($AC169,Lookup!$C:$E,2,FALSE),\"\")","v":""},{"$f":"IFERROR(VLOOKUP($AD169,Lookup!$D:$E,2,FALSE),\"\")","v":""},"",{"$f":"IFERROR(VLOOKUP($AF169,Lookup!$C:$E,2,FALSE),\"\")","v":""},{"$f":"IFERROR(VLOOKUP($AG169,Lookup!$D:$E,2,FALSE),\"\")","v":""},""]
[{"$f":"IF('Data Input'!I168=\"\",\"\",'Data Input'!I168)","v":""},{"$f":"IF('Data Input'!H168=\"\",\"\",'Data Input'!H168)","v":""},{"$f":"IF('Data Input'!A168=\"\",\"\",'Data Input'!A168)","v":""},{"$f":"IF('Data Input'!R168=\"\",\"\",'Data Input'!R168)","v":""},{"$f":"IF('Data Input'!D168=\"\",\"\",'Data Input'!D168)","v":""},{"$f":"IF('Data Input'!E168=\"\",\"\",'Data Input'!E168)","v":""},{"$f":"IF('Data Input'!F168=\"\",\"\",'Data Input'!F168)","v":""},{"$f":"IF('Data Input'!G168=\"\",\"\",'Data Input'!G168)","v":""},{"$f":"IF('Data Input'!B168=\"\",\"\",'Data Input'!B168)","v":""},{"$f":"IF('Data Input'!C168=\"\",\"\",'Data Input'!C168)","v":""},{"$f":"IF('Data Input'!J168=\"\",\"\",'Data Input'!J168)","v":""},{"$f":"IF('Data Input'!K168=\"\",\"\",'Data Input'!K168)","v":""},{"$f":"IF('Data Input'!O168=\"\",\"\",'Data Input'!O168)","v":""},{"$f":"IF('Data Input'!L168=\"\",\"\",'Data Input'!L168)","v":""},{"$f":"IF('Data Input'!M168=\"\",\"\",'Data Input'!M168)","v":""},{"$f":"IF('Data Input'!Q168=\"\",\"\",'Data Input'!Q168)","v":""},{"$f":"IF('Data Input'!N168=\"\",\"\",'Data Input'!N168)","v":""},null,null,null,null,null,null,null,null,"",{"$f":"IFERROR(VLOOKUP($Z170,Lookup!$C:$E,2,FALSE),\"\")","v":""},{"$f":"IFERROR(VLOOKUP($AA170,Lookup!$D:$E,2,FALSE),\"\")","v":""},"",{"$f":"IFERROR(VLOOKUP($AC170,Lookup!$C:$E,2,FALSE),\"\")","v":""},{"$f":"IFERROR(VLOOKUP($AD170,Lookup!$D:$E,2,FALSE),\"\")","v":""},"",{"$f":"IFERROR(VLOOKUP($AF170,Lookup!$C:$E,2,FALSE),\"\")","v":""},{"$f":"IFERROR(VLOOKUP($AG170,Lookup!$D:$E,2,FALSE),\"\")","v":""},""]
[{"$f":"IF('Data Input'!I169=\"\",\"\",'Data Input'!I169)","v":""},{"$f":"IF('Data Input'!H169=\"\",\"\",'Data Input'!H169)","v":""},{"$f":"IF('Data Input'!A169=\"\",\"\",'Data Input'!A169)","v":""},{"$f":"IF('Data Input'!R169=\"\",\"\",'Data Input'!R169)","v":""},{"$f":"IF('Data Input'!D169=\"\",\"\",'Data Input'!D169)","v":""},{"$f":"IF('Data Input'!E169=\"\",\"\",'Data Input'!E169)","v":""},{"$f":"IF('Data Input'!F169=\"\",\"\",'Data Input'!F169)","v":""},{"$f":"IF('Data Input'!G169=\"\",\"\",'Data Input'!G169)","v":""},{"$f":"IF('Data Input'!B169=\"\",\"\",'Data Input'!B169)","v":""},{"$f":"IF('Data Input'!C169=\"\",\"\",'Data Input'!C169)","v":""},{"$f":"IF('Data Input'!J169=\"\",\"\",'Data Input'!J169)","v":""},{"$f":"IF('Data Input'!K169=\"\",\"\",'Data Input'!K169)","v":""},{"$f":"IF('Data Input'!O169=\"\",\"\",'Data Input'!O169)","v":""},{"$f":"IF('Data Input'!L169=\"\",\"\",'Data Input'!L169)","v":""},{"$f":"IF('Data Input'!M169=\"\",\"\",'Data Input'!M169)","v":""},{"$f":"IF('Data Input'!Q169=\"\",\"\",'Data Input'!Q169)","v":""},{"$f":"IF('Data Input'!N169=\"\",\"\",'Data Input'!N169)","v":""},null,null,null,null,null,null,null,null,"",{"$f":"IFERROR(VLOOKUP($Z171,Lookup!$C:$E,2,FALSE),\"\")","v":""},{"$f":"IFERROR(VLOOKUP($AA171,Lookup!$D:$E,2,FALSE),\"\")","v":""},"",{"$f":"IFERROR(VLOOKUP($AC171,Lookup!$C:$E,2,FALSE),\"\")","v":""},{"$f":"IFERROR(VLOOKUP($AD171,Lookup!$D:$E,2,FALSE),\"\")","v":""},"",{"$f":"IFERROR(VLOOKUP($AF171,Lookup!$C:$E,2,FALSE),\"\")","v":""},{"$f":"IFERROR(VLOOKUP($AG171,Lookup!$D:$E,2,FALSE),\"\")","v":""},""]
[{"$f":"IF('Data Input'!I170=\"\",\"\",'Data Input'!I170)","v":""},{"$f":"IF('Data Input'!H170=\"\",\"\",'Data Input'!H170)","v":""},{"$f":"IF('Data Input'!A170=\"\",\"\",'Data Input'!A170)","v":""},{"$f":"IF('Data Input'!R170=\"\",\"\",'Data Input'!R170)","v":""},{"$f":"IF('Data Input'!D170=\"\",\"\",'Data Input'!D170)","v":""},{"$f":"IF('Data Input'!E170=\"\",\"\",'Data Input'!E170)","v":""},{"$f":"IF('Data Input'!F170=\"\",\"\",'Data Input'!F170)","v":""},{"$f":"IF('Data Input'!G170=\"\",\"\",'Data Input'!G170)","v":""},{"$f":"IF('Data Input'!B170=\"\",\"\",'Data Input'!B170)","v":""},{"$f":"IF('Data Input'!C170=\"\",\"\",'Data Input'!C170)","v":""},{"$f":"IF('Data Input'!J170=\"\",\"\",'Data Input'!J170)","v":""},{"$f":"IF('Data Input'!K170=\"\",\"\",'Data Input'!K170)","v":""},{"$f":"IF('Data Input'!O170=\"\",\"\",'Data Input'!O170)","v":""},{"$f":"IF('Data Input'!L170=\"\",\"\",'Data Input'!L170)","v":""},{"$f":"IF('Data Input'!M170=\"\",\"\",'Data Input'!M170)","v":""},{"$f":"IF('Data Input'!Q170=\"\",\"\",'Data Input'!Q170)","v":""},{"$f":"IF('Data Input'!N170=\"\",\"\",'Data Input'!N170)","v":""},null,null,null,null,null,null,null,null,"",{"$f":"IFERROR(VLOOKUP($Z172,Lookup!$C:$E,2,FALSE),\"\")","v":""},{"$f":"IFERROR(VLOOKUP($AA172,Lookup!$D:$E,2,FALSE),\"\")","v":""},"",{"$f":"IFERROR(VLOOKUP($AC172,Lookup!$C:$E,2,FALSE),\"\")","v":""},{"$f":"IFERROR(VLOOKUP($AD172,Lookup!$D:$E,2,FALSE),\"\")","v":""},"",{"$f":"IFERROR(VLOOKUP($AF172,Lookup!$C:$E,2,FALSE),\"\")","v":""},{"$f":"IFERROR(VLOOKUP($AG172,Lookup!$D:$E,2,FALSE),\"\")","v":""},""]
[{"$f":"IF('Data Input'!I171=\"\",\"\",'Data Input'!I171)","v":""},{"$f":"IF('Data Input'!H171=\"\",\"\",'Data Input'!H171)","v":""},{"$f":"IF('Data Input'!A171=\"\",\"\",'Data Input'!A171)","v":""},{"$f":"IF('Data Input'!R171=\"\",\"\",'Data Input'!R171)","v":""},{"$f":"IF('Data Input'!D171=\"\",\"\",'Data Input'!D171)","v":""},{"$f":"IF('Data Input'!E171=\"\",\"\",'Data Input'!E171)","v":""},{"$f":"IF('Data Input'!F171=\"\",\"\",'Data Input'!F171)","v":""},{"$f":"IF('Data Input'!G171=\"\",\"\",'Data Input'!G171)","v":""},{"$f":"IF('Data Input'!B171=\"\",\"\",'Data Input'!B171)","v":""},{"$f":"IF('Data Input'!C171=\"\",\"\",'Data Input'!C171)","v":""},{"$f":"IF('Data Input'!J171=\"\",\"\",'Data Input'!J171)","v":""},{"$f":"IF('Data Input'!K171=\"\",\"\",'Data Input'!K171)","v":""},{"$f":"IF('Data Input'!O171=\"\",\"\",'Data Input'!O171)","v":""},{"$f":"IF('Data Input'!L171=\"\",\"\",'Data Input'!L171)","v":""},{"$f":"IF('Data Input'!M171=\"\",\"\",'Data Input'!M171)","v":""},{"$f":"IF('Data Input'!Q171=\"\",\"\",'Data Input'!Q171)","v":""},{"$f":"IF('Data Input'!N171=\"\",\"\",'Data Input'!N171)","v":""},null,null,null,null,null,null,null,null,"",{"$f":"IFERROR(VLOOKUP($Z173,Lookup!$C:$E,2,FALSE),\"\")","v":""},{"$f":"IFERROR(VLOOKUP($AA173,Lookup!$D:$E,2,FALSE),\"\")","v":""},"",{"$f":"IFERROR(VLOOKUP($AC173,Lookup!$C:$E,2,FALSE),\"\")","v":""},{"$f":"IFERROR(VLOOKUP($AD173,Lookup!$D:$E,2,FALSE),\"\")","v":""},"",{"$f":"IFERROR(VLOOKUP($AF173,Lookup!$C:$E,2,FALSE),\"\")","v":""},{"$f":"IFERROR(VLOOKUP($AG173,Lookup!$D:$E,2,FALSE),\"\")","v":""},""]
[{"$f":"IF('Data Input'!I172=\"\",\"\",'Data Input'!I172)","v":""},{"$f":"IF('Data Input'!H172=\"\",\"\",'Data Input'!H172)","v":""},{"$f":"IF('Data Input'!A172=\"\",\"\",'Data Input'!A172)","v":""},{"$f":"IF('Data Input'!R172=\"\",\"\",'Data Input'!R172)","v":""},{"$f":"IF('Data Input'!D172=\"\",\"\",'Data Input'!D172)","v":""},{"$f":"IF('Data Input'!E172=\"\",\"\",'Data Input'!E172)","v":""},{"$f":"IF('Data Input'!F172=\"\",\"\",'Data Input'!F172)","v":""},{"$f":"IF('Data Input'!G172=\"\",\"\",'Data Input'!G172)","v":""},{"$f":"IF('Data Input'!B172=\"\",\"\",'Data Input'!B172)","v":""},{"$f":"IF('Data Input'!C172=\"\",\"\",'Data Input'!C172)","v":""},{"$f":"IF('Data Input'!J172=\"\",\"\",'Data Input'!J172)","v":""},{"$f":"IF('Data Input'!K172=\"\",\"\",'Data Input'!K172)","v":""},{"$f":"IF('Data Input'!O172=\"\",\"\",'Data Input'!O172)","v":""},{"$f":"IF('Data Input'!L172=\"\",\"\",'Data Input'!L172)","v":""},{"$f":"IF('Data Input'!M172=\"\",\"\",'Data Input'!M172)","v":""},{"$f":"IF('Data Input'!Q172=\"\",\"\",'Data Input'!Q172)","v":""},{"$f":"IF('Data Input'!N172=\"\",\"\",'Data Input'!N172)","v":""},null,null,null,null,null,null,null,null,"",{"$f":"IFERROR(VLOOKUP($Z174,Lookup!$C:$E,2,FALSE),\"\")","v":""},{"$f":"IFERROR(VLOOKUP($AA174,Lookup!$D:$E,2,FALSE),\"\")","v":""},"",{"$f":"IFERROR(VLOOKUP($AC174,Lookup!$C:$E,2,FALSE),\"\")","v":""},{"$f":"IFERROR(VLOOKUP($AD174,Lookup!$D:$E,2,FALSE),\"\")","v":""},"",{"$f":"IFERROR(VLOOKUP($AF174,Lookup!$C:$E,2,FALSE),\"\")","v":""},{"$f":"IFERROR(VLOOKUP($AG174,Lookup!$D:$E,2,FALSE),\"\")","v":""},""]
[{"$f":"IF('Data Input'!I173=\"\",\"\",'Data Input'!I173)","v":""},{"$f":"IF('Data Input'!H173=\"\",\"\",'Data Input'!H173)","v":""},{"$f":"IF('Data Input'!A173=\"\",\"\",'Data Input'!A173)","v":""},{"$f":"IF('Data Input'!R173=\"\",\"\",'Data Input'!R173)","v":""},{"$f":"IF('Data Input'!D173=\"\",\"\",'Data Input'!D173)","v":""},{"$f":"IF('Data Input'!E173=\"\",\"\",'Data Input'!E173)","v":""},{"$f":"IF('Data Input'!F173=\"\",\"\",'Data Input'!F173)","v":""},{"$f":"IF('Data Input'!G173=\"\",\"\",'Data Input'!G173)","v":""},{"$f":"IF('Data Input'!B173=\"\",\"\",'Data Input'!B173)","v":""},{"$f":"IF('Data Input'!C173=\"\",\"\",'Data Input'!C173)","v":""},{"$f":"IF('Data Input'!J173=\"\",\"\",'Data Input'!J173)","v":""},{"$f":"IF('Data Input'!K173=\"\",\"\",'Data Input'!K173)","v":""},{"$f":"IF('Data Input'!O173=\"\",\"\",'Data Input'!O173)","v":""},{"$f":"IF('Data Input'!L173=\"\",\"\",'Data Input'!L173)","v":""},{"$f":"IF('Data Input'!M173=\"\",\"\",'Data Input'!M173)","v":""},{"$f":"IF('Data Input'!Q173=\"\",\"\",'Data Input'!Q173)","v":""},{"$f":"IF('Data Input'!N173=\"\",\"\",'Data Input'!N173)","v":""},null,null,null,null,null,null,null,null,"",{"$f":"IFERROR(VLOOKUP($Z175,Lookup!$C:$E,2,FALSE),\"\")","v":""},{"$f":"IFERROR(VLOOKUP($AA175,Lookup!$D:$E,2,FALSE),\"\")","v":""},"",{"$f":"IFERROR(VLOOKUP($AC175,Lookup!$C:$E,2,FALSE),\"\")","v":""},{"$f":"IFERROR(VLOOKUP($AD175,Lookup!$D:$E,2,FALSE),\"\")","v":""},"",{"$f":"IFERROR(VLOOKUP($AF175,Lookup!$C:$E,2,FALSE),\"\")","v":""},{"$f":"IFERROR(VLOOKUP($AG175,Lookup!$D:$E,2,FALSE),\"\")","v":""},""]
[{"$f":"IF('Data Input'!I174=\"\",\"\",'Data Input'!I174)","v":""},{"$f":"IF('Data Input'!H174=\"\",\"\",'Data Input'!H174)","v":""},{"$f":"IF('Data Input'!A174=\"\",\"\",'Data Input'!A174)","v":""},{"$f":"IF('Data Input'!R174=\"\",\"\",'Data Input'!R174)","v":""},{"$f":"IF('Data Input'!D174=\"\",\"\",'Data Input'!D174)","v":""},{"$f":"IF('Data Input'!E174=\"\",\"\",'Data Input'!E174)","v":""},{"$f":"IF('Data Input'!F174=\"\",\"\",'Data Input'!F174)","v":""},{"$f":"IF('Data Input'!G174=\"\",\"\",'Data Input'!G174)","v":""},{"$f":"IF('Data Input'!B174=\"\",\"\",'Data Input'!B174)","v":""},{"$f":"IF('Data Input'!C174=\"\",\"\",'Data Input'!C174)","v":""},{"$f":"IF('Data Input'!J174=\"\",\"\",'Data Input'!J174)","v":""},{"$f":"IF('Data Input'!K174=\"\",\"\",'Data Input'!K174)","v":""},{"$f":"IF('Data Input'!O174=\"\",\"\",'Data Input'!O174)","v":""},{"$f":"IF('Data Input'!L174=\"\",\"\",'Data Input'!L174)","v":""},{"$f":"IF('Data Input'!M174=\"\",\"\",'Data Input'!M174)","v":""},{"$f":"IF('Data Input'!Q174=\"\",\"\",'Data Input'!Q174)","v":""},{"$f":"IF('Data Input'!N174=\"\",\"\",'Data Input'!N174)","v":""},null,null,null,null,null,null,null,null,"",{"$f":"IFERROR(VLOOKUP($Z176,Lookup!$C:$E,2,FALSE),\"\")","v":""},{"$f":"IFERROR(VLOOKUP($AA176,Lookup!$D:$E,2,FALSE),\"\")","v":""},"",{"$f":"IFERROR(VLOOKUP($AC176,Lookup!$C:$E,2,FALSE),\"\")","v":""},{"$f":"IFERROR(VLOOKUP($AD176,Lookup!$D:$E,2,FALSE),\"\")","v":""},"",{"$f":"IFERROR(VLOOKUP($AF176,Lookup!$C:$E,2,FALSE),\"\")","v":""},{"$f":"IFERROR(VLOOKUP($AG176,Lookup!$D:$E,2,FALSE),\"\")","v":""},""]
[{"$f":"IF('Data Input'!I175=\"\",\"\",'Data Input'!I175)","v":""},{"$f":"IF('Data Input'!H175=\"\",\"\",'Data Input'!H175)","v":""},{"$f":"IF('Data Input'!A175=\"\",\"\",'Data Input'!A175)","v":""},{"$f":"IF('Data Input'!R175=\"\",\"\",'Data Input'!R175)","v":""},{"$f":"IF('Data Input'!D175=\"\",\"\",'Data Input'!D175)","v":""},{"$f":"IF('Data Input'!E175=\"\",\"\",'Data Input'!E175)","v":""},{"$f":"IF('Data Input'!F175=\"\",\"\",'Data Input'!F175)","v":""},{"$f":"IF('Data Input'!G175=\"\",\"\",'Data Input'!G175)","v":""},{"$f":"IF('Data Input'!B175=\"\",\"\",'Data Input'!B175)","v":""},{"$f":"IF('Data Input'!C175=\"\",\"\",'Data Input'!C175)","v":""},{"$f":"IF('Data Input'!J175=\"\",\"\",'Data Input'!J175)","v":""},{"$f":"IF('Data Input'!K175=\"\",\"\",'Data Input'!K175)","v":""},{"$f":"IF('Data Input'!O175=\"\",\"\",'Data Input'!O175)","v":""},{"$f":"IF('Data Input'!L175=\"\",\"\",'Data Input'!L175)","v":""},{"$f":"IF('Data Input'!M175=\"\",\"\",'Data Input'!M175)","v":""},{"$f":"IF('Data Input'!Q175=\"\",\"\",'Data Input'!Q175)","v":""},{"$f":"IF('Data Input'!N175=\"\",\"\",'Data Input'!N175)","v":""},null,null,null,null,null,null,null,null,"",{"$f":"IFERROR(VLOOKUP($Z177,Lookup!$C:$E,2,FALSE),\"\")","v":""},{"$f":"IFERROR(VLOOKUP($AA177,Lookup!$D:$E,2,FALSE),\"\")","v":""},"",{"$f":"IFERROR(VLOOKUP($AC177,Lookup!$C:$E,2,FALSE),\"\")","v":""},{"$f":"IFERROR(VLOOKUP($AD177,Lookup!$D:$E,2,FALSE),\"\")","v":""},"",{"$f":"IFERROR(VLOOKUP($AF177,Lookup!$C:$E,2,FALSE),\"\")","v":""},{"$f":"IFERROR(VLOOKUP($AG177,Lookup!$D:$E,2,FALSE),\"\")","v":""},""]
[{"$f":"IF('Data Input'!I176=\"\",\"\",'Data Input'!I176)","v":""},{"$f":"IF('Data Input'!H176=\"\",\"\",'Data Input'!H176)","v":""},{"$f":"IF('Data Input'!A176=\"\",\"\",'Data Input'!A176)","v":""},{"$f":"IF('Data Input'!R176=\"\",\"\",'Data Input'!R176)","v":""},{"$f":"IF('Data Input'!D176=\"\",\"\",'Data Input'!D176)","v":""},{"$f":"IF('Data Input'!E176=\"\",\"\",'Data Input'!E176)","v":""},{"$f":"IF('Data Input'!F176=\"\",\"\",'Data Input'!F176)","v":""},{"$f":"IF('Data Input'!G176=\"\",\"\",'Data Input'!G176)","v":""},{"$f":"IF('Data Input'!B176=\"\",\"\",'Data Input'!B176)","v":""},{"$f":"IF('Data Input'!C176=\"\",\"\",'Data Input'!C176)","v":""},{"$f":"IF('Data Input'!J176=\"\",\"\",'Data Input'!J176)","v":""},{"$f":"IF('Data Input'!K176=\"\",\"\",'Data Input'!K176)","v":""},{"$f":"IF('Data Input'!O176=\"\",\"\",'Data Input'!O176)","v":""},{"$f":"IF('Data Input'!L176=\"\",\"\",'Data Input'!L176)","v":""},{"$f":"IF('Data Input'!M176=\"\",\"\",'Data Input'!M176)","v":""},{"$f":"IF('Data Input'!Q176=\"\",\"\",'Data Input'!Q176)","v":""},{"$f":"IF('Data Input'!N176=\"\",\"\",'Data Input'!N176)","v":""},null,null,null,null,null,null,null,null,"",{"$f":"IFERROR(VLOOKUP($Z178,Lookup!$C:$E,2,FALSE),\"\")","v":""},{"$f":"IFERROR(VLOOKUP($AA178,Lookup!$D:$E,2,FALSE),\"\")","v":""},"",{"$f":"IFERROR(VLOOKUP($AC178,Lookup!$C:$E,2,FALSE),\"\")","v":""},{"$f":"IFERROR(VLOOKUP($AD178,Lookup!$D:$E,2,FALSE),\"\")","v":""},"",{"$f":"IFERROR(VLOOKUP($AF178,Lookup!$C:$E,2,FALSE),\"\")","v":""},{"$f":"IFERROR(VLOOKUP($AG178,Lookup!$D:$E,2,FALSE),\"\")","v":""},""]
[{"$f":"IF('Data Input'!I177=\"\",\"\",'Data Input'!I177)","v":""},{"$f":"IF('Data Input'!H177=\"\",\"\",'Data Input'!H177)","v":""},{"$f":"IF('Data Input'!A177=\"\",\"\",'Data Input'!A177)","v":""},{"$f":"IF('Data Input'!R177=\"\",\"\",'Data Input'!R177)","v":""},{"$f":"IF('Data Input'!D177=\"\",\"\",'Data Input'!D177)","v":""},{"$f":"IF('Data Input'!E177=\"\",\"\",'Data Input'!E177)","v":""},{"$f":"IF('Data Input'!F177=\"\",\"\",'Data Input'!F177)","v":""},{"$f":"IF('Data Input'!G177=\"\",\"\",'Data Input'!G177)","v":""},{"$f":"IF('Data Input'!B177=\"\",\"\",'Data Input'!B177)","v":""},{"$f":"IF('Data Input'!C177=\"\",\"\",'Data Input'!C177)","v":""},{"$f":"IF('Data Input'!J177=\"\",\"\",'Data Input'!J177)","v":""},{"$f":"IF('Data Input'!K177=\"\",\"\",'Data Input'!K177)","v":""},{"$f":"IF('Data Input'!O177=\"\",\"\",'Data Input'!O177)","v":""},{"$f":"IF('Data Input'!L177=\"\",\"\",'Data Input'!L177)","v":""},{"$f":"IF('Data Input'!M177=\"\",\"\",'Data Input'!M177)","v":""},{"$f":"IF('Data Input'!Q177=\"\",\"\",'Data Input'!Q177)","v":""},{"$f":"IF('Data Input'!N177=\"\",\"\",'Data Input'!N177)","v":""},null,null,null,null,null,null,null,null,"",{"$f":"IFERROR(VLOOKUP($Z179,Lookup!$C:$E,2,FALSE),\"\")","v":""},{"$f":"IFERROR(VLOOKUP($AA179,Lookup!$D:$E,2,FALSE),\"\")","v":""},"",{"$f":"IFERROR(VLOOKUP($AC179,Lookup!$C:$E,2,FALSE),\"\")","v":""},{"$f":"IFERROR(VLOOKUP($AD179,Lookup!$D:$E,2,FALSE),\"\")","v":""},"",{"$f":"IFERROR(VLOOKUP($AF179,Lookup!$C:$E,2,FALSE),\"\")","v":""},{"$f":"IFERROR(VLOOKUP($AG179,Lookup!$D:$E,2,FALSE),\"\")","v":""},""]
[{"$f":"IF('Data Input'!I178=\"\",\"\",'Data Input'!I178)","v":""},{"$f":"IF('Data Input'!H178=\"\",\"\",'Data Input'!H178)","v":""},{"$f":"IF('Data Input'!A178=\"\",\"\",'Data Input'!A178)","v":""},{"$f":"IF('Data Input'!R178=\"\",\"\",'Data Input'!R178)","v":""},{"$f":"IF('Data Input'!D178=\"\",\"\",'Data Input'!D178)","v":""},{"$f":"IF('Data Input'!E178=\"\",\"\",'Data Input'!E178)","v":""},{"$f":"IF('Data Input'!F178=\"\",\"\",'Data Input'!F178)","v":""},{"$f":"IF('Data Input'!G178=\"\",\"\",'Data Input'!G178)","v":""},{"$f":"IF('Data Input'!B178=\"\",\"\",'Data Input'!B178)","v":""},{"$f":"IF('Data Input'!C178=\"\",\"\",'Data Input'!C178)","v":""},{"$f":"IF('Data Input'!J178=\"\",\"\",'Data Input'!J178)","v":""},{"$f":"IF('Data Input'!K178=\"\",\"\",'Data Input'!K178)","v":""},{"$f":"IF('Data Input'!O178=\"\",\"\",'Data Input'!O178)","v":""},{"$f":"IF('Data Input'!L178=\"\",\"\",'Data Input'!L178)","v":""},{"$f":"IF('Data Input'!M178=\"\",\"\",'Data Input'!M178)","v":""},{"$f":"IF('Data Input'!Q178=\"\",\"\",'Data Input'!Q178)","v":""},{"$f":"IF('Data Input'!N178=\"\",\"\",'Data Input'!N178)","v":""},null,null,null,null,null,null,null,null,"",{"$f":"IFERROR(VLOOKUP($Z180,Lookup!$C:$E,2,FALSE),\"\")","v":""},{"$f":"IFERROR(VLOOKUP($AA180,Lookup!$D:$E,2,FALSE),\"\")","v":""},"",{"$f":"IFERROR(VLOOKUP($AC180,Lookup!$C:$E,2,FALSE),\"\")","v":""},{"$f":"IFERROR(VLOOKUP($AD180,Lookup!$D:$E,2,FALSE),\"\")","v":""},"",{"$f":"IFERROR(VLOOKUP($AF180,Lookup!$C:$E,2,FALSE),\"\")","v":""},{"$f":"IFERROR(VLOOKUP($AG180,Lookup!$D:$E,2,FALSE),\"\")","v":""},""]
[{"$f":"IF('Data Input'!I179=\"\",\"\",'Data Input'!I179)","v":""},{"$f":"IF('Data Input'!H179=\"\",\"\",'Data Input'!H179)","v":""},{"$f":"IF('Data Input'!A179=\"\",\"\",'Data Input'!A179)","v":""},{"$f":"IF('Data Input'!R179=\"\",\"\",'Data Input'!R179)","v":""},{"$f":"IF('Data Input'!D179=\"\",\"\",'Data Input'!D179)","v":""},{"$f":"IF('Data Input'!E179=\"\",\"\",'Data Input'!E179)","v":""},{"$f":"IF('Data Input'!F179=\"\",\"\",'Data Input'!F179)","v":""},{"$f":"IF('Data Input'!G179=\"\",\"\",'Data Input'!G179)","v":""},{"$f":"IF('Data Input'!B179=\"\",\"\",'Data Input'!B179)","v":""},{"$f":"IF('Data Input'!C179=\"\",\"\",'Data Input'!C179)","v":""},{"$f":"IF('Data Input'!J179=\"\",\"\",'Data Input'!J179)","v":""},{"$f":"IF('Data Input'!K179=\"\",\"\",'Data Input'!K179)","v":""},{"$f":"IF('Data Input'!O179=\"\",\"\",'Data Input'!O179)","v":""},{"$f":"IF('Data Input'!L179=\"\",\"\",'Data Input'!L179)","v":""},{"$f":"IF('Data Input'!M179=\"\",\"\",'Data Input'!M179)","v":""},{"$f":"IF('Data Input'!Q179=\"\",\"\",'Data Input'!Q179)","v":""},{"$f":"IF('Data Input'!N179=\"\",\"\",'Data Input'!N179)","v":""},null,null,null,null,null,null,null,null,"",{"$f":"IFERROR(VLOOKUP($Z181,Lookup!$C:$E,2,FALSE),\"\")","v":""},{"$f":"IFERROR(VLOOKUP($AA181,Lookup!$D:$E,2,FALSE),\"\")","v":""},"",{"$f":"IFERROR(VLOOKUP($AC181,Lookup!$C:$E,2,FALSE),\"\")","v":""},{"$f":"IFERROR(VLOOKUP($AD181,Lookup!$D:$E,2,FALSE),\"\")","v":""},"",{"$f":"IFERROR(VLOOKUP($AF181,Lookup!$C:$E,2,FALSE),\"\")","v":""},{"$f":"IFERROR(VLOOKUP($AG181,Lookup!$D:$E,2,FALSE),\"\")","v":""},""]
[{"$f":"IF('Data Input'!I180=\"\",\"\",'Data Input'!I180)","v":""},{"$f":"IF('Data Input'!H180=\"\",\"\",'Data Input'!H180)","v":""},{"$f":"IF('Data Input'!A180=\"\",\"\",'Data Input'!A180)","v":""},{"$f":"IF('Data Input'!R180=\"\",\"\",'Data Input'!R180)","v":""},{"$f":"IF('Data Input'!D180=\"\",\"\",'Data Input'!D180)","v":""},{"$f":"IF('Data Input'!E180=\"\",\"\",'Data Input'!E180)","v":""},{"$f":"IF('Data Input'!F180=\"\",\"\",'Data Input'!F180)","v":""},{"$f":"IF('Data Input'!G180=\"\",\"\",'Data Input'!G180)","v":""},{"$f":"IF('Data Input'!B180=\"\",\"\",'Data Input'!B180)","v":""},{"$f":"IF('Data Input'!C180=\"\",\"\",'Data Input'!C180)","v":""},{"$f":"IF('Data Input'!J180=\"\",\"\",'Data Input'!J180)","v":""},{"$f":"IF('Data Input'!K180=\"\",\"\",'Data Input'!K180)","v":""},{"$f":"IF('Data Input'!O180=\"\",\"\",'Data Input'!O180)","v":""},{"$f":"IF('Data Input'!L180=\"\",\"\",'Data Input'!L180)","v":""},{"$f":"IF('Data Input'!M180=\"\",\"\",'Data Input'!M180)","v":""},{"$f":"IF('Data Input'!Q180=\"\",\"\",'Data Input'!Q180)","v":""},{"$f":"IF('Data Input'!N180=\"\",\"\",'Data Input'!N180)","v":""},null,null,null,null,null,null,null,null,"",{"$f":"IFERROR(VLOOKUP($Z182,Lookup!$C:$E,2,FALSE),\"\")","v":""},{"$f":"IFERROR(VLOOKUP($AA182,Lookup!$D:$E,2,FALSE),\"\")","v":""},"",{"$f":"IFERROR(VLOOKUP($AC182,Lookup!$C:$E,2,FALSE),\"\")","v":""},{"$f":"IFERROR(VLOOKUP($AD182,Lookup!$D:$E,2,FALSE),\"\")","v":""},"",{"$f":"IFERROR(VLOOKUP($AF182,Lookup!$C:$E,2,FALSE),\"\")","v":""},{"$f":"IFERROR(VLOOKUP($AG182,Lookup!$D:$E,2,FALSE),\"\")","v":""},""]
[{"$f":"IF('Data Input'!I181=\"\",\"\",'Data Input'!I181)","v":""},{"$f":"IF('Data Input'!H181=\"\",\"\",'Data Input'!H181)","v":""},{"$f":"IF('Data Input'!A181=\"\",\"\",'Data Input'!A181)","v":""},{"$f":"IF('Data Input'!R181=\"\",\"\",'Data Input'!R181)","v":""},{"$f":"IF('Data Input'!D181=\"\",\"\",'Data Input'!D181)","v":""},{"$f":"IF('Data Input'!E181=\"\",\"\",'Data Input'!E181)","v":""},{"$f":"IF('Data Input'!F181=\"\",\"\",'Data Input'!F181)","v":""},{"$f":"IF('Data Input'!G181=\"\",\"\",'Data Input'!G181)","v":""},{"$f":"IF('Data Input'!B181=\"\",\"\",'Data Input'!B181)","v":""},{"$f":"IF('Data Input'!C181=\"\",\"\",'Data Input'!C181)","v":""},{"$f":"IF('Data Input'!J181=\"\",\"\",'Data Input'!J181)","v":""},{"$f":"IF('Data Input'!K181=\"\",\"\",'Data Input'!K181)","v":""},{"$f":"IF('Data Input'!O181=\"\",\"\",'Data Input'!O181)","v":""},{"$f":"IF('Data Input'!L181=\"\",\"\",'Data Input'!L181)","v":""},{"$f":"IF('Data Input'!M181=\"\",\"\",'Data Input'!M181)","v":""},{"$f":"IF('Data Input'!Q181=\"\",\"\",'Data Input'!Q181)","v":""},{"$f":"IF('Data Input'!N181=\"\",\"\",'Data Input'!N181)","v":""},null,null,null,null,null,null,null,null,"",{"$f":"IFERROR(VLOOKUP($Z183,Lookup!$C:$E,2,FALSE),\"\")","v":""},{"$f":"IFERROR(VLOOKUP($AA183,Lookup!$D:$E,2,FALSE),\"\")","v":""},"",{"$f":"IFERROR(VLOOKUP($AC183,Lookup!$C:$E,2,FALSE),\"\")","v":""},{"$f":"IFERROR(VLOOKUP($AD183,Lookup!$D:$E,2,FALSE),\"\")","v":""},"",{"$f":"IFERROR(VLOOKUP($AF183,Lookup!$C:$E,2,FALSE),\"\")","v":""},{"$f":"IFERROR(VLOOKUP($AG183,Lookup!$D:$E,2,FALSE),\"\")","v":""},""]
[{"$f":"IF('Data Input'!I182=\"\",\"\",'Data Input'!I182)","v":""},{"$f":"IF('Data Input'!H182=\"\",\"\",'Data Input'!H182)","v":""},{"$f":"IF('Data Input'!A182=\"\",\"\",'Data Input'!A182)","v":""},{"$f":"IF('Data Input'!R182=\"\",\"\",'Data Input'!R182)","v":""},{"$f":"IF('Data Input'!D182=\"\",\"\",'Data Input'!D182)","v":""},{"$f":"IF('Data Input'!E182=\"\",\"\",'Data Input'!E182)","v":""},{"$f":"IF('Data Input'!F182=\"\",\"\",'Data Input'!F182)","v":""},{"$f":"IF('Data Input'!G182=\"\",\"\",'Data Input'!G182)","v":""},{"$f":"IF('Data Input'!B182=\"\",\"\",'Data Input'!B182)","v":""},{"$f":"IF('Data Input'!C182=\"\",\"\",'Data Input'!C182)","v":""},{"$f":"IF('Data Input'!J182=\"\",\"\",'Data Input'!J182)","v":""},{"$f":"IF('Data Input'!K182=\"\",\"\",'Data Input'!K182)","v":""},{"$f":"IF('Data Input'!O182=\"\",\"\",'Data Input'!O182)","v":""},{"$f":"IF('Data Input'!L182=\"\",\"\",'Data Input'!L182)","v":""},{"$f":"IF('Data Input'!M182=\"\",\"\",'Data Input'!M182)","v":""},{"$f":"IF('Data Input'!Q182=\"\",\"\",'Data Input'!Q182)","v":""},{"$f":"IF('Data Input'!N182=\"\",\"\",'Data Input'!N182)","v":""},null,null,null,null,null,null,null,null,"",{"$f":"IFERROR(VLOOKUP($Z184,Lookup!$C:$E,2,FALSE),\"\")","v":""},{"$f":"IFERROR(VLOOKUP($AA184,Lookup!$D:$E,2,FALSE),\"\")","v":""},"",{"$f":"IFERROR(VLOOKUP($AC184,Lookup!$C:$E,2,FALSE),\"\")","v":""},{"$f":"IFERROR(VLOOKUP($AD184,Lookup!$D:$E,2,FALSE),\"\")","v":""},"",{"$f":"IFERROR(VLOOKUP($AF184,Lookup!$C:$E,2,FALSE),\"\")","v":""},{"$f":"IFERROR(VLOOKUP($AG184,Lookup!$D:$E,2,FALSE),\"\")","v":""},""]
[{"$f":"IF('Data Input'!I183=\"\",\"\",'Data Input'!I183)","v":""},{"$f":"IF('Data Input'!H183=\"\",\"\",'Data Input'!H183)","v":""},{"$f":"IF('Data Input'!A183=\"\",\"\",'Data Input'!A183)","v":""},{"$f":"IF('Data Input'!R183=\"\",\"\",'Data Input'!R183)","v":""},{"$f":"IF('Data Input'!D183=\"\",\"\",'Data Input'!D183)","v":""},{"$f":"IF('Data Input'!E183=\"\",\"\",'Data Input'!E183)","v":""},{"$f":"IF('Data Input'!F183=\"\",\"\",'Data Input'!F183)","v":""},{"$f":"IF('Data Input'!G183=\"\",\"\",'Data Input'!G183)","v":""},{"$f":"IF('Data Input'!B183=\"\",\"\",'Data Input'!B183)","v":""},{"$f":"IF('Data Input'!C183=\"\",\"\",'Data Input'!C183)","v":""},{"$f":"IF('Data Input'!J183=\"\",\"\",'Data Input'!J183)","v":""},{"$f":"IF('Data Input'!K183=\"\",\"\",'Data Input'!K183)","v":""},{"$f":"IF('Data Input'!O183=\"\",\"\",'Data Input'!O183)","v":""},{"$f":"IF('Data Input'!L183=\"\",\"\",'Data Input'!L183)","v":""},{"$f":"IF('Data Input'!M183=\"\",\"\",'Data Input'!M183)","v":""},{"$f":"IF('Data Input'!Q183=\"\",\"\",'Data Input'!Q183)","v":""},{"$f":"IF('Data Input'!N183=\"\",\"\",'Data Input'!N183)","v":""},null,null,null,null,null,null,null,null,"",{"$f":"IFERROR(VLOOKUP($Z185,Lookup!$C:$E,2,FALSE),\"\")","v":""},{"$f":"IFERROR(VLOOKUP($AA185,Lookup!$D:$E,2,FALSE),\"\")","v":""},"",{"$f":"IFERROR(VLOOKUP($AC185,Lookup!$C:$E,2,FALSE),\"\")","v":""},{"$f":"IFERROR(VLOOKUP($AD185,Lookup!$D:$E,2,FALSE),\"\")","v":""},"",{"$f":"IFERROR(VLOOKUP($AF185,Lookup!$C:$E,2,FALSE),\"\")","v":""},{"$f":"IFERROR(VLOOKUP($AG185,Lookup!$D:$E,2,FALSE),\"\")","v":""},""]
[{"$f":"IF('Data Input'!I184=\"\",\"\",'Data Input'!I184)","v":""},{"$f":"IF('Data Input'!H184=\"\",\"\",'Data Input'!H184)","v":""},{"$f":"IF('Data Input'!A184=\"\",\"\",'Data Input'!A184)","v":""},{"$f":"IF('Data Input'!R184=\"\",\"\",'Data Input'!R184)","v":""},{"$f":"IF('Data Input'!D184=\"\",\"\",'Data Input'!D184)","v":""},{"$f":"IF('Data Input'!E184=\"\",\"\",'Data Input'!E184)","v":""},{"$f":"IF('Data Input'!F184=\"\",\"\",'Data Input'!F184)","v":""},{"$f":"IF('Data Input'!G184=\"\",\"\",'Data Input'!G184)","v":""},{"$f":"IF('Data Input'!B184=\"\",\"\",'Data Input'!B184)","v":""},{"$f":"IF('Data Input'!C184=\"\",\"\",'Data Input'!C184)","v":""},{"$f":"IF('Data Input'!J184=\"\",\"\",'Data Input'!J184)","v":""},{"$f":"IF('Data Input'!K184=\"\",\"\",'Data Input'!K184)","v":""},{"$f":"IF('Data Input'!O184=\"\",\"\",'Data Input'!O184)","v":""},{"$f":"IF('Data Input'!L184=\"\",\"\",'Data Input'!L184)","v":""},{"$f":"IF('Data Input'!M184=\"\",\"\",'Data Input'!M184)","v":""},{"$f":"IF('Data Input'!Q184=\"\",\"\",'Data Input'!Q184)","v":""},{"$f":"IF('Data Input'!N184=\"\",\"\",'Data Input'!N184)","v":""},null,null,null,null,null,null,null,null,"",{"$f":"IFERROR(VLOOKUP($Z186,Lookup!$C:$E,2,FALSE),\"\")","v":""},{"$f":"IFERROR(VLOOKUP($AA186,Lookup!$D:$E,2,FALSE),\"\")","v":""},"",{"$f":"IFERROR(VLOOKUP($AC186,Lookup!$C:$E,2,FALSE),\"\")","v":""},{"$f":"IFERROR(VLOOKUP($AD186,Lookup!$D:$E,2,FALSE),\"\")","v":""},"",{"$f":"IFERROR(VLOOKUP($AF186,Lookup!$C:$E,2,FALSE),\"\")","v":""},{"$f":"IFERROR(VLOOKUP($AG186,Lookup!$D:$E,2,FALSE),\"\")","v":""},""]
[{"$f":"IF('Data Input'!I185=\"\",\"\",'Data Input'!I185)","v":""},{"$f":"IF('Data Input'!H185=\"\",\"\",'Data Input'!H185)","v":""},{"$f":"IF('Data Input'!A185=\"\",\"\",'Data Input'!A185)","v":""},{"$f":"IF('Data Input'!R185=\"\",\"\",'Data Input'!R185)","v":""},{"$f":"IF('Data Input'!D185=\"\",\"\",'Data Input'!D185)","v":""},{"$f":"IF('Data Input'!E185=\"\",\"\",'Data Input'!E185)","v":""},{"$f":"IF('Data Input'!F185=\"\",\"\",'Data Input'!F185)","v":""},{"$f":"IF('Data Input'!G185=\"\",\"\",'Data Input'!G185)","v":""},{"$f":"IF('Data Input'!B185=\"\",\"\",'Data Input'!B185)","v":""},{"$f":"IF('Data Input'!C185=\"\",\"\",'Data Input'!C185)","v":""},{"$f":"IF('Data Input'!J185=\"\",\"\",'Data Input'!J185)","v":""},{"$f":"IF('Data Input'!K185=\"\",\"\",'Data Input'!K185)","v":""},{"$f":"IF('Data Input'!O185=\"\",\"\",'Data Input'!O185)","v":""},{"$f":"IF('Data Input'!L185=\"\",\"\",'Data Input'!L185)","v":""},{"$f":"IF('Data Input'!M185=\"\",\"\",'Data Input'!M185)","v":""},{"$f":"IF('Data Input'!Q185=\"\",\"\",'Data Input'!Q185)","v":""},{"$f":"IF('Data Input'!N185=\"\",\"\",'Data Input'!N185)","v":""},null,null,null,null,null,null,null,null,"",{"$f":"IFERROR(VLOOKUP($Z187,Lookup!$C:$E,2,FALSE),\"\")","v":""},{"$f":"IFERROR(VLOOKUP($AA187,Lookup!$D:$E,2,FALSE),\"\")","v":""},"",{"$f":"IFERROR(VLOOKUP($AC187,Lookup!$C:$E,2,FALSE),\"\")","v":""},{"$f":"IFERROR(VLOOKUP($AD187,Lookup!$D:$E,2,FALSE),\"\")","v":""},"",{"$f":"IFERROR(VLOOKUP($AF187,Lookup!$C:$E,2,FALSE),\"\")","v":""},{"$f":"IFERROR(VLOOKUP($AG187,Lookup!$D:$E,2,FALSE),\"\")","v":""},""]
[{"$f":"IF('Data Input'!I186=\"\",\"\",'Data Input'!I186)","v":""},{"$f":"IF('Data Input'!H186=\"\",\"\",'Data Input'!H186)","v":""},{"$f":"IF('Data Input'!A186=\"\",\"\",'Data Input'!A186)","v":""},{"$f":"IF('Data Input'!R186=\"\",\"\",'Data Input'!R186)","v":""},{"$f":"IF('Data Input'!D186=\"\",\"\",'Data Input'!D186)","v":""},{"$f":"IF('Data Input'!E186=\"\",\"\",'Data Input'!E186)","v":""},{"$f":"IF('Data Input'!F186=\"\",\"\",'Data Input'!F186)","v":""},{"$f":"IF('Data Input'!G186=\"\",\"\",'Data Input'!G186)","v":""},{"$f":"IF('Data Input'!B186=\"\",\"\",'Data Input'!B186)","v":""},{"$f":"IF('Data Input'!C186=\"\",\"\",'Data Input'!C186)","v":""},{"$f":"IF('Data Input'!J186=\"\",\"\",'Data Input'!J186)","v":""},{"$f":"IF('Data Input'!K186=\"\",\"\",'Data Input'!K186)","v":""},{"$f":"IF('Data Input'!O186=\"\",\"\",'Data Input'!O186)","v":""},{"$f":"IF('Data Input'!L186=\"\",\"\",'Data Input'!L186)","v":""},{"$f":"IF('Data Input'!M186=\"\",\"\",'Data Input'!M186)","v":""},{"$f":"IF('Data Input'!Q186=\"\",\"\",'Data Input'!Q186)","v":""},{"$f":"IF('Data Input'!N186=\"\",\"\",'Data Input'!N186)","v":""},null,null,null,null,null,null,null,null,"",{"$f":"IFERROR(VLOOKUP($Z188,Lookup!$C:$E,2,FALSE),\"\")","v":""},{"$f":"IFERROR(VLOOKUP($AA188,Lookup!$D:$E,2,FALSE),\"\")","v":""},"",{"$f":"IFERROR(VLOOKUP($AC188,Lookup!$C:$E,2,FALSE),\"\")","v":""},{"$f":"IFERROR(VLOOKUP($AD188,Lookup!$D:$E,2,FALSE),\"\")","v":""},"",{"$f":"IFERROR(VLOOKUP($AF188,Lookup!$C:$E,2,FALSE),\"\")","v":""},{"$f":"IFERROR(VLOOKUP($AG188,Lookup!$D:$E,2,FALSE),\"\")","v":""},""]
[{"$f":"IF('Data Input'!I187=\"\",\"\",'Data Input'!I187)","v":""},{"$f":"IF('Data Input'!H187=\"\",\"\",'Data Input'!H187)","v":""},{"$f":"IF('Data Input'!A187=\"\",\"\",'Data Input'!A187)","v":""},{"$f":"IF('Data Input'!R187=\"\",\"\",'Data Input'!R187)","v":""},{"$f":"IF('Data Input'!D187=\"\",\"\",'Data Input'!D187)","v":""},{"$f":"IF('Data Input'!E187=\"\",\"\",'Data Input'!E187)","v":""},{"$f":"IF('Data Input'!F187=\"\",\"\",'Data Input'!F187)","v":""},{"$f":"IF('Data Input'!G187=\"\",\"\",'Data Input'!G187)","v":""},{"$f":"IF('Data Input'!B187=\"\",\"\",'Data Input'!B187)","v":""},{"$f":"IF('Data Input'!C187=\"\",\"\",'Data Input'!C187)","v":""},{"$f":"IF('Data Input'!J187=\"\",\"\",'Data Input'!J187)","v":""},{"$f":"IF('Data Input'!K187=\"\",\"\",'Data Input'!K187)","v":""},{"$f":"IF('Data Input'!O187=\"\",\"\",'Data Input'!O187)","v":""},{"$f":"IF('Data Input'!L187=\"\",\"\",'Data Input'!L187)","v":""},{"$f":"IF('Data Input'!M187=\"\",\"\",'Data Input'!M187)","v":""},{"$f":"IF('Data Input'!Q187=\"\",\"\",'Data Input'!Q187)","v":""},{"$f":"IF('Data Input'!N187=\"\",\"\",'Data Input'!N187)","v":""},null,null,null,null,null,null,null,null,"",{"$f":"IFERROR(VLOOKUP($Z189,Lookup!$C:$E,2,FALSE),\"\")","v":""},{"$f":"IFERROR(VLOOKUP($AA189,Lookup!$D:$E,2,FALSE),\"\")","v":""},"",{"$f":"IFERROR(VLOOKUP($AC189,Lookup!$C:$E,2,FALSE),\"\")","v":""},{"$f":"IFERROR(VLOOKUP($AD189,Lookup!$D:$E,2,FALSE),\"\")","v":""},"",{"$f":"IFERROR(VLOOKUP($AF189,Lookup!$C:$E,2,FALSE),\"\")","v":""},{"$f":"IFERROR(VLOOKUP($AG189,Lookup!$D:$E,2,FALSE),\"\")","v":""},""]
[{"$f":"IF('Data Input'!I188=\"\",\"\",'Data Input'!I188)","v":""},{"$f":"IF('Data Input'!H188=\"\",\"\",'Data Input'!H188)","v":""},{"$f":"IF('Data Input'!A188=\"\",\"\",'Data Input'!A188)","v":""},{"$f":"IF('Data Input'!R188=\"\",\"\",'Data Input'!R188)","v":""},{"$f":"IF('Data Input'!D188=\"\",\"\",'Data Input'!D188)","v":""},{"$f":"IF('Data Input'!E188=\"\",\"\",'Data Input'!E188)","v":""},{"$f":"IF('Data Input'!F188=\"\",\"\",'Data Input'!F188)","v":""},{"$f":"IF('Data Input'!G188=\"\",\"\",'Data Input'!G188)","v":""},{"$f":"IF('Data Input'!B188=\"\",\"\",'Data Input'!B188)","v":""},{"$f":"IF('Data Input'!C188=\"\",\"\",'Data Input'!C188)","v":""},{"$f":"IF('Data Input'!J188=\"\",\"\",'Data Input'!J188)","v":""},{"$f":"IF('Data Input'!K188=\"\",\"\",'Data Input'!K188)","v":""},{"$f":"IF('Data Input'!O188=\"\",\"\",'Data Input'!O188)","v":""},{"$f":"IF('Data Input'!L188=\"\",\"\",'Data Input'!L188)","v":""},{"$f":"IF('Data Input'!M188=\"\",\"\",'Data Input'!M188)","v":""},{"$f":"IF('Data Input'!Q188=\"\",\"\",'Data Input'!Q188)","v":""},{"$f":"IF('Data Input'!N188=\"\",\"\",'Data Input'!N188)","v":""},null,null,null,null,null,null,null,null,"",{"$f":"IFERROR(VLOOKUP($Z190,Lookup!$C:$E,2,FALSE),\"\")","v":""},{"$f":"IFERROR(VLOOKUP($AA190,Lookup!$D:$E,2,FALSE),\"\")","v":""},"",{"$f":"IFERROR(VLOOKUP($AC190,Lookup!$C:$E,2,FALSE),\"\")","v":""},{"$f":"IFERROR(VLOOKUP($AD190,Lookup!$D:$E,2,FALSE),\"\")","v":""},"",{"$f":"IFERROR(VLOOKUP($AF190,Lookup!$C:$E,2,FALSE),\"\")","v":""},{"$f":"IFERROR(VLOOKUP($AG190,Lookup!$D:$E,2,FALSE),\"\")","v":""},""]
[{"$f":"IF('Data Input'!I189=\"\",\"\",'Data Input'!I189)","v":""},{"$f":"IF('Data Input'!H189=\"\",\"\",'Data Input'!H189)","v":""},{"$f":"IF('Data Input'!A189=\"\",\"\",'Data Input'!A189)","v":""},{"$f":"IF('Data Input'!R189=\"\",\"\",'Data Input'!R189)","v":""},{"$f":"IF('Data Input'!D189=\"\",\"\",'Data Input'!D189)","v":""},{"$f":"IF('Data Input'!E189=\"\",\"\",'Data Input'!E189)","v":""},{"$f":"IF('Data Input'!F189=\"\",\"\",'Data Input'!F189)","v":""},{"$f":"IF('Data Input'!G189=\"\",\"\",'Data Input'!G189)","v":""},{"$f":"IF('Data Input'!B189=\"\",\"\",'Data Input'!B189)","v":""},{"$f":"IF('Data Input'!C189=\"\",\"\",'Data Input'!C189)","v":""},{"$f":"IF('Data Input'!J189=\"\",\"\",'Data Input'!J189)","v":""},{"$f":"IF('Data Input'!K189=\"\",\"\",'Data Input'!K189)","v":""},{"$f":"IF('Data Input'!O189=\"\",\"\",'Data Input'!O189)","v":""},{"$f":"IF('Data Input'!L189=\"\",\"\",'Data Input'!L189)","v":""},{"$f":"IF('Data Input'!M189=\"\",\"\",'Data Input'!M189)","v":""},{"$f":"IF('Data Input'!Q189=\"\",\"\",'Data Input'!Q189)","v":""},{"$f":"IF('Data Input'!N189=\"\",\"\",'Data Input'!N189)","v":""},null,null,null,null,null,null,null,null,"",{"$f":"IFERROR(VLOOKUP($Z191,Lookup!$C:$E,2,FALSE),\"\")","v":""},{"$f":"IFERROR(VLOOKUP($AA191,Lookup!$D:$E,2,FALSE),\"\")","v":""},"",{"$f":"IFERROR(VLOOKUP($AC191,Lookup!$C:$E,2,FALSE),\"\")","v":""},{"$f":"IFERROR(VLOOKUP($AD191,Lookup!$D:$E,2,FALSE),\"\")","v":""},"",{"$f":"IFERROR(VLOOKUP($AF191,Lookup!$C:$E,2,FALSE),\"\")","v":""},{"$f":"IFERROR(VLOOKUP($AG191,Lookup!$D:$E,2,FALSE),\"\")","v":""},""]
[{"$f":"IF('Data Input'!I190=\"\",\"\",'Data Input'!I190)","v":""},{"$f":"IF('Data Input'!H190=\"\",\"\",'Data Input'!H190)","v":""},{"$f":"IF('Data Input'!A190=\"\",\"\",'Data Input'!A190)","v":""},{"$f":"IF('Data Input'!R190=\"\",\"\",'Data Input'!R190)","v":""},{"$f":"IF('Data Input'!D190=\"\",\"\",'Data Input'!D190)","v":""},{"$f":"IF('Data Input'!E190=\"\",\"\",'Data Input'!E190)","v":""},{"$f":"IF('Data Input'!F190=\"\",\"\",'Data Input'!F190)","v":""},{"$f":"IF('Data Input'!G190=\"\",\"\",'Data Input'!G190)","v":""},{"$f":"IF('Data Input'!B190=\"\",\"\",'Data Input'!B190)","v":""},{"$f":"IF('Data Input'!C190=\"\",\"\",'Data Input'!C190)","v":""},{"$f":"IF('Data Input'!J190=\"\",\"\",'Data Input'!J190)","v":""},{"$f":"IF('Data Input'!K190=\"\",\"\",'Data Input'!K190)","v":""},{"$f":"IF('Data Input'!O190=\"\",\"\",'Data Input'!O190)","v":""},{"$f":"IF('Data Input'!L190=\"\",\"\",'Data Input'!L190)","v":""},{"$f":"IF('Data Input'!M190=\"\",\"\",'Data Input'!M190)","v":""},{"$f":"IF('Data Input'!Q190=\"\",\"\",'Data Input'!Q190)","v":""},{"$f":"IF('Data Input'!N190=\"\",\"\",'Data Input'!N190)","v":""},null,null,null,null,null,null,null,null,"",{"$f":"IFERROR(VLOOKUP($Z192,Lookup!$C:$E,2,FALSE),\"\")","v":""},{"$f":"IFERROR(VLOOKUP($AA192,Lookup!$D:$E,2,FALSE),\"\")","v":""},"",{"$f":"IFERROR(VLOOKUP($AC192,Lookup!$C:$E,2,FALSE),\"\")","v":""},{"$f":"IFERROR(VLOOKUP($AD192,Lookup!$D:$E,2,FALSE),\"\")","v":""},"",{"$f":"IFERROR(VLOOKUP($AF192,Lookup!$C:$E,2,FALSE),\"\")","v":""},{"$f":"IFERROR(VLOOKUP($AG192,Lookup!$D:$E,2,FALSE),\"\")","v":""},""]
[{"$f":"IF('Data Input'!I191=\"\",\"\",'Data Input'!I191)","v":""},{"$f":"IF('Data Input'!H191=\"\",\"\",'Data Input'!H191)","v":""},{"$f":"IF('Data Input'!A191=\"\",\"\",'Data Input'!A191)","v":""},{"$f":"IF('Data Input'!R191=\"\",\"\",'Data Input'!R191)","v":""},{"$f":"IF('Data Input'!D191=\"\",\"\",'Data Input'!D191)","v":""},{"$f":"IF('Data Input'!E191=\"\",\"\",'Data Input'!E191)","v":""},{"$f":"IF('Data Input'!F191=\"\",\"\",'Data Input'!F191)","v":""},{"$f":"IF('Data Input'!G191=\"\",\"\",'Data Input'!G191)","v":""},{"$f":"IF('Data Input'!B191=\"\",\"\",'Data Input'!B191)","v":""},{"$f":"IF('Data Input'!C191=\"\",\"\",'Data Input'!C191)","v":""},{"$f":"IF('Data Input'!J191=\"\",\"\",'Data Input'!J191)","v":""},{"$f":"IF('Data Input'!K191=\"\",\"\",'Data Input'!K191)","v":""},{"$f":"IF('Data Input'!O191=\"\",\"\",'Data Input'!O191)","v":""},{"$f":"IF('Data Input'!L191=\"\",\"\",'Data Input'!L191)","v":""},{"$f":"IF('Data Input'!M191=\"\",\"\",'Data Input'!M191)","v":""},{"$f":"IF('Data Input'!Q191=\"\",\"\",'Data Input'!Q191)","v":""},{"$f":"IF('Data Input'!N191=\"\",\"\",'Data Input'!N191)","v":""},null,null,null,null,null,null,null,null,"",{"$f":"IFERROR(VLOOKUP($Z193,Lookup!$C:$E,2,FALSE),\"\")","v":""},{"$f":"IFERROR(VLOOKUP($AA193,Lookup!$D:$E,2,FALSE),\"\")","v":""},"",{"$f":"IFERROR(VLOOKUP($AC193,Lookup!$C:$E,2,FALSE),\"\")","v":""},{"$f":"IFERROR(VLOOKUP($AD193,Lookup!$D:$E,2,FALSE),\"\")","v":""},"",{"$f":"IFERROR(VLOOKUP($AF193,Lookup!$C:$E,2,FALSE),\"\")","v":""},{"$f":"IFERROR(VLOOKUP($AG193,Lookup!$D:$E,2,FALSE),\"\")","v":""},""]
[{"$f":"IF('Data Input'!I192=\"\",\"\",'Data Input'!I192)","v":""},{"$f":"IF('Data Input'!H192=\"\",\"\",'Data Input'!H192)","v":""},{"$f":"IF('Data Input'!A192=\"\",\"\",'Data Input'!A192)","v":""},{"$f":"IF('Data Input'!R192=\"\",\"\",'Data Input'!R192)","v":""},{"$f":"IF('Data Input'!D192=\"\",\"\",'Data Input'!D192)","v":""},{"$f":"IF('Data Input'!E192=\"\",\"\",'Data Input'!E192)","v":""},{"$f":"IF('Data Input'!F192=\"\",\"\",'Data Input'!F192)","v":""},{"$f":"IF('Data Input'!G192=\"\",\"\",'Data Input'!G192)","v":""},{"$f":"IF('Data Input'!B192=\"\",\"\",'Data Input'!B192)","v":""},{"$f":"IF('Data Input'!C192=\"\",\"\",'Data Input'!C192)","v":""},{"$f":"IF('Data Input'!J192=\"\",\"\",'Data Input'!J192)","v":""},{"$f":"IF('Data Input'!K192=\"\",\"\",'Data Input'!K192)","v":""},{"$f":"IF('Data Input'!O192=\"\",\"\",'Data Input'!O192)","v":""},{"$f":"IF('Data Input'!L192=\"\",\"\",'Data Input'!L192)","v":""},{"$f":"IF('Data Input'!M192=\"\",\"\",'Data Input'!M192)","v":""},{"$f":"IF('Data Input'!Q192=\"\",\"\",'Data Input'!Q192)","v":""},{"$f":"IF('Data Input'!N192=\"\",\"\",'Data Input'!N192)","v":""},null,null,null,null,null,null,null,null,"",{"$f":"IFERROR(VLOOKUP($Z194,Lookup!$C:$E,2,FALSE),\"\")","v":""},{"$f":"IFERROR(VLOOKUP($AA194,Lookup!$D:$E,2,FALSE),\"\")","v":""},"",{"$f":"IFERROR(VLOOKUP($AC194,Lookup!$C:$E,2,FALSE),\"\")","v":""},{"$f":"IFERROR(VLOOKUP($AD194,Lookup!$D:$E,2,FALSE),\"\")","v":""},"",{"$f":"IFERROR(VLOOKUP($AF194,Lookup!$C:$E,2,FALSE),\"\")","v":""},{"$f":"IFERROR(VLOOKUP($AG194,Lookup!$D:$E,2,FALSE),\"\")","v":""},""]
[{"$f":"IF('Data Input'!I193=\"\",\"\",'Data Input'!I193)","v":""},{"$f":"IF('Data Input'!H193=\"\",\"\",'Data Input'!H193)","v":""},{"$f":"IF('Data Input'!A193=\"\",\"\",'Data Input'!A193)","v":""},{"$f":"IF('Data Input'!R193=\"\",\"\",'Data Input'!R193)","v":""},{"$f":"IF('Data Input'!D193=\"\",\"\",'Data Input'!D193)","v":""},{"$f":"IF('Data Input'!E193=\"\",\"\",'Data Input'!E193)","v":""},{"$f":"IF('Data Input'!F193=\"\",\"\",'Data Input'!F193)","v":""},{"$f":"IF('Data Input'!G193=\"\",\"\",'Data Input'!G193)","v":""},{"$f":"IF('Data Input'!B193=\"\",\"\",'Data Input'!B193)","v":""},{"$f":"IF('Data Input'!C193=\"\",\"\",'Data Input'!C193)","v":""},{"$f":"IF('Data Input'!J193=\"\",\"\",'Data Input'!J193)","v":""},{"$f":"IF('Data Input'!K193=\"\",\"\",'Data Input'!K193)","v":""},{"$f":"IF('Data Input'!O193=\"\",\"\",'Data Input'!O193)","v":""},{"$f":"IF('Data Input'!L193=\"\",\"\",'Data Input'!L193)","v":""},{"$f":"IF('Data Input'!M193=\"\",\"\",'Data Input'!M193)","v":""},{"$f":"IF('Data Input'!Q193=\"\",\"\",'Data Input'!Q193)","v":""},{"$f":"IF('Data Input'!N193=\"\",\"\",'Data Input'!N193)","v":""},null,null,null,null,null,null,null,null,"",{"$f":"IFERROR(VLOOKUP($Z195,Lookup!$C:$E,2,FALSE),\"\")","v":""},{"$f":"IFERROR(VLOOKUP($AA195,Lookup!$D:$E,2,FALSE),\"\")","v":""},"",{"$f":"IFERROR(VLOOKUP($AC195,Lookup!$C:$E,2,FALSE),\"\")","v":""},{"$f":"IFERROR(VLOOKUP($AD195,Lookup!$D:$E,2,FALSE),\"\")","v":""},"",{"$f":"IFERROR(VLOOKUP($AF195,Lookup!$C:$E,2,FALSE),\"\")","v":""},{"$f":"IFERROR(VLOOKUP($AG195,Lookup!$D:$E,2,FALSE),\"\")","v":""},""]
[{"$f":"IF('Data Input'!I194=\"\",\"\",'Data Input'!I194)","v":""},{"$f":"IF('Data Input'!H194=\"\",\"\",'Data Input'!H194)","v":""},{"$f":"IF('Data Input'!A194=\"\",\"\",'Data Input'!A194)","v":""},{"$f":"IF('Data Input'!R194=\"\",\"\",'Data Input'!R194)","v":""},{"$f":"IF('Data Input'!D194=\"\",\"\",'Data Input'!D194)","v":""},{"$f":"IF('Data Input'!E194=\"\",\"\",'Data Input'!E194)","v":""},{"$f":"IF('Data Input'!F194=\"\",\"\",'Data Input'!F194)","v":""},{"$f":"IF('Data Input'!G194=\"\",\"\",'Data Input'!G194)","v":""},{"$f":"IF('Data Input'!B194=\"\",\"\",'Data Input'!B194)","v":""},{"$f":"IF('Data Input'!C194=\"\",\"\",'Data Input'!C194)","v":""},{"$f":"IF('Data Input'!J194=\"\",\"\",'Data Input'!J194)","v":""},{"$f":"IF('Data Input'!K194=\"\",\"\",'Data Input'!K194)","v":""},{"$f":"IF('Data Input'!O194=\"\",\"\",'Data Input'!O194)","v":""},{"$f":"IF('Data Input'!L194=\"\",\"\",'Data Input'!L194)","v":""},{"$f":"IF('Data Input'!M194=\"\",\"\",'Data Input'!M194)","v":""},{"$f":"IF('Data Input'!Q194=\"\",\"\",'Data Input'!Q194)","v":""},{"$f":"IF('Data Input'!N194=\"\",\"\",'Data Input'!N194)","v":""},null,null,null,null,null,null,null,null,"",{"$f":"IFERROR(VLOOKUP($Z196,Lookup!$C:$E,2,FALSE),\"\")","v":""},{"$f":"IFERROR(VLOOKUP($AA196,Lookup!$D:$E,2,FALSE),\"\")","v":""},"",{"$f":"IFERROR(VLOOKUP($AC196,Lookup!$C:$E,2,FALSE),\"\")","v":""},{"$f":"IFERROR(VLOOKUP($AD196,Lookup!$D:$E,2,FALSE),\"\")","v":""},"",{"$f":"IFERROR(VLOOKUP($AF196,Lookup!$C:$E,2,FALSE),\"\")","v":""},{"$f":"IFERROR(VLOOKUP($AG196,Lookup!$D:$E,2,FALSE),\"\")","v":""},""]
[{"$f":"IF('Data Input'!I195=\"\",\"\",'Data Input'!I195)","v":""},{"$f":"IF('Data Input'!H195=\"\",\"\",'Data Input'!H195)","v":""},{"$f":"IF('Data Input'!A195=\"\",\"\",'Data Input'!A195)","v":""},{"$f":"IF('Data Input'!R195=\"\",\"\",'Data Input'!R195)","v":""},{"$f":"IF('Data Input'!D195=\"\",\"\",'Data Input'!D195)","v":""},{"$f":"IF('Data Input'!E195=\"\",\"\",'Data Input'!E195)","v":""},{"$f":"IF('Data Input'!F195=\"\",\"\",'Data Input'!F195)","v":""},{"$f":"IF('Data Input'!G195=\"\",\"\",'Data Input'!G195)","v":""},{"$f":"IF('Data Input'!B195=\"\",\"\",'Data Input'!B195)","v":""},{"$f":"IF('Data Input'!C195=\"\",\"\",'Data Input'!C195)","v":""},{"$f":"IF('Data Input'!J195=\"\",\"\",'Data Input'!J195)","v":""},{"$f":"IF('Data Input'!K195=\"\",\"\",'Data Input'!K195)","v":""},{"$f":"IF('Data Input'!O195=\"\",\"\",'Data Input'!O195)","v":""},{"$f":"IF('Data Input'!L195=\"\",\"\",'Data Input'!L195)","v":""},{"$f":"IF('Data Input'!M195=\"\",\"\",'Data Input'!M195)","v":""},{"$f":"IF('Data Input'!Q195=\"\",\"\",'Data Input'!Q195)","v":""},{"$f":"IF('Data Input'!N195=\"\",\"\",'Data Input'!N195)","v":""},null,null,null,null,null,null,null,null,{"$f":"_xlfn.CONCAT($C197,$O197)","v":""},{"$f":"IFERROR(VLOOKUP($Z197,Lookup!$C:$E,2,FALSE),\"\")","v":""},{"$f":"IFERROR(VLOOKUP($AA197,Lookup!$D:$E,2,FALSE),\"\")","v":""},{"$f":"_xlfn.CONCAT($C197,$R197)","v":""},{"$f":"IFERROR(VLOOKUP($AC197,Lookup!$C:$E,2,FALSE),\"\")","v":""},{"$f":"IFERROR(VLOOKUP($AD197,Lookup!$D:$E,2,FALSE),\"\")","v":""},{"$f":"_xlfn.CONCAT($C197,$S197)","v":""},{"$f":"IFERROR(VLOOKUP($AF197,Lookup!$C:$E,2,FALSE),\"\")","v":""},{"$f":"IFERROR(VLOOKUP($AG197,Lookup!$D:$E,2,FALSE),\"\")","v":""},{"$f":"P197","v":""}]
[{"$f":"IF('Data Input'!I196=\"\",\"\",'Data Input'!I196)","v":""},{"$f":"IF('Data Input'!H196=\"\",\"\",'Data Input'!H196)","v":""},{"$f":"IF('Data Input'!A196=\"\",\"\",'Data Input'!A196)","v":""},{"$f":"IF('Data Input'!R196=\"\",\"\",'Data Input'!R196)","v":""},{"$f":"IF('Data Input'!D196=\"\",\"\",'Data Input'!D196)","v":""},{"$f":"IF('Data Input'!E196=\"\",\"\",'Data Input'!E196)","v":""},{"$f":"IF('Data Input'!F196=\"\",\"\",'Data Input'!F196)","v":""},{"$f":"IF('Data Input'!G196=\"\",\"\",'Data Input'!G196)","v":""},{"$f":"IF('Data Input'!B196=\"\",\"\",'Data Input'!B196)","v":""},{"$f":"IF('Data Input'!C196=\"\",\"\",'Data Input'!C196)","v":""},{"$f":"IF('Data Input'!J196=\"\",\"\",'Data Input'!J196)","v":""},{"$f":"IF('Data Input'!K196=\"\",\"\",'Data Input'!K196)","v":""},{"$f":"IF('Data Input'!O196=\"\",\"\",'Data Input'!O196)","v":""},{"$f":"IF('Data Input'!L196=\"\",\"\",'Data Input'!L196)","v":""},{"$f":"IF('Data Input'!M196=\"\",\"\",'Data Input'!M196)","v":""},{"$f":"IF('Data Input'!Q196=\"\",\"\",'Data Input'!Q196)","v":""},{"$f":"IF('Data Input'!N196=\"\",\"\",'Data Input'!N196)","v":""},null,null,null,null,null,null,null,null,"",{"$f":"IFERROR(VLOOKUP($Z198,Lookup!$C:$E,2,FALSE),\"\")","v":""},{"$f":"IFERROR(VLOOKUP($AA198,Lookup!$D:$E,2,FALSE),\"\")","v":""},"",{"$f":"IFERROR(VLOOKUP($AC198,Lookup!$C:$E,2,FALSE),\"\")","v":""},{"$f":"IFERROR(VLOOKUP($AD198,Lookup!$D:$E,2,FALSE),\"\")","v":""},"",{"$f":"IFERROR(VLOOKUP($AF198,Lookup!$C:$E,2,FALSE),\"\")","v":""},{"$f":"IFERROR(VLOOKUP($AG198,Lookup!$D:$E,2,FALSE),\"\")","v":""},""]
[{"$f":"IF('Data Input'!I197=\"\",\"\",'Data Input'!I197)","v":""},{"$f":"IF('Data Input'!H197=\"\",\"\",'Data Input'!H197)","v":""},{"$f":"IF('Data Input'!A197=\"\",\"\",'Data Input'!A197)","v":""},{"$f":"IF('Data Input'!R197=\"\",\"\",'Data Input'!R197)","v":""},{"$f":"IF('Data Input'!D197=\"\",\"\",'Data Input'!D197)","v":""},{"$f":"IF('Data Input'!E197=\"\",\"\",'Data Input'!E197)","v":""},{"$f":"IF('Data Input'!F197=\"\",\"\",'Data Input'!F197)","v":""},{"$f":"IF('Data Input'!G197=\"\",\"\",'Data Input'!G197)","v":""},{"$f":"IF('Data Input'!B197=\"\",\"\",'Data Input'!B197)","v":""},{"$f":"IF('Data Input'!C197=\"\",\"\",'Data Input'!C197)","v":""},{"$f":"IF('Data Input'!J197=\"\",\"\",'Data Input'!J197)","v":""},{"$f":"IF('Data Input'!K197=\"\",\"\",'Data Input'!K197)","v":""},{"$f":"IF('Data Input'!O197=\"\",\"\",'Data Input'!O197)","v":""},{"$f":"IF('Data Input'!L197=\"\",\"\",'Data Input'!L197)","v":""},{"$f":"IF('Data Input'!M197=\"\",\"\",'Data Input'!M197)","v":""},{"$f":"IF('Data Input'!Q197=\"\",\"\",'Data Input'!Q197)","v":""},{"$f":"IF('Data Input'!N197=\"\",\"\",'Data Input'!N197)","v":""},null,null,null,null,null,null,null,null,"",{"$f":"IFERROR(VLOOKUP($Z199,Lookup!$C:$E,2,FALSE),\"\")","v":""},{"$f":"IFERROR(VLOOKUP($AA199,Lookup!$D:$E,2,FALSE),\"\")","v":""},"",{"$f":"IFERROR(VLOOKUP($AC199,Lookup!$C:$E,2,FALSE),\"\")","v":""},{"$f":"IFERROR(VLOOKUP($AD199,Lookup!$D:$E,2,FALSE),\"\")","v":""},"",{"$f":"IFERROR(VLOOKUP($AF199,Lookup!$C:$E,2,FALSE),\"\")","v":""},{"$f":"IFERROR(VLOOKUP($AG199,Lookup!$D:$E,2,FALSE),\"\")","v":""},""]
[{"$f":"IF('Data Input'!I198=\"\",\"\",'Data Input'!I198)","v":""},{"$f":"IF('Data Input'!H198=\"\",\"\",'Data Input'!H198)","v":""},{"$f":"IF('Data Input'!A198=\"\",\"\",'Data Input'!A198)","v":""},{"$f":"IF('Data Input'!R198=\"\",\"\",'Data Input'!R198)","v":""},{"$f":"IF('Data Input'!D198=\"\",\"\",'Data Input'!D198)","v":""},{"$f":"IF('Data Input'!E198=\"\",\"\",'Data Input'!E198)","v":""},{"$f":"IF('Data Input'!F198=\"\",\"\",'Data Input'!F198)","v":""},{"$f":"IF('Data Input'!G198=\"\",\"\",'Data Input'!G198)","v":""},{"$f":"IF('Data Input'!B198=\"\",\"\",'Data Input'!B198)","v":""},{"$f":"IF('Data Input'!C198=\"\",\"\",'Data Input'!C198)","v":""},{"$f":"IF('Data Input'!J198=\"\",\"\",'Data Input'!J198)","v":""},{"$f":"IF('Data Input'!K198=\"\",\"\",'Data Input'!K198)","v":""},{"$f":"IF('Data Input'!O198=\"\",\"\",'Data Input'!O198)","v":""},{"$f":"IF('Data Input'!L198=\"\",\"\",'Data Input'!L198)","v":""},{"$f":"IF('Data Input'!M198=\"\",\"\",'Data Input'!M198)","v":""},{"$f":"IF('Data Input'!Q198=\"\",\"\",'Data Input'!Q198)","v":""},{"$f":"IF('Data Input'!N198=\"\",\"\",'Data Input'!N198)","v":""},null,null,null,null,null,null,null,null,"",{"$f":"IFERROR(VLOOKUP($Z200,Lookup!$C:$E,2,FALSE),\"\")","v":""},{"$f":"IFERROR(VLOOKUP($AA200,Lookup!$D:$E,2,FALSE),\"\")","v":""},"",{"$f":"IFERROR(VLOOKUP($AC200,Lookup!$C:$E,2,FALSE),\"\")","v":""},{"$f":"IFERROR(VLOOKUP($AD200,Lookup!$D:$E,2,FALSE),\"\")","v":""},"",{"$f":"IFERROR(VLOOKUP($AF200,Lookup!$C:$E,2,FALSE),\"\")","v":""},{"$f":"IFERROR(VLOOKUP($AG200,Lookup!$D:$E,2,FALSE),\"\")","v":""},""]
[{"$f":"IF('Data Input'!I199=\"\",\"\",'Data Input'!I199)","v":""},{"$f":"IF('Data Input'!H199=\"\",\"\",'Data Input'!H199)","v":""},{"$f":"IF('Data Input'!A199=\"\",\"\",'Data Input'!A199)","v":""},{"$f":"IF('Data Input'!R199=\"\",\"\",'Data Input'!R199)","v":""},{"$f":"IF('Data Input'!D199=\"\",\"\",'Data Input'!D199)","v":""},{"$f":"IF('Data Input'!E199=\"\",\"\",'Data Input'!E199)","v":""},{"$f":"IF('Data Input'!F199=\"\",\"\",'Data Input'!F199)","v":""},{"$f":"IF('Data Input'!G199=\"\",\"\",'Data Input'!G199)","v":""},{"$f":"IF('Data Input'!B199=\"\",\"\",'Data Input'!B199)","v":""},{"$f":"IF('Data Input'!C199=\"\",\"\",'Data Input'!C199)","v":""},{"$f":"IF('Data Input'!J199=\"\",\"\",'Data Input'!J199)","v":""},{"$f":"IF('Data Input'!K199=\"\",\"\",'Data Input'!K199)","v":""},{"$f":"IF('Data Input'!O199=\"\",\"\",'Data Input'!O199)","v":""},{"$f":"IF('Data Input'!L199=\"\",\"\",'Data Input'!L199)","v":""},{"$f":"IF('Data Input'!M199=\"\",\"\",'Data Input'!M199)","v":""},{"$f":"IF('Data Input'!Q199=\"\",\"\",'Data Input'!Q199)","v":""},{"$f":"IF('Data Input'!N199=\"\",\"\",'Data Input'!N199)","v":""},null,null,null,null,null,null,null,null,"",{"$f":"IFERROR(VLOOKUP($Z201,Lookup!$C:$E,2,FALSE),\"\")","v":""},{"$f":"IFERROR(VLOOKUP($AA201,Lookup!$D:$E,2,FALSE),\"\")","v":""},"",{"$f":"IFERROR(VLOOKUP($AC201,Lookup!$C:$E,2,FALSE),\"\")","v":""},{"$f":"IFERROR(VLOOKUP($AD201,Lookup!$D:$E,2,FALSE),\"\")","v":""},"",{"$f":"IFERROR(VLOOKUP($AF201,Lookup!$C:$E,2,FALSE),\"\")","v":""},{"$f":"IFERROR(VLOOKUP($AG201,Lookup!$D:$E,2,FALSE),\"\")","v":""},""]
[{"$f":"IF('Data Input'!I200=\"\",\"\",'Data Input'!I200)","v":""},{"$f":"IF('Data Input'!H200=\"\",\"\",'Data Input'!H200)","v":""},{"$f":"IF('Data Input'!A200=\"\",\"\",'Data Input'!A200)","v":""},{"$f":"IF('Data Input'!R200=\"\",\"\",'Data Input'!R200)","v":""},{"$f":"IF('Data Input'!D200=\"\",\"\",'Data Input'!D200)","v":""},{"$f":"IF('Data Input'!E200=\"\",\"\",'Data Input'!E200)","v":""},{"$f":"IF('Data Input'!F200=\"\",\"\",'Data Input'!F200)","v":""},{"$f":"IF('Data Input'!G200=\"\",\"\",'Data Input'!G200)","v":""},{"$f":"IF('Data Input'!B200=\"\",\"\",'Data Input'!B200)","v":""},{"$f":"IF('Data Input'!C200=\"\",\"\",'Data Input'!C200)","v":""},{"$f":"IF('Data Input'!J200=\"\",\"\",'Data Input'!J200)","v":""},{"$f":"IF('Data Input'!K200=\"\",\"\",'Data Input'!K200)","v":""},{"$f":"IF('Data Input'!O200=\"\",\"\",'Data Input'!O200)","v":""},{"$f":"IF('Data Input'!L200=\"\",\"\",'Data Input'!L200)","v":""},{"$f":"IF('Data Input'!M200=\"\",\"\",'Data Input'!M200)","v":""},{"$f":"IF('Data Input'!Q200=\"\",\"\",'Data Input'!Q200)","v":""},{"$f":"IF('Data Input'!N200=\"\",\"\",'Data Input'!N200)","v":""},null,null,null,null,null,null,null,null,"",{"$f":"IFERROR(VLOOKUP($Z202,Lookup!$C:$E,2,FALSE),\"\")","v":""},{"$f":"IFERROR(VLOOKUP($AA202,Lookup!$D:$E,2,FALSE),\"\")","v":""},"",{"$f":"IFERROR(VLOOKUP($AC202,Lookup!$C:$E,2,FALSE),\"\")","v":""},{"$f":"IFERROR(VLOOKUP($AD202,Lookup!$D:$E,2,FALSE),\"\")","v":""},"",{"$f":"IFERROR(VLOOKUP($AF202,Lookup!$C:$E,2,FALSE),\"\")","v":""},{"$f":"IFERROR(VLOOKUP($AG202,Lookup!$D:$E,2,FALSE),\"\")","v":""},""]
[{"$f":"IF('Data Input'!I201=\"\",\"\",'Data Input'!I201)","v":""},{"$f":"IF('Data Input'!H201=\"\",\"\",'Data Input'!H201)","v":""},{"$f":"IF('Data Input'!A201=\"\",\"\",'Data Input'!A201)","v":""},{"$f":"IF('Data Input'!R201=\"\",\"\",'Data Input'!R201)","v":""},{"$f":"IF('Data Input'!D201=\"\",\"\",'Data Input'!D201)","v":""},{"$f":"IF('Data Input'!E201=\"\",\"\",'Data Input'!E201)","v":""},{"$f":"IF('Data Input'!F201=\"\",\"\",'Data Input'!F201)","v":""},{"$f":"IF('Data Input'!G201=\"\",\"\",'Data Input'!G201)","v":""},{"$f":"IF('Data Input'!B201=\"\",\"\",'Data Input'!B201)","v":""},{"$f":"IF('Data Input'!C201=\"\",\"\",'Data Input'!C201)","v":""},{"$f":"IF('Data Input'!J201=\"\",\"\",'Data Input'!J201)","v":""},{"$f":"IF('Data Input'!K201=\"\",\"\",'Data Input'!K201)","v":""},{"$f":"IF('Data Input'!O201=\"\",\"\",'Data Input'!O201)","v":""},{"$f":"IF('Data Input'!L201=\"\",\"\",'Data Input'!L201)","v":""},{"$f":"IF('Data Input'!M201=\"\",\"\",'Data Input'!M201)","v":""},{"$f":"IF('Data Input'!Q201=\"\",\"\",'Data Input'!Q201)","v":""},{"$f":"IF('Data Input'!N201=\"\",\"\",'Data Input'!N201)","v":""},null,null,null,null,null,null,null,null,"",{"$f":"IFERROR(VLOOKUP($Z203,Lookup!$C:$E,2,FALSE),\"\")","v":""},{"$f":"IFERROR(VLOOKUP($AA203,Lookup!$D:$E,2,FALSE),\"\")","v":""},"",{"$f":"IFERROR(VLOOKUP($AC203,Lookup!$C:$E,2,FALSE),\"\")","v":""},{"$f":"IFERROR(VLOOKUP($AD203,Lookup!$D:$E,2,FALSE),\"\")","v":""},"",{"$f":"IFERROR(VLOOKUP($AF203,Lookup!$C:$E,2,FALSE),\"\")","v":""},{"$f":"IFERROR(VLOOKUP($AG203,Lookup!$D:$E,2,FALSE),\"\")","v":""},""]
[{"$f":"IF('Data Input'!I202=\"\",\"\",'Data Input'!I202)","v":""},{"$f":"IF('Data Input'!H202=\"\",\"\",'Data Input'!H202)","v":""},{"$f":"IF('Data Input'!A202=\"\",\"\",'Data Input'!A202)","v":""},{"$f":"IF('Data Input'!R202=\"\",\"\",'Data Input'!R202)","v":""},{"$f":"IF('Data Input'!D202=\"\",\"\",'Data Input'!D202)","v":""},{"$f":"IF('Data Input'!E202=\"\",\"\",'Data Input'!E202)","v":""},{"$f":"IF('Data Input'!F202=\"\",\"\",'Data Input'!F202)","v":""},{"$f":"IF('Data Input'!G202=\"\",\"\",'Data Input'!G202)","v":""},{"$f":"IF('Data Input'!B202=\"\",\"\",'Data Input'!B202)","v":""},{"$f":"IF('Data Input'!C202=\"\",\"\",'Data Input'!C202)","v":""},{"$f":"IF('Data Input'!J202=\"\",\"\",'Data Input'!J202)","v":""},{"$f":"IF('Data Input'!K202=\"\",\"\",'Data Input'!K202)","v":""},{"$f":"IF('Data Input'!O202=\"\",\"\",'Data Input'!O202)","v":""},{"$f":"IF('Data Input'!L202=\"\",\"\",'Data Input'!L202)","v":""},{"$f":"IF('Data Input'!M202=\"\",\"\",'Data Input'!M202)","v":""},{"$f":"IF('Data Input'!Q202=\"\",\"\",'Data Input'!Q202)","v":""},{"$f":"IF('Data Input'!N202=\"\",\"\",'Data Input'!N202)","v":""},null,null,null,null,null,null,null,null,"",{"$f":"IFERROR(VLOOKUP($Z204,Lookup!$C:$E,2,FALSE),\"\")","v":""},{"$f":"IFERROR(VLOOKUP($AA204,Lookup!$D:$E,2,FALSE),\"\")","v":""},"",{"$f":"IFERROR(VLOOKUP($AC204,Lookup!$C:$E,2,FALSE),\"\")","v":""},{"$f":"IFERROR(VLOOKUP($AD204,Lookup!$D:$E,2,FALSE),\"\")","v":""},"",{"$f":"IFERROR(VLOOKUP($AF204,Lookup!$C:$E,2,FALSE),\"\")","v":""},{"$f":"IFERROR(VLOOKUP($AG204,Lookup!$D:$E,2,FALSE),\"\")","v":""},""]
[{"$f":"IF('Data Input'!I203=\"\",\"\",'Data Input'!I203)","v":""},{"$f":"IF('Data Input'!H203=\"\",\"\",'Data Input'!H203)","v":""},{"$f":"IF('Data Input'!A203=\"\",\"\",'Data Input'!A203)","v":""},{"$f":"IF('Data Input'!R203=\"\",\"\",'Data Input'!R203)","v":""},{"$f":"IF('Data Input'!D203=\"\",\"\",'Data Input'!D203)","v":""},{"$f":"IF('Data Input'!E203=\"\",\"\",'Data Input'!E203)","v":""},{"$f":"IF('Data Input'!F203=\"\",\"\",'Data Input'!F203)","v":""},{"$f":"IF('Data Input'!G203=\"\",\"\",'Data Input'!G203)","v":""},{"$f":"IF('Data Input'!B203=\"\",\"\",'Data Input'!B203)","v":""},{"$f":"IF('Data Input'!C203=\"\",\"\",'Data Input'!C203)","v":""},{"$f":"IF('Data Input'!J203=\"\",\"\",'Data Input'!J203)","v":""},{"$f":"IF('Data Input'!K203=\"\",\"\",'Data Input'!K203)","v":""},{"$f":"IF('Data Input'!O203=\"\",\"\",'Data Input'!O203)","v":""},{"$f":"IF('Data Input'!L203=\"\",\"\",'Data Input'!L203)","v":""},{"$f":"IF('Data Input'!M203=\"\",\"\",'Data Input'!M203)","v":""},{"$f":"IF('Data Input'!Q203=\"\",\"\",'Data Input'!Q203)","v":""},{"$f":"IF('Data Input'!N203=\"\",\"\",'Data Input'!N203)","v":""},null,null,null,null,null,null,null,null,"",{"$f":"IFERROR(VLOOKUP($Z205,Lookup!$C:$E,2,FALSE),\"\")","v":""},{"$f":"IFERROR(VLOOKUP($AA205,Lookup!$D:$E,2,FALSE),\"\")","v":""},"",{"$f":"IFERROR(VLOOKUP($AC205,Lookup!$C:$E,2,FALSE),\"\")","v":""},{"$f":"IFERROR(VLOOKUP($AD205,Lookup!$D:$E,2,FALSE),\"\")","v":""},"",{"$f":"IFERROR(VLOOKUP($AF205,Lookup!$C:$E,2,FALSE),\"\")","v":""},{"$f":"IFERROR(VLOOKUP($AG205,Lookup!$D:$E,2,FALSE),\"\")","v":""},""]
[{"$f":"IF('Data Input'!I204=\"\",\"\",'Data Input'!I204)","v":""},{"$f":"IF('Data Input'!H204=\"\",\"\",'Data Input'!H204)","v":""},{"$f":"IF('Data Input'!A204=\"\",\"\",'Data Input'!A204)","v":""},{"$f":"IF('Data Input'!R204=\"\",\"\",'Data Input'!R204)","v":""},{"$f":"IF('Data Input'!D204=\"\",\"\",'Data Input'!D204)","v":""},{"$f":"IF('Data Input'!E204=\"\",\"\",'Data Input'!E204)","v":""},{"$f":"IF('Data Input'!F204=\"\",\"\",'Data Input'!F204)","v":""},{"$f":"IF('Data Input'!G204=\"\",\"\",'Data Input'!G204)","v":""},{"$f":"IF('Data Input'!B204=\"\",\"\",'Data Input'!B204)","v":""},{"$f":"IF('Data Input'!C204=\"\",\"\",'Data Input'!C204)","v":""},{"$f":"IF('Data Input'!J204=\"\",\"\",'Data Input'!J204)","v":""},{"$f":"IF('Data Input'!K204=\"\",\"\",'Data Input'!K204)","v":""},{"$f":"IF('Data Input'!O204=\"\",\"\",'Data Input'!O204)","v":""},{"$f":"IF('Data Input'!L204=\"\",\"\",'Data Input'!L204)","v":""},{"$f":"IF('Data Input'!M204=\"\",\"\",'Data Input'!M204)","v":""},{"$f":"IF('Data Input'!Q204=\"\",\"\",'Data Input'!Q204)","v":""},{"$f":"IF('Data Input'!N204=\"\",\"\",'Data Input'!N204)","v":""},null,null,null,null,null,null,null,null,"",{"$f":"IFERROR(VLOOKUP($Z206,Lookup!$C:$E,2,FALSE),\"\")","v":""},{"$f":"IFERROR(VLOOKUP($AA206,Lookup!$D:$E,2,FALSE),\"\")","v":""},"",{"$f":"IFERROR(VLOOKUP($AC206,Lookup!$C:$E,2,FALSE),\"\")","v":""},{"$f":"IFERROR(VLOOKUP($AD206,Lookup!$D:$E,2,FALSE),\"\")","v":""},"",{"$f":"IFERROR(VLOOKUP($AF206,Lookup!$C:$E,2,FALSE),\"\")","v":""},{"$f":"IFERROR(VLOOKUP($AG206,Lookup!$D:$E,2,FALSE),\"\")","v":""},""]
[{"$f":"IF('Data Input'!I205=\"\",\"\",'Data Input'!I205)","v":""},{"$f":"IF('Data Input'!H205=\"\",\"\",'Data Input'!H205)","v":""},{"$f":"IF('Data Input'!A205=\"\",\"\",'Data Input'!A205)","v":""},{"$f":"IF('Data Input'!R205=\"\",\"\",'Data Input'!R205)","v":""},{"$f":"IF('Data Input'!D205=\"\",\"\",'Data Input'!D205)","v":""},{"$f":"IF('Data Input'!E205=\"\",\"\",'Data Input'!E205)","v":""},{"$f":"IF('Data Input'!F205=\"\",\"\",'Data Input'!F205)","v":""},{"$f":"IF('Data Input'!G205=\"\",\"\",'Data Input'!G205)","v":""},{"$f":"IF('Data Input'!B205=\"\",\"\",'Data Input'!B205)","v":""},{"$f":"IF('Data Input'!C205=\"\",\"\",'Data Input'!C205)","v":""},{"$f":"IF('Data Input'!J205=\"\",\"\",'Data Input'!J205)","v":""},{"$f":"IF('Data Input'!K205=\"\",\"\",'Data Input'!K205)","v":""},{"$f":"IF('Data Input'!O205=\"\",\"\",'Data Input'!O205)","v":""},{"$f":"IF('Data Input'!L205=\"\",\"\",'Data Input'!L205)","v":""},{"$f":"IF('Data Input'!M205=\"\",\"\",'Data Input'!M205)","v":""},{"$f":"IF('Data Input'!Q205=\"\",\"\",'Data Input'!Q205)","v":""},{"$f":"IF('Data Input'!N205=\"\",\"\",'Data Input'!N205)","v":""},null,null,null,null,null,null,null,null,"",{"$f":"IFERROR(VLOOKUP($Z207,Lookup!$C:$E,2,FALSE),\"\")","v":""},{"$f":"IFERROR(VLOOKUP($AA207,Lookup!$D:$E,2,FALSE),\"\")","v":""},"",{"$f":"IFERROR(VLOOKUP($AC207,Lookup!$C:$E,2,FALSE),\"\")","v":""},{"$f":"IFERROR(VLOOKUP($AD207,Lookup!$D:$E,2,FALSE),\"\")","v":""},"",{"$f":"IFERROR(VLOOKUP($AF207,Lookup!$C:$E,2,FALSE),\"\")","v":""},{"$f":"IFERROR(VLOOKUP($AG207,Lookup!$D:$E,2,FALSE),\"\")","v":""},""]
[{"$f":"IF('Data Input'!I206=\"\",\"\",'Data Input'!I206)","v":""},{"$f":"IF('Data Input'!H206=\"\",\"\",'Data Input'!H206)","v":""},{"$f":"IF('Data Input'!A206=\"\",\"\",'Data Input'!A206)","v":""},{"$f":"IF('Data Input'!R206=\"\",\"\",'Data Input'!R206)","v":""},{"$f":"IF('Data Input'!D206=\"\",\"\",'Data Input'!D206)","v":""},{"$f":"IF('Data Input'!E206=\"\",\"\",'Data Input'!E206)","v":""},{"$f":"IF('Data Input'!F206=\"\",\"\",'Data Input'!F206)","v":""},{"$f":"IF('Data Input'!G206=\"\",\"\",'Data Input'!G206)","v":""},{"$f":"IF('Data Input'!B206=\"\",\"\",'Data Input'!B206)","v":""},{"$f":"IF('Data Input'!C206=\"\",\"\",'Data Input'!C206)","v":""},{"$f":"IF('Data Input'!J206=\"\",\"\",'Data Input'!J206)","v":""},{"$f":"IF('Data Input'!K206=\"\",\"\",'Data Input'!K206)","v":""},{"$f":"IF('Data Input'!O206=\"\",\"\",'Data Input'!O206)","v":""},{"$f":"IF('Data Input'!L206=\"\",\"\",'Data Input'!L206)","v":""},{"$f":"IF('Data Input'!M206=\"\",\"\",'Data Input'!M206)","v":""},{"$f":"IF('Data Input'!Q206=\"\",\"\",'Data Input'!Q206)","v":""},{"$f":"IF('Data Input'!N206=\"\",\"\",'Data Input'!N206)","v":""},null,null,null,null,null,null,null,null,"",{"$f":"IFERROR(VLOOKUP($Z208,Lookup!$C:$E,2,FALSE),\"\")","v":""},{"$f":"IFERROR(VLOOKUP($AA208,Lookup!$D:$E,2,FALSE),\"\")","v":""},"",{"$f":"IFERROR(VLOOKUP($AC208,Lookup!$C:$E,2,FALSE),\"\")","v":""},{"$f":"IFERROR(VLOOKUP($AD208,Lookup!$D:$E,2,FALSE),\"\")","v":""},"",{"$f":"IFERROR(VLOOKUP($AF208,Lookup!$C:$E,2,FALSE),\"\")","v":""},{"$f":"IFERROR(VLOOKUP($AG208,Lookup!$D:$E,2,FALSE),\"\")","v":""},""]
[{"$f":"IF('Data Input'!I207=\"\",\"\",'Data Input'!I207)","v":""},{"$f":"IF('Data Input'!H207=\"\",\"\",'Data Input'!H207)","v":""},{"$f":"IF('Data Input'!A207=\"\",\"\",'Data Input'!A207)","v":""},{"$f":"IF('Data Input'!R207=\"\",\"\",'Data Input'!R207)","v":""},{"$f":"IF('Data Input'!D207=\"\",\"\",'Data Input'!D207)","v":""},{"$f":"IF('Data Input'!E207=\"\",\"\",'Data Input'!E207)","v":""},{"$f":"IF('Data Input'!F207=\"\",\"\",'Data Input'!F207)","v":""},{"$f":"IF('Data Input'!G207=\"\",\"\",'Data Input'!G207)","v":""},{"$f":"IF('Data Input'!B207=\"\",\"\",'Data Input'!B207)","v":""},{"$f":"IF('Data Input'!C207=\"\",\"\",'Data Input'!C207)","v":""},{"$f":"IF('Data Input'!J207=\"\",\"\",'Data Input'!J207)","v":""},{"$f":"IF('Data Input'!K207=\"\",\"\",'Data Input'!K207)","v":""},{"$f":"IF('Data Input'!O207=\"\",\"\",'Data Input'!O207)","v":""},{"$f":"IF('Data Input'!L207=\"\",\"\",'Data Input'!L207)","v":""},{"$f":"IF('Data Input'!M207=\"\",\"\",'Data Input'!M207)","v":""},{"$f":"IF('Data Input'!Q207=\"\",\"\",'Data Input'!Q207)","v":""},{"$f":"IF('Data Input'!N207=\"\",\"\",'Data Input'!N207)","v":""},null,null,null,null,null,null,null,null,"",{"$f":"IFERROR(VLOOKUP($Z209,Lookup!$C:$E,2,FALSE),\"\")","v":""},{"$f":"IFERROR(VLOOKUP($AA209,Lookup!$D:$E,2,FALSE),\"\")","v":""},"",{"$f":"IFERROR(VLOOKUP($AC209,Lookup!$C:$E,2,FALSE),\"\")","v":""},{"$f":"IFERROR(VLOOKUP($AD209,Lookup!$D:$E,2,FALSE),\"\")","v":""},"",{"$f":"IFERROR(VLOOKUP($AF209,Lookup!$C:$E,2,FALSE),\"\")","v":""},{"$f":"IFERROR(VLOOKUP($AG209,Lookup!$D:$E,2,FALSE),\"\")","v":""},""]
[{"$f":"IF('Data Input'!I208=\"\",\"\",'Data Input'!I208)","v":""},{"$f":"IF('Data Input'!H208=\"\",\"\",'Data Input'!H208)","v":""},{"$f":"IF('Data Input'!A208=\"\",\"\",'Data Input'!A208)","v":""},{"$f":"IF('Data Input'!R208=\"\",\"\",'Data Input'!R208)","v":""},{"$f":"IF('Data Input'!D208=\"\",\"\",'Data Input'!D208)","v":""},{"$f":"IF('Data Input'!E208=\"\",\"\",'Data Input'!E208)","v":""},{"$f":"IF('Data Input'!F208=\"\",\"\",'Data Input'!F208)","v":""},{"$f":"IF('Data Input'!G208=\"\",\"\",'Data Input'!G208)","v":""},{"$f":"IF('Data Input'!B208=\"\",\"\",'Data Input'!B208)","v":""},{"$f":"IF('Data Input'!C208=\"\",\"\",'Data Input'!C208)","v":""},{"$f":"IF('Data Input'!J208=\"\",\"\",'Data Input'!J208)","v":""},{"$f":"IF('Data Input'!K208=\"\",\"\",'Data Input'!K208)","v":""},{"$f":"IF('Data Input'!O208=\"\",\"\",'Data Input'!O208)","v":""},{"$f":"IF('Data Input'!L208=\"\",\"\",'Data Input'!L208)","v":""},{"$f":"IF('Data Input'!M208=\"\",\"\",'Data Input'!M208)","v":""},{"$f":"IF('Data Input'!Q208=\"\",\"\",'Data Input'!Q208)","v":""},{"$f":"IF('Data Input'!N208=\"\",\"\",'Data Input'!N208)","v":""},null,null,null,null,null,null,null,null,"",{"$f":"IFERROR(VLOOKUP($Z210,Lookup!$C:$E,2,FALSE),\"\")","v":""},{"$f":"IFERROR(VLOOKUP($AA210,Lookup!$D:$E,2,FALSE),\"\")","v":""},"",{"$f":"IFERROR(VLOOKUP($AC210,Lookup!$C:$E,2,FALSE),\"\")","v":""},{"$f":"IFERROR(VLOOKUP($AD210,Lookup!$D:$E,2,FALSE),\"\")","v":""},"",{"$f":"IFERROR(VLOOKUP($AF210,Lookup!$C:$E,2,FALSE),\"\")","v":""},{"$f":"IFERROR(VLOOKUP($AG210,Lookup!$D:$E,2,FALSE),\"\")","v":""},""]
[{"$f":"IF('Data Input'!I209=\"\",\"\",'Data Input'!I209)","v":""},{"$f":"IF('Data Input'!H209=\"\",\"\",'Data Input'!H209)","v":""},{"$f":"IF('Data Input'!A209=\"\",\"\",'Data Input'!A209)","v":""},{"$f":"IF('Data Input'!R209=\"\",\"\",'Data Input'!R209)","v":""},{"$f":"IF('Data Input'!D209=\"\",\"\",'Data Input'!D209)","v":""},{"$f":"IF('Data Input'!E209=\"\",\"\",'Data Input'!E209)","v":""},{"$f":"IF('Data Input'!F209=\"\",\"\",'Data Input'!F209)","v":""},{"$f":"IF('Data Input'!G209=\"\",\"\",'Data Input'!G209)","v":""},{"$f":"IF('Data Input'!B209=\"\",\"\",'Data Input'!B209)","v":""},{"$f":"IF('Data Input'!C209=\"\",\"\",'Data Input'!C209)","v":""},{"$f":"IF('Data Input'!J209=\"\",\"\",'Data Input'!J209)","v":""},{"$f":"IF('Data Input'!K209=\"\",\"\",'Data Input'!K209)","v":""},{"$f":"IF('Data Input'!O209=\"\",\"\",'Data Input'!O209)","v":""},{"$f":"IF('Data Input'!L209=\"\",\"\",'Data Input'!L209)","v":""},{"$f":"IF('Data Input'!M209=\"\",\"\",'Data Input'!M209)","v":""},{"$f":"IF('Data Input'!Q209=\"\",\"\",'Data Input'!Q209)","v":""},{"$f":"IF('Data Input'!N209=\"\",\"\",'Data Input'!N209)","v":""},null,null,null,null,null,null,null,null,"",{"$f":"IFERROR(VLOOKUP($Z211,Lookup!$C:$E,2,FALSE),\"\")","v":""},{"$f":"IFERROR(VLOOKUP($AA211,Lookup!$D:$E,2,FALSE),\"\")","v":""},"",{"$f":"IFERROR(VLOOKUP($AC211,Lookup!$C:$E,2,FALSE),\"\")","v":""},{"$f":"IFERROR(VLOOKUP($AD211,Lookup!$D:$E,2,FALSE),\"\")","v":""},"",{"$f":"IFERROR(VLOOKUP($AF211,Lookup!$C:$E,2,FALSE),\"\")","v":""},{"$f":"IFERROR(VLOOKUP($AG211,Lookup!$D:$E,2,FALSE),\"\")","v":""},""]
[{"$f":"IF('Data Input'!I210=\"\",\"\",'Data Input'!I210)","v":""},{"$f":"IF('Data Input'!H210=\"\",\"\",'Data Input'!H210)","v":""},{"$f":"IF('Data Input'!A210=\"\",\"\",'Data Input'!A210)","v":""},{"$f":"IF('Data Input'!R210=\"\",\"\",'Data Input'!R210)","v":""},{"$f":"IF('Data Input'!D210=\"\",\"\",'Data Input'!D210)","v":""},{"$f":"IF('Data Input'!E210=\"\",\"\",'Data Input'!E210)","v":""},{"$f":"IF('Data Input'!F210=\"\",\"\",'Data Input'!F210)","v":""},{"$f":"IF('Data Input'!G210=\"\",\"\",'Data Input'!G210)","v":""},{"$f":"IF('Data Input'!B210=\"\",\"\",'Data Input'!B210)","v":""},{"$f":"IF('Data Input'!C210=\"\",\"\",'Data Input'!C210)","v":""},{"$f":"IF('Data Input'!J210=\"\",\"\",'Data Input'!J210)","v":""},{"$f":"IF('Data Input'!K210=\"\",\"\",'Data Input'!K210)","v":""},{"$f":"IF('Data Input'!O210=\"\",\"\",'Data Input'!O210)","v":""},{"$f":"IF('Data Input'!L210=\"\",\"\",'Data Input'!L210)","v":""},{"$f":"IF('Data Input'!M210=\"\",\"\",'Data Input'!M210)","v":""},{"$f":"IF('Data Input'!Q210=\"\",\"\",'Data Input'!Q210)","v":""},{"$f":"IF('Data Input'!N210=\"\",\"\",'Data Input'!N210)","v":""},null,null,null,null,null,null,null,null,"",{"$f":"IFERROR(VLOOKUP($Z212,Lookup!$C:$E,2,FALSE),\"\")","v":""},{"$f":"IFERROR(VLOOKUP($AA212,Lookup!$D:$E,2,FALSE),\"\")","v":""},"",{"$f":"IFERROR(VLOOKUP($AC212,Lookup!$C:$E,2,FALSE),\"\")","v":""},{"$f":"IFERROR(VLOOKUP($AD212,Lookup!$D:$E,2,FALSE),\"\")","v":""},"",{"$f":"IFERROR(VLOOKUP($AF212,Lookup!$C:$E,2,FALSE),\"\")","v":""},{"$f":"IFERROR(VLOOKUP($AG212,Lookup!$D:$E,2,FALSE),\"\")","v":""},""]
[{"$f":"IF('Data Input'!I211=\"\",\"\",'Data Input'!I211)","v":""},{"$f":"IF('Data Input'!H211=\"\",\"\",'Data Input'!H211)","v":""},{"$f":"IF('Data Input'!A211=\"\",\"\",'Data Input'!A211)","v":""},{"$f":"IF('Data Input'!R211=\"\",\"\",'Data Input'!R211)","v":""},{"$f":"IF('Data Input'!D211=\"\",\"\",'Data Input'!D211)","v":""},{"$f":"IF('Data Input'!E211=\"\",\"\",'Data Input'!E211)","v":""},{"$f":"IF('Data Input'!F211=\"\",\"\",'Data Input'!F211)","v":""},{"$f":"IF('Data Input'!G211=\"\",\"\",'Data Input'!G211)","v":""},{"$f":"IF('Data Input'!B211=\"\",\"\",'Data Input'!B211)","v":""},{"$f":"IF('Data Input'!C211=\"\",\"\",'Data Input'!C211)","v":""},{"$f":"IF('Data Input'!J211=\"\",\"\",'Data Input'!J211)","v":""},{"$f":"IF('Data Input'!K211=\"\",\"\",'Data Input'!K211)","v":""},{"$f":"IF('Data Input'!O211=\"\",\"\",'Data Input'!O211)","v":""},{"$f":"IF('Data Input'!L211=\"\",\"\",'Data Input'!L211)","v":""},{"$f":"IF('Data Input'!M211=\"\",\"\",'Data Input'!M211)","v":""},{"$f":"IF('Data Input'!Q211=\"\",\"\",'Data Input'!Q211)","v":""},{"$f":"IF('Data Input'!N211=\"\",\"\",'Data Input'!N211)","v":""},null,null,null,null,null,null,null,null,"",{"$f":"IFERROR(VLOOKUP($Z213,Lookup!$C:$E,2,FALSE),\"\")","v":""},{"$f":"IFERROR(VLOOKUP($AA213,Lookup!$D:$E,2,FALSE),\"\")","v":""},"",{"$f":"IFERROR(VLOOKUP($AC213,Lookup!$C:$E,2,FALSE),\"\")","v":""},{"$f":"IFERROR(VLOOKUP($AD213,Lookup!$D:$E,2,FALSE),\"\")","v":""},"",{"$f":"IFERROR(VLOOKUP($AF213,Lookup!$C:$E,2,FALSE),\"\")","v":""},{"$f":"IFERROR(VLOOKUP($AG213,Lookup!$D:$E,2,FALSE),\"\")","v":""},""]
[{"$f":"IF('Data Input'!I212=\"\",\"\",'Data Input'!I212)","v":""},{"$f":"IF('Data Input'!H212=\"\",\"\",'Data Input'!H212)","v":""},{"$f":"IF('Data Input'!A212=\"\",\"\",'Data Input'!A212)","v":""},{"$f":"IF('Data Input'!R212=\"\",\"\",'Data Input'!R212)","v":""},{"$f":"IF('Data Input'!D212=\"\",\"\",'Data Input'!D212)","v":""},{"$f":"IF('Data Input'!E212=\"\",\"\",'Data Input'!E212)","v":""},{"$f":"IF('Data Input'!F212=\"\",\"\",'Data Input'!F212)","v":""},{"$f":"IF('Data Input'!G212=\"\",\"\",'Data Input'!G212)","v":""},{"$f":"IF('Data Input'!B212=\"\",\"\",'Data Input'!B212)","v":""},{"$f":"IF('Data Input'!C212=\"\",\"\",'Data Input'!C212)","v":""},{"$f":"IF('Data Input'!J212=\"\",\"\",'Data Input'!J212)","v":""},{"$f":"IF('Data Input'!K212=\"\",\"\",'Data Input'!K212)","v":""},{"$f":"IF('Data Input'!O212=\"\",\"\",'Data Input'!O212)","v":""},{"$f":"IF('Data Input'!L212=\"\",\"\",'Data Input'!L212)","v":""},{"$f":"IF('Data Input'!M212=\"\",\"\",'Data Input'!M212)","v":""},{"$f":"IF('Data Input'!Q212=\"\",\"\",'Data Input'!Q212)","v":""},{"$f":"IF('Data Input'!N212=\"\",\"\",'Data Input'!N212)","v":""},null,null,null,null,null,null,null,null,"",{"$f":"IFERROR(VLOOKUP($Z214,Lookup!$C:$E,2,FALSE),\"\")","v":""},{"$f":"IFERROR(VLOOKUP($AA214,Lookup!$D:$E,2,FALSE),\"\")","v":""},"",{"$f":"IFERROR(VLOOKUP($AC214,Lookup!$C:$E,2,FALSE),\"\")","v":""},{"$f":"IFERROR(VLOOKUP($AD214,Lookup!$D:$E,2,FALSE),\"\")","v":""},"",{"$f":"IFERROR(VLOOKUP($AF214,Lookup!$C:$E,2,FALSE),\"\")","v":""},{"$f":"IFERROR(VLOOKUP($AG214,Lookup!$D:$E,2,FALSE),\"\")","v":""},""]
[{"$f":"IF('Data Input'!I213=\"\",\"\",'Data Input'!I213)","v":""},{"$f":"IF('Data Input'!H213=\"\",\"\",'Data Input'!H213)","v":""},{"$f":"IF('Data Input'!A213=\"\",\"\",'Data Input'!A213)","v":""},{"$f":"IF('Data Input'!R213=\"\",\"\",'Data Input'!R213)","v":""},{"$f":"IF('Data Input'!D213=\"\",\"\",'Data Input'!D213)","v":""},{"$f":"IF('Data Input'!E213=\"\",\"\",'Data Input'!E213)","v":""},{"$f":"IF('Data Input'!F213=\"\",\"\",'Data Input'!F213)","v":""},{"$f":"IF('Data Input'!G213=\"\",\"\",'Data Input'!G213)","v":""},{"$f":"IF('Data Input'!B213=\"\",\"\",'Data Input'!B213)","v":""},{"$f":"IF('Data Input'!C213=\"\",\"\",'Data Input'!C213)","v":""},{"$f":"IF('Data Input'!J213=\"\",\"\",'Data Input'!J213)","v":""},{"$f":"IF('Data Input'!K213=\"\",\"\",'Data Input'!K213)","v":""},{"$f":"IF('Data Input'!O213=\"\",\"\",'Data Input'!O213)","v":""},{"$f":"IF('Data Input'!L213=\"\",\"\",'Data Input'!L213)","v":""},{"$f":"IF('Data Input'!M213=\"\",\"\",'Data Input'!M213)","v":""},{"$f":"IF('Data Input'!Q213=\"\",\"\",'Data Input'!Q213)","v":""},{"$f":"IF('Data Input'!N213=\"\",\"\",'Data Input'!N213)","v":""},null,null,null,null,null,null,null,null,"",{"$f":"IFERROR(VLOOKUP($Z215,Lookup!$C:$E,2,FALSE),\"\")","v":""},{"$f":"IFERROR(VLOOKUP($AA215,Lookup!$D:$E,2,FALSE),\"\")","v":""},"",{"$f":"IFERROR(VLOOKUP($AC215,Lookup!$C:$E,2,FALSE),\"\")","v":""},{"$f":"IFERROR(VLOOKUP($AD215,Lookup!$D:$E,2,FALSE),\"\")","v":""},"",{"$f":"IFERROR(VLOOKUP($AF215,Lookup!$C:$E,2,FALSE),\"\")","v":""},{"$f":"IFERROR(VLOOKUP($AG215,Lookup!$D:$E,2,FALSE),\"\")","v":""},""]
[{"$f":"IF('Data Input'!I214=\"\",\"\",'Data Input'!I214)","v":""},{"$f":"IF('Data Input'!H214=\"\",\"\",'Data Input'!H214)","v":""},{"$f":"IF('Data Input'!A214=\"\",\"\",'Data Input'!A214)","v":""},{"$f":"IF('Data Input'!R214=\"\",\"\",'Data Input'!R214)","v":""},{"$f":"IF('Data Input'!D214=\"\",\"\",'Data Input'!D214)","v":""},{"$f":"IF('Data Input'!E214=\"\",\"\",'Data Input'!E214)","v":""},{"$f":"IF('Data Input'!F214=\"\",\"\",'Data Input'!F214)","v":""},{"$f":"IF('Data Input'!G214=\"\",\"\",'Data Input'!G214)","v":""},{"$f":"IF('Data Input'!B214=\"\",\"\",'Data Input'!B214)","v":""},{"$f":"IF('Data Input'!C214=\"\",\"\",'Data Input'!C214)","v":""},{"$f":"IF('Data Input'!J214=\"\",\"\",'Data Input'!J214)","v":""},{"$f":"IF('Data Input'!K214=\"\",\"\",'Data Input'!K214)","v":""},{"$f":"IF('Data Input'!O214=\"\",\"\",'Data Input'!O214)","v":""},{"$f":"IF('Data Input'!L214=\"\",\"\",'Data Input'!L214)","v":""},{"$f":"IF('Data Input'!M214=\"\",\"\",'Data Input'!M214)","v":""},{"$f":"IF('Data Input'!Q214=\"\",\"\",'Data Input'!Q214)","v":""},{"$f":"IF('Data Input'!N214=\"\",\"\",'Data Input'!N214)","v":""},null,null,null,null,null,null,null,null,"",{"$f":"IFERROR(VLOOKUP($Z216,Lookup!$C:$E,2,FALSE),\"\")","v":""},{"$f":"IFERROR(VLOOKUP($AA216,Lookup!$D:$E,2,FALSE),\"\")","v":""},"",{"$f":"IFERROR(VLOOKUP($AC216,Lookup!$C:$E,2,FALSE),\"\")","v":""},{"$f":"IFERROR(VLOOKUP($AD216,Lookup!$D:$E,2,FALSE),\"\")","v":""},"",{"$f":"IFERROR(VLOOKUP($AF216,Lookup!$C:$E,2,FALSE),\"\")","v":""},{"$f":"IFERROR(VLOOKUP($AG216,Lookup!$D:$E,2,FALSE),\"\")","v":""},""]
[{"$f":"IF('Data Input'!I215=\"\",\"\",'Data Input'!I215)","v":""},{"$f":"IF('Data Input'!H215=\"\",\"\",'Data Input'!H215)","v":""},{"$f":"IF('Data Input'!A215=\"\",\"\",'Data Input'!A215)","v":""},{"$f":"IF('Data Input'!R215=\"\",\"\",'Data Input'!R215)","v":""},{"$f":"IF('Data Input'!D215=\"\",\"\",'Data Input'!D215)","v":""},{"$f":"IF('Data Input'!E215=\"\",\"\",'Data Input'!E215)","v":""},{"$f":"IF('Data Input'!F215=\"\",\"\",'Data Input'!F215)","v":""},{"$f":"IF('Data Input'!G215=\"\",\"\",'Data Input'!G215)","v":""},{"$f":"IF('Data Input'!B215=\"\",\"\",'Data Input'!B215)","v":""},{"$f":"IF('Data Input'!C215=\"\",\"\",'Data Input'!C215)","v":""},{"$f":"IF('Data Input'!J215=\"\",\"\",'Data Input'!J215)","v":""},{"$f":"IF('Data Input'!K215=\"\",\"\",'Data Input'!K215)","v":""},{"$f":"IF('Data Input'!O215=\"\",\"\",'Data Input'!O215)","v":""},{"$f":"IF('Data Input'!L215=\"\",\"\",'Data Input'!L215)","v":""},{"$f":"IF('Data Input'!M215=\"\",\"\",'Data Input'!M215)","v":""},{"$f":"IF('Data Input'!Q215=\"\",\"\",'Data Input'!Q215)","v":""},{"$f":"IF('Data Input'!N215=\"\",\"\",'Data Input'!N215)","v":""},null,null,null,null,null,null,null,null,"",{"$f":"IFERROR(VLOOKUP($Z217,Lookup!$C:$E,2,FALSE),\"\")","v":""},{"$f":"IFERROR(VLOOKUP($AA217,Lookup!$D:$E,2,FALSE),\"\")","v":""},"",{"$f":"IFERROR(VLOOKUP($AC217,Lookup!$C:$E,2,FALSE),\"\")","v":""},{"$f":"IFERROR(VLOOKUP($AD217,Lookup!$D:$E,2,FALSE),\"\")","v":""},"",{"$f":"IFERROR(VLOOKUP($AF217,Lookup!$C:$E,2,FALSE),\"\")","v":""},{"$f":"IFERROR(VLOOKUP($AG217,Lookup!$D:$E,2,FALSE),\"\")","v":""},""]
[{"$f":"IF('Data Input'!I216=\"\",\"\",'Data Input'!I216)","v":""},{"$f":"IF('Data Input'!H216=\"\",\"\",'Data Input'!H216)","v":""},{"$f":"IF('Data Input'!A216=\"\",\"\",'Data Input'!A216)","v":""},{"$f":"IF('Data Input'!R216=\"\",\"\",'Data Input'!R216)","v":""},{"$f":"IF('Data Input'!D216=\"\",\"\",'Data Input'!D216)","v":""},{"$f":"IF('Data Input'!E216=\"\",\"\",'Data Input'!E216)","v":""},{"$f":"IF('Data Input'!F216=\"\",\"\",'Data Input'!F216)","v":""},{"$f":"IF('Data Input'!G216=\"\",\"\",'Data Input'!G216)","v":""},{"$f":"IF('Data Input'!B216=\"\",\"\",'Data Input'!B216)","v":""},{"$f":"IF('Data Input'!C216=\"\",\"\",'Data Input'!C216)","v":""},{"$f":"IF('Data Input'!J216=\"\",\"\",'Data Input'!J216)","v":""},{"$f":"IF('Data Input'!K216=\"\",\"\",'Data Input'!K216)","v":""},{"$f":"IF('Data Input'!O216=\"\",\"\",'Data Input'!O216)","v":""},{"$f":"IF('Data Input'!L216=\"\",\"\",'Data Input'!L216)","v":""},{"$f":"IF('Data Input'!M216=\"\",\"\",'Data Input'!M216)","v":""},{"$f":"IF('Data Input'!Q216=\"\",\"\",'Data Input'!Q216)","v":""},{"$f":"IF('Data Input'!N216=\"\",\"\",'Data Input'!N216)","v":""},null,null,null,null,null,null,null,null,"",{"$f":"IFERROR(VLOOKUP($Z218,Lookup!$C:$E,2,FALSE),\"\")","v":""},{"$f":"IFERROR(VLOOKUP($AA218,Lookup!$D:$E,2,FALSE),\"\")","v":""},"",{"$f":"IFERROR(VLOOKUP($AC218,Lookup!$C:$E,2,FALSE),\"\")","v":""},{"$f":"IFERROR(VLOOKUP($AD218,Lookup!$D:$E,2,FALSE),\"\")","v":""},"",{"$f":"IFERROR(VLOOKUP($AF218,Lookup!$C:$E,2,FALSE),\"\")","v":""},{"$f":"IFERROR(VLOOKUP($AG218,Lookup!$D:$E,2,FALSE),\"\")","v":""},""]
[{"$f":"IF('Data Input'!I217=\"\",\"\",'Data Input'!I217)","v":""},{"$f":"IF('Data Input'!H217=\"\",\"\",'Data Input'!H217)","v":""},{"$f":"IF('Data Input'!A217=\"\",\"\",'Data Input'!A217)","v":""},{"$f":"IF('Data Input'!R217=\"\",\"\",'Data Input'!R217)","v":""},{"$f":"IF('Data Input'!D217=\"\",\"\",'Data Input'!D217)","v":""},{"$f":"IF('Data Input'!E217=\"\",\"\",'Data Input'!E217)","v":""},{"$f":"IF('Data Input'!F217=\"\",\"\",'Data Input'!F217)","v":""},{"$f":"IF('Data Input'!G217=\"\",\"\",'Data Input'!G217)","v":""},{"$f":"IF('Data Input'!B217=\"\",\"\",'Data Input'!B217)","v":""},{"$f":"IF('Data Input'!C217=\"\",\"\",'Data Input'!C217)","v":""},{"$f":"IF('Data Input'!J217=\"\",\"\",'Data Input'!J217)","v":""},{"$f":"IF('Data Input'!K217=\"\",\"\",'Data Input'!K217)","v":""},{"$f":"IF('Data Input'!O217=\"\",\"\",'Data Input'!O217)","v":""},{"$f":"IF('Data Input'!L217=\"\",\"\",'Data Input'!L217)","v":""},{"$f":"IF('Data Input'!M217=\"\",\"\",'Data Input'!M217)","v":""},{"$f":"IF('Data Input'!Q217=\"\",\"\",'Data Input'!Q217)","v":""},{"$f":"IF('Data Input'!N217=\"\",\"\",'Data Input'!N217)","v":""},null,null,null,null,null,null,null,null,"",{"$f":"IFERROR(VLOOKUP($Z219,Lookup!$C:$E,2,FALSE),\"\")","v":""},{"$f":"IFERROR(VLOOKUP($AA219,Lookup!$D:$E,2,FALSE),\"\")","v":""},"",{"$f":"IFERROR(VLOOKUP($AC219,Lookup!$C:$E,2,FALSE),\"\")","v":""},{"$f":"IFERROR(VLOOKUP($AD219,Lookup!$D:$E,2,FALSE),\"\")","v":""},"",{"$f":"IFERROR(VLOOKUP($AF219,Lookup!$C:$E,2,FALSE),\"\")","v":""},{"$f":"IFERROR(VLOOKUP($AG219,Lookup!$D:$E,2,FALSE),\"\")","v":""},""]
[{"$f":"IF('Data Input'!I218=\"\",\"\",'Data Input'!I218)","v":""},{"$f":"IF('Data Input'!H218=\"\",\"\",'Data Input'!H218)","v":""},{"$f":"IF('Data Input'!A218=\"\",\"\",'Data Input'!A218)","v":""},{"$f":"IF('Data Input'!R218=\"\",\"\",'Data Input'!R218)","v":""},{"$f":"IF('Data Input'!D218=\"\",\"\",'Data Input'!D218)","v":""},{"$f":"IF('Data Input'!E218=\"\",\"\",'Data Input'!E218)","v":""},{"$f":"IF('Data Input'!F218=\"\",\"\",'Data Input'!F218)","v":""},{"$f":"IF('Data Input'!G218=\"\",\"\",'Data Input'!G218)","v":""},{"$f":"IF('Data Input'!B218=\"\",\"\",'Data Input'!B218)","v":""},{"$f":"IF('Data Input'!C218=\"\",\"\",'Data Input'!C218)","v":""},{"$f":"IF('Data Input'!J218=\"\",\"\",'Data Input'!J218)","v":""},{"$f":"IF('Data Input'!K218=\"\",\"\",'Data Input'!K218)","v":""},{"$f":"IF('Data Input'!O218=\"\",\"\",'Data Input'!O218)","v":""},{"$f":"IF('Data Input'!L218=\"\",\"\",'Data Input'!L218)","v":""},{"$f":"IF('Data Input'!M218=\"\",\"\",'Data Input'!M218)","v":""},{"$f":"IF('Data Input'!Q218=\"\",\"\",'Data Input'!Q218)","v":""},{"$f":"IF('Data Input'!N218=\"\",\"\",'Data Input'!N218)","v":""},null,null,null,null,null,null,null,null,"",{"$f":"IFERROR(VLOOKUP($Z220,Lookup!$C:$E,2,FALSE),\"\")","v":""},{"$f":"IFERROR(VLOOKUP($AA220,Lookup!$D:$E,2,FALSE),\"\")","v":""},"",{"$f":"IFERROR(VLOOKUP($AC220,Lookup!$C:$E,2,FALSE),\"\")","v":""},{"$f":"IFERROR(VLOOKUP($AD220,Lookup!$D:$E,2,FALSE),\"\")","v":""},"",{"$f":"IFERROR(VLOOKUP($AF220,Lookup!$C:$E,2,FALSE),\"\")","v":""},{"$f":"IFERROR(VLOOKUP($AG220,Lookup!$D:$E,2,FALSE),\"\")","v":""},""]
[{"$f":"IF('Data Input'!I219=\"\",\"\",'Data Input'!I219)","v":""},{"$f":"IF('Data Input'!H219=\"\",\"\",'Data Input'!H219)","v":""},{"$f":"IF('Data Input'!A219=\"\",\"\",'Data Input'!A219)","v":""},{"$f":"IF('Data Input'!R219=\"\",\"\",'Data Input'!R219)","v":""},{"$f":"IF('Data Input'!D219=\"\",\"\",'Data Input'!D219)","v":""},{"$f":"IF('Data Input'!E219=\"\",\"\",'Data Input'!E219)","v":""},{"$f":"IF('Data Input'!F219=\"\",\"\",'Data Input'!F219)","v":""},{"$f":"IF('Data Input'!G219=\"\",\"\",'Data Input'!G219)","v":""},{"$f":"IF('Data Input'!B219=\"\",\"\",'Data Input'!B219)","v":""},{"$f":"IF('Data Input'!C219=\"\",\"\",'Data Input'!C219)","v":""},{"$f":"IF('Data Input'!J219=\"\",\"\",'Data Input'!J219)","v":""},{"$f":"IF('Data Input'!K219=\"\",\"\",'Data Input'!K219)","v":""},{"$f":"IF('Data Input'!O219=\"\",\"\",'Data Input'!O219)","v":""},{"$f":"IF('Data Input'!L219=\"\",\"\",'Data Input'!L219)","v":""},{"$f":"IF('Data Input'!M219=\"\",\"\",'Data Input'!M219)","v":""},{"$f":"IF('Data Input'!Q219=\"\",\"\",'Data Input'!Q219)","v":""},{"$f":"IF('Data Input'!N219=\"\",\"\",'Data Input'!N219)","v":""},null,null,null,null,null,null,null,null,"",{"$f":"IFERROR(VLOOKUP($Z221,Lookup!$C:$E,2,FALSE),\"\")","v":""},{"$f":"IFERROR(VLOOKUP($AA221,Lookup!$D:$E,2,FALSE),\"\")","v":""},"",{"$f":"IFERROR(VLOOKUP($AC221,Lookup!$C:$E,2,FALSE),\"\")","v":""},{"$f":"IFERROR(VLOOKUP($AD221,Lookup!$D:$E,2,FALSE),\"\")","v":""},"",{"$f":"IFERROR(VLOOKUP($AF221,Lookup!$C:$E,2,FALSE),\"\")","v":""},{"$f":"IFERROR(VLOOKUP($AG221,Lookup!$D:$E,2,FALSE),\"\")","v":""},""]
[{"$f":"IF('Data Input'!I220=\"\",\"\",'Data Input'!I220)","v":""},{"$f":"IF('Data Input'!H220=\"\",\"\",'Data Input'!H220)","v":""},{"$f":"IF('Data Input'!A220=\"\",\"\",'Data Input'!A220)","v":""},{"$f":"IF('Data Input'!R220=\"\",\"\",'Data Input'!R220)","v":""},{"$f":"IF('Data Input'!D220=\"\",\"\",'Data Input'!D220)","v":""},{"$f":"IF('Data Input'!E220=\"\",\"\",'Data Input'!E220)","v":""},{"$f":"IF('Data Input'!F220=\"\",\"\",'Data Input'!F220)","v":""},{"$f":"IF('Data Input'!G220=\"\",\"\",'Data Input'!G220)","v":""},{"$f":"IF('Data Input'!B220=\"\",\"\",'Data Input'!B220)","v":""},{"$f":"IF('Data Input'!C220=\"\",\"\",'Data Input'!C220)","v":""},{"$f":"IF('Data Input'!J220=\"\",\"\",'Data Input'!J220)","v":""},{"$f":"IF('Data Input'!K220=\"\",\"\",'Data Input'!K220)","v":""},{"$f":"IF('Data Input'!O220=\"\",\"\",'Data Input'!O220)","v":""},{"$f":"IF('Data Input'!L220=\"\",\"\",'Data Input'!L220)","v":""},{"$f":"IF('Data Input'!M220=\"\",\"\",'Data Input'!M220)","v":""},{"$f":"IF('Data Input'!Q220=\"\",\"\",'Data Input'!Q220)","v":""},{"$f":"IF('Data Input'!N220=\"\",\"\",'Data Input'!N220)","v":""},null,null,null,null,null,null,null,null,"",{"$f":"IFERROR(VLOOKUP($Z222,Lookup!$C:$E,2,FALSE),\"\")","v":""},{"$f":"IFERROR(VLOOKUP($AA222,Lookup!$D:$E,2,FALSE),\"\")","v":""},"",{"$f":"IFERROR(VLOOKUP($AC222,Lookup!$C:$E,2,FALSE),\"\")","v":""},{"$f":"IFERROR(VLOOKUP($AD222,Lookup!$D:$E,2,FALSE),\"\")","v":""},"",{"$f":"IFERROR(VLOOKUP($AF222,Lookup!$C:$E,2,FALSE),\"\")","v":""},{"$f":"IFERROR(VLOOKUP($AG222,Lookup!$D:$E,2,FALSE),\"\")","v":""},""]
[{"$f":"IF('Data Input'!I221=\"\",\"\",'Data Input'!I221)","v":""},{"$f":"IF('Data Input'!H221=\"\",\"\",'Data Input'!H221)","v":""},{"$f":"IF('Data Input'!A221=\"\",\"\",'Data Input'!A221)","v":""},{"$f":"IF('Data Input'!R221=\"\",\"\",'Data Input'!R221)","v":""},{"$f":"IF('Data Input'!D221=\"\",\"\",'Data Input'!D221)","v":""},{"$f":"IF('Data Input'!E221=\"\",\"\",'Data Input'!E221)","v":""},{"$f":"IF('Data Input'!F221=\"\",\"\",'Data Input'!F221)","v":""},{"$f":"IF('Data Input'!G221=\"\",\"\",'Data Input'!G221)","v":""},{"$f":"IF('Data Input'!B221=\"\",\"\",'Data Input'!B221)","v":""},{"$f":"IF('Data Input'!C221=\"\",\"\",'Data Input'!C221)","v":""},{"$f":"IF('Data Input'!J221=\"\",\"\",'Data Input'!J221)","v":""},{"$f":"IF('Data Input'!K221=\"\",\"\",'Data Input'!K221)","v":""},{"$f":"IF('Data Input'!O221=\"\",\"\",'Data Input'!O221)","v":""},{"$f":"IF('Data Input'!L221=\"\",\"\",'Data Input'!L221)","v":""},{"$f":"IF('Data Input'!M221=\"\",\"\",'Data Input'!M221)","v":""},{"$f":"IF('Data Input'!Q221=\"\",\"\",'Data Input'!Q221)","v":""},{"$f":"IF('Data Input'!N221=\"\",\"\",'Data Input'!N221)","v":""},null,null,null,null,null,null,null,null,"",{"$f":"IFERROR(VLOOKUP($Z223,Lookup!$C:$E,2,FALSE),\"\")","v":""},{"$f":"IFERROR(VLOOKUP($AA223,Lookup!$D:$E,2,FALSE),\"\")","v":""},"",{"$f":"IFERROR(VLOOKUP($AC223,Lookup!$C:$E,2,FALSE),\"\")","v":""},{"$f":"IFERROR(VLOOKUP($AD223,Lookup!$D:$E,2,FALSE),\"\")","v":""},"",{"$f":"IFERROR(VLOOKUP($AF223,Lookup!$C:$E,2,FALSE),\"\")","v":""},{"$f":"IFERROR(VLOOKUP($AG223,Lookup!$D:$E,2,FALSE),\"\")","v":""},""]
[{"$f":"IF('Data Input'!I222=\"\",\"\",'Data Input'!I222)","v":""},{"$f":"IF('Data Input'!H222=\"\",\"\",'Data Input'!H222)","v":""},{"$f":"IF('Data Input'!A222=\"\",\"\",'Data Input'!A222)","v":""},{"$f":"IF('Data Input'!R222=\"\",\"\",'Data Input'!R222)","v":""},{"$f":"IF('Data Input'!D222=\"\",\"\",'Data Input'!D222)","v":""},{"$f":"IF('Data Input'!E222=\"\",\"\",'Data Input'!E222)","v":""},{"$f":"IF('Data Input'!F222=\"\",\"\",'Data Input'!F222)","v":""},{"$f":"IF('Data Input'!G222=\"\",\"\",'Data Input'!G222)","v":""},{"$f":"IF('Data Input'!B222=\"\",\"\",'Data Input'!B222)","v":""},{"$f":"IF('Data Input'!C222=\"\",\"\",'Data Input'!C222)","v":""},{"$f":"IF('Data Input'!J222=\"\",\"\",'Data Input'!J222)","v":""},{"$f":"IF('Data Input'!K222=\"\",\"\",'Data Input'!K222)","v":""},{"$f":"IF('Data Input'!O222=\"\",\"\",'Data Input'!O222)","v":""},{"$f":"IF('Data Input'!L222=\"\",\"\",'Data Input'!L222)","v":""},{"$f":"IF('Data Input'!M222=\"\",\"\",'Data Input'!M222)","v":""},{"$f":"IF('Data Input'!Q222=\"\",\"\",'Data Input'!Q222)","v":""},{"$f":"IF('Data Input'!N222=\"\",\"\",'Data Input'!N222)","v":""},null,null,null,null,null,null,null,null,"",{"$f":"IFERROR(VLOOKUP($Z224,Lookup!$C:$E,2,FALSE),\"\")","v":""},{"$f":"IFERROR(VLOOKUP($AA224,Lookup!$D:$E,2,FALSE),\"\")","v":""},"",{"$f":"IFERROR(VLOOKUP($AC224,Lookup!$C:$E,2,FALSE),\"\")","v":""},{"$f":"IFERROR(VLOOKUP($AD224,Lookup!$D:$E,2,FALSE),\"\")","v":""},"",{"$f":"IFERROR(VLOOKUP($AF224,Lookup!$C:$E,2,FALSE),\"\")","v":""},{"$f":"IFERROR(VLOOKUP($AG224,Lookup!$D:$E,2,FALSE),\"\")","v":""},""]
[{"$f":"IF('Data Input'!I223=\"\",\"\",'Data Input'!I223)","v":""},{"$f":"IF('Data Input'!H223=\"\",\"\",'Data Input'!H223)","v":""},{"$f":"IF('Data Input'!A223=\"\",\"\",'Data Input'!A223)","v":""},{"$f":"IF('Data Input'!R223=\"\",\"\",'Data Input'!R223)","v":""},{"$f":"IF('Data Input'!D223=\"\",\"\",'Data Input'!D223)","v":""},{"$f":"IF('Data Input'!E223=\"\",\"\",'Data Input'!E223)","v":""},{"$f":"IF('Data Input'!F223=\"\",\"\",'Data Input'!F223)","v":""},{"$f":"IF('Data Input'!G223=\"\",\"\",'Data Input'!G223)","v":""},{"$f":"IF('Data Input'!B223=\"\",\"\",'Data Input'!B223)","v":""},{"$f":"IF('Data Input'!C223=\"\",\"\",'Data Input'!C223)","v":""},{"$f":"IF('Data Input'!J223=\"\",\"\",'Data Input'!J223)","v":""},{"$f":"IF('Data Input'!K223=\"\",\"\",'Data Input'!K223)","v":""},{"$f":"IF('Data Input'!O223=\"\",\"\",'Data Input'!O223)","v":""},{"$f":"IF('Data Input'!L223=\"\",\"\",'Data Input'!L223)","v":""},{"$f":"IF('Data Input'!M223=\"\",\"\",'Data Input'!M223)","v":""},{"$f":"IF('Data Input'!Q223=\"\",\"\",'Data Input'!Q223)","v":""},{"$f":"IF('Data Input'!N223=\"\",\"\",'Data Input'!N223)","v":""},null,null,null,null,null,null,null,null,"",{"$f":"IFERROR(VLOOKUP($Z225,Lookup!$C:$E,2,FALSE),\"\")","v":""},{"$f":"IFERROR(VLOOKUP($AA225,Lookup!$D:$E,2,FALSE),\"\")","v":""},"",{"$f":"IFERROR(VLOOKUP($AC225,Lookup!$C:$E,2,FALSE),\"\")","v":""},{"$f":"IFERROR(VLOOKUP($AD225,Lookup!$D:$E,2,FALSE),\"\")","v":""},"",{"$f":"IFERROR(VLOOKUP($AF225,Lookup!$C:$E,2,FALSE),\"\")","v":""},{"$f":"IFERROR(VLOOKUP($AG225,Lookup!$D:$E,2,FALSE),\"\")","v":""},""]
[{"$f":"IF('Data Input'!I224=\"\",\"\",'Data Input'!I224)","v":""},{"$f":"IF('Data Input'!H224=\"\",\"\",'Data Input'!H224)","v":""},{"$f":"IF('Data Input'!A224=\"\",\"\",'Data Input'!A224)","v":""},{"$f":"IF('Data Input'!R224=\"\",\"\",'Data Input'!R224)","v":""},{"$f":"IF('Data Input'!D224=\"\",\"\",'Data Input'!D224)","v":""},{"$f":"IF('Data Input'!E224=\"\",\"\",'Data Input'!E224)","v":""},{"$f":"IF('Data Input'!F224=\"\",\"\",'Data Input'!F224)","v":""},{"$f":"IF('Data Input'!G224=\"\",\"\",'Data Input'!G224)","v":""},{"$f":"IF('Data Input'!B224=\"\",\"\",'Data Input'!B224)","v":""},{"$f":"IF('Data Input'!C224=\"\",\"\",'Data Input'!C224)","v":""},{"$f":"IF('Data Input'!J224=\"\",\"\",'Data Input'!J224)","v":""},{"$f":"IF('Data Input'!K224=\"\",\"\",'Data Input'!K224)","v":""},{"$f":"IF('Data Input'!O224=\"\",\"\",'Data Input'!O224)","v":""},{"$f":"IF('Data Input'!L224=\"\",\"\",'Data Input'!L224)","v":""},{"$f":"IF('Data Input'!M224=\"\",\"\",'Data Input'!M224)","v":""},{"$f":"IF('Data Input'!Q224=\"\",\"\",'Data Input'!Q224)","v":""},{"$f":"IF('Data Input'!N224=\"\",\"\",'Data Input'!N224)","v":""},null,null,null,null,null,null,null,null,"",{"$f":"IFERROR(VLOOKUP($Z226,Lookup!$C:$E,2,FALSE),\"\")","v":""},{"$f":"IFERROR(VLOOKUP($AA226,Lookup!$D:$E,2,FALSE),\"\")","v":""},"",{"$f":"IFERROR(VLOOKUP($AC226,Lookup!$C:$E,2,FALSE),\"\")","v":""},{"$f":"IFERROR(VLOOKUP($AD226,Lookup!$D:$E,2,FALSE),\"\")","v":""},"",{"$f":"IFERROR(VLOOKUP($AF226,Lookup!$C:$E,2,FALSE),\"\")","v":""},{"$f":"IFERROR(VLOOKUP($AG226,Lookup!$D:$E,2,FALSE),\"\")","v":""},""]
[{"$f":"IF('Data Input'!I225=\"\",\"\",'Data Input'!I225)","v":""},{"$f":"IF('Data Input'!H225=\"\",\"\",'Data Input'!H225)","v":""},{"$f":"IF('Data Input'!A225=\"\",\"\",'Data Input'!A225)","v":""},{"$f":"IF('Data Input'!R225=\"\",\"\",'Data Input'!R225)","v":""},{"$f":"IF('Data Input'!D225=\"\",\"\",'Data Input'!D225)","v":""},{"$f":"IF('Data Input'!E225=\"\",\"\",'Data Input'!E225)","v":""},{"$f":"IF('Data Input'!F225=\"\",\"\",'Data Input'!F225)","v":""},{"$f":"IF('Data Input'!G225=\"\",\"\",'Data Input'!G225)","v":""},{"$f":"IF('Data Input'!B225=\"\",\"\",'Data Input'!B225)","v":""},{"$f":"IF('Data Input'!C225=\"\",\"\",'Data Input'!C225)","v":""},{"$f":"IF('Data Input'!J225=\"\",\"\",'Data Input'!J225)","v":""},{"$f":"IF('Data Input'!K225=\"\",\"\",'Data Input'!K225)","v":""},{"$f":"IF('Data Input'!O225=\"\",\"\",'Data Input'!O225)","v":""},{"$f":"IF('Data Input'!L225=\"\",\"\",'Data Input'!L225)","v":""},{"$f":"IF('Data Input'!M225=\"\",\"\",'Data Input'!M225)","v":""},{"$f":"IF('Data Input'!Q225=\"\",\"\",'Data Input'!Q225)","v":""},{"$f":"IF('Data Input'!N225=\"\",\"\",'Data Input'!N225)","v":""},null,null,null,null,null,null,null,null,"",{"$f":"IFERROR(VLOOKUP($Z227,Lookup!$C:$E,2,FALSE),\"\")","v":""},{"$f":"IFERROR(VLOOKUP($AA227,Lookup!$D:$E,2,FALSE),\"\")","v":""},"",{"$f":"IFERROR(VLOOKUP($AC227,Lookup!$C:$E,2,FALSE),\"\")","v":""},{"$f":"IFERROR(VLOOKUP($AD227,Lookup!$D:$E,2,FALSE),\"\")","v":""},"",{"$f":"IFERROR(VLOOKUP($AF227,Lookup!$C:$E,2,FALSE),\"\")","v":""},{"$f":"IFERROR(VLOOKUP($AG227,Lookup!$D:$E,2,FALSE),\"\")","v":""},""]
[{"$f":"IF('Data Input'!I226=\"\",\"\",'Data Input'!I226)","v":""},{"$f":"IF('Data Input'!H226=\"\",\"\",'Data Input'!H226)","v":""},{"$f":"IF('Data Input'!A226=\"\",\"\",'Data Input'!A226)","v":""},{"$f":"IF('Data Input'!R226=\"\",\"\",'Data Input'!R226)","v":""},{"$f":"IF('Data Input'!D226=\"\",\"\",'Data Input'!D226)","v":""},{"$f":"IF('Data Input'!E226=\"\",\"\",'Data Input'!E226)","v":""},{"$f":"IF('Data Input'!F226=\"\",\"\",'Data Input'!F226)","v":""},{"$f":"IF('Data Input'!G226=\"\",\"\",'Data Input'!G226)","v":""},{"$f":"IF('Data Input'!B226=\"\",\"\",'Data Input'!B226)","v":""},{"$f":"IF('Data Input'!C226=\"\",\"\",'Data Input'!C226)","v":""},{"$f":"IF('Data Input'!J226=\"\",\"\",'Data Input'!J226)","v":""},{"$f":"IF('Data Input'!K226=\"\",\"\",'Data Input'!K226)","v":""},{"$f":"IF('Data Input'!O226=\"\",\"\",'Data Input'!O226)","v":""},{"$f":"IF('Data Input'!L226=\"\",\"\",'Data Input'!L226)","v":""},{"$f":"IF('Data Input'!M226=\"\",\"\",'Data Input'!M226)","v":""},{"$f":"IF('Data Input'!Q226=\"\",\"\",'Data Input'!Q226)","v":""},{"$f":"IF('Data Input'!N226=\"\",\"\",'Data Input'!N226)","v":""},null,null,null,null,null,null,null,null,"",{"$f":"IFERROR(VLOOKUP($Z228,Lookup!$C:$E,2,FALSE),\"\")","v":""},{"$f":"IFERROR(VLOOKUP($AA228,Lookup!$D:$E,2,FALSE),\"\")","v":""},"",{"$f":"IFERROR(VLOOKUP($AC228,Lookup!$C:$E,2,FALSE),\"\")","v":""},{"$f":"IFERROR(VLOOKUP($AD228,Lookup!$D:$E,2,FALSE),\"\")","v":""},"",{"$f":"IFERROR(VLOOKUP($AF228,Lookup!$C:$E,2,FALSE),\"\")","v":""},{"$f":"IFERROR(VLOOKUP($AG228,Lookup!$D:$E,2,FALSE),\"\")","v":""},""]
[{"$f":"IF('Data Input'!I227=\"\",\"\",'Data Input'!I227)","v":""},{"$f":"IF('Data Input'!H227=\"\",\"\",'Data Input'!H227)","v":""},{"$f":"IF('Data Input'!A227=\"\",\"\",'Data Input'!A227)","v":""},{"$f":"IF('Data Input'!R227=\"\",\"\",'Data Input'!R227)","v":""},{"$f":"IF('Data Input'!D227=\"\",\"\",'Data Input'!D227)","v":""},{"$f":"IF('Data Input'!E227=\"\",\"\",'Data Input'!E227)","v":""},{"$f":"IF('Data Input'!F227=\"\",\"\",'Data Input'!F227)","v":""},{"$f":"IF('Data Input'!G227=\"\",\"\",'Data Input'!G227)","v":""},{"$f":"IF('Data Input'!B227=\"\",\"\",'Data Input'!B227)","v":""},{"$f":"IF('Data Input'!C227=\"\",\"\",'Data Input'!C227)","v":""},{"$f":"IF('Data Input'!J227=\"\",\"\",'Data Input'!J227)","v":""},{"$f":"IF('Data Input'!K227=\"\",\"\",'Data Input'!K227)","v":""},{"$f":"IF('Data Input'!O227=\"\",\"\",'Data Input'!O227)","v":""},{"$f":"IF('Data Input'!L227=\"\",\"\",'Data Input'!L227)","v":""},{"$f":"IF('Data Input'!M227=\"\",\"\",'Data Input'!M227)","v":""},{"$f":"IF('Data Input'!Q227=\"\",\"\",'Data Input'!Q227)","v":""},{"$f":"IF('Data Input'!N227=\"\",\"\",'Data Input'!N227)","v":""},null,null,null,null,null,null,null,null,"",{"$f":"IFERROR(VLOOKUP($Z229,Lookup!$C:$E,2,FALSE),\"\")","v":""},{"$f":"IFERROR(VLOOKUP($AA229,Lookup!$D:$E,2,FALSE),\"\")","v":""},"",{"$f":"IFERROR(VLOOKUP($AC229,Lookup!$C:$E,2,FALSE),\"\")","v":""},{"$f":"IFERROR(VLOOKUP($AD229,Lookup!$D:$E,2,FALSE),\"\")","v":""},"",{"$f":"IFERROR(VLOOKUP($AF229,Lookup!$C:$E,2,FALSE),\"\")","v":""},{"$f":"IFERROR(VLOOKUP($AG229,Lookup!$D:$E,2,FALSE),\"\")","v":""},""]
[{"$f":"IF('Data Input'!I228=\"\",\"\",'Data Input'!I228)","v":""},{"$f":"IF('Data Input'!H228=\"\",\"\",'Data Input'!H228)","v":""},{"$f":"IF('Data Input'!A228=\"\",\"\",'Data Input'!A228)","v":""},{"$f":"IF('Data Input'!R228=\"\",\"\",'Data Input'!R228)","v":""},{"$f":"IF('Data Input'!D228=\"\",\"\",'Data Input'!D228)","v":""},{"$f":"IF('Data Input'!E228=\"\",\"\",'Data Input'!E228)","v":""},{"$f":"IF('Data Input'!F228=\"\",\"\",'Data Input'!F228)","v":""},{"$f":"IF('Data Input'!G228=\"\",\"\",'Data Input'!G228)","v":""},{"$f":"IF('Data Input'!B228=\"\",\"\",'Data Input'!B228)","v":""},{"$f":"IF('Data Input'!C228=\"\",\"\",'Data Input'!C228)","v":""},{"$f":"IF('Data Input'!J228=\"\",\"\",'Data Input'!J228)","v":""},{"$f":"IF('Data Input'!K228=\"\",\"\",'Data Input'!K228)","v":""},{"$f":"IF('Data Input'!O228=\"\",\"\",'Data Input'!O228)","v":""},{"$f":"IF('Data Input'!L228=\"\",\"\",'Data Input'!L228)","v":""},{"$f":"IF('Data Input'!M228=\"\",\"\",'Data Input'!M228)","v":""},{"$f":"IF('Data Input'!Q228=\"\",\"\",'Data Input'!Q228)","v":""},{"$f":"IF('Data Input'!N228=\"\",\"\",'Data Input'!N228)","v":""},null,null,null,null,null,null,null,null,"",{"$f":"IFERROR(VLOOKUP($Z230,Lookup!$C:$E,2,FALSE),\"\")","v":""},{"$f":"IFERROR(VLOOKUP($AA230,Lookup!$D:$E,2,FALSE),\"\")","v":""},"",{"$f":"IFERROR(VLOOKUP($AC230,Lookup!$C:$E,2,FALSE),\"\")","v":""},{"$f":"IFERROR(VLOOKUP($AD230,Lookup!$D:$E,2,FALSE),\"\")","v":""},"",{"$f":"IFERROR(VLOOKUP($AF230,Lookup!$C:$E,2,FALSE),\"\")","v":""},{"$f":"IFERROR(VLOOKUP($AG230,Lookup!$D:$E,2,FALSE),\"\")","v":""},""]
[{"$f":"IF('Data Input'!I229=\"\",\"\",'Data Input'!I229)","v":""},{"$f":"IF('Data Input'!H229=\"\",\"\",'Data Input'!H229)","v":""},{"$f":"IF('Data Input'!A229=\"\",\"\",'Data Input'!A229)","v":""},{"$f":"IF('Data Input'!R229=\"\",\"\",'Data Input'!R229)","v":""},{"$f":"IF('Data Input'!D229=\"\",\"\",'Data Input'!D229)","v":""},{"$f":"IF('Data Input'!E229=\"\",\"\",'Data Input'!E229)","v":""},{"$f":"IF('Data Input'!F229=\"\",\"\",'Data Input'!F229)","v":""},{"$f":"IF('Data Input'!G229=\"\",\"\",'Data Input'!G229)","v":""},{"$f":"IF('Data Input'!B229=\"\",\"\",'Data Input'!B229)","v":""},{"$f":"IF('Data Input'!C229=\"\",\"\",'Data Input'!C229)","v":""},{"$f":"IF('Data Input'!J229=\"\",\"\",'Data Input'!J229)","v":""},{"$f":"IF('Data Input'!K229=\"\",\"\",'Data Input'!K229)","v":""},{"$f":"IF('Data Input'!O229=\"\",\"\",'Data Input'!O229)","v":""},{"$f":"IF('Data Input'!L229=\"\",\"\",'Data Input'!L229)","v":""},{"$f":"IF('Data Input'!M229=\"\",\"\",'Data Input'!M229)","v":""},{"$f":"IF('Data Input'!Q229=\"\",\"\",'Data Input'!Q229)","v":""},{"$f":"IF('Data Input'!N229=\"\",\"\",'Data Input'!N229)","v":""},null,null,null,null,null,null,null,null,"",{"$f":"IFERROR(VLOOKUP($Z231,Lookup!$C:$E,2,FALSE),\"\")","v":""},{"$f":"IFERROR(VLOOKUP($AA231,Lookup!$D:$E,2,FALSE),\"\")","v":""},"",{"$f":"IFERROR(VLOOKUP($AC231,Lookup!$C:$E,2,FALSE),\"\")","v":""},{"$f":"IFERROR(VLOOKUP($AD231,Lookup!$D:$E,2,FALSE),\"\")","v":""},"",{"$f":"IFERROR(VLOOKUP($AF231,Lookup!$C:$E,2,FALSE),\"\")","v":""},{"$f":"IFERROR(VLOOKUP($AG231,Lookup!$D:$E,2,FALSE),\"\")","v":""},""]
[{"$f":"IF('Data Input'!I230=\"\",\"\",'Data Input'!I230)","v":""},{"$f":"IF('Data Input'!H230=\"\",\"\",'Data Input'!H230)","v":""},{"$f":"IF('Data Input'!A230=\"\",\"\",'Data Input'!A230)","v":""},{"$f":"IF('Data Input'!R230=\"\",\"\",'Data Input'!R230)","v":""},{"$f":"IF('Data Input'!D230=\"\",\"\",'Data Input'!D230)","v":""},{"$f":"IF('Data Input'!E230=\"\",\"\",'Data Input'!E230)","v":""},{"$f":"IF('Data Input'!F230=\"\",\"\",'Data Input'!F230)","v":""},{"$f":"IF('Data Input'!G230=\"\",\"\",'Data Input'!G230)","v":""},{"$f":"IF('Data Input'!B230=\"\",\"\",'Data Input'!B230)","v":""},{"$f":"IF('Data Input'!C230=\"\",\"\",'Data Input'!C230)","v":""},{"$f":"IF('Data Input'!J230=\"\",\"\",'Data Input'!J230)","v":""},{"$f":"IF('Data Input'!K230=\"\",\"\",'Data Input'!K230)","v":""},{"$f":"IF('Data Input'!O230=\"\",\"\",'Data Input'!O230)","v":""},{"$f":"IF('Data Input'!L230=\"\",\"\",'Data Input'!L230)","v":""},{"$f":"IF('Data Input'!M230=\"\",\"\",'Data Input'!M230)","v":""},{"$f":"IF('Data Input'!Q230=\"\",\"\",'Data Input'!Q230)","v":""},{"$f":"IF('Data Input'!N230=\"\",\"\",'Data Input'!N230)","v":""},null,null,null,null,null,null,null,null,"",{"$f":"IFERROR(VLOOKUP($Z232,Lookup!$C:$E,2,FALSE),\"\")","v":""},{"$f":"IFERROR(VLOOKUP($AA232,Lookup!$D:$E,2,FALSE),\"\")","v":""},"",{"$f":"IFERROR(VLOOKUP($AC232,Lookup!$C:$E,2,FALSE),\"\")","v":""},{"$f":"IFERROR(VLOOKUP($AD232,Lookup!$D:$E,2,FALSE),\"\")","v":""},"",{"$f":"IFERROR(VLOOKUP($AF232,Lookup!$C:$E,2,FALSE),\"\")","v":""},{"$f":"IFERROR(VLOOKUP($AG232,Lookup!$D:$E,2,FALSE),\"\")","v":""},""]
[{"$f":"IF('Data Input'!I231=\"\",\"\",'Data Input'!I231)","v":""},{"$f":"IF('Data Input'!H231=\"\",\"\",'Data Input'!H231)","v":""},{"$f":"IF('Data Input'!A231=\"\",\"\",'Data Input'!A231)","v":""},{"$f":"IF('Data Input'!R231=\"\",\"\",'Data Input'!R231)","v":""},{"$f":"IF('Data Input'!D231=\"\",\"\",'Data Input'!D231)","v":""},{"$f":"IF('Data Input'!E231=\"\",\"\",'Data Input'!E231)","v":""},{"$f":"IF('Data Input'!F231=\"\",\"\",'Data Input'!F231)","v":""},{"$f":"IF('Data Input'!G231=\"\",\"\",'Data Input'!G231)","v":""},{"$f":"IF('Data Input'!B231=\"\",\"\",'Data Input'!B231)","v":""},{"$f":"IF('Data Input'!C231=\"\",\"\",'Data Input'!C231)","v":""},{"$f":"IF('Data Input'!J231=\"\",\"\",'Data Input'!J231)","v":""},{"$f":"IF('Data Input'!K231=\"\",\"\",'Data Input'!K231)","v":""},{"$f":"IF('Data Input'!O231=\"\",\"\",'Data Input'!O231)","v":""},{"$f":"IF('Data Input'!L231=\"\",\"\",'Data Input'!L231)","v":""},{"$f":"IF('Data Input'!M231=\"\",\"\",'Data Input'!M231)","v":""},{"$f":"IF('Data Input'!Q231=\"\",\"\",'Data Input'!Q231)","v":""},{"$f":"IF('Data Input'!N231=\"\",\"\",'Data Input'!N231)","v":""},null,null,null,null,null,null,null,null,"",{"$f":"IFERROR(VLOOKUP($Z233,Lookup!$C:$E,2,FALSE),\"\")","v":""},{"$f":"IFERROR(VLOOKUP($AA233,Lookup!$D:$E,2,FALSE),\"\")","v":""},"",{"$f":"IFERROR(VLOOKUP($AC233,Lookup!$C:$E,2,FALSE),\"\")","v":""},{"$f":"IFERROR(VLOOKUP($AD233,Lookup!$D:$E,2,FALSE),\"\")","v":""},"",{"$f":"IFERROR(VLOOKUP($AF233,Lookup!$C:$E,2,FALSE),\"\")","v":""},{"$f":"IFERROR(VLOOKUP($AG233,Lookup!$D:$E,2,FALSE),\"\")","v":""},""]
[{"$f":"IF('Data Input'!I232=\"\",\"\",'Data Input'!I232)","v":""},{"$f":"IF('Data Input'!H232=\"\",\"\",'Data Input'!H232)","v":""},{"$f":"IF('Data Input'!A232=\"\",\"\",'Data Input'!A232)","v":""},{"$f":"IF('Data Input'!R232=\"\",\"\",'Data Input'!R232)","v":""},{"$f":"IF('Data Input'!D232=\"\",\"\",'Data Input'!D232)","v":""},{"$f":"IF('Data Input'!E232=\"\",\"\",'Data Input'!E232)","v":""},{"$f":"IF('Data Input'!F232=\"\",\"\",'Data Input'!F232)","v":""},{"$f":"IF('Data Input'!G232=\"\",\"\",'Data Input'!G232)","v":""},{"$f":"IF('Data Input'!B232=\"\",\"\",'Data Input'!B232)","v":""},{"$f":"IF('Data Input'!C232=\"\",\"\",'Data Input'!C232)","v":""},{"$f":"IF('Data Input'!J232=\"\",\"\",'Data Input'!J232)","v":""},{"$f":"IF('Data Input'!K232=\"\",\"\",'Data Input'!K232)","v":""},{"$f":"IF('Data Input'!O232=\"\",\"\",'Data Input'!O232)","v":""},{"$f":"IF('Data Input'!L232=\"\",\"\",'Data Input'!L232)","v":""},{"$f":"IF('Data Input'!M232=\"\",\"\",'Data Input'!M232)","v":""},{"$f":"IF('Data Input'!Q232=\"\",\"\",'Data Input'!Q232)","v":""},{"$f":"IF('Data Input'!N232=\"\",\"\",'Data Input'!N232)","v":""},null,null,null,null,null,null,null,null,"",{"$f":"IFERROR(VLOOKUP($Z234,Lookup!$C:$E,2,FALSE),\"\")","v":""},{"$f":"IFERROR(VLOOKUP($AA234,Lookup!$D:$E,2,FALSE),\"\")","v":""},"",{"$f":"IFERROR(VLOOKUP($AC234,Lookup!$C:$E,2,FALSE),\"\")","v":""},{"$f":"IFERROR(VLOOKUP($AD234,Lookup!$D:$E,2,FALSE),\"\")","v":""},"",{"$f":"IFERROR(VLOOKUP($AF234,Lookup!$C:$E,2,FALSE),\"\")","v":""},{"$f":"IFERROR(VLOOKUP($AG234,Lookup!$D:$E,2,FALSE),\"\")","v":""},""]
[{"$f":"IF('Data Input'!I233=\"\",\"\",'Data Input'!I233)","v":""},{"$f":"IF('Data Input'!H233=\"\",\"\",'Data Input'!H233)","v":""},{"$f":"IF('Data Input'!A233=\"\",\"\",'Data Input'!A233)","v":""},{"$f":"IF('Data Input'!R233=\"\",\"\",'Data Input'!R233)","v":""},{"$f":"IF('Data Input'!D233=\"\",\"\",'Data Input'!D233)","v":""},{"$f":"IF('Data Input'!E233=\"\",\"\",'Data Input'!E233)","v":""},{"$f":"IF('Data Input'!F233=\"\",\"\",'Data Input'!F233)","v":""},{"$f":"IF('Data Input'!G233=\"\",\"\",'Data Input'!G233)","v":""},{"$f":"IF('Data Input'!B233=\"\",\"\",'Data Input'!B233)","v":""},{"$f":"IF('Data Input'!C233=\"\",\"\",'Data Input'!C233)","v":""},{"$f":"IF('Data Input'!J233=\"\",\"\",'Data Input'!J233)","v":""},{"$f":"IF('Data Input'!K233=\"\",\"\",'Data Input'!K233)","v":""},{"$f":"IF('Data Input'!O233=\"\",\"\",'Data Input'!O233)","v":""},{"$f":"IF('Data Input'!L233=\"\",\"\",'Data Input'!L233)","v":""},{"$f":"IF('Data Input'!M233=\"\",\"\",'Data Input'!M233)","v":""},{"$f":"IF('Data Input'!Q233=\"\",\"\",'Data Input'!Q233)","v":""},{"$f":"IF('Data Input'!N233=\"\",\"\",'Data Input'!N233)","v":""},null,null,null,null,null,null,null,null,"",{"$f":"IFERROR(VLOOKUP($Z235,Lookup!$C:$E,2,FALSE),\"\")","v":""},{"$f":"IFERROR(VLOOKUP($AA235,Lookup!$D:$E,2,FALSE),\"\")","v":""},"",{"$f":"IFERROR(VLOOKUP($AC235,Lookup!$C:$E,2,FALSE),\"\")","v":""},{"$f":"IFERROR(VLOOKUP($AD235,Lookup!$D:$E,2,FALSE),\"\")","v":""},"",{"$f":"IFERROR(VLOOKUP($AF235,Lookup!$C:$E,2,FALSE),\"\")","v":""},{"$f":"IFERROR(VLOOKUP($AG235,Lookup!$D:$E,2,FALSE),\"\")","v":""},""]
[{"$f":"IF('Data Input'!I234=\"\",\"\",'Data Input'!I234)","v":""},{"$f":"IF('Data Input'!H234=\"\",\"\",'Data Input'!H234)","v":""},{"$f":"IF('Data Input'!A234=\"\",\"\",'Data Input'!A234)","v":""},{"$f":"IF('Data Input'!R234=\"\",\"\",'Data Input'!R234)","v":""},{"$f":"IF('Data Input'!D234=\"\",\"\",'Data Input'!D234)","v":""},{"$f":"IF('Data Input'!E234=\"\",\"\",'Data Input'!E234)","v":""},{"$f":"IF('Data Input'!F234=\"\",\"\",'Data Input'!F234)","v":""},{"$f":"IF('Data Input'!G234=\"\",\"\",'Data Input'!G234)","v":""},{"$f":"IF('Data Input'!B234=\"\",\"\",'Data Input'!B234)","v":""},{"$f":"IF('Data Input'!C234=\"\",\"\",'Data Input'!C234)","v":""},{"$f":"IF('Data Input'!J234=\"\",\"\",'Data Input'!J234)","v":""},{"$f":"IF('Data Input'!K234=\"\",\"\",'Data Input'!K234)","v":""},{"$f":"IF('Data Input'!O234=\"\",\"\",'Data Input'!O234)","v":""},{"$f":"IF('Data Input'!L234=\"\",\"\",'Data Input'!L234)","v":""},{"$f":"IF('Data Input'!M234=\"\",\"\",'Data Input'!M234)","v":""},{"$f":"IF('Data Input'!Q234=\"\",\"\",'Data Input'!Q234)","v":""},{"$f":"IF('Data Input'!N234=\"\",\"\",'Data Input'!N234)","v":""},null,null,null,null,null,null,null,null,"",{"$f":"IFERROR(VLOOKUP($Z236,Lookup!$C:$E,2,FALSE),\"\")","v":""},{"$f":"IFERROR(VLOOKUP($AA236,Lookup!$D:$E,2,FALSE),\"\")","v":""},"",{"$f":"IFERROR(VLOOKUP($AC236,Lookup!$C:$E,2,FALSE),\"\")","v":""},{"$f":"IFERROR(VLOOKUP($AD236,Lookup!$D:$E,2,FALSE),\"\")","v":""},"",{"$f":"IFERROR(VLOOKUP($AF236,Lookup!$C:$E,2,FALSE),\"\")","v":""},{"$f":"IFERROR(VLOOKUP($AG236,Lookup!$D:$E,2,FALSE),\"\")","v":""},""]
[{"$f":"IF('Data Input'!I235=\"\",\"\",'Data Input'!I235)","v":""},{"$f":"IF('Data Input'!H235=\"\",\"\",'Data Input'!H235)","v":""},{"$f":"IF('Data Input'!A235=\"\",\"\",'Data Input'!A235)","v":""},{"$f":"IF('Data Input'!R235=\"\",\"\",'Data Input'!R235)","v":""},{"$f":"IF('Data Input'!D235=\"\",\"\",'Data Input'!D235)","v":""},{"$f":"IF('Data Input'!E235=\"\",\"\",'Data Input'!E235)","v":""},{"$f":"IF('Data Input'!F235=\"\",\"\",'Data Input'!F235)","v":""},{"$f":"IF('Data Input'!G235=\"\",\"\",'Data Input'!G235)","v":""},{"$f":"IF('Data Input'!B235=\"\",\"\",'Data Input'!B235)","v":""},{"$f":"IF('Data Input'!C235=\"\",\"\",'Data Input'!C235)","v":""},{"$f":"IF('Data Input'!J235=\"\",\"\",'Data Input'!J235)","v":""},{"$f":"IF('Data Input'!K235=\"\",\"\",'Data Input'!K235)","v":""},{"$f":"IF('Data Input'!O235=\"\",\"\",'Data Input'!O235)","v":""},{"$f":"IF('Data Input'!L235=\"\",\"\",'Data Input'!L235)","v":""},{"$f":"IF('Data Input'!M235=\"\",\"\",'Data Input'!M235)","v":""},{"$f":"IF('Data Input'!Q235=\"\",\"\",'Data Input'!Q235)","v":""},{"$f":"IF('Data Input'!N235=\"\",\"\",'Data Input'!N235)","v":""},null,null,null,null,null,null,null,null,"",{"$f":"IFERROR(VLOOKUP($Z237,Lookup!$C:$E,2,FALSE),\"\")","v":""},{"$f":"IFERROR(VLOOKUP($AA237,Lookup!$D:$E,2,FALSE),\"\")","v":""},"",{"$f":"IFERROR(VLOOKUP($AC237,Lookup!$C:$E,2,FALSE),\"\")","v":""},{"$f":"IFERROR(VLOOKUP($AD237,Lookup!$D:$E,2,FALSE),\"\")","v":""},"",{"$f":"IFERROR(VLOOKUP($AF237,Lookup!$C:$E,2,FALSE),\"\")","v":""},{"$f":"IFERROR(VLOOKUP($AG237,Lookup!$D:$E,2,FALSE),\"\")","v":""},""]
[{"$f":"IF('Data Input'!I236=\"\",\"\",'Data Input'!I236)","v":""},{"$f":"IF('Data Input'!H236=\"\",\"\",'Data Input'!H236)","v":""},{"$f":"IF('Data Input'!A236=\"\",\"\",'Data Input'!A236)","v":""},{"$f":"IF('Data Input'!R236=\"\",\"\",'Data Input'!R236)","v":""},{"$f":"IF('Data Input'!D236=\"\",\"\",'Data Input'!D236)","v":""},{"$f":"IF('Data Input'!E236=\"\",\"\",'Data Input'!E236)","v":""},{"$f":"IF('Data Input'!F236=\"\",\"\",'Data Input'!F236)","v":""},{"$f":"IF('Data Input'!G236=\"\",\"\",'Data Input'!G236)","v":""},{"$f":"IF('Data Input'!B236=\"\",\"\",'Data Input'!B236)","v":""},{"$f":"IF('Data Input'!C236=\"\",\"\",'Data Input'!C236)","v":""},{"$f":"IF('Data Input'!J236=\"\",\"\",'Data Input'!J236)","v":""},{"$f":"IF('Data Input'!K236=\"\",\"\",'Data Input'!K236)","v":""},{"$f":"IF('Data Input'!O236=\"\",\"\",'Data Input'!O236)","v":""},{"$f":"IF('Data Input'!L236=\"\",\"\",'Data Input'!L236)","v":""},{"$f":"IF('Data Input'!M236=\"\",\"\",'Data Input'!M236)","v":""},{"$f":"IF('Data Input'!Q236=\"\",\"\",'Data Input'!Q236)","v":""},{"$f":"IF('Data Input'!N236=\"\",\"\",'Data Input'!N236)","v":""},null,null,null,null,null,null,null,null,"",{"$f":"IFERROR(VLOOKUP($Z238,Lookup!$C:$E,2,FALSE),\"\")","v":""},{"$f":"IFERROR(VLOOKUP($AA238,Lookup!$D:$E,2,FALSE),\"\")","v":""},"",{"$f":"IFERROR(VLOOKUP($AC238,Lookup!$C:$E,2,FALSE),\"\")","v":""},{"$f":"IFERROR(VLOOKUP($AD238,Lookup!$D:$E,2,FALSE),\"\")","v":""},"",{"$f":"IFERROR(VLOOKUP($AF238,Lookup!$C:$E,2,FALSE),\"\")","v":""},{"$f":"IFERROR(VLOOKUP($AG238,Lookup!$D:$E,2,FALSE),\"\")","v":""},""]
[{"$f":"IF('Data Input'!I237=\"\",\"\",'Data Input'!I237)","v":""},{"$f":"IF('Data Input'!H237=\"\",\"\",'Data Input'!H237)","v":""},{"$f":"IF('Data Input'!A237=\"\",\"\",'Data Input'!A237)","v":""},{"$f":"IF('Data Input'!R237=\"\",\"\",'Data Input'!R237)","v":""},{"$f":"IF('Data Input'!D237=\"\",\"\",'Data Input'!D237)","v":""},{"$f":"IF('Data Input'!E237=\"\",\"\",'Data Input'!E237)","v":""},{"$f":"IF('Data Input'!F237=\"\",\"\",'Data Input'!F237)","v":""},{"$f":"IF('Data Input'!G237=\"\",\"\",'Data Input'!G237)","v":""},{"$f":"IF('Data Input'!B237=\"\",\"\",'Data Input'!B237)","v":""},{"$f":"IF('Data Input'!C237=\"\",\"\",'Data Input'!C237)","v":""},{"$f":"IF('Data Input'!J237=\"\",\"\",'Data Input'!J237)","v":""},{"$f":"IF('Data Input'!K237=\"\",\"\",'Data Input'!K237)","v":""},{"$f":"IF('Data Input'!O237=\"\",\"\",'Data Input'!O237)","v":""},{"$f":"IF('Data Input'!L237=\"\",\"\",'Data Input'!L237)","v":""},{"$f":"IF('Data Input'!M237=\"\",\"\",'Data Input'!M237)","v":""},{"$f":"IF('Data Input'!Q237=\"\",\"\",'Data Input'!Q237)","v":""},{"$f":"IF('Data Input'!N237=\"\",\"\",'Data Input'!N237)","v":""},null,null,null,null,null,null,null,null,"",{"$f":"IFERROR(VLOOKUP($Z239,Lookup!$C:$E,2,FALSE),\"\")","v":""},{"$f":"IFERROR(VLOOKUP($AA239,Lookup!$D:$E,2,FALSE),\"\")","v":""},"",{"$f":"IFERROR(VLOOKUP($AC239,Lookup!$C:$E,2,FALSE),\"\")","v":""},{"$f":"IFERROR(VLOOKUP($AD239,Lookup!$D:$E,2,FALSE),\"\")","v":""},"",{"$f":"IFERROR(VLOOKUP($AF239,Lookup!$C:$E,2,FALSE),\"\")","v":""},{"$f":"IFERROR(VLOOKUP($AG239,Lookup!$D:$E,2,FALSE),\"\")","v":""},""]
[{"$f":"IF('Data Input'!I238=\"\",\"\",'Data Input'!I238)","v":""},{"$f":"IF('Data Input'!H238=\"\",\"\",'Data Input'!H238)","v":""},{"$f":"IF('Data Input'!A238=\"\",\"\",'Data Input'!A238)","v":""},{"$f":"IF('Data Input'!R238=\"\",\"\",'Data Input'!R238)","v":""},{"$f":"IF('Data Input'!D238=\"\",\"\",'Data Input'!D238)","v":""},{"$f":"IF('Data Input'!E238=\"\",\"\",'Data Input'!E238)","v":""},{"$f":"IF('Data Input'!F238=\"\",\"\",'Data Input'!F238)","v":""},{"$f":"IF('Data Input'!G238=\"\",\"\",'Data Input'!G238)","v":""},{"$f":"IF('Data Input'!B238=\"\",\"\",'Data Input'!B238)","v":""},{"$f":"IF('Data Input'!C238=\"\",\"\",'Data Input'!C238)","v":""},{"$f":"IF('Data Input'!J238=\"\",\"\",'Data Input'!J238)","v":""},{"$f":"IF('Data Input'!K238=\"\",\"\",'Data Input'!K238)","v":""},{"$f":"IF('Data Input'!O238=\"\",\"\",'Data Input'!O238)","v":""},{"$f":"IF('Data Input'!L238=\"\",\"\",'Data Input'!L238)","v":""},{"$f":"IF('Data Input'!M238=\"\",\"\",'Data Input'!M238)","v":""},{"$f":"IF('Data Input'!Q238=\"\",\"\",'Data Input'!Q238)","v":""},{"$f":"IF('Data Input'!N238=\"\",\"\",'Data Input'!N238)","v":""},null,null,null,null,null,null,null,null,"",{"$f":"IFERROR(VLOOKUP($Z240,Lookup!$C:$E,2,FALSE),\"\")","v":""},{"$f":"IFERROR(VLOOKUP($AA240,Lookup!$D:$E,2,FALSE),\"\")","v":""},"",{"$f":"IFERROR(VLOOKUP($AC240,Lookup!$C:$E,2,FALSE),\"\")","v":""},{"$f":"IFERROR(VLOOKUP($AD240,Lookup!$D:$E,2,FALSE),\"\")","v":""},"",{"$f":"IFERROR(VLOOKUP($AF240,Lookup!$C:$E,2,FALSE),\"\")","v":""},{"$f":"IFERROR(VLOOKUP($AG240,Lookup!$D:$E,2,FALSE),\"\")","v":""},""]
[{"$f":"IF('Data Input'!I239=\"\",\"\",'Data Input'!I239)","v":""},{"$f":"IF('Data Input'!H239=\"\",\"\",'Data Input'!H239)","v":""},{"$f":"IF('Data Input'!A239=\"\",\"\",'Data Input'!A239)","v":""},{"$f":"IF('Data Input'!R239=\"\",\"\",'Data Input'!R239)","v":""},{"$f":"IF('Data Input'!D239=\"\",\"\",'Data Input'!D239)","v":""},{"$f":"IF('Data Input'!E239=\"\",\"\",'Data Input'!E239)","v":""},{"$f":"IF('Data Input'!F239=\"\",\"\",'Data Input'!F239)","v":""},{"$f":"IF('Data Input'!G239=\"\",\"\",'Data Input'!G239)","v":""},{"$f":"IF('Data Input'!B239=\"\",\"\",'Data Input'!B239)","v":""},{"$f":"IF('Data Input'!C239=\"\",\"\",'Data Input'!C239)","v":""},{"$f":"IF('Data Input'!J239=\"\",\"\",'Data Input'!J239)","v":""},{"$f":"IF('Data Input'!K239=\"\",\"\",'Data Input'!K239)","v":""},{"$f":"IF('Data Input'!O239=\"\",\"\",'Data Input'!O239)","v":""},{"$f":"IF('Data Input'!L239=\"\",\"\",'Data Input'!L239)","v":""},{"$f":"IF('Data Input'!M239=\"\",\"\",'Data Input'!M239)","v":""},{"$f":"IF('Data Input'!Q239=\"\",\"\",'Data Input'!Q239)","v":""},{"$f":"IF('Data Input'!N239=\"\",\"\",'Data Input'!N239)","v":""},null,null,null,null,null,null,null,null,"",{"$f":"IFERROR(VLOOKUP($Z241,Lookup!$C:$E,2,FALSE),\"\")","v":""},{"$f":"IFERROR(VLOOKUP($AA241,Lookup!$D:$E,2,FALSE),\"\")","v":""},"",{"$f":"IFERROR(VLOOKUP($AC241,Lookup!$C:$E,2,FALSE),\"\")","v":""},{"$f":"IFERROR(VLOOKUP($AD241,Lookup!$D:$E,2,FALSE),\"\")","v":""},"",{"$f":"IFERROR(VLOOKUP($AF241,Lookup!$C:$E,2,FALSE),\"\")","v":""},{"$f":"IFERROR(VLOOKUP($AG241,Lookup!$D:$E,2,FALSE),\"\")","v":""},""]
[{"$f":"IF('Data Input'!I240=\"\",\"\",'Data Input'!I240)","v":""},{"$f":"IF('Data Input'!H240=\"\",\"\",'Data Input'!H240)","v":""},{"$f":"IF('Data Input'!A240=\"\",\"\",'Data Input'!A240)","v":""},{"$f":"IF('Data Input'!R240=\"\",\"\",'Data Input'!R240)","v":""},{"$f":"IF('Data Input'!D240=\"\",\"\",'Data Input'!D240)","v":""},{"$f":"IF('Data Input'!E240=\"\",\"\",'Data Input'!E240)","v":""},{"$f":"IF('Data Input'!F240=\"\",\"\",'Data Input'!F240)","v":""},{"$f":"IF('Data Input'!G240=\"\",\"\",'Data Input'!G240)","v":""},{"$f":"IF('Data Input'!B240=\"\",\"\",'Data Input'!B240)","v":""},{"$f":"IF('Data Input'!C240=\"\",\"\",'Data Input'!C240)","v":""},{"$f":"IF('Data Input'!J240=\"\",\"\",'Data Input'!J240)","v":""},{"$f":"IF('Data Input'!K240=\"\",\"\",'Data Input'!K240)","v":""},{"$f":"IF('Data Input'!O240=\"\",\"\",'Data Input'!O240)","v":""},{"$f":"IF('Data Input'!L240=\"\",\"\",'Data Input'!L240)","v":""},{"$f":"IF('Data Input'!M240=\"\",\"\",'Data Input'!M240)","v":""},{"$f":"IF('Data Input'!Q240=\"\",\"\",'Data Input'!Q240)","v":""},{"$f":"IF('Data Input'!N240=\"\",\"\",'Data Input'!N240)","v":""},null,null,null,null,null,null,null,null,"",{"$f":"IFERROR(VLOOKUP($Z242,Lookup!$C:$E,2,FALSE),\"\")","v":""},{"$f":"IFERROR(VLOOKUP($AA242,Lookup!$D:$E,2,FALSE),\"\")","v":""},"",{"$f":"IFERROR(VLOOKUP($AC242,Lookup!$C:$E,2,FALSE),\"\")","v":""},{"$f":"IFERROR(VLOOKUP($AD242,Lookup!$D:$E,2,FALSE),\"\")","v":""},"",{"$f":"IFERROR(VLOOKUP($AF242,Lookup!$C:$E,2,FALSE),\"\")","v":""},{"$f":"IFERROR(VLOOKUP($AG242,Lookup!$D:$E,2,FALSE),\"\")","v":""},""]
[{"$f":"IF('Data Input'!I241=\"\",\"\",'Data Input'!I241)","v":""},{"$f":"IF('Data Input'!H241=\"\",\"\",'Data Input'!H241)","v":""},{"$f":"IF('Data Input'!A241=\"\",\"\",'Data Input'!A241)","v":""},{"$f":"IF('Data Input'!R241=\"\",\"\",'Data Input'!R241)","v":""},{"$f":"IF('Data Input'!D241=\"\",\"\",'Data Input'!D241)","v":""},{"$f":"IF('Data Input'!E241=\"\",\"\",'Data Input'!E241)","v":""},{"$f":"IF('Data Input'!F241=\"\",\"\",'Data Input'!F241)","v":""},{"$f":"IF('Data Input'!G241=\"\",\"\",'Data Input'!G241)","v":""},{"$f":"IF('Data Input'!B241=\"\",\"\",'Data Input'!B241)","v":""},{"$f":"IF('Data Input'!C241=\"\",\"\",'Data Input'!C241)","v":""},{"$f":"IF('Data Input'!J241=\"\",\"\",'Data Input'!J241)","v":""},{"$f":"IF('Data Input'!K241=\"\",\"\",'Data Input'!K241)","v":""},{"$f":"IF('Data Input'!O241=\"\",\"\",'Data Input'!O241)","v":""},{"$f":"IF('Data Input'!L241=\"\",\"\",'Data Input'!L241)","v":""},{"$f":"IF('Data Input'!M241=\"\",\"\",'Data Input'!M241)","v":""},{"$f":"IF('Data Input'!Q241=\"\",\"\",'Data Input'!Q241)","v":""},{"$f":"IF('Data Input'!N241=\"\",\"\",'Data Input'!N241)","v":""},null,null,null,null,null,null,null,null,"",{"$f":"IFERROR(VLOOKUP($Z243,Lookup!$C:$E,2,FALSE),\"\")","v":""},{"$f":"IFERROR(VLOOKUP($AA243,Lookup!$D:$E,2,FALSE),\"\")","v":""},"",{"$f":"IFERROR(VLOOKUP($AC243,Lookup!$C:$E,2,FALSE),\"\")","v":""},{"$f":"IFERROR(VLOOKUP($AD243,Lookup!$D:$E,2,FALSE),\"\")","v":""},"",{"$f":"IFERROR(VLOOKUP($AF243,Lookup!$C:$E,2,FALSE),\"\")","v":""},{"$f":"IFERROR(VLOOKUP($AG243,Lookup!$D:$E,2,FALSE),\"\")","v":""},""]
[{"$f":"IF('Data Input'!I242=\"\",\"\",'Data Input'!I242)","v":""},{"$f":"IF('Data Input'!H242=\"\",\"\",'Data Input'!H242)","v":""},{"$f":"IF('Data Input'!A242=\"\",\"\",'Data Input'!A242)","v":""},{"$f":"IF('Data Input'!R242=\"\",\"\",'Data Input'!R242)","v":""},{"$f":"IF('Data Input'!D242=\"\",\"\",'Data Input'!D242)","v":""},{"$f":"IF('Data Input'!E242=\"\",\"\",'Data Input'!E242)","v":""},{"$f":"IF('Data Input'!F242=\"\",\"\",'Data Input'!F242)","v":""},{"$f":"IF('Data Input'!G242=\"\",\"\",'Data Input'!G242)","v":""},{"$f":"IF('Data Input'!B242=\"\",\"\",'Data Input'!B242)","v":""},{"$f":"IF('Data Input'!C242=\"\",\"\",'Data Input'!C242)","v":""},{"$f":"IF('Data Input'!J242=\"\",\"\",'Data Input'!J242)","v":""},{"$f":"IF('Data Input'!K242=\"\",\"\",'Data Input'!K242)","v":""},{"$f":"IF('Data Input'!O242=\"\",\"\",'Data Input'!O242)","v":""},{"$f":"IF('Data Input'!L242=\"\",\"\",'Data Input'!L242)","v":""},{"$f":"IF('Data Input'!M242=\"\",\"\",'Data Input'!M242)","v":""},{"$f":"IF('Data Input'!Q242=\"\",\"\",'Data Input'!Q242)","v":""},{"$f":"IF('Data Input'!N242=\"\",\"\",'Data Input'!N242)","v":""},null,null,null,null,null,null,null,null,"",{"$f":"IFERROR(VLOOKUP($Z244,Lookup!$C:$E,2,FALSE),\"\")","v":""},{"$f":"IFERROR(VLOOKUP($AA244,Lookup!$D:$E,2,FALSE),\"\")","v":""},"",{"$f":"IFERROR(VLOOKUP($AC244,Lookup!$C:$E,2,FALSE),\"\")","v":""},{"$f":"IFERROR(VLOOKUP($AD244,Lookup!$D:$E,2,FALSE),\"\")","v":""},"",{"$f":"IFERROR(VLOOKUP($AF244,Lookup!$C:$E,2,FALSE),\"\")","v":""},{"$f":"IFERROR(VLOOKUP($AG244,Lookup!$D:$E,2,FALSE),\"\")","v":""},""]
[{"$f":"IF('Data Input'!I243=\"\",\"\",'Data Input'!I243)","v":""},{"$f":"IF('Data Input'!H243=\"\",\"\",'Data Input'!H243)","v":""},{"$f":"IF('Data Input'!A243=\"\",\"\",'Data Input'!A243)","v":""},{"$f":"IF('Data Input'!R243=\"\",\"\",'Data Input'!R243)","v":""},{"$f":"IF('Data Input'!D243=\"\",\"\",'Data Input'!D243)","v":""},{"$f":"IF('Data Input'!E243=\"\",\"\",'Data Input'!E243)","v":""},{"$f":"IF('Data Input'!F243=\"\",\"\",'Data Input'!F243)","v":""},{"$f":"IF('Data Input'!G243=\"\",\"\",'Data Input'!G243)","v":""},{"$f":"IF('Data Input'!B243=\"\",\"\",'Data Input'!B243)","v":""},{"$f":"IF('Data Input'!C243=\"\",\"\",'Data Input'!C243)","v":""},{"$f":"IF('Data Input'!J243=\"\",\"\",'Data Input'!J243)","v":""},{"$f":"IF('Data Input'!K243=\"\",\"\",'Data Input'!K243)","v":""},{"$f":"IF('Data Input'!O243=\"\",\"\",'Data Input'!O243)","v":""},{"$f":"IF('Data Input'!L243=\"\",\"\",'Data Input'!L243)","v":""},{"$f":"IF('Data Input'!M243=\"\",\"\",'Data Input'!M243)","v":""},{"$f":"IF('Data Input'!Q243=\"\",\"\",'Data Input'!Q243)","v":""},{"$f":"IF('Data Input'!N243=\"\",\"\",'Data Input'!N243)","v":""},null,null,null,null,null,null,null,null,"",{"$f":"IFERROR(VLOOKUP($Z245,Lookup!$C:$E,2,FALSE),\"\")","v":""},{"$f":"IFERROR(VLOOKUP($AA245,Lookup!$D:$E,2,FALSE),\"\")","v":""},"",{"$f":"IFERROR(VLOOKUP($AC245,Lookup!$C:$E,2,FALSE),\"\")","v":""},{"$f":"IFERROR(VLOOKUP($AD245,Lookup!$D:$E,2,FALSE),\"\")","v":""},"",{"$f":"IFERROR(VLOOKUP($AF245,Lookup!$C:$E,2,FALSE),\"\")","v":""},{"$f":"IFERROR(VLOOKUP($AG245,Lookup!$D:$E,2,FALSE),\"\")","v":""},""]
[{"$f":"IF('Data Input'!I244=\"\",\"\",'Data Input'!I244)","v":""},{"$f":"IF('Data Input'!H244=\"\",\"\",'Data Input'!H244)","v":""},{"$f":"IF('Data Input'!A244=\"\",\"\",'Data Input'!A244)","v":""},{"$f":"IF('Data Input'!R244=\"\",\"\",'Data Input'!R244)","v":""},{"$f":"IF('Data Input'!D244=\"\",\"\",'Data Input'!D244)","v":""},{"$f":"IF('Data Input'!E244=\"\",\"\",'Data Input'!E244)","v":""},{"$f":"IF('Data Input'!F244=\"\",\"\",'Data Input'!F244)","v":""},{"$f":"IF('Data Input'!G244=\"\",\"\",'Data Input'!G244)","v":""},{"$f":"IF('Data Input'!B244=\"\",\"\",'Data Input'!B244)","v":""},{"$f":"IF('Data Input'!C244=\"\",\"\",'Data Input'!C244)","v":""},{"$f":"IF('Data Input'!J244=\"\",\"\",'Data Input'!J244)","v":""},{"$f":"IF('Data Input'!K244=\"\",\"\",'Data Input'!K244)","v":""},{"$f":"IF('Data Input'!O244=\"\",\"\",'Data Input'!O244)","v":""},{"$f":"IF('Data Input'!L244=\"\",\"\",'Data Input'!L244)","v":""},{"$f":"IF('Data Input'!M244=\"\",\"\",'Data Input'!M244)","v":""},{"$f":"IF('Data Input'!Q244=\"\",\"\",'Data Input'!Q244)","v":""},{"$f":"IF('Data Input'!N244=\"\",\"\",'Data Input'!N244)","v":""},null,null,null,null,null,null,null,null,"",{"$f":"IFERROR(VLOOKUP($Z246,Lookup!$C:$E,2,FALSE),\"\")","v":""},{"$f":"IFERROR(VLOOKUP($AA246,Lookup!$D:$E,2,FALSE),\"\")","v":""},"",{"$f":"IFERROR(VLOOKUP($AC246,Lookup!$C:$E,2,FALSE),\"\")","v":""},{"$f":"IFERROR(VLOOKUP($AD246,Lookup!$D:$E,2,FALSE),\"\")","v":""},"",{"$f":"IFERROR(VLOOKUP($AF246,Lookup!$C:$E,2,FALSE),\"\")","v":""},{"$f":"IFERROR(VLOOKUP($AG246,Lookup!$D:$E,2,FALSE),\"\")","v":""},""]
[{"$f":"IF('Data Input'!I245=\"\",\"\",'Data Input'!I245)","v":""},{"$f":"IF('Data Input'!H245=\"\",\"\",'Data Input'!H245)","v":""},{"$f":"IF('Data Input'!A245=\"\",\"\",'Data Input'!A245)","v":""},{"$f":"IF('Data Input'!R245=\"\",\"\",'Data Input'!R245)","v":""},{"$f":"IF('Data Input'!D245=\"\",\"\",'Data Input'!D245)","v":""},{"$f":"IF('Data Input'!E245=\"\",\"\",'Data Input'!E245)","v":""},{"$f":"IF('Data Input'!F245=\"\",\"\",'Data Input'!F245)","v":""},{"$f":"IF('Data Input'!G245=\"\",\"\",'Data Input'!G245)","v":""},{"$f":"IF('Data Input'!B245=\"\",\"\",'Data Input'!B245)","v":""},{"$f":"IF('Data Input'!C245=\"\",\"\",'Data Input'!C245)","v":""},{"$f":"IF('Data Input'!J245=\"\",\"\",'Data Input'!J245)","v":""},{"$f":"IF('Data Input'!K245=\"\",\"\",'Data Input'!K245)","v":""},{"$f":"IF('Data Input'!O245=\"\",\"\",'Data Input'!O245)","v":""},{"$f":"IF('Data Input'!L245=\"\",\"\",'Data Input'!L245)","v":""},{"$f":"IF('Data Input'!M245=\"\",\"\",'Data Input'!M245)","v":""},{"$f":"IF('Data Input'!Q245=\"\",\"\",'Data Input'!Q245)","v":""},{"$f":"IF('Data Input'!N245=\"\",\"\",'Data Input'!N245)","v":""},null,null,null,null,null,null,null,null,"",{"$f":"IFERROR(VLOOKUP($Z247,Lookup!$C:$E,2,FALSE),\"\")","v":""},{"$f":"IFERROR(VLOOKUP($AA247,Lookup!$D:$E,2,FALSE),\"\")","v":""},"",{"$f":"IFERROR(VLOOKUP($AC247,Lookup!$C:$E,2,FALSE),\"\")","v":""},{"$f":"IFERROR(VLOOKUP($AD247,Lookup!$D:$E,2,FALSE),\"\")","v":""},"",{"$f":"IFERROR(VLOOKUP($AF247,Lookup!$C:$E,2,FALSE),\"\")","v":""},{"$f":"IFERROR(VLOOKUP($AG247,Lookup!$D:$E,2,FALSE),\"\")","v":""},""]
[{"$f":"IF('Data Input'!I246=\"\",\"\",'Data Input'!I246)","v":""},{"$f":"IF('Data Input'!H246=\"\",\"\",'Data Input'!H246)","v":""},{"$f":"IF('Data Input'!A246=\"\",\"\",'Data Input'!A246)","v":""},{"$f":"IF('Data Input'!R246=\"\",\"\",'Data Input'!R246)","v":""},{"$f":"IF('Data Input'!D246=\"\",\"\",'Data Input'!D246)","v":""},{"$f":"IF('Data Input'!E246=\"\",\"\",'Data Input'!E246)","v":""},{"$f":"IF('Data Input'!F246=\"\",\"\",'Data Input'!F246)","v":""},{"$f":"IF('Data Input'!G246=\"\",\"\",'Data Input'!G246)","v":""},{"$f":"IF('Data Input'!B246=\"\",\"\",'Data Input'!B246)","v":""},{"$f":"IF('Data Input'!C246=\"\",\"\",'Data Input'!C246)","v":""},{"$f":"IF('Data Input'!J246=\"\",\"\",'Data Input'!J246)","v":""},{"$f":"IF('Data Input'!K246=\"\",\"\",'Data Input'!K246)","v":""},{"$f":"IF('Data Input'!O246=\"\",\"\",'Data Input'!O246)","v":""},{"$f":"IF('Data Input'!L246=\"\",\"\",'Data Input'!L246)","v":""},{"$f":"IF('Data Input'!M246=\"\",\"\",'Data Input'!M246)","v":""},{"$f":"IF('Data Input'!Q246=\"\",\"\",'Data Input'!Q246)","v":""},{"$f":"IF('Data Input'!N246=\"\",\"\",'Data Input'!N246)","v":""},null,null,null,null,null,null,null,null,"",{"$f":"IFERROR(VLOOKUP($Z248,Lookup!$C:$E,2,FALSE),\"\")","v":""},{"$f":"IFERROR(VLOOKUP($AA248,Lookup!$D:$E,2,FALSE),\"\")","v":""},"",{"$f":"IFERROR(VLOOKUP($AC248,Lookup!$C:$E,2,FALSE),\"\")","v":""},{"$f":"IFERROR(VLOOKUP($AD248,Lookup!$D:$E,2,FALSE),\"\")","v":""},"",{"$f":"IFERROR(VLOOKUP($AF248,Lookup!$C:$E,2,FALSE),\"\")","v":""},{"$f":"IFERROR(VLOOKUP($AG248,Lookup!$D:$E,2,FALSE),\"\")","v":""},""]
[{"$f":"IF('Data Input'!I247=\"\",\"\",'Data Input'!I247)","v":""},{"$f":"IF('Data Input'!H247=\"\",\"\",'Data Input'!H247)","v":""},{"$f":"IF('Data Input'!A247=\"\",\"\",'Data Input'!A247)","v":""},{"$f":"IF('Data Input'!R247=\"\",\"\",'Data Input'!R247)","v":""},{"$f":"IF('Data Input'!D247=\"\",\"\",'Data Input'!D247)","v":""},{"$f":"IF('Data Input'!E247=\"\",\"\",'Data Input'!E247)","v":""},{"$f":"IF('Data Input'!F247=\"\",\"\",'Data Input'!F247)","v":""},{"$f":"IF('Data Input'!G247=\"\",\"\",'Data Input'!G247)","v":""},{"$f":"IF('Data Input'!B247=\"\",\"\",'Data Input'!B247)","v":""},{"$f":"IF('Data Input'!C247=\"\",\"\",'Data Input'!C247)","v":""},{"$f":"IF('Data Input'!J247=\"\",\"\",'Data Input'!J247)","v":""},{"$f":"IF('Data Input'!K247=\"\",\"\",'Data Input'!K247)","v":""},{"$f":"IF('Data Input'!O247=\"\",\"\",'Data Input'!O247)","v":""},{"$f":"IF('Data Input'!L247=\"\",\"\",'Data Input'!L247)","v":""},{"$f":"IF('Data Input'!M247=\"\",\"\",'Data Input'!M247)","v":""},{"$f":"IF('Data Input'!Q247=\"\",\"\",'Data Input'!Q247)","v":""},{"$f":"IF('Data Input'!N247=\"\",\"\",'Data Input'!N247)","v":""},null,null,null,null,null,null,null,null,"",{"$f":"IFERROR(VLOOKUP($Z249,Lookup!$C:$E,2,FALSE),\"\")","v":""},{"$f":"IFERROR(VLOOKUP($AA249,Lookup!$D:$E,2,FALSE),\"\")","v":""},"",{"$f":"IFERROR(VLOOKUP($AC249,Lookup!$C:$E,2,FALSE),\"\")","v":""},{"$f":"IFERROR(VLOOKUP($AD249,Lookup!$D:$E,2,FALSE),\"\")","v":""},"",{"$f":"IFERROR(VLOOKUP($AF249,Lookup!$C:$E,2,FALSE),\"\")","v":""},{"$f":"IFERROR(VLOOKUP($AG249,Lookup!$D:$E,2,FALSE),\"\")","v":""},""]
[{"$f":"IF('Data Input'!I248=\"\",\"\",'Data Input'!I248)","v":""},{"$f":"IF('Data Input'!H248=\"\",\"\",'Data Input'!H248)","v":""},{"$f":"IF('Data Input'!A248=\"\",\"\",'Data Input'!A248)","v":""},{"$f":"IF('Data Input'!R248=\"\",\"\",'Data Input'!R248)","v":""},{"$f":"IF('Data Input'!D248=\"\",\"\",'Data Input'!D248)","v":""},{"$f":"IF('Data Input'!E248=\"\",\"\",'Data Input'!E248)","v":""},{"$f":"IF('Data Input'!F248=\"\",\"\",'Data Input'!F248)","v":""},{"$f":"IF('Data Input'!G248=\"\",\"\",'Data Input'!G248)","v":""},{"$f":"IF('Data Input'!B248=\"\",\"\",'Data Input'!B248)","v":""},{"$f":"IF('Data Input'!C248=\"\",\"\",'Data Input'!C248)","v":""},{"$f":"IF('Data Input'!J248=\"\",\"\",'Data Input'!J248)","v":""},{"$f":"IF('Data Input'!K248=\"\",\"\",'Data Input'!K248)","v":""},{"$f":"IF('Data Input'!O248=\"\",\"\",'Data Input'!O248)","v":""},{"$f":"IF('Data Input'!L248=\"\",\"\",'Data Input'!L248)","v":""},{"$f":"IF('Data Input'!M248=\"\",\"\",'Data Input'!M248)","v":""},{"$f":"IF('Data Input'!Q248=\"\",\"\",'Data Input'!Q248)","v":""},{"$f":"IF('Data Input'!N248=\"\",\"\",'Data Input'!N248)","v":""},null,null,null,null,null,null,null,null,"",{"$f":"IFERROR(VLOOKUP($Z250,Lookup!$C:$E,2,FALSE),\"\")","v":""},{"$f":"IFERROR(VLOOKUP($AA250,Lookup!$D:$E,2,FALSE),\"\")","v":""},"",{"$f":"IFERROR(VLOOKUP($AC250,Lookup!$C:$E,2,FALSE),\"\")","v":""},{"$f":"IFERROR(VLOOKUP($AD250,Lookup!$D:$E,2,FALSE),\"\")","v":""},"",{"$f":"IFERROR(VLOOKUP($AF250,Lookup!$C:$E,2,FALSE),\"\")","v":""},{"$f":"IFERROR(VLOOKUP($AG250,Lookup!$D:$E,2,FALSE),\"\")","v":""},""]
[{"$f":"IF('Data Input'!I249=\"\",\"\",'Data Input'!I249)","v":""},{"$f":"IF('Data Input'!H249=\"\",\"\",'Data Input'!H249)","v":""},{"$f":"IF('Data Input'!A249=\"\",\"\",'Data Input'!A249)","v":""},{"$f":"IF('Data Input'!R249=\"\",\"\",'Data Input'!R249)","v":""},{"$f":"IF('Data Input'!D249=\"\",\"\",'Data Input'!D249)","v":""},{"$f":"IF('Data Input'!E249=\"\",\"\",'Data Input'!E249)","v":""},{"$f":"IF('Data Input'!F249=\"\",\"\",'Data Input'!F249)","v":""},{"$f":"IF('Data Input'!G249=\"\",\"\",'Data Input'!G249)","v":""},{"$f":"IF('Data Input'!B249=\"\",\"\",'Data Input'!B249)","v":""},{"$f":"IF('Data Input'!C249=\"\",\"\",'Data Input'!C249)","v":""},{"$f":"IF('Data Input'!J249=\"\",\"\",'Data Input'!J249)","v":""},{"$f":"IF('Data Input'!K249=\"\",\"\",'Data Input'!K249)","v":""},{"$f":"IF('Data Input'!O249=\"\",\"\",'Data Input'!O249)","v":""},{"$f":"IF('Data Input'!L249=\"\",\"\",'Data Input'!L249)","v":""},{"$f":"IF('Data Input'!M249=\"\",\"\",'Data Input'!M249)","v":""},{"$f":"IF('Data Input'!Q249=\"\",\"\",'Data Input'!Q249)","v":""},{"$f":"IF('Data Input'!N249=\"\",\"\",'Data Input'!N249)","v":""},null,null,null,null,null,null,null,null,"",{"$f":"IFERROR(VLOOKUP($Z251,Lookup!$C:$E,2,FALSE),\"\")","v":""},{"$f":"IFERROR(VLOOKUP($AA251,Lookup!$D:$E,2,FALSE),\"\")","v":""},"",{"$f":"IFERROR(VLOOKUP($AC251,Lookup!$C:$E,2,FALSE),\"\")","v":""},{"$f":"IFERROR(VLOOKUP($AD251,Lookup!$D:$E,2,FALSE),\"\")","v":""},"",{"$f":"IFERROR(VLOOKUP($AF251,Lookup!$C:$E,2,FALSE),\"\")","v":""},{"$f":"IFERROR(VLOOKUP($AG251,Lookup!$D:$E,2,FALSE),\"\")","v":""},""]
[{"$f":"IF('Data Input'!I250=\"\",\"\",'Data Input'!I250)","v":""},{"$f":"IF('Data Input'!H250=\"\",\"\",'Data Input'!H250)","v":""},{"$f":"IF('Data Input'!A250=\"\",\"\",'Data Input'!A250)","v":""},{"$f":"IF('Data Input'!R250=\"\",\"\",'Data Input'!R250)","v":""},{"$f":"IF('Data Input'!D250=\"\",\"\",'Data Input'!D250)","v":""},{"$f":"IF('Data Input'!E250=\"\",\"\",'Data Input'!E250)","v":""},{"$f":"IF('Data Input'!F250=\"\",\"\",'Data Input'!F250)","v":""},{"$f":"IF('Data Input'!G250=\"\",\"\",'Data Input'!G250)","v":""},{"$f":"IF('Data Input'!B250=\"\",\"\",'Data Input'!B250)","v":""},{"$f":"IF('Data Input'!C250=\"\",\"\",'Data Input'!C250)","v":""},{"$f":"IF('Data Input'!J250=\"\",\"\",'Data Input'!J250)","v":""},{"$f":"IF('Data Input'!K250=\"\",\"\",'Data Input'!K250)","v":""},{"$f":"IF('Data Input'!O250=\"\",\"\",'Data Input'!O250)","v":""},{"$f":"IF('Data Input'!L250=\"\",\"\",'Data Input'!L250)","v":""},{"$f":"IF('Data Input'!M250=\"\",\"\",'Data Input'!M250)","v":""},{"$f":"IF('Data Input'!Q250=\"\",\"\",'Data Input'!Q250)","v":""},{"$f":"IF('Data Input'!N250=\"\",\"\",'Data Input'!N250)","v":""},null,null,null,null,null,null,null,null,"",{"$f":"IFERROR(VLOOKUP($Z252,Lookup!$C:$E,2,FALSE),\"\")","v":""},{"$f":"IFERROR(VLOOKUP($AA252,Lookup!$D:$E,2,FALSE),\"\")","v":""},"",{"$f":"IFERROR(VLOOKUP($AC252,Lookup!$C:$E,2,FALSE),\"\")","v":""},{"$f":"IFERROR(VLOOKUP($AD252,Lookup!$D:$E,2,FALSE),\"\")","v":""},"",{"$f":"IFERROR(VLOOKUP($AF252,Lookup!$C:$E,2,FALSE),\"\")","v":""},{"$f":"IFERROR(VLOOKUP($AG252,Lookup!$D:$E,2,FALSE),\"\")","v":""},""]
[{"$f":"IF('Data Input'!I251=\"\",\"\",'Data Input'!I251)","v":""},{"$f":"IF('Data Input'!H251=\"\",\"\",'Data Input'!H251)","v":""},{"$f":"IF('Data Input'!A251=\"\",\"\",'Data Input'!A251)","v":""},{"$f":"IF('Data Input'!R251=\"\",\"\",'Data Input'!R251)","v":""},{"$f":"IF('Data Input'!D251=\"\",\"\",'Data Input'!D251)","v":""},{"$f":"IF('Data Input'!E251=\"\",\"\",'Data Input'!E251)","v":""},{"$f":"IF('Data Input'!F251=\"\",\"\",'Data Input'!F251)","v":""},{"$f":"IF('Data Input'!G251=\"\",\"\",'Data Input'!G251)","v":""},{"$f":"IF('Data Input'!B251=\"\",\"\",'Data Input'!B251)","v":""},{"$f":"IF('Data Input'!C251=\"\",\"\",'Data Input'!C251)","v":""},{"$f":"IF('Data Input'!J251=\"\",\"\",'Data Input'!J251)","v":""},{"$f":"IF('Data Input'!K251=\"\",\"\",'Data Input'!K251)","v":""},{"$f":"IF('Data Input'!O251=\"\",\"\",'Data Input'!O251)","v":""},{"$f":"IF('Data Input'!L251=\"\",\"\",'Data Input'!L251)","v":""},{"$f":"IF('Data Input'!M251=\"\",\"\",'Data Input'!M251)","v":""},{"$f":"IF('Data Input'!Q251=\"\",\"\",'Data Input'!Q251)","v":""},{"$f":"IF('Data Input'!N251=\"\",\"\",'Data Input'!N251)","v":""},null,null,null,null,null,null,null,null,"",{"$f":"IFERROR(VLOOKUP($Z253,Lookup!$C:$E,2,FALSE),\"\")","v":""},{"$f":"IFERROR(VLOOKUP($AA253,Lookup!$D:$E,2,FALSE),\"\")","v":""},"",{"$f":"IFERROR(VLOOKUP($AC253,Lookup!$C:$E,2,FALSE),\"\")","v":""},{"$f":"IFERROR(VLOOKUP($AD253,Lookup!$D:$E,2,FALSE),\"\")","v":""},"",{"$f":"IFERROR(VLOOKUP($AF253,Lookup!$C:$E,2,FALSE),\"\")","v":""},{"$f":"IFERROR(VLOOKUP($AG253,Lookup!$D:$E,2,FALSE),\"\")","v":""},""]
[{"$f":"IF('Data Input'!I252=\"\",\"\",'Data Input'!I252)","v":""},{"$f":"IF('Data Input'!H252=\"\",\"\",'Data Input'!H252)","v":""},{"$f":"IF('Data Input'!A252=\"\",\"\",'Data Input'!A252)","v":""},{"$f":"IF('Data Input'!R252=\"\",\"\",'Data Input'!R252)","v":""},{"$f":"IF('Data Input'!D252=\"\",\"\",'Data Input'!D252)","v":""},{"$f":"IF('Data Input'!E252=\"\",\"\",'Data Input'!E252)","v":""},{"$f":"IF('Data Input'!F252=\"\",\"\",'Data Input'!F252)","v":""},{"$f":"IF('Data Input'!G252=\"\",\"\",'Data Input'!G252)","v":""},{"$f":"IF('Data Input'!B252=\"\",\"\",'Data Input'!B252)","v":""},{"$f":"IF('Data Input'!C252=\"\",\"\",'Data Input'!C252)","v":""},{"$f":"IF('Data Input'!J252=\"\",\"\",'Data Input'!J252)","v":""},{"$f":"IF('Data Input'!K252=\"\",\"\",'Data Input'!K252)","v":""},{"$f":"IF('Data Input'!O252=\"\",\"\",'Data Input'!O252)","v":""},{"$f":"IF('Data Input'!L252=\"\",\"\",'Data Input'!L252)","v":""},{"$f":"IF('Data Input'!M252=\"\",\"\",'Data Input'!M252)","v":""},{"$f":"IF('Data Input'!Q252=\"\",\"\",'Data Input'!Q252)","v":""},{"$f":"IF('Data Input'!N252=\"\",\"\",'Data Input'!N252)","v":""},null,null,null,null,null,null,null,null,"",{"$f":"IFERROR(VLOOKUP($Z254,Lookup!$C:$E,2,FALSE),\"\")","v":""},{"$f":"IFERROR(VLOOKUP($AA254,Lookup!$D:$E,2,FALSE),\"\")","v":""},"",{"$f":"IFERROR(VLOOKUP($AC254,Lookup!$C:$E,2,FALSE),\"\")","v":""},{"$f":"IFERROR(VLOOKUP($AD254,Lookup!$D:$E,2,FALSE),\"\")","v":""},"",{"$f":"IFERROR(VLOOKUP($AF254,Lookup!$C:$E,2,FALSE),\"\")","v":""},{"$f":"IFERROR(VLOOKUP($AG254,Lookup!$D:$E,2,FALSE),\"\")","v":""},""]
[{"$f":"IF('Data Input'!I253=\"\",\"\",'Data Input'!I253)","v":""},{"$f":"IF('Data Input'!H253=\"\",\"\",'Data Input'!H253)","v":""},{"$f":"IF('Data Input'!A253=\"\",\"\",'Data Input'!A253)","v":""},{"$f":"IF('Data Input'!R253=\"\",\"\",'Data Input'!R253)","v":""},{"$f":"IF('Data Input'!D253=\"\",\"\",'Data Input'!D253)","v":""},{"$f":"IF('Data Input'!E253=\"\",\"\",'Data Input'!E253)","v":""},{"$f":"IF('Data Input'!F253=\"\",\"\",'Data Input'!F253)","v":""},{"$f":"IF('Data Input'!G253=\"\",\"\",'Data Input'!G253)","v":""},{"$f":"IF('Data Input'!B253=\"\",\"\",'Data Input'!B253)","v":""},{"$f":"IF('Data Input'!C253=\"\",\"\",'Data Input'!C253)","v":""},{"$f":"IF('Data Input'!J253=\"\",\"\",'Data Input'!J253)","v":""},{"$f":"IF('Data Input'!K253=\"\",\"\",'Data Input'!K253)","v":""},{"$f":"IF('Data Input'!O253=\"\",\"\",'Data Input'!O253)","v":""},{"$f":"IF('Data Input'!L253=\"\",\"\",'Data Input'!L253)","v":""},{"$f":"IF('Data Input'!M253=\"\",\"\",'Data Input'!M253)","v":""},{"$f":"IF('Data Input'!Q253=\"\",\"\",'Data Input'!Q253)","v":""},{"$f":"IF('Data Input'!N253=\"\",\"\",'Data Input'!N253)","v":""},null,null,null,null,null,null,null,null,"",{"$f":"IFERROR(VLOOKUP($Z255,Lookup!$C:$E,2,FALSE),\"\")","v":""},{"$f":"IFERROR(VLOOKUP($AA255,Lookup!$D:$E,2,FALSE),\"\")","v":""},"",{"$f":"IFERROR(VLOOKUP($AC255,Lookup!$C:$E,2,FALSE),\"\")","v":""},{"$f":"IFERROR(VLOOKUP($AD255,Lookup!$D:$E,2,FALSE),\"\")","v":""},"",{"$f":"IFERROR(VLOOKUP($AF255,Lookup!$C:$E,2,FALSE),\"\")","v":""},{"$f":"IFERROR(VLOOKUP($AG255,Lookup!$D:$E,2,FALSE),\"\")","v":""},""]
[{"$f":"IF('Data Input'!I254=\"\",\"\",'Data Input'!I254)","v":""},{"$f":"IF('Data Input'!H254=\"\",\"\",'Data Input'!H254)","v":""},{"$f":"IF('Data Input'!A254=\"\",\"\",'Data Input'!A254)","v":""},{"$f":"IF('Data Input'!R254=\"\",\"\",'Data Input'!R254)","v":""},{"$f":"IF('Data Input'!D254=\"\",\"\",'Data Input'!D254)","v":""},{"$f":"IF('Data Input'!E254=\"\",\"\",'Data Input'!E254)","v":""},{"$f":"IF('Data Input'!F254=\"\",\"\",'Data Input'!F254)","v":""},{"$f":"IF('Data Input'!G254=\"\",\"\",'Data Input'!G254)","v":""},{"$f":"IF('Data Input'!B254=\"\",\"\",'Data Input'!B254)","v":""},{"$f":"IF('Data Input'!C254=\"\",\"\",'Data Input'!C254)","v":""},{"$f":"IF('Data Input'!J254=\"\",\"\",'Data Input'!J254)","v":""},{"$f":"IF('Data Input'!K254=\"\",\"\",'Data Input'!K254)","v":""},{"$f":"IF('Data Input'!O254=\"\",\"\",'Data Input'!O254)","v":""},{"$f":"IF('Data Input'!L254=\"\",\"\",'Data Input'!L254)","v":""},{"$f":"IF('Data Input'!M254=\"\",\"\",'Data Input'!M254)","v":""},{"$f":"IF('Data Input'!Q254=\"\",\"\",'Data Input'!Q254)","v":""},{"$f":"IF('Data Input'!N254=\"\",\"\",'Data Input'!N254)","v":""},null,null,null,null,null,null,null,null,"",{"$f":"IFERROR(VLOOKUP($Z256,Lookup!$C:$E,2,FALSE),\"\")","v":""},{"$f":"IFERROR(VLOOKUP($AA256,Lookup!$D:$E,2,FALSE),\"\")","v":""},"",{"$f":"IFERROR(VLOOKUP($AC256,Lookup!$C:$E,2,FALSE),\"\")","v":""},{"$f":"IFERROR(VLOOKUP($AD256,Lookup!$D:$E,2,FALSE),\"\")","v":""},"",{"$f":"IFERROR(VLOOKUP($AF256,Lookup!$C:$E,2,FALSE),\"\")","v":""},{"$f":"IFERROR(VLOOKUP($AG256,Lookup!$D:$E,2,FALSE),\"\")","v":""},""]
[{"$f":"IF('Data Input'!I255=\"\",\"\",'Data Input'!I255)","v":""},{"$f":"IF('Data Input'!H255=\"\",\"\",'Data Input'!H255)","v":""},{"$f":"IF('Data Input'!A255=\"\",\"\",'Data Input'!A255)","v":""},{"$f":"IF('Data Input'!R255=\"\",\"\",'Data Input'!R255)","v":""},{"$f":"IF('Data Input'!D255=\"\",\"\",'Data Input'!D255)","v":""},{"$f":"IF('Data Input'!E255=\"\",\"\",'Data Input'!E255)","v":""},{"$f":"IF('Data Input'!F255=\"\",\"\",'Data Input'!F255)","v":""},{"$f":"IF('Data Input'!G255=\"\",\"\",'Data Input'!G255)","v":""},{"$f":"IF('Data Input'!B255=\"\",\"\",'Data Input'!B255)","v":""},{"$f":"IF('Data Input'!C255=\"\",\"\",'Data Input'!C255)","v":""},{"$f":"IF('Data Input'!J255=\"\",\"\",'Data Input'!J255)","v":""},{"$f":"IF('Data Input'!K255=\"\",\"\",'Data Input'!K255)","v":""},{"$f":"IF('Data Input'!O255=\"\",\"\",'Data Input'!O255)","v":""},{"$f":"IF('Data Input'!L255=\"\",\"\",'Data Input'!L255)","v":""},{"$f":"IF('Data Input'!M255=\"\",\"\",'Data Input'!M255)","v":""},{"$f":"IF('Data Input'!Q255=\"\",\"\",'Data Input'!Q255)","v":""},{"$f":"IF('Data Input'!N255=\"\",\"\",'Data Input'!N255)","v":""},null,null,null,null,null,null,null,null,"",{"$f":"IFERROR(VLOOKUP($Z257,Lookup!$C:$E,2,FALSE),\"\")","v":""},{"$f":"IFERROR(VLOOKUP($AA257,Lookup!$D:$E,2,FALSE),\"\")","v":""},"",{"$f":"IFERROR(VLOOKUP($AC257,Lookup!$C:$E,2,FALSE),\"\")","v":""},{"$f":"IFERROR(VLOOKUP($AD257,Lookup!$D:$E,2,FALSE),\"\")","v":""},"",{"$f":"IFERROR(VLOOKUP($AF257,Lookup!$C:$E,2,FALSE),\"\")","v":""},{"$f":"IFERROR(VLOOKUP($AG257,Lookup!$D:$E,2,FALSE),\"\")","v":""},""]
[{"$f":"IF('Data Input'!I256=\"\",\"\",'Data Input'!I256)","v":""},{"$f":"IF('Data Input'!H256=\"\",\"\",'Data Input'!H256)","v":""},{"$f":"IF('Data Input'!A256=\"\",\"\",'Data Input'!A256)","v":""},{"$f":"IF('Data Input'!R256=\"\",\"\",'Data Input'!R256)","v":""},{"$f":"IF('Data Input'!D256=\"\",\"\",'Data Input'!D256)","v":""},{"$f":"IF('Data Input'!E256=\"\",\"\",'Data Input'!E256)","v":""},{"$f":"IF('Data Input'!F256=\"\",\"\",'Data Input'!F256)","v":""},{"$f":"IF('Data Input'!G256=\"\",\"\",'Data Input'!G256)","v":""},{"$f":"IF('Data Input'!B256=\"\",\"\",'Data Input'!B256)","v":""},{"$f":"IF('Data Input'!C256=\"\",\"\",'Data Input'!C256)","v":""},{"$f":"IF('Data Input'!J256=\"\",\"\",'Data Input'!J256)","v":""},{"$f":"IF('Data Input'!K256=\"\",\"\",'Data Input'!K256)","v":""},{"$f":"IF('Data Input'!O256=\"\",\"\",'Data Input'!O256)","v":""},{"$f":"IF('Data Input'!L256=\"\",\"\",'Data Input'!L256)","v":""},{"$f":"IF('Data Input'!M256=\"\",\"\",'Data Input'!M256)","v":""},{"$f":"IF('Data Input'!Q256=\"\",\"\",'Data Input'!Q256)","v":""},{"$f":"IF('Data Input'!N256=\"\",\"\",'Data Input'!N256)","v":""},null,null,null,null,null,null,null,null,"",{"$f":"IFERROR(VLOOKUP($Z258,Lookup!$C:$E,2,FALSE),\"\")","v":""},{"$f":"IFERROR(VLOOKUP($AA258,Lookup!$D:$E,2,FALSE),\"\")","v":""},"",{"$f":"IFERROR(VLOOKUP($AC258,Lookup!$C:$E,2,FALSE),\"\")","v":""},{"$f":"IFERROR(VLOOKUP($AD258,Lookup!$D:$E,2,FALSE),\"\")","v":""},"",{"$f":"IFERROR(VLOOKUP($AF258,Lookup!$C:$E,2,FALSE),\"\")","v":""},{"$f":"IFERROR(VLOOKUP($AG258,Lookup!$D:$E,2,FALSE),\"\")","v":""},""]
[{"$f":"IF('Data Input'!I257=\"\",\"\",'Data Input'!I257)","v":""},{"$f":"IF('Data Input'!H257=\"\",\"\",'Data Input'!H257)","v":""},{"$f":"IF('Data Input'!A257=\"\",\"\",'Data Input'!A257)","v":""},{"$f":"IF('Data Input'!R257=\"\",\"\",'Data Input'!R257)","v":""},{"$f":"IF('Data Input'!D257=\"\",\"\",'Data Input'!D257)","v":""},{"$f":"IF('Data Input'!E257=\"\",\"\",'Data Input'!E257)","v":""},{"$f":"IF('Data Input'!F257=\"\",\"\",'Data Input'!F257)","v":""},{"$f":"IF('Data Input'!G257=\"\",\"\",'Data Input'!G257)","v":""},{"$f":"IF('Data Input'!B257=\"\",\"\",'Data Input'!B257)","v":""},{"$f":"IF('Data Input'!C257=\"\",\"\",'Data Input'!C257)","v":""},{"$f":"IF('Data Input'!J257=\"\",\"\",'Data Input'!J257)","v":""},{"$f":"IF('Data Input'!K257=\"\",\"\",'Data Input'!K257)","v":""},{"$f":"IF('Data Input'!O257=\"\",\"\",'Data Input'!O257)","v":""},{"$f":"IF('Data Input'!L257=\"\",\"\",'Data Input'!L257)","v":""},{"$f":"IF('Data Input'!M257=\"\",\"\",'Data Input'!M257)","v":""},{"$f":"IF('Data Input'!Q257=\"\",\"\",'Data Input'!Q257)","v":""},{"$f":"IF('Data Input'!N257=\"\",\"\",'Data Input'!N257)","v":""},null,null,null,null,null,null,null,null,"",{"$f":"IFERROR(VLOOKUP($Z259,Lookup!$C:$E,2,FALSE),\"\")","v":""},{"$f":"IFERROR(VLOOKUP($AA259,Lookup!$D:$E,2,FALSE),\"\")","v":""},"",{"$f":"IFERROR(VLOOKUP($AC259,Lookup!$C:$E,2,FALSE),\"\")","v":""},{"$f":"IFERROR(VLOOKUP($AD259,Lookup!$D:$E,2,FALSE),\"\")","v":""},"",{"$f":"IFERROR(VLOOKUP($AF259,Lookup!$C:$E,2,FALSE),\"\")","v":""},{"$f":"IFERROR(VLOOKUP($AG259,Lookup!$D:$E,2,FALSE),\"\")","v":""},""]
[{"$f":"IF('Data Input'!I258=\"\",\"\",'Data Input'!I258)","v":""},{"$f":"IF('Data Input'!H258=\"\",\"\",'Data Input'!H258)","v":""},{"$f":"IF('Data Input'!A258=\"\",\"\",'Data Input'!A258)","v":""},{"$f":"IF('Data Input'!R258=\"\",\"\",'Data Input'!R258)","v":""},{"$f":"IF('Data Input'!D258=\"\",\"\",'Data Input'!D258)","v":""},{"$f":"IF('Data Input'!E258=\"\",\"\",'Data Input'!E258)","v":""},{"$f":"IF('Data Input'!F258=\"\",\"\",'Data Input'!F258)","v":""},{"$f":"IF('Data Input'!G258=\"\",\"\",'Data Input'!G258)","v":""},{"$f":"IF('Data Input'!B258=\"\",\"\",'Data Input'!B258)","v":""},{"$f":"IF('Data Input'!C258=\"\",\"\",'Data Input'!C258)","v":""},{"$f":"IF('Data Input'!J258=\"\",\"\",'Data Input'!J258)","v":""},{"$f":"IF('Data Input'!K258=\"\",\"\",'Data Input'!K258)","v":""},{"$f":"IF('Data Input'!O258=\"\",\"\",'Data Input'!O258)","v":""},{"$f":"IF('Data Input'!L258=\"\",\"\",'Data Input'!L258)","v":""},{"$f":"IF('Data Input'!M258=\"\",\"\",'Data Input'!M258)","v":""},{"$f":"IF('Data Input'!Q258=\"\",\"\",'Data Input'!Q258)","v":""},{"$f":"IF('Data Input'!N258=\"\",\"\",'Data Input'!N258)","v":""},null,null,null,null,null,null,null,null,"",{"$f":"IFERROR(VLOOKUP($Z260,Lookup!$C:$E,2,FALSE),\"\")","v":""},{"$f":"IFERROR(VLOOKUP($AA260,Lookup!$D:$E,2,FALSE),\"\")","v":""},"",{"$f":"IFERROR(VLOOKUP($AC260,Lookup!$C:$E,2,FALSE),\"\")","v":""},{"$f":"IFERROR(VLOOKUP($AD260,Lookup!$D:$E,2,FALSE),\"\")","v":""},"",{"$f":"IFERROR(VLOOKUP($AF260,Lookup!$C:$E,2,FALSE),\"\")","v":""},{"$f":"IFERROR(VLOOKUP($AG260,Lookup!$D:$E,2,FALSE),\"\")","v":""},""]
[{"$f":"IF('Data Input'!I259=\"\",\"\",'Data Input'!I259)","v":""},{"$f":"IF('Data Input'!H259=\"\",\"\",'Data Input'!H259)","v":""},{"$f":"IF('Data Input'!A259=\"\",\"\",'Data Input'!A259)","v":""},{"$f":"IF('Data Input'!R259=\"\",\"\",'Data Input'!R259)","v":""},{"$f":"IF('Data Input'!D259=\"\",\"\",'Data Input'!D259)","v":""},{"$f":"IF('Data Input'!E259=\"\",\"\",'Data Input'!E259)","v":""},{"$f":"IF('Data Input'!F259=\"\",\"\",'Data Input'!F259)","v":""},{"$f":"IF('Data Input'!G259=\"\",\"\",'Data Input'!G259)","v":""},{"$f":"IF('Data Input'!B259=\"\",\"\",'Data Input'!B259)","v":""},{"$f":"IF('Data Input'!C259=\"\",\"\",'Data Input'!C259)","v":""},{"$f":"IF('Data Input'!J259=\"\",\"\",'Data Input'!J259)","v":""},{"$f":"IF('Data Input'!K259=\"\",\"\",'Data Input'!K259)","v":""},{"$f":"IF('Data Input'!O259=\"\",\"\",'Data Input'!O259)","v":""},{"$f":"IF('Data Input'!L259=\"\",\"\",'Data Input'!L259)","v":""},{"$f":"IF('Data Input'!M259=\"\",\"\",'Data Input'!M259)","v":""},{"$f":"IF('Data Input'!Q259=\"\",\"\",'Data Input'!Q259)","v":""},{"$f":"IF('Data Input'!N259=\"\",\"\",'Data Input'!N259)","v":""},null,null,null,null,null,null,null,null,{"$f":"_xlfn.CONCAT($C261,$O261)","v":""},{"$f":"IFERROR(VLOOKUP($Z261,Lookup!$C:$E,2,FALSE),\"\")","v":""},{"$f":"IFERROR(VLOOKUP($AA261,Lookup!$D:$E,2,FALSE),\"\")","v":""},{"$f":"_xlfn.CONCAT($C261,$R261)","v":""},{"$f":"IFERROR(VLOOKUP($AC261,Lookup!$C:$E,2,FALSE),\"\")","v":""},{"$f":"IFERROR(VLOOKUP($AD261,Lookup!$D:$E,2,FALSE),\"\")","v":""},{"$f":"_xlfn.CONCAT($C261,$S261)","v":""},{"$f":"IFERROR(VLOOKUP($AF261,Lookup!$C:$E,2,FALSE),\"\")","v":""},{"$f":"IFERROR(VLOOKUP($AG261,Lookup!$D:$E,2,FALSE),\"\")","v":""},{"$f":"P261","v":""}]
[{"$f":"IF('Data Input'!I260=\"\",\"\",'Data Input'!I260)","v":""},{"$f":"IF('Data Input'!H260=\"\",\"\",'Data Input'!H260)","v":""},{"$f":"IF('Data Input'!A260=\"\",\"\",'Data Input'!A260)","v":""},{"$f":"IF('Data Input'!R260=\"\",\"\",'Data Input'!R260)","v":""},{"$f":"IF('Data Input'!D260=\"\",\"\",'Data Input'!D260)","v":""},{"$f":"IF('Data Input'!E260=\"\",\"\",'Data Input'!E260)","v":""},{"$f":"IF('Data Input'!F260=\"\",\"\",'Data Input'!F260)","v":""},{"$f":"IF('Data Input'!G260=\"\",\"\",'Data Input'!G260)","v":""},{"$f":"IF('Data Input'!B260=\"\",\"\",'Data Input'!B260)","v":""},{"$f":"IF('Data Input'!C260=\"\",\"\",'Data Input'!C260)","v":""},{"$f":"IF('Data Input'!J260=\"\",\"\",'Data Input'!J260)","v":""},{"$f":"IF('Data Input'!K260=\"\",\"\",'Data Input'!K260)","v":""},{"$f":"IF('Data Input'!O260=\"\",\"\",'Data Input'!O260)","v":""},{"$f":"IF('Data Input'!L260=\"\",\"\",'Data Input'!L260)","v":""},{"$f":"IF('Data Input'!M260=\"\",\"\",'Data Input'!M260)","v":""},{"$f":"IF('Data Input'!Q260=\"\",\"\",'Data Input'!Q260)","v":""},{"$f":"IF('Data Input'!N260=\"\",\"\",'Data Input'!N260)","v":""},null,null,null,null,null,null,null,null,"",{"$f":"IFERROR(VLOOKUP($Z262,Lookup!$C:$E,2,FALSE),\"\")","v":""},{"$f":"IFERROR(VLOOKUP($AA262,Lookup!$D:$E,2,FALSE),\"\")","v":""},"",{"$f":"IFERROR(VLOOKUP($AC262,Lookup!$C:$E,2,FALSE),\"\")","v":""},{"$f":"IFERROR(VLOOKUP($AD262,Lookup!$D:$E,2,FALSE),\"\")","v":""},"",{"$f":"IFERROR(VLOOKUP($AF262,Lookup!$C:$E,2,FALSE),\"\")","v":""},{"$f":"IFERROR(VLOOKUP($AG262,Lookup!$D:$E,2,FALSE),\"\")","v":""},""]
[{"$f":"IF('Data Input'!I261=\"\",\"\",'Data Input'!I261)","v":""},{"$f":"IF('Data Input'!H261=\"\",\"\",'Data Input'!H261)","v":""},{"$f":"IF('Data Input'!A261=\"\",\"\",'Data Input'!A261)","v":""},{"$f":"IF('Data Input'!R261=\"\",\"\",'Data Input'!R261)","v":""},{"$f":"IF('Data Input'!D261=\"\",\"\",'Data Input'!D261)","v":""},{"$f":"IF('Data Input'!E261=\"\",\"\",'Data Input'!E261)","v":""},{"$f":"IF('Data Input'!F261=\"\",\"\",'Data Input'!F261)","v":""},{"$f":"IF('Data Input'!G261=\"\",\"\",'Data Input'!G261)","v":""},{"$f":"IF('Data Input'!B261=\"\",\"\",'Data Input'!B261)","v":""},{"$f":"IF('Data Input'!C261=\"\",\"\",'Data Input'!C261)","v":""},{"$f":"IF('Data Input'!J261=\"\",\"\",'Data Input'!J261)","v":""},{"$f":"IF('Data Input'!K261=\"\",\"\",'Data Input'!K261)","v":""},{"$f":"IF('Data Input'!O261=\"\",\"\",'Data Input'!O261)","v":""},{"$f":"IF('Data Input'!L261=\"\",\"\",'Data Input'!L261)","v":""},{"$f":"IF('Data Input'!M261=\"\",\"\",'Data Input'!M261)","v":""},{"$f":"IF('Data Input'!Q261=\"\",\"\",'Data Input'!Q261)","v":""},{"$f":"IF('Data Input'!N261=\"\",\"\",'Data Input'!N261)","v":""},null,null,null,null,null,null,null,null,"",{"$f":"IFERROR(VLOOKUP($Z263,Lookup!$C:$E,2,FALSE),\"\")","v":""},{"$f":"IFERROR(VLOOKUP($AA263,Lookup!$D:$E,2,FALSE),\"\")","v":""},"",{"$f":"IFERROR(VLOOKUP($AC263,Lookup!$C:$E,2,FALSE),\"\")","v":""},{"$f":"IFERROR(VLOOKUP($AD263,Lookup!$D:$E,2,FALSE),\"\")","v":""},"",{"$f":"IFERROR(VLOOKUP($AF263,Lookup!$C:$E,2,FALSE),\"\")","v":""},{"$f":"IFERROR(VLOOKUP($AG263,Lookup!$D:$E,2,FALSE),\"\")","v":""},""]
[{"$f":"IF('Data Input'!I262=\"\",\"\",'Data Input'!I262)","v":""},{"$f":"IF('Data Input'!H262=\"\",\"\",'Data Input'!H262)","v":""},{"$f":"IF('Data Input'!A262=\"\",\"\",'Data Input'!A262)","v":""},{"$f":"IF('Data Input'!R262=\"\",\"\",'Data Input'!R262)","v":""},{"$f":"IF('Data Input'!D262=\"\",\"\",'Data Input'!D262)","v":""},{"$f":"IF('Data Input'!E262=\"\",\"\",'Data Input'!E262)","v":""},{"$f":"IF('Data Input'!F262=\"\",\"\",'Data Input'!F262)","v":""},{"$f":"IF('Data Input'!G262=\"\",\"\",'Data Input'!G262)","v":""},{"$f":"IF('Data Input'!B262=\"\",\"\",'Data Input'!B262)","v":""},{"$f":"IF('Data Input'!C262=\"\",\"\",'Data Input'!C262)","v":""},{"$f":"IF('Data Input'!J262=\"\",\"\",'Data Input'!J262)","v":""},{"$f":"IF('Data Input'!K262=\"\",\"\",'Data Input'!K262)","v":""},{"$f":"IF('Data Input'!O262=\"\",\"\",'Data Input'!O262)","v":""},{"$f":"IF('Data Input'!L262=\"\",\"\",'Data Input'!L262)","v":""},{"$f":"IF('Data Input'!M262=\"\",\"\",'Data Input'!M262)","v":""},{"$f":"IF('Data Input'!Q262=\"\",\"\",'Data Input'!Q262)","v":""},{"$f":"IF('Data Input'!N262=\"\",\"\",'Data Input'!N262)","v":""},null,null,null,null,null,null,null,null,"",{"$f":"IFERROR(VLOOKUP($Z264,Lookup!$C:$E,2,FALSE),\"\")","v":""},{"$f":"IFERROR(VLOOKUP($AA264,Lookup!$D:$E,2,FALSE),\"\")","v":""},"",{"$f":"IFERROR(VLOOKUP($AC264,Lookup!$C:$E,2,FALSE),\"\")","v":""},{"$f":"IFERROR(VLOOKUP($AD264,Lookup!$D:$E,2,FALSE),\"\")","v":""},"",{"$f":"IFERROR(VLOOKUP($AF264,Lookup!$C:$E,2,FALSE),\"\")","v":""},{"$f":"IFERROR(VLOOKUP($AG264,Lookup!$D:$E,2,FALSE),\"\")","v":""},""]
[{"$f":"IF('Data Input'!I263=\"\",\"\",'Data Input'!I263)","v":""},{"$f":"IF('Data Input'!H263=\"\",\"\",'Data Input'!H263)","v":""},{"$f":"IF('Data Input'!A263=\"\",\"\",'Data Input'!A263)","v":""},{"$f":"IF('Data Input'!R263=\"\",\"\",'Data Input'!R263)","v":""},{"$f":"IF('Data Input'!D263=\"\",\"\",'Data Input'!D263)","v":""},{"$f":"IF('Data Input'!E263=\"\",\"\",'Data Input'!E263)","v":""},{"$f":"IF('Data Input'!F263=\"\",\"\",'Data Input'!F263)","v":""},{"$f":"IF('Data Input'!G263=\"\",\"\",'Data Input'!G263)","v":""},{"$f":"IF('Data Input'!B263=\"\",\"\",'Data Input'!B263)","v":""},{"$f":"IF('Data Input'!C263=\"\",\"\",'Data Input'!C263)","v":""},{"$f":"IF('Data Input'!J263=\"\",\"\",'Data Input'!J263)","v":""},{"$f":"IF('Data Input'!K263=\"\",\"\",'Data Input'!K263)","v":""},{"$f":"IF('Data Input'!O263=\"\",\"\",'Data Input'!O263)","v":""},{"$f":"IF('Data Input'!L263=\"\",\"\",'Data Input'!L263)","v":""},{"$f":"IF('Data Input'!M263=\"\",\"\",'Data Input'!M263)","v":""},{"$f":"IF('Data Input'!Q263=\"\",\"\",'Data Input'!Q263)","v":""},{"$f":"IF('Data Input'!N263=\"\",\"\",'Data Input'!N263)","v":""},null,null,null,null,null,null,null,null,"",{"$f":"IFERROR(VLOOKUP($Z265,Lookup!$C:$E,2,FALSE),\"\")","v":""},{"$f":"IFERROR(VLOOKUP($AA265,Lookup!$D:$E,2,FALSE),\"\")","v":""},"",{"$f":"IFERROR(VLOOKUP($AC265,Lookup!$C:$E,2,FALSE),\"\")","v":""},{"$f":"IFERROR(VLOOKUP($AD265,Lookup!$D:$E,2,FALSE),\"\")","v":""},"",{"$f":"IFERROR(VLOOKUP($AF265,Lookup!$C:$E,2,FALSE),\"\")","v":""},{"$f":"IFERROR(VLOOKUP($AG265,Lookup!$D:$E,2,FALSE),\"\")","v":""},""]
[{"$f":"IF('Data Input'!I264=\"\",\"\",'Data Input'!I264)","v":""},{"$f":"IF('Data Input'!H264=\"\",\"\",'Data Input'!H264)","v":""},{"$f":"IF('Data Input'!A264=\"\",\"\",'Data Input'!A264)","v":""},{"$f":"IF('Data Input'!R264=\"\",\"\",'Data Input'!R264)","v":""},{"$f":"IF('Data Input'!D264=\"\",\"\",'Data Input'!D264)","v":""},{"$f":"IF('Data Input'!E264=\"\",\"\",'Data Input'!E264)","v":""},{"$f":"IF('Data Input'!F264=\"\",\"\",'Data Input'!F264)","v":""},{"$f":"IF('Data Input'!G264=\"\",\"\",'Data Input'!G264)","v":""},{"$f":"IF('Data Input'!B264=\"\",\"\",'Data Input'!B264)","v":""},{"$f":"IF('Data Input'!C264=\"\",\"\",'Data Input'!C264)","v":""},{"$f":"IF('Data Input'!J264=\"\",\"\",'Data Input'!J264)","v":""},{"$f":"IF('Data Input'!K264=\"\",\"\",'Data Input'!K264)","v":""},{"$f":"IF('Data Input'!O264=\"\",\"\",'Data Input'!O264)","v":""},{"$f":"IF('Data Input'!L264=\"\",\"\",'Data Input'!L264)","v":""},{"$f":"IF('Data Input'!M264=\"\",\"\",'Data Input'!M264)","v":""},{"$f":"IF('Data Input'!Q264=\"\",\"\",'Data Input'!Q264)","v":""},{"$f":"IF('Data Input'!N264=\"\",\"\",'Data Input'!N264)","v":""},null,null,null,null,null,null,null,null,"",{"$f":"IFERROR(VLOOKUP($Z266,Lookup!$C:$E,2,FALSE),\"\")","v":""},{"$f":"IFERROR(VLOOKUP($AA266,Lookup!$D:$E,2,FALSE),\"\")","v":""},"",{"$f":"IFERROR(VLOOKUP($AC266,Lookup!$C:$E,2,FALSE),\"\")","v":""},{"$f":"IFERROR(VLOOKUP($AD266,Lookup!$D:$E,2,FALSE),\"\")","v":""},"",{"$f":"IFERROR(VLOOKUP($AF266,Lookup!$C:$E,2,FALSE),\"\")","v":""},{"$f":"IFERROR(VLOOKUP($AG266,Lookup!$D:$E,2,FALSE),\"\")","v":""},""]
[{"$f":"IF('Data Input'!I265=\"\",\"\",'Data Input'!I265)","v":""},{"$f":"IF('Data Input'!H265=\"\",\"\",'Data Input'!H265)","v":""},{"$f":"IF('Data Input'!A265=\"\",\"\",'Data Input'!A265)","v":""},{"$f":"IF('Data Input'!R265=\"\",\"\",'Data Input'!R265)","v":""},{"$f":"IF('Data Input'!D265=\"\",\"\",'Data Input'!D265)","v":""},{"$f":"IF('Data Input'!E265=\"\",\"\",'Data Input'!E265)","v":""},{"$f":"IF('Data Input'!F265=\"\",\"\",'Data Input'!F265)","v":""},{"$f":"IF('Data Input'!G265=\"\",\"\",'Data Input'!G265)","v":""},{"$f":"IF('Data Input'!B265=\"\",\"\",'Data Input'!B265)","v":""},{"$f":"IF('Data Input'!C265=\"\",\"\",'Data Input'!C265)","v":""},{"$f":"IF('Data Input'!J265=\"\",\"\",'Data Input'!J265)","v":""},{"$f":"IF('Data Input'!K265=\"\",\"\",'Data Input'!K265)","v":""},{"$f":"IF('Data Input'!O265=\"\",\"\",'Data Input'!O265)","v":""},{"$f":"IF('Data Input'!L265=\"\",\"\",'Data Input'!L265)","v":""},{"$f":"IF('Data Input'!M265=\"\",\"\",'Data Input'!M265)","v":""},{"$f":"IF('Data Input'!Q265=\"\",\"\",'Data Input'!Q265)","v":""},{"$f":"IF('Data Input'!N265=\"\",\"\",'Data Input'!N265)","v":""},null,null,null,null,null,null,null,null,"",{"$f":"IFERROR(VLOOKUP($Z267,Lookup!$C:$E,2,FALSE),\"\")","v":""},{"$f":"IFERROR(VLOOKUP($AA267,Lookup!$D:$E,2,FALSE),\"\")","v":""},"",{"$f":"IFERROR(VLOOKUP($AC267,Lookup!$C:$E,2,FALSE),\"\")","v":""},{"$f":"IFERROR(VLOOKUP($AD267,Lookup!$D:$E,2,FALSE),\"\")","v":""},"",{"$f":"IFERROR(VLOOKUP($AF267,Lookup!$C:$E,2,FALSE),\"\")","v":""},{"$f":"IFERROR(VLOOKUP($AG267,Lookup!$D:$E,2,FALSE),\"\")","v":""},""]
[{"$f":"IF('Data Input'!I266=\"\",\"\",'Data Input'!I266)","v":""},{"$f":"IF('Data Input'!H266=\"\",\"\",'Data Input'!H266)","v":""},{"$f":"IF('Data Input'!A266=\"\",\"\",'Data Input'!A266)","v":""},{"$f":"IF('Data Input'!R266=\"\",\"\",'Data Input'!R266)","v":""},{"$f":"IF('Data Input'!D266=\"\",\"\",'Data Input'!D266)","v":""},{"$f":"IF('Data Input'!E266=\"\",\"\",'Data Input'!E266)","v":""},{"$f":"IF('Data Input'!F266=\"\",\"\",'Data Input'!F266)","v":""},{"$f":"IF('Data Input'!G266=\"\",\"\",'Data Input'!G266)","v":""},{"$f":"IF('Data Input'!B266=\"\",\"\",'Data Input'!B266)","v":""},{"$f":"IF('Data Input'!C266=\"\",\"\",'Data Input'!C266)","v":""},{"$f":"IF('Data Input'!J266=\"\",\"\",'Data Input'!J266)","v":""},{"$f":"IF('Data Input'!K266=\"\",\"\",'Data Input'!K266)","v":""},{"$f":"IF('Data Input'!O266=\"\",\"\",'Data Input'!O266)","v":""},{"$f":"IF('Data Input'!L266=\"\",\"\",'Data Input'!L266)","v":""},{"$f":"IF('Data Input'!M266=\"\",\"\",'Data Input'!M266)","v":""},{"$f":"IF('Data Input'!Q266=\"\",\"\",'Data Input'!Q266)","v":""},{"$f":"IF('Data Input'!N266=\"\",\"\",'Data Input'!N266)","v":""},null,null,null,null,null,null,null,null,"",{"$f":"IFERROR(VLOOKUP($Z268,Lookup!$C:$E,2,FALSE),\"\")","v":""},{"$f":"IFERROR(VLOOKUP($AA268,Lookup!$D:$E,2,FALSE),\"\")","v":""},"",{"$f":"IFERROR(VLOOKUP($AC268,Lookup!$C:$E,2,FALSE),\"\")","v":""},{"$f":"IFERROR(VLOOKUP($AD268,Lookup!$D:$E,2,FALSE),\"\")","v":""},"",{"$f":"IFERROR(VLOOKUP($AF268,Lookup!$C:$E,2,FALSE),\"\")","v":""},{"$f":"IFERROR(VLOOKUP($AG268,Lookup!$D:$E,2,FALSE),\"\")","v":""},""]
[{"$f":"IF('Data Input'!I267=\"\",\"\",'Data Input'!I267)","v":""},{"$f":"IF('Data Input'!H267=\"\",\"\",'Data Input'!H267)","v":""},{"$f":"IF('Data Input'!A267=\"\",\"\",'Data Input'!A267)","v":""},{"$f":"IF('Data Input'!R267=\"\",\"\",'Data Input'!R267)","v":""},{"$f":"IF('Data Input'!D267=\"\",\"\",'Data Input'!D267)","v":""},{"$f":"IF('Data Input'!E267=\"\",\"\",'Data Input'!E267)","v":""},{"$f":"IF('Data Input'!F267=\"\",\"\",'Data Input'!F267)","v":""},{"$f":"IF('Data Input'!G267=\"\",\"\",'Data Input'!G267)","v":""},{"$f":"IF('Data Input'!B267=\"\",\"\",'Data Input'!B267)","v":""},{"$f":"IF('Data Input'!C267=\"\",\"\",'Data Input'!C267)","v":""},{"$f":"IF('Data Input'!J267=\"\",\"\",'Data Input'!J267)","v":""},{"$f":"IF('Data Input'!K267=\"\",\"\",'Data Input'!K267)","v":""},{"$f":"IF('Data Input'!O267=\"\",\"\",'Data Input'!O267)","v":""},{"$f":"IF('Data Input'!L267=\"\",\"\",'Data Input'!L267)","v":""},{"$f":"IF('Data Input'!M267=\"\",\"\",'Data Input'!M267)","v":""},{"$f":"IF('Data Input'!Q267=\"\",\"\",'Data Input'!Q267)","v":""},{"$f":"IF('Data Input'!N267=\"\",\"\",'Data Input'!N267)","v":""},null,null,null,null,null,null,null,null,"",{"$f":"IFERROR(VLOOKUP($Z269,Lookup!$C:$E,2,FALSE),\"\")","v":""},{"$f":"IFERROR(VLOOKUP($AA269,Lookup!$D:$E,2,FALSE),\"\")","v":""},"",{"$f":"IFERROR(VLOOKUP($AC269,Lookup!$C:$E,2,FALSE),\"\")","v":""},{"$f":"IFERROR(VLOOKUP($AD269,Lookup!$D:$E,2,FALSE),\"\")","v":""},"",{"$f":"IFERROR(VLOOKUP($AF269,Lookup!$C:$E,2,FALSE),\"\")","v":""},{"$f":"IFERROR(VLOOKUP($AG269,Lookup!$D:$E,2,FALSE),\"\")","v":""},""]
[{"$f":"IF('Data Input'!I268=\"\",\"\",'Data Input'!I268)","v":""},{"$f":"IF('Data Input'!H268=\"\",\"\",'Data Input'!H268)","v":""},{"$f":"IF('Data Input'!A268=\"\",\"\",'Data Input'!A268)","v":""},{"$f":"IF('Data Input'!R268=\"\",\"\",'Data Input'!R268)","v":""},{"$f":"IF('Data Input'!D268=\"\",\"\",'Data Input'!D268)","v":""},{"$f":"IF('Data Input'!E268=\"\",\"\",'Data Input'!E268)","v":""},{"$f":"IF('Data Input'!F268=\"\",\"\",'Data Input'!F268)","v":""},{"$f":"IF('Data Input'!G268=\"\",\"\",'Data Input'!G268)","v":""},{"$f":"IF('Data Input'!B268=\"\",\"\",'Data Input'!B268)","v":""},{"$f":"IF('Data Input'!C268=\"\",\"\",'Data Input'!C268)","v":""},{"$f":"IF('Data Input'!J268=\"\",\"\",'Data Input'!J268)","v":""},{"$f":"IF('Data Input'!K268=\"\",\"\",'Data Input'!K268)","v":""},{"$f":"IF('Data Input'!O268=\"\",\"\",'Data Input'!O268)","v":""},{"$f":"IF('Data Input'!L268=\"\",\"\",'Data Input'!L268)","v":""},{"$f":"IF('Data Input'!M268=\"\",\"\",'Data Input'!M268)","v":""},{"$f":"IF('Data Input'!Q268=\"\",\"\",'Data Input'!Q268)","v":""},{"$f":"IF('Data Input'!N268=\"\",\"\",'Data Input'!N268)","v":""},null,null,null,null,null,null,null,null,"",{"$f":"IFERROR(VLOOKUP($Z270,Lookup!$C:$E,2,FALSE),\"\")","v":""},{"$f":"IFERROR(VLOOKUP($AA270,Lookup!$D:$E,2,FALSE),\"\")","v":""},"",{"$f":"IFERROR(VLOOKUP($AC270,Lookup!$C:$E,2,FALSE),\"\")","v":""},{"$f":"IFERROR(VLOOKUP($AD270,Lookup!$D:$E,2,FALSE),\"\")","v":""},"",{"$f":"IFERROR(VLOOKUP($AF270,Lookup!$C:$E,2,FALSE),\"\")","v":""},{"$f":"IFERROR(VLOOKUP($AG270,Lookup!$D:$E,2,FALSE),\"\")","v":""},""]
[{"$f":"IF('Data Input'!I269=\"\",\"\",'Data Input'!I269)","v":""},{"$f":"IF('Data Input'!H269=\"\",\"\",'Data Input'!H269)","v":""},{"$f":"IF('Data Input'!A269=\"\",\"\",'Data Input'!A269)","v":""},{"$f":"IF('Data Input'!R269=\"\",\"\",'Data Input'!R269)","v":""},{"$f":"IF('Data Input'!D269=\"\",\"\",'Data Input'!D269)","v":""},{"$f":"IF('Data Input'!E269=\"\",\"\",'Data Input'!E269)","v":""},{"$f":"IF('Data Input'!F269=\"\",\"\",'Data Input'!F269)","v":""},{"$f":"IF('Data Input'!G269=\"\",\"\",'Data Input'!G269)","v":""},{"$f":"IF('Data Input'!B269=\"\",\"\",'Data Input'!B269)","v":""},{"$f":"IF('Data Input'!C269=\"\",\"\",'Data Input'!C269)","v":""},{"$f":"IF('Data Input'!J269=\"\",\"\",'Data Input'!J269)","v":""},{"$f":"IF('Data Input'!K269=\"\",\"\",'Data Input'!K269)","v":""},{"$f":"IF('Data Input'!O269=\"\",\"\",'Data Input'!O269)","v":""},{"$f":"IF('Data Input'!L269=\"\",\"\",'Data Input'!L269)","v":""},{"$f":"IF('Data Input'!M269=\"\",\"\",'Data Input'!M269)","v":""},{"$f":"IF('Data Input'!Q269=\"\",\"\",'Data Input'!Q269)","v":""},{"$f":"IF('Data Input'!N269=\"\",\"\",'Data Input'!N269)","v":""},null,null,null,null,null,null,null,null,"",{"$f":"IFERROR(VLOOKUP($Z271,Lookup!$C:$E,2,FALSE),\"\")","v":""},{"$f":"IFERROR(VLOOKUP($AA271,Lookup!$D:$E,2,FALSE),\"\")","v":""},"",{"$f":"IFERROR(VLOOKUP($AC271,Lookup!$C:$E,2,FALSE),\"\")","v":""},{"$f":"IFERROR(VLOOKUP($AD271,Lookup!$D:$E,2,FALSE),\"\")","v":""},"",{"$f":"IFERROR(VLOOKUP($AF271,Lookup!$C:$E,2,FALSE),\"\")","v":""},{"$f":"IFERROR(VLOOKUP($AG271,Lookup!$D:$E,2,FALSE),\"\")","v":""},""]
[{"$f":"IF('Data Input'!I270=\"\",\"\",'Data Input'!I270)","v":""},{"$f":"IF('Data Input'!H270=\"\",\"\",'Data Input'!H270)","v":""},{"$f":"IF('Data Input'!A270=\"\",\"\",'Data Input'!A270)","v":""},{"$f":"IF('Data Input'!R270=\"\",\"\",'Data Input'!R270)","v":""},{"$f":"IF('Data Input'!D270=\"\",\"\",'Data Input'!D270)","v":""},{"$f":"IF('Data Input'!E270=\"\",\"\",'Data Input'!E270)","v":""},{"$f":"IF('Data Input'!F270=\"\",\"\",'Data Input'!F270)","v":""},{"$f":"IF('Data Input'!G270=\"\",\"\",'Data Input'!G270)","v":""},{"$f":"IF('Data Input'!B270=\"\",\"\",'Data Input'!B270)","v":""},{"$f":"IF('Data Input'!C270=\"\",\"\",'Data Input'!C270)","v":""},{"$f":"IF('Data Input'!J270=\"\",\"\",'Data Input'!J270)","v":""},{"$f":"IF('Data Input'!K270=\"\",\"\",'Data Input'!K270)","v":""},{"$f":"IF('Data Input'!O270=\"\",\"\",'Data Input'!O270)","v":""},{"$f":"IF('Data Input'!L270=\"\",\"\",'Data Input'!L270)","v":""},{"$f":"IF('Data Input'!M270=\"\",\"\",'Data Input'!M270)","v":""},{"$f":"IF('Data Input'!Q270=\"\",\"\",'Data Input'!Q270)","v":""},{"$f":"IF('Data Input'!N270=\"\",\"\",'Data Input'!N270)","v":""},null,null,null,null,null,null,null,null,"",{"$f":"IFERROR(VLOOKUP($Z272,Lookup!$C:$E,2,FALSE),\"\")","v":""},{"$f":"IFERROR(VLOOKUP($AA272,Lookup!$D:$E,2,FALSE),\"\")","v":""},"",{"$f":"IFERROR(VLOOKUP($AC272,Lookup!$C:$E,2,FALSE),\"\")","v":""},{"$f":"IFERROR(VLOOKUP($AD272,Lookup!$D:$E,2,FALSE),\"\")","v":""},"",{"$f":"IFERROR(VLOOKUP($AF272,Lookup!$C:$E,2,FALSE),\"\")","v":""},{"$f":"IFERROR(VLOOKUP($AG272,Lookup!$D:$E,2,FALSE),\"\")","v":""},""]
[{"$f":"IF('Data Input'!I271=\"\",\"\",'Data Input'!I271)","v":""},{"$f":"IF('Data Input'!H271=\"\",\"\",'Data Input'!H271)","v":""},{"$f":"IF('Data Input'!A271=\"\",\"\",'Data Input'!A271)","v":""},{"$f":"IF('Data Input'!R271=\"\",\"\",'Data Input'!R271)","v":""},{"$f":"IF('Data Input'!D271=\"\",\"\",'Data Input'!D271)","v":""},{"$f":"IF('Data Input'!E271=\"\",\"\",'Data Input'!E271)","v":""},{"$f":"IF('Data Input'!F271=\"\",\"\",'Data Input'!F271)","v":""},{"$f":"IF('Data Input'!G271=\"\",\"\",'Data Input'!G271)","v":""},{"$f":"IF('Data Input'!B271=\"\",\"\",'Data Input'!B271)","v":""},{"$f":"IF('Data Input'!C271=\"\",\"\",'Data Input'!C271)","v":""},{"$f":"IF('Data Input'!J271=\"\",\"\",'Data Input'!J271)","v":""},{"$f":"IF('Data Input'!K271=\"\",\"\",'Data Input'!K271)","v":""},{"$f":"IF('Data Input'!O271=\"\",\"\",'Data Input'!O271)","v":""},{"$f":"IF('Data Input'!L271=\"\",\"\",'Data Input'!L271)","v":""},{"$f":"IF('Data Input'!M271=\"\",\"\",'Data Input'!M271)","v":""},{"$f":"IF('Data Input'!Q271=\"\",\"\",'Data Input'!Q271)","v":""},{"$f":"IF('Data Input'!N271=\"\",\"\",'Data Input'!N271)","v":""},null,null,null,null,null,null,null,null,"",{"$f":"IFERROR(VLOOKUP($Z273,Lookup!$C:$E,2,FALSE),\"\")","v":""},{"$f":"IFERROR(VLOOKUP($AA273,Lookup!$D:$E,2,FALSE),\"\")","v":""},"",{"$f":"IFERROR(VLOOKUP($AC273,Lookup!$C:$E,2,FALSE),\"\")","v":""},{"$f":"IFERROR(VLOOKUP($AD273,Lookup!$D:$E,2,FALSE),\"\")","v":""},"",{"$f":"IFERROR(VLOOKUP($AF273,Lookup!$C:$E,2,FALSE),\"\")","v":""},{"$f":"IFERROR(VLOOKUP($AG273,Lookup!$D:$E,2,FALSE),\"\")","v":""},""]
[{"$f":"IF('Data Input'!I272=\"\",\"\",'Data Input'!I272)","v":""},{"$f":"IF('Data Input'!H272=\"\",\"\",'Data Input'!H272)","v":""},{"$f":"IF('Data Input'!A272=\"\",\"\",'Data Input'!A272)","v":""},{"$f":"IF('Data Input'!R272=\"\",\"\",'Data Input'!R272)","v":""},{"$f":"IF('Data Input'!D272=\"\",\"\",'Data Input'!D272)","v":""},{"$f":"IF('Data Input'!E272=\"\",\"\",'Data Input'!E272)","v":""},{"$f":"IF('Data Input'!F272=\"\",\"\",'Data Input'!F272)","v":""},{"$f":"IF('Data Input'!G272=\"\",\"\",'Data Input'!G272)","v":""},{"$f":"IF('Data Input'!B272=\"\",\"\",'Data Input'!B272)","v":""},{"$f":"IF('Data Input'!C272=\"\",\"\",'Data Input'!C272)","v":""},{"$f":"IF('Data Input'!J272=\"\",\"\",'Data Input'!J272)","v":""},{"$f":"IF('Data Input'!K272=\"\",\"\",'Data Input'!K272)","v":""},{"$f":"IF('Data Input'!O272=\"\",\"\",'Data Input'!O272)","v":""},{"$f":"IF('Data Input'!L272=\"\",\"\",'Data Input'!L272)","v":""},{"$f":"IF('Data Input'!M272=\"\",\"\",'Data Input'!M272)","v":""},{"$f":"IF('Data Input'!Q272=\"\",\"\",'Data Input'!Q272)","v":""},{"$f":"IF('Data Input'!N272=\"\",\"\",'Data Input'!N272)","v":""},null,null,null,null,null,null,null,null,"",{"$f":"IFERROR(VLOOKUP($Z274,Lookup!$C:$E,2,FALSE),\"\")","v":""},{"$f":"IFERROR(VLOOKUP($AA274,Lookup!$D:$E,2,FALSE),\"\")","v":""},"",{"$f":"IFERROR(VLOOKUP($AC274,Lookup!$C:$E,2,FALSE),\"\")","v":""},{"$f":"IFERROR(VLOOKUP($AD274,Lookup!$D:$E,2,FALSE),\"\")","v":""},"",{"$f":"IFERROR(VLOOKUP($AF274,Lookup!$C:$E,2,FALSE),\"\")","v":""},{"$f":"IFERROR(VLOOKUP($AG274,Lookup!$D:$E,2,FALSE),\"\")","v":""},""]
[{"$f":"IF('Data Input'!I273=\"\",\"\",'Data Input'!I273)","v":""},{"$f":"IF('Data Input'!H273=\"\",\"\",'Data Input'!H273)","v":""},{"$f":"IF('Data Input'!A273=\"\",\"\",'Data Input'!A273)","v":""},{"$f":"IF('Data Input'!R273=\"\",\"\",'Data Input'!R273)","v":""},{"$f":"IF('Data Input'!D273=\"\",\"\",'Data Input'!D273)","v":""},{"$f":"IF('Data Input'!E273=\"\",\"\",'Data Input'!E273)","v":""},{"$f":"IF('Data Input'!F273=\"\",\"\",'Data Input'!F273)","v":""},{"$f":"IF('Data Input'!G273=\"\",\"\",'Data Input'!G273)","v":""},{"$f":"IF('Data Input'!B273=\"\",\"\",'Data Input'!B273)","v":""},{"$f":"IF('Data Input'!C273=\"\",\"\",'Data Input'!C273)","v":""},{"$f":"IF('Data Input'!J273=\"\",\"\",'Data Input'!J273)","v":""},{"$f":"IF('Data Input'!K273=\"\",\"\",'Data Input'!K273)","v":""},{"$f":"IF('Data Input'!O273=\"\",\"\",'Data Input'!O273)","v":""},{"$f":"IF('Data Input'!L273=\"\",\"\",'Data Input'!L273)","v":""},{"$f":"IF('Data Input'!M273=\"\",\"\",'Data Input'!M273)","v":""},{"$f":"IF('Data Input'!Q273=\"\",\"\",'Data Input'!Q273)","v":""},{"$f":"IF('Data Input'!N273=\"\",\"\",'Data Input'!N273)","v":""},null,null,null,null,null,null,null,null,"",{"$f":"IFERROR(VLOOKUP($Z275,Lookup!$C:$E,2,FALSE),\"\")","v":""},{"$f":"IFERROR(VLOOKUP($AA275,Lookup!$D:$E,2,FALSE),\"\")","v":""},"",{"$f":"IFERROR(VLOOKUP($AC275,Lookup!$C:$E,2,FALSE),\"\")","v":""},{"$f":"IFERROR(VLOOKUP($AD275,Lookup!$D:$E,2,FALSE),\"\")","v":""},"",{"$f":"IFERROR(VLOOKUP($AF275,Lookup!$C:$E,2,FALSE),\"\")","v":""},{"$f":"IFERROR(VLOOKUP($AG275,Lookup!$D:$E,2,FALSE),\"\")","v":""},""]
[{"$f":"IF('Data Input'!I274=\"\",\"\",'Data Input'!I274)","v":""},{"$f":"IF('Data Input'!H274=\"\",\"\",'Data Input'!H274)","v":""},{"$f":"IF('Data Input'!A274=\"\",\"\",'Data Input'!A274)","v":""},{"$f":"IF('Data Input'!R274=\"\",\"\",'Data Input'!R274)","v":""},{"$f":"IF('Data Input'!D274=\"\",\"\",'Data Input'!D274)","v":""},{"$f":"IF('Data Input'!E274=\"\",\"\",'Data Input'!E274)","v":""},{"$f":"IF('Data Input'!F274=\"\",\"\",'Data Input'!F274)","v":""},{"$f":"IF('Data Input'!G274=\"\",\"\",'Data Input'!G274)","v":""},{"$f":"IF('Data Input'!B274=\"\",\"\",'Data Input'!B274)","v":""},{"$f":"IF('Data Input'!C274=\"\",\"\",'Data Input'!C274)","v":""},{"$f":"IF('Data Input'!J274=\"\",\"\",'Data Input'!J274)","v":""},{"$f":"IF('Data Input'!K274=\"\",\"\",'Data Input'!K274)","v":""},{"$f":"IF('Data Input'!O274=\"\",\"\",'Data Input'!O274)","v":""},{"$f":"IF('Data Input'!L274=\"\",\"\",'Data Input'!L274)","v":""},{"$f":"IF('Data Input'!M274=\"\",\"\",'Data Input'!M274)","v":""},{"$f":"IF('Data Input'!Q274=\"\",\"\",'Data Input'!Q274)","v":""},{"$f":"IF('Data Input'!N274=\"\",\"\",'Data Input'!N274)","v":""},null,null,null,null,null,null,null,null,"",{"$f":"IFERROR(VLOOKUP($Z276,Lookup!$C:$E,2,FALSE),\"\")","v":""},{"$f":"IFERROR(VLOOKUP($AA276,Lookup!$D:$E,2,FALSE),\"\")","v":""},"",{"$f":"IFERROR(VLOOKUP($AC276,Lookup!$C:$E,2,FALSE),\"\")","v":""},{"$f":"IFERROR(VLOOKUP($AD276,Lookup!$D:$E,2,FALSE),\"\")","v":""},"",{"$f":"IFERROR(VLOOKUP($AF276,Lookup!$C:$E,2,FALSE),\"\")","v":""},{"$f":"IFERROR(VLOOKUP($AG276,Lookup!$D:$E,2,FALSE),\"\")","v":""},""]
[{"$f":"IF('Data Input'!I275=\"\",\"\",'Data Input'!I275)","v":""},{"$f":"IF('Data Input'!H275=\"\",\"\",'Data Input'!H275)","v":""},{"$f":"IF('Data Input'!A275=\"\",\"\",'Data Input'!A275)","v":""},{"$f":"IF('Data Input'!R275=\"\",\"\",'Data Input'!R275)","v":""},{"$f":"IF('Data Input'!D275=\"\",\"\",'Data Input'!D275)","v":""},{"$f":"IF('Data Input'!E275=\"\",\"\",'Data Input'!E275)","v":""},{"$f":"IF('Data Input'!F275=\"\",\"\",'Data Input'!F275)","v":""},{"$f":"IF('Data Input'!G275=\"\",\"\",'Data Input'!G275)","v":""},{"$f":"IF('Data Input'!B275=\"\",\"\",'Data Input'!B275)","v":""},{"$f":"IF('Data Input'!C275=\"\",\"\",'Data Input'!C275)","v":""},{"$f":"IF('Data Input'!J275=\"\",\"\",'Data Input'!J275)","v":""},{"$f":"IF('Data Input'!K275=\"\",\"\",'Data Input'!K275)","v":""},{"$f":"IF('Data Input'!O275=\"\",\"\",'Data Input'!O275)","v":""},{"$f":"IF('Data Input'!L275=\"\",\"\",'Data Input'!L275)","v":""},{"$f":"IF('Data Input'!M275=\"\",\"\",'Data Input'!M275)","v":""},{"$f":"IF('Data Input'!Q275=\"\",\"\",'Data Input'!Q275)","v":""},{"$f":"IF('Data Input'!N275=\"\",\"\",'Data Input'!N275)","v":""},null,null,null,null,null,null,null,null,"",{"$f":"IFERROR(VLOOKUP($Z277,Lookup!$C:$E,2,FALSE),\"\")","v":""},{"$f":"IFERROR(VLOOKUP($AA277,Lookup!$D:$E,2,FALSE),\"\")","v":""},"",{"$f":"IFERROR(VLOOKUP($AC277,Lookup!$C:$E,2,FALSE),\"\")","v":""},{"$f":"IFERROR(VLOOKUP($AD277,Lookup!$D:$E,2,FALSE),\"\")","v":""},"",{"$f":"IFERROR(VLOOKUP($AF277,Lookup!$C:$E,2,FALSE),\"\")","v":""},{"$f":"IFERROR(VLOOKUP($AG277,Lookup!$D:$E,2,FALSE),\"\")","v":""},""]
[{"$f":"IF('Data Input'!I276=\"\",\"\",'Data Input'!I276)","v":""},{"$f":"IF('Data Input'!H276=\"\",\"\",'Data Input'!H276)","v":""},{"$f":"IF('Data Input'!A276=\"\",\"\",'Data Input'!A276)","v":""},{"$f":"IF('Data Input'!R276=\"\",\"\",'Data Input'!R276)","v":""},{"$f":"IF('Data Input'!D276=\"\",\"\",'Data Input'!D276)","v":""},{"$f":"IF('Data Input'!E276=\"\",\"\",'Data Input'!E276)","v":""},{"$f":"IF('Data Input'!F276=\"\",\"\",'Data Input'!F276)","v":""},{"$f":"IF('Data Input'!G276=\"\",\"\",'Data Input'!G276)","v":""},{"$f":"IF('Data Input'!B276=\"\",\"\",'Data Input'!B276)","v":""},{"$f":"IF('Data Input'!C276=\"\",\"\",'Data Input'!C276)","v":""},{"$f":"IF('Data Input'!J276=\"\",\"\",'Data Input'!J276)","v":""},{"$f":"IF('Data Input'!K276=\"\",\"\",'Data Input'!K276)","v":""},{"$f":"IF('Data Input'!O276=\"\",\"\",'Data Input'!O276)","v":""},{"$f":"IF('Data Input'!L276=\"\",\"\",'Data Input'!L276)","v":""},{"$f":"IF('Data Input'!M276=\"\",\"\",'Data Input'!M276)","v":""},{"$f":"IF('Data Input'!Q276=\"\",\"\",'Data Input'!Q276)","v":""},{"$f":"IF('Data Input'!N276=\"\",\"\",'Data Input'!N276)","v":""},null,null,null,null,null,null,null,null,"",{"$f":"IFERROR(VLOOKUP($Z278,Lookup!$C:$E,2,FALSE),\"\")","v":""},{"$f":"IFERROR(VLOOKUP($AA278,Lookup!$D:$E,2,FALSE),\"\")","v":""},"",{"$f":"IFERROR(VLOOKUP($AC278,Lookup!$C:$E,2,FALSE),\"\")","v":""},{"$f":"IFERROR(VLOOKUP($AD278,Lookup!$D:$E,2,FALSE),\"\")","v":""},"",{"$f":"IFERROR(VLOOKUP($AF278,Lookup!$C:$E,2,FALSE),\"\")","v":""},{"$f":"IFERROR(VLOOKUP($AG278,Lookup!$D:$E,2,FALSE),\"\")","v":""},""]
[{"$f":"IF('Data Input'!I277=\"\",\"\",'Data Input'!I277)","v":""},{"$f":"IF('Data Input'!H277=\"\",\"\",'Data Input'!H277)","v":""},{"$f":"IF('Data Input'!A277=\"\",\"\",'Data Input'!A277)","v":""},{"$f":"IF('Data Input'!R277=\"\",\"\",'Data Input'!R277)","v":""},{"$f":"IF('Data Input'!D277=\"\",\"\",'Data Input'!D277)","v":""},{"$f":"IF('Data Input'!E277=\"\",\"\",'Data Input'!E277)","v":""},{"$f":"IF('Data Input'!F277=\"\",\"\",'Data Input'!F277)","v":""},{"$f":"IF('Data Input'!G277=\"\",\"\",'Data Input'!G277)","v":""},{"$f":"IF('Data Input'!B277=\"\",\"\",'Data Input'!B277)","v":""},{"$f":"IF('Data Input'!C277=\"\",\"\",'Data Input'!C277)","v":""},{"$f":"IF('Data Input'!J277=\"\",\"\",'Data Input'!J277)","v":""},{"$f":"IF('Data Input'!K277=\"\",\"\",'Data Input'!K277)","v":""},{"$f":"IF('Data Input'!O277=\"\",\"\",'Data Input'!O277)","v":""},{"$f":"IF('Data Input'!L277=\"\",\"\",'Data Input'!L277)","v":""},{"$f":"IF('Data Input'!M277=\"\",\"\",'Data Input'!M277)","v":""},{"$f":"IF('Data Input'!Q277=\"\",\"\",'Data Input'!Q277)","v":""},{"$f":"IF('Data Input'!N277=\"\",\"\",'Data Input'!N277)","v":""},null,null,null,null,null,null,null,null,"",{"$f":"IFERROR(VLOOKUP($Z279,Lookup!$C:$E,2,FALSE),\"\")","v":""},{"$f":"IFERROR(VLOOKUP($AA279,Lookup!$D:$E,2,FALSE),\"\")","v":""},"",{"$f":"IFERROR(VLOOKUP($AC279,Lookup!$C:$E,2,FALSE),\"\")","v":""},{"$f":"IFERROR(VLOOKUP($AD279,Lookup!$D:$E,2,FALSE),\"\")","v":""},"",{"$f":"IFERROR(VLOOKUP($AF279,Lookup!$C:$E,2,FALSE),\"\")","v":""},{"$f":"IFERROR(VLOOKUP($AG279,Lookup!$D:$E,2,FALSE),\"\")","v":""},""]
[{"$f":"IF('Data Input'!I278=\"\",\"\",'Data Input'!I278)","v":""},{"$f":"IF('Data Input'!H278=\"\",\"\",'Data Input'!H278)","v":""},{"$f":"IF('Data Input'!A278=\"\",\"\",'Data Input'!A278)","v":""},{"$f":"IF('Data Input'!R278=\"\",\"\",'Data Input'!R278)","v":""},{"$f":"IF('Data Input'!D278=\"\",\"\",'Data Input'!D278)","v":""},{"$f":"IF('Data Input'!E278=\"\",\"\",'Data Input'!E278)","v":""},{"$f":"IF('Data Input'!F278=\"\",\"\",'Data Input'!F278)","v":""},{"$f":"IF('Data Input'!G278=\"\",\"\",'Data Input'!G278)","v":""},{"$f":"IF('Data Input'!B278=\"\",\"\",'Data Input'!B278)","v":""},{"$f":"IF('Data Input'!C278=\"\",\"\",'Data Input'!C278)","v":""},{"$f":"IF('Data Input'!J278=\"\",\"\",'Data Input'!J278)","v":""},{"$f":"IF('Data Input'!K278=\"\",\"\",'Data Input'!K278)","v":""},{"$f":"IF('Data Input'!O278=\"\",\"\",'Data Input'!O278)","v":""},{"$f":"IF('Data Input'!L278=\"\",\"\",'Data Input'!L278)","v":""},{"$f":"IF('Data Input'!M278=\"\",\"\",'Data Input'!M278)","v":""},{"$f":"IF('Data Input'!Q278=\"\",\"\",'Data Input'!Q278)","v":""},{"$f":"IF('Data Input'!N278=\"\",\"\",'Data Input'!N278)","v":""},null,null,null,null,null,null,null,null,"",{"$f":"IFERROR(VLOOKUP($Z280,Lookup!$C:$E,2,FALSE),\"\")","v":""},{"$f":"IFERROR(VLOOKUP($AA280,Lookup!$D:$E,2,FALSE),\"\")","v":""},"",{"$f":"IFERROR(VLOOKUP($AC280,Lookup!$C:$E,2,FALSE),\"\")","v":""},{"$f":"IFERROR(VLOOKUP($AD280,Lookup!$D:$E,2,FALSE),\"\")","v":""},"",{"$f":"IFERROR(VLOOKUP($AF280,Lookup!$C:$E,2,FALSE),\"\")","v":""},{"$f":"IFERROR(VLOOKUP($AG280,Lookup!$D:$E,2,FALSE),\"\")","v":""},""]
[{"$f":"IF('Data Input'!I279=\"\",\"\",'Data Input'!I279)","v":""},{"$f":"IF('Data Input'!H279=\"\",\"\",'Data Input'!H279)","v":""},{"$f":"IF('Data Input'!A279=\"\",\"\",'Data Input'!A279)","v":""},{"$f":"IF('Data Input'!R279=\"\",\"\",'Data Input'!R279)","v":""},{"$f":"IF('Data Input'!D279=\"\",\"\",'Data Input'!D279)","v":""},{"$f":"IF('Data Input'!E279=\"\",\"\",'Data Input'!E279)","v":""},{"$f":"IF('Data Input'!F279=\"\",\"\",'Data Input'!F279)","v":""},{"$f":"IF('Data Input'!G279=\"\",\"\",'Data Input'!G279)","v":""},{"$f":"IF('Data Input'!B279=\"\",\"\",'Data Input'!B279)","v":""},{"$f":"IF('Data Input'!C279=\"\",\"\",'Data Input'!C279)","v":""},{"$f":"IF('Data Input'!J279=\"\",\"\",'Data Input'!J279)","v":""},{"$f":"IF('Data Input'!K279=\"\",\"\",'Data Input'!K279)","v":""},{"$f":"IF('Data Input'!O279=\"\",\"\",'Data Input'!O279)","v":""},{"$f":"IF('Data Input'!L279=\"\",\"\",'Data Input'!L279)","v":""},{"$f":"IF('Data Input'!M279=\"\",\"\",'Data Input'!M279)","v":""},{"$f":"IF('Data Input'!Q279=\"\",\"\",'Data Input'!Q279)","v":""},{"$f":"IF('Data Input'!N279=\"\",\"\",'Data Input'!N279)","v":""},null,null,null,null,null,null,null,null,"",{"$f":"IFERROR(VLOOKUP($Z281,Lookup!$C:$E,2,FALSE),\"\")","v":""},{"$f":"IFERROR(VLOOKUP($AA281,Lookup!$D:$E,2,FALSE),\"\")","v":""},"",{"$f":"IFERROR(VLOOKUP($AC281,Lookup!$C:$E,2,FALSE),\"\")","v":""},{"$f":"IFERROR(VLOOKUP($AD281,Lookup!$D:$E,2,FALSE),\"\")","v":""},"",{"$f":"IFERROR(VLOOKUP($AF281,Lookup!$C:$E,2,FALSE),\"\")","v":""},{"$f":"IFERROR(VLOOKUP($AG281,Lookup!$D:$E,2,FALSE),\"\")","v":""},""]
[{"$f":"IF('Data Input'!I280=\"\",\"\",'Data Input'!I280)","v":""},{"$f":"IF('Data Input'!H280=\"\",\"\",'Data Input'!H280)","v":""},{"$f":"IF('Data Input'!A280=\"\",\"\",'Data Input'!A280)","v":""},{"$f":"IF('Data Input'!R280=\"\",\"\",'Data Input'!R280)","v":""},{"$f":"IF('Data Input'!D280=\"\",\"\",'Data Input'!D280)","v":""},{"$f":"IF('Data Input'!E280=\"\",\"\",'Data Input'!E280)","v":""},{"$f":"IF('Data Input'!F280=\"\",\"\",'Data Input'!F280)","v":""},{"$f":"IF('Data Input'!G280=\"\",\"\",'Data Input'!G280)","v":""},{"$f":"IF('Data Input'!B280=\"\",\"\",'Data Input'!B280)","v":""},{"$f":"IF('Data Input'!C280=\"\",\"\",'Data Input'!C280)","v":""},{"$f":"IF('Data Input'!J280=\"\",\"\",'Data Input'!J280)","v":""},{"$f":"IF('Data Input'!K280=\"\",\"\",'Data Input'!K280)","v":""},{"$f":"IF('Data Input'!O280=\"\",\"\",'Data Input'!O280)","v":""},{"$f":"IF('Data Input'!L280=\"\",\"\",'Data Input'!L280)","v":""},{"$f":"IF('Data Input'!M280=\"\",\"\",'Data Input'!M280)","v":""},{"$f":"IF('Data Input'!Q280=\"\",\"\",'Data Input'!Q280)","v":""},{"$f":"IF('Data Input'!N280=\"\",\"\",'Data Input'!N280)","v":""},null,null,null,null,null,null,null,null,"",{"$f":"IFERROR(VLOOKUP($Z282,Lookup!$C:$E,2,FALSE),\"\")","v":""},{"$f":"IFERROR(VLOOKUP($AA282,Lookup!$D:$E,2,FALSE),\"\")","v":""},"",{"$f":"IFERROR(VLOOKUP($AC282,Lookup!$C:$E,2,FALSE),\"\")","v":""},{"$f":"IFERROR(VLOOKUP($AD282,Lookup!$D:$E,2,FALSE),\"\")","v":""},"",{"$f":"IFERROR(VLOOKUP($AF282,Lookup!$C:$E,2,FALSE),\"\")","v":""},{"$f":"IFERROR(VLOOKUP($AG282,Lookup!$D:$E,2,FALSE),\"\")","v":""},""]
[{"$f":"IF('Data Input'!I281=\"\",\"\",'Data Input'!I281)","v":""},{"$f":"IF('Data Input'!H281=\"\",\"\",'Data Input'!H281)","v":""},{"$f":"IF('Data Input'!A281=\"\",\"\",'Data Input'!A281)","v":""},{"$f":"IF('Data Input'!R281=\"\",\"\",'Data Input'!R281)","v":""},{"$f":"IF('Data Input'!D281=\"\",\"\",'Data Input'!D281)","v":""},{"$f":"IF('Data Input'!E281=\"\",\"\",'Data Input'!E281)","v":""},{"$f":"IF('Data Input'!F281=\"\",\"\",'Data Input'!F281)","v":""},{"$f":"IF('Data Input'!G281=\"\",\"\",'Data Input'!G281)","v":""},{"$f":"IF('Data Input'!B281=\"\",\"\",'Data Input'!B281)","v":""},{"$f":"IF('Data Input'!C281=\"\",\"\",'Data Input'!C281)","v":""},{"$f":"IF('Data Input'!J281=\"\",\"\",'Data Input'!J281)","v":""},{"$f":"IF('Data Input'!K281=\"\",\"\",'Data Input'!K281)","v":""},{"$f":"IF('Data Input'!O281=\"\",\"\",'Data Input'!O281)","v":""},{"$f":"IF('Data Input'!L281=\"\",\"\",'Data Input'!L281)","v":""},{"$f":"IF('Data Input'!M281=\"\",\"\",'Data Input'!M281)","v":""},{"$f":"IF('Data Input'!Q281=\"\",\"\",'Data Input'!Q281)","v":""},{"$f":"IF('Data Input'!N281=\"\",\"\",'Data Input'!N281)","v":""},null,null,null,null,null,null,null,null,"",{"$f":"IFERROR(VLOOKUP($Z283,Lookup!$C:$E,2,FALSE),\"\")","v":""},{"$f":"IFERROR(VLOOKUP($AA283,Lookup!$D:$E,2,FALSE),\"\")","v":""},"",{"$f":"IFERROR(VLOOKUP($AC283,Lookup!$C:$E,2,FALSE),\"\")","v":""},{"$f":"IFERROR(VLOOKUP($AD283,Lookup!$D:$E,2,FALSE),\"\")","v":""},"",{"$f":"IFERROR(VLOOKUP($AF283,Lookup!$C:$E,2,FALSE),\"\")","v":""},{"$f":"IFERROR(VLOOKUP($AG283,Lookup!$D:$E,2,FALSE),\"\")","v":""},""]
[{"$f":"IF('Data Input'!I282=\"\",\"\",'Data Input'!I282)","v":""},{"$f":"IF('Data Input'!H282=\"\",\"\",'Data Input'!H282)","v":""},{"$f":"IF('Data Input'!A282=\"\",\"\",'Data Input'!A282)","v":""},{"$f":"IF('Data Input'!R282=\"\",\"\",'Data Input'!R282)","v":""},{"$f":"IF('Data Input'!D282=\"\",\"\",'Data Input'!D282)","v":""},{"$f":"IF('Data Input'!E282=\"\",\"\",'Data Input'!E282)","v":""},{"$f":"IF('Data Input'!F282=\"\",\"\",'Data Input'!F282)","v":""},{"$f":"IF('Data Input'!G282=\"\",\"\",'Data Input'!G282)","v":""},{"$f":"IF('Data Input'!B282=\"\",\"\",'Data Input'!B282)","v":""},{"$f":"IF('Data Input'!C282=\"\",\"\",'Data Input'!C282)","v":""},{"$f":"IF('Data Input'!J282=\"\",\"\",'Data Input'!J282)","v":""},{"$f":"IF('Data Input'!K282=\"\",\"\",'Data Input'!K282)","v":""},{"$f":"IF('Data Input'!O282=\"\",\"\",'Data Input'!O282)","v":""},{"$f":"IF('Data Input'!L282=\"\",\"\",'Data Input'!L282)","v":""},{"$f":"IF('Data Input'!M282=\"\",\"\",'Data Input'!M282)","v":""},{"$f":"IF('Data Input'!Q282=\"\",\"\",'Data Input'!Q282)","v":""},{"$f":"IF('Data Input'!N282=\"\",\"\",'Data Input'!N282)","v":""},null,null,null,null,null,null,null,null,"",{"$f":"IFERROR(VLOOKUP($Z284,Lookup!$C:$E,2,FALSE),\"\")","v":""},{"$f":"IFERROR(VLOOKUP($AA284,Lookup!$D:$E,2,FALSE),\"\")","v":""},"",{"$f":"IFERROR(VLOOKUP($AC284,Lookup!$C:$E,2,FALSE),\"\")","v":""},{"$f":"IFERROR(VLOOKUP($AD284,Lookup!$D:$E,2,FALSE),\"\")","v":""},"",{"$f":"IFERROR(VLOOKUP($AF284,Lookup!$C:$E,2,FALSE),\"\")","v":""},{"$f":"IFERROR(VLOOKUP($AG284,Lookup!$D:$E,2,FALSE),\"\")","v":""},""]
[{"$f":"IF('Data Input'!I283=\"\",\"\",'Data Input'!I283)","v":""},{"$f":"IF('Data Input'!H283=\"\",\"\",'Data Input'!H283)","v":""},{"$f":"IF('Data Input'!A283=\"\",\"\",'Data Input'!A283)","v":""},{"$f":"IF('Data Input'!R283=\"\",\"\",'Data Input'!R283)","v":""},{"$f":"IF('Data Input'!D283=\"\",\"\",'Data Input'!D283)","v":""},{"$f":"IF('Data Input'!E283=\"\",\"\",'Data Input'!E283)","v":""},{"$f":"IF('Data Input'!F283=\"\",\"\",'Data Input'!F283)","v":""},{"$f":"IF('Data Input'!G283=\"\",\"\",'Data Input'!G283)","v":""},{"$f":"IF('Data Input'!B283=\"\",\"\",'Data Input'!B283)","v":""},{"$f":"IF('Data Input'!C283=\"\",\"\",'Data Input'!C283)","v":""},{"$f":"IF('Data Input'!J283=\"\",\"\",'Data Input'!J283)","v":""},{"$f":"IF('Data Input'!K283=\"\",\"\",'Data Input'!K283)","v":""},{"$f":"IF('Data Input'!O283=\"\",\"\",'Data Input'!O283)","v":""},{"$f":"IF('Data Input'!L283=\"\",\"\",'Data Input'!L283)","v":""},{"$f":"IF('Data Input'!M283=\"\",\"\",'Data Input'!M283)","v":""},{"$f":"IF('Data Input'!Q283=\"\",\"\",'Data Input'!Q283)","v":""},{"$f":"IF('Data Input'!N283=\"\",\"\",'Data Input'!N283)","v":""},null,null,null,null,null,null,null,null,"",{"$f":"IFERROR(VLOOKUP($Z285,Lookup!$C:$E,2,FALSE),\"\")","v":""},{"$f":"IFERROR(VLOOKUP($AA285,Lookup!$D:$E,2,FALSE),\"\")","v":""},"",{"$f":"IFERROR(VLOOKUP($AC285,Lookup!$C:$E,2,FALSE),\"\")","v":""},{"$f":"IFERROR(VLOOKUP($AD285,Lookup!$D:$E,2,FALSE),\"\")","v":""},"",{"$f":"IFERROR(VLOOKUP($AF285,Lookup!$C:$E,2,FALSE),\"\")","v":""},{"$f":"IFERROR(VLOOKUP($AG285,Lookup!$D:$E,2,FALSE),\"\")","v":""},""]
[{"$f":"IF('Data Input'!I284=\"\",\"\",'Data Input'!I284)","v":""},{"$f":"IF('Data Input'!H284=\"\",\"\",'Data Input'!H284)","v":""},{"$f":"IF('Data Input'!A284=\"\",\"\",'Data Input'!A284)","v":""},{"$f":"IF('Data Input'!R284=\"\",\"\",'Data Input'!R284)","v":""},{"$f":"IF('Data Input'!D284=\"\",\"\",'Data Input'!D284)","v":""},{"$f":"IF('Data Input'!E284=\"\",\"\",'Data Input'!E284)","v":""},{"$f":"IF('Data Input'!F284=\"\",\"\",'Data Input'!F284)","v":""},{"$f":"IF('Data Input'!G284=\"\",\"\",'Data Input'!G284)","v":""},{"$f":"IF('Data Input'!B284=\"\",\"\",'Data Input'!B284)","v":""},{"$f":"IF('Data Input'!C284=\"\",\"\",'Data Input'!C284)","v":""},{"$f":"IF('Data Input'!J284=\"\",\"\",'Data Input'!J284)","v":""},{"$f":"IF('Data Input'!K284=\"\",\"\",'Data Input'!K284)","v":""},{"$f":"IF('Data Input'!O284=\"\",\"\",'Data Input'!O284)","v":""},{"$f":"IF('Data Input'!L284=\"\",\"\",'Data Input'!L284)","v":""},{"$f":"IF('Data Input'!M284=\"\",\"\",'Data Input'!M284)","v":""},{"$f":"IF('Data Input'!Q284=\"\",\"\",'Data Input'!Q284)","v":""},{"$f":"IF('Data Input'!N284=\"\",\"\",'Data Input'!N284)","v":""},null,null,null,null,null,null,null,null,"",{"$f":"IFERROR(VLOOKUP($Z286,Lookup!$C:$E,2,FALSE),\"\")","v":""},{"$f":"IFERROR(VLOOKUP($AA286,Lookup!$D:$E,2,FALSE),\"\")","v":""},"",{"$f":"IFERROR(VLOOKUP($AC286,Lookup!$C:$E,2,FALSE),\"\")","v":""},{"$f":"IFERROR(VLOOKUP($AD286,Lookup!$D:$E,2,FALSE),\"\")","v":""},"",{"$f":"IFERROR(VLOOKUP($AF286,Lookup!$C:$E,2,FALSE),\"\")","v":""},{"$f":"IFERROR(VLOOKUP($AG286,Lookup!$D:$E,2,FALSE),\"\")","v":""},""]
[{"$f":"IF('Data Input'!I285=\"\",\"\",'Data Input'!I285)","v":""},{"$f":"IF('Data Input'!H285=\"\",\"\",'Data Input'!H285)","v":""},{"$f":"IF('Data Input'!A285=\"\",\"\",'Data Input'!A285)","v":""},{"$f":"IF('Data Input'!R285=\"\",\"\",'Data Input'!R285)","v":""},{"$f":"IF('Data Input'!D285=\"\",\"\",'Data Input'!D285)","v":""},{"$f":"IF('Data Input'!E285=\"\",\"\",'Data Input'!E285)","v":""},{"$f":"IF('Data Input'!F285=\"\",\"\",'Data Input'!F285)","v":""},{"$f":"IF('Data Input'!G285=\"\",\"\",'Data Input'!G285)","v":""},{"$f":"IF('Data Input'!B285=\"\",\"\",'Data Input'!B285)","v":""},{"$f":"IF('Data Input'!C285=\"\",\"\",'Data Input'!C285)","v":""},{"$f":"IF('Data Input'!J285=\"\",\"\",'Data Input'!J285)","v":""},{"$f":"IF('Data Input'!K285=\"\",\"\",'Data Input'!K285)","v":""},{"$f":"IF('Data Input'!O285=\"\",\"\",'Data Input'!O285)","v":""},{"$f":"IF('Data Input'!L285=\"\",\"\",'Data Input'!L285)","v":""},{"$f":"IF('Data Input'!M285=\"\",\"\",'Data Input'!M285)","v":""},{"$f":"IF('Data Input'!Q285=\"\",\"\",'Data Input'!Q285)","v":""},{"$f":"IF('Data Input'!N285=\"\",\"\",'Data Input'!N285)","v":""},null,null,null,null,null,null,null,null,"",{"$f":"IFERROR(VLOOKUP($Z287,Lookup!$C:$E,2,FALSE),\"\")","v":""},{"$f":"IFERROR(VLOOKUP($AA287,Lookup!$D:$E,2,FALSE),\"\")","v":""},"",{"$f":"IFERROR(VLOOKUP($AC287,Lookup!$C:$E,2,FALSE),\"\")","v":""},{"$f":"IFERROR(VLOOKUP($AD287,Lookup!$D:$E,2,FALSE),\"\")","v":""},"",{"$f":"IFERROR(VLOOKUP($AF287,Lookup!$C:$E,2,FALSE),\"\")","v":""},{"$f":"IFERROR(VLOOKUP($AG287,Lookup!$D:$E,2,FALSE),\"\")","v":""},""]
[{"$f":"IF('Data Input'!I286=\"\",\"\",'Data Input'!I286)","v":""},{"$f":"IF('Data Input'!H286=\"\",\"\",'Data Input'!H286)","v":""},{"$f":"IF('Data Input'!A286=\"\",\"\",'Data Input'!A286)","v":""},{"$f":"IF('Data Input'!R286=\"\",\"\",'Data Input'!R286)","v":""},{"$f":"IF('Data Input'!D286=\"\",\"\",'Data Input'!D286)","v":""},{"$f":"IF('Data Input'!E286=\"\",\"\",'Data Input'!E286)","v":""},{"$f":"IF('Data Input'!F286=\"\",\"\",'Data Input'!F286)","v":""},{"$f":"IF('Data Input'!G286=\"\",\"\",'Data Input'!G286)","v":""},{"$f":"IF('Data Input'!B286=\"\",\"\",'Data Input'!B286)","v":""},{"$f":"IF('Data Input'!C286=\"\",\"\",'Data Input'!C286)","v":""},{"$f":"IF('Data Input'!J286=\"\",\"\",'Data Input'!J286)","v":""},{"$f":"IF('Data Input'!K286=\"\",\"\",'Data Input'!K286)","v":""},{"$f":"IF('Data Input'!O286=\"\",\"\",'Data Input'!O286)","v":""},{"$f":"IF('Data Input'!L286=\"\",\"\",'Data Input'!L286)","v":""},{"$f":"IF('Data Input'!M286=\"\",\"\",'Data Input'!M286)","v":""},{"$f":"IF('Data Input'!Q286=\"\",\"\",'Data Input'!Q286)","v":""},{"$f":"IF('Data Input'!N286=\"\",\"\",'Data Input'!N286)","v":""},null,null,null,null,null,null,null,null,"",{"$f":"IFERROR(VLOOKUP($Z288,Lookup!$C:$E,2,FALSE),\"\")","v":""},{"$f":"IFERROR(VLOOKUP($AA288,Lookup!$D:$E,2,FALSE),\"\")","v":""},"",{"$f":"IFERROR(VLOOKUP($AC288,Lookup!$C:$E,2,FALSE),\"\")","v":""},{"$f":"IFERROR(VLOOKUP($AD288,Lookup!$D:$E,2,FALSE),\"\")","v":""},"",{"$f":"IFERROR(VLOOKUP($AF288,Lookup!$C:$E,2,FALSE),\"\")","v":""},{"$f":"IFERROR(VLOOKUP($AG288,Lookup!$D:$E,2,FALSE),\"\")","v":""},""]
[{"$f":"IF('Data Input'!I287=\"\",\"\",'Data Input'!I287)","v":""},{"$f":"IF('Data Input'!H287=\"\",\"\",'Data Input'!H287)","v":""},{"$f":"IF('Data Input'!A287=\"\",\"\",'Data Input'!A287)","v":""},{"$f":"IF('Data Input'!R287=\"\",\"\",'Data Input'!R287)","v":""},{"$f":"IF('Data Input'!D287=\"\",\"\",'Data Input'!D287)","v":""},{"$f":"IF('Data Input'!E287=\"\",\"\",'Data Input'!E287)","v":""},{"$f":"IF('Data Input'!F287=\"\",\"\",'Data Input'!F287)","v":""},{"$f":"IF('Data Input'!G287=\"\",\"\",'Data Input'!G287)","v":""},{"$f":"IF('Data Input'!B287=\"\",\"\",'Data Input'!B287)","v":""},{"$f":"IF('Data Input'!C287=\"\",\"\",'Data Input'!C287)","v":""},{"$f":"IF('Data Input'!J287=\"\",\"\",'Data Input'!J287)","v":""},{"$f":"IF('Data Input'!K287=\"\",\"\",'Data Input'!K287)","v":""},{"$f":"IF('Data Input'!O287=\"\",\"\",'Data Input'!O287)","v":""},{"$f":"IF('Data Input'!L287=\"\",\"\",'Data Input'!L287)","v":""},{"$f":"IF('Data Input'!M287=\"\",\"\",'Data Input'!M287)","v":""},{"$f":"IF('Data Input'!Q287=\"\",\"\",'Data Input'!Q287)","v":""},{"$f":"IF('Data Input'!N287=\"\",\"\",'Data Input'!N287)","v":""},null,null,null,null,null,null,null,null,"",{"$f":"IFERROR(VLOOKUP($Z289,Lookup!$C:$E,2,FALSE),\"\")","v":""},{"$f":"IFERROR(VLOOKUP($AA289,Lookup!$D:$E,2,FALSE),\"\")","v":""},"",{"$f":"IFERROR(VLOOKUP($AC289,Lookup!$C:$E,2,FALSE),\"\")","v":""},{"$f":"IFERROR(VLOOKUP($AD289,Lookup!$D:$E,2,FALSE),\"\")","v":""},"",{"$f":"IFERROR(VLOOKUP($AF289,Lookup!$C:$E,2,FALSE),\"\")","v":""},{"$f":"IFERROR(VLOOKUP($AG289,Lookup!$D:$E,2,FALSE),\"\")","v":""},""]
[{"$f":"IF('Data Input'!I288=\"\",\"\",'Data Input'!I288)","v":""},{"$f":"IF('Data Input'!H288=\"\",\"\",'Data Input'!H288)","v":""},{"$f":"IF('Data Input'!A288=\"\",\"\",'Data Input'!A288)","v":""},{"$f":"IF('Data Input'!R288=\"\",\"\",'Data Input'!R288)","v":""},{"$f":"IF('Data Input'!D288=\"\",\"\",'Data Input'!D288)","v":""},{"$f":"IF('Data Input'!E288=\"\",\"\",'Data Input'!E288)","v":""},{"$f":"IF('Data Input'!F288=\"\",\"\",'Data Input'!F288)","v":""},{"$f":"IF('Data Input'!G288=\"\",\"\",'Data Input'!G288)","v":""},{"$f":"IF('Data Input'!B288=\"\",\"\",'Data Input'!B288)","v":""},{"$f":"IF('Data Input'!C288=\"\",\"\",'Data Input'!C288)","v":""},{"$f":"IF('Data Input'!J288=\"\",\"\",'Data Input'!J288)","v":""},{"$f":"IF('Data Input'!K288=\"\",\"\",'Data Input'!K288)","v":""},{"$f":"IF('Data Input'!O288=\"\",\"\",'Data Input'!O288)","v":""},{"$f":"IF('Data Input'!L288=\"\",\"\",'Data Input'!L288)","v":""},{"$f":"IF('Data Input'!M288=\"\",\"\",'Data Input'!M288)","v":""},{"$f":"IF('Data Input'!Q288=\"\",\"\",'Data Input'!Q288)","v":""},{"$f":"IF('Data Input'!N288=\"\",\"\",'Data Input'!N288)","v":""},null,null,null,null,null,null,null,null,"",{"$f":"IFERROR(VLOOKUP($Z290,Lookup!$C:$E,2,FALSE),\"\")","v":""},{"$f":"IFERROR(VLOOKUP($AA290,Lookup!$D:$E,2,FALSE),\"\")","v":""},"",{"$f":"IFERROR(VLOOKUP($AC290,Lookup!$C:$E,2,FALSE),\"\")","v":""},{"$f":"IFERROR(VLOOKUP($AD290,Lookup!$D:$E,2,FALSE),\"\")","v":""},"",{"$f":"IFERROR(VLOOKUP($AF290,Lookup!$C:$E,2,FALSE),\"\")","v":""},{"$f":"IFERROR(VLOOKUP($AG290,Lookup!$D:$E,2,FALSE),\"\")","v":""},""]
[{"$f":"IF('Data Input'!I289=\"\",\"\",'Data Input'!I289)","v":""},{"$f":"IF('Data Input'!H289=\"\",\"\",'Data Input'!H289)","v":""},{"$f":"IF('Data Input'!A289=\"\",\"\",'Data Input'!A289)","v":""},{"$f":"IF('Data Input'!R289=\"\",\"\",'Data Input'!R289)","v":""},{"$f":"IF('Data Input'!D289=\"\",\"\",'Data Input'!D289)","v":""},{"$f":"IF('Data Input'!E289=\"\",\"\",'Data Input'!E289)","v":""},{"$f":"IF('Data Input'!F289=\"\",\"\",'Data Input'!F289)","v":""},{"$f":"IF('Data Input'!G289=\"\",\"\",'Data Input'!G289)","v":""},{"$f":"IF('Data Input'!B289=\"\",\"\",'Data Input'!B289)","v":""},{"$f":"IF('Data Input'!C289=\"\",\"\",'Data Input'!C289)","v":""},{"$f":"IF('Data Input'!J289=\"\",\"\",'Data Input'!J289)","v":""},{"$f":"IF('Data Input'!K289=\"\",\"\",'Data Input'!K289)","v":""},{"$f":"IF('Data Input'!O289=\"\",\"\",'Data Input'!O289)","v":""},{"$f":"IF('Data Input'!L289=\"\",\"\",'Data Input'!L289)","v":""},{"$f":"IF('Data Input'!M289=\"\",\"\",'Data Input'!M289)","v":""},{"$f":"IF('Data Input'!Q289=\"\",\"\",'Data Input'!Q289)","v":""},{"$f":"IF('Data Input'!N289=\"\",\"\",'Data Input'!N289)","v":""},null,null,null,null,null,null,null,null,"",{"$f":"IFERROR(VLOOKUP($Z291,Lookup!$C:$E,2,FALSE),\"\")","v":""},{"$f":"IFERROR(VLOOKUP($AA291,Lookup!$D:$E,2,FALSE),\"\")","v":""},"",{"$f":"IFERROR(VLOOKUP($AC291,Lookup!$C:$E,2,FALSE),\"\")","v":""},{"$f":"IFERROR(VLOOKUP($AD291,Lookup!$D:$E,2,FALSE),\"\")","v":""},"",{"$f":"IFERROR(VLOOKUP($AF291,Lookup!$C:$E,2,FALSE),\"\")","v":""},{"$f":"IFERROR(VLOOKUP($AG291,Lookup!$D:$E,2,FALSE),\"\")","v":""},""]
[{"$f":"IF('Data Input'!I290=\"\",\"\",'Data Input'!I290)","v":""},{"$f":"IF('Data Input'!H290=\"\",\"\",'Data Input'!H290)","v":""},{"$f":"IF('Data Input'!A290=\"\",\"\",'Data Input'!A290)","v":""},{"$f":"IF('Data Input'!R290=\"\",\"\",'Data Input'!R290)","v":""},{"$f":"IF('Data Input'!D290=\"\",\"\",'Data Input'!D290)","v":""},{"$f":"IF('Data Input'!E290=\"\",\"\",'Data Input'!E290)","v":""},{"$f":"IF('Data Input'!F290=\"\",\"\",'Data Input'!F290)","v":""},{"$f":"IF('Data Input'!G290=\"\",\"\",'Data Input'!G290)","v":""},{"$f":"IF('Data Input'!B290=\"\",\"\",'Data Input'!B290)","v":""},{"$f":"IF('Data Input'!C290=\"\",\"\",'Data Input'!C290)","v":""},{"$f":"IF('Data Input'!J290=\"\",\"\",'Data Input'!J290)","v":""},{"$f":"IF('Data Input'!K290=\"\",\"\",'Data Input'!K290)","v":""},{"$f":"IF('Data Input'!O290=\"\",\"\",'Data Input'!O290)","v":""},{"$f":"IF('Data Input'!L290=\"\",\"\",'Data Input'!L290)","v":""},{"$f":"IF('Data Input'!M290=\"\",\"\",'Data Input'!M290)","v":""},{"$f":"IF('Data Input'!Q290=\"\",\"\",'Data Input'!Q290)","v":""},{"$f":"IF('Data Input'!N290=\"\",\"\",'Data Input'!N290)","v":""},null,null,null,null,null,null,null,null,"",{"$f":"IFERROR(VLOOKUP($Z292,Lookup!$C:$E,2,FALSE),\"\")","v":""},{"$f":"IFERROR(VLOOKUP($AA292,Lookup!$D:$E,2,FALSE),\"\")","v":""},"",{"$f":"IFERROR(VLOOKUP($AC292,Lookup!$C:$E,2,FALSE),\"\")","v":""},{"$f":"IFERROR(VLOOKUP($AD292,Lookup!$D:$E,2,FALSE),\"\")","v":""},"",{"$f":"IFERROR(VLOOKUP($AF292,Lookup!$C:$E,2,FALSE),\"\")","v":""},{"$f":"IFERROR(VLOOKUP($AG292,Lookup!$D:$E,2,FALSE),\"\")","v":""},""]
[{"$f":"IF('Data Input'!I291=\"\",\"\",'Data Input'!I291)","v":""},{"$f":"IF('Data Input'!H291=\"\",\"\",'Data Input'!H291)","v":""},{"$f":"IF('Data Input'!A291=\"\",\"\",'Data Input'!A291)","v":""},{"$f":"IF('Data Input'!R291=\"\",\"\",'Data Input'!R291)","v":""},{"$f":"IF('Data Input'!D291=\"\",\"\",'Data Input'!D291)","v":""},{"$f":"IF('Data Input'!E291=\"\",\"\",'Data Input'!E291)","v":""},{"$f":"IF('Data Input'!F291=\"\",\"\",'Data Input'!F291)","v":""},{"$f":"IF('Data Input'!G291=\"\",\"\",'Data Input'!G291)","v":""},{"$f":"IF('Data Input'!B291=\"\",\"\",'Data Input'!B291)","v":""},{"$f":"IF('Data Input'!C291=\"\",\"\",'Data Input'!C291)","v":""},{"$f":"IF('Data Input'!J291=\"\",\"\",'Data Input'!J291)","v":""},{"$f":"IF('Data Input'!K291=\"\",\"\",'Data Input'!K291)","v":""},{"$f":"IF('Data Input'!O291=\"\",\"\",'Data Input'!O291)","v":""},{"$f":"IF('Data Input'!L291=\"\",\"\",'Data Input'!L291)","v":""},{"$f":"IF('Data Input'!M291=\"\",\"\",'Data Input'!M291)","v":""},{"$f":"IF('Data Input'!Q291=\"\",\"\",'Data Input'!Q291)","v":""},{"$f":"IF('Data Input'!N291=\"\",\"\",'Data Input'!N291)","v":""},null,null,null,null,null,null,null,null,"",{"$f":"IFERROR(VLOOKUP($Z293,Lookup!$C:$E,2,FALSE),\"\")","v":""},{"$f":"IFERROR(VLOOKUP($AA293,Lookup!$D:$E,2,FALSE),\"\")","v":""},"",{"$f":"IFERROR(VLOOKUP($AC293,Lookup!$C:$E,2,FALSE),\"\")","v":""},{"$f":"IFERROR(VLOOKUP($AD293,Lookup!$D:$E,2,FALSE),\"\")","v":""},"",{"$f":"IFERROR(VLOOKUP($AF293,Lookup!$C:$E,2,FALSE),\"\")","v":""},{"$f":"IFERROR(VLOOKUP($AG293,Lookup!$D:$E,2,FALSE),\"\")","v":""},""]
[{"$f":"IF('Data Input'!I292=\"\",\"\",'Data Input'!I292)","v":""},{"$f":"IF('Data Input'!H292=\"\",\"\",'Data Input'!H292)","v":""},{"$f":"IF('Data Input'!A292=\"\",\"\",'Data Input'!A292)","v":""},{"$f":"IF('Data Input'!R292=\"\",\"\",'Data Input'!R292)","v":""},{"$f":"IF('Data Input'!D292=\"\",\"\",'Data Input'!D292)","v":""},{"$f":"IF('Data Input'!E292=\"\",\"\",'Data Input'!E292)","v":""},{"$f":"IF('Data Input'!F292=\"\",\"\",'Data Input'!F292)","v":""},{"$f":"IF('Data Input'!G292=\"\",\"\",'Data Input'!G292)","v":""},{"$f":"IF('Data Input'!B292=\"\",\"\",'Data Input'!B292)","v":""},{"$f":"IF('Data Input'!C292=\"\",\"\",'Data Input'!C292)","v":""},{"$f":"IF('Data Input'!J292=\"\",\"\",'Data Input'!J292)","v":""},{"$f":"IF('Data Input'!K292=\"\",\"\",'Data Input'!K292)","v":""},{"$f":"IF('Data Input'!O292=\"\",\"\",'Data Input'!O292)","v":""},{"$f":"IF('Data Input'!L292=\"\",\"\",'Data Input'!L292)","v":""},{"$f":"IF('Data Input'!M292=\"\",\"\",'Data Input'!M292)","v":""},{"$f":"IF('Data Input'!Q292=\"\",\"\",'Data Input'!Q292)","v":""},{"$f":"IF('Data Input'!N292=\"\",\"\",'Data Input'!N292)","v":""},null,null,null,null,null,null,null,null,"",{"$f":"IFERROR(VLOOKUP($Z294,Lookup!$C:$E,2,FALSE),\"\")","v":""},{"$f":"IFERROR(VLOOKUP($AA294,Lookup!$D:$E,2,FALSE),\"\")","v":""},"",{"$f":"IFERROR(VLOOKUP($AC294,Lookup!$C:$E,2,FALSE),\"\")","v":""},{"$f":"IFERROR(VLOOKUP($AD294,Lookup!$D:$E,2,FALSE),\"\")","v":""},"",{"$f":"IFERROR(VLOOKUP($AF294,Lookup!$C:$E,2,FALSE),\"\")","v":""},{"$f":"IFERROR(VLOOKUP($AG294,Lookup!$D:$E,2,FALSE),\"\")","v":""},""]
[{"$f":"IF('Data Input'!I293=\"\",\"\",'Data Input'!I293)","v":""},{"$f":"IF('Data Input'!H293=\"\",\"\",'Data Input'!H293)","v":""},{"$f":"IF('Data Input'!A293=\"\",\"\",'Data Input'!A293)","v":""},{"$f":"IF('Data Input'!R293=\"\",\"\",'Data Input'!R293)","v":""},{"$f":"IF('Data Input'!D293=\"\",\"\",'Data Input'!D293)","v":""},{"$f":"IF('Data Input'!E293=\"\",\"\",'Data Input'!E293)","v":""},{"$f":"IF('Data Input'!F293=\"\",\"\",'Data Input'!F293)","v":""},{"$f":"IF('Data Input'!G293=\"\",\"\",'Data Input'!G293)","v":""},{"$f":"IF('Data Input'!B293=\"\",\"\",'Data Input'!B293)","v":""},{"$f":"IF('Data Input'!C293=\"\",\"\",'Data Input'!C293)","v":""},{"$f":"IF('Data Input'!J293=\"\",\"\",'Data Input'!J293)","v":""},{"$f":"IF('Data Input'!K293=\"\",\"\",'Data Input'!K293)","v":""},{"$f":"IF('Data Input'!O293=\"\",\"\",'Data Input'!O293)","v":""},{"$f":"IF('Data Input'!L293=\"\",\"\",'Data Input'!L293)","v":""},{"$f":"IF('Data Input'!M293=\"\",\"\",'Data Input'!M293)","v":""},{"$f":"IF('Data Input'!Q293=\"\",\"\",'Data Input'!Q293)","v":""},{"$f":"IF('Data Input'!N293=\"\",\"\",'Data Input'!N293)","v":""},null,null,null,null,null,null,null,null,"",{"$f":"IFERROR(VLOOKUP($Z295,Lookup!$C:$E,2,FALSE),\"\")","v":""},{"$f":"IFERROR(VLOOKUP($AA295,Lookup!$D:$E,2,FALSE),\"\")","v":""},"",{"$f":"IFERROR(VLOOKUP($AC295,Lookup!$C:$E,2,FALSE),\"\")","v":""},{"$f":"IFERROR(VLOOKUP($AD295,Lookup!$D:$E,2,FALSE),\"\")","v":""},"",{"$f":"IFERROR(VLOOKUP($AF295,Lookup!$C:$E,2,FALSE),\"\")","v":""},{"$f":"IFERROR(VLOOKUP($AG295,Lookup!$D:$E,2,FALSE),\"\")","v":""},""]
[{"$f":"IF('Data Input'!I294=\"\",\"\",'Data Input'!I294)","v":""},{"$f":"IF('Data Input'!H294=\"\",\"\",'Data Input'!H294)","v":""},{"$f":"IF('Data Input'!A294=\"\",\"\",'Data Input'!A294)","v":""},{"$f":"IF('Data Input'!R294=\"\",\"\",'Data Input'!R294)","v":""},{"$f":"IF('Data Input'!D294=\"\",\"\",'Data Input'!D294)","v":""},{"$f":"IF('Data Input'!E294=\"\",\"\",'Data Input'!E294)","v":""},{"$f":"IF('Data Input'!F294=\"\",\"\",'Data Input'!F294)","v":""},{"$f":"IF('Data Input'!G294=\"\",\"\",'Data Input'!G294)","v":""},{"$f":"IF('Data Input'!B294=\"\",\"\",'Data Input'!B294)","v":""},{"$f":"IF('Data Input'!C294=\"\",\"\",'Data Input'!C294)","v":""},{"$f":"IF('Data Input'!J294=\"\",\"\",'Data Input'!J294)","v":""},{"$f":"IF('Data Input'!K294=\"\",\"\",'Data Input'!K294)","v":""},{"$f":"IF('Data Input'!O294=\"\",\"\",'Data Input'!O294)","v":""},{"$f":"IF('Data Input'!L294=\"\",\"\",'Data Input'!L294)","v":""},{"$f":"IF('Data Input'!M294=\"\",\"\",'Data Input'!M294)","v":""},{"$f":"IF('Data Input'!Q294=\"\",\"\",'Data Input'!Q294)","v":""},{"$f":"IF('Data Input'!N294=\"\",\"\",'Data Input'!N294)","v":""},null,null,null,null,null,null,null,null,"",{"$f":"IFERROR(VLOOKUP($Z296,Lookup!$C:$E,2,FALSE),\"\")","v":""},{"$f":"IFERROR(VLOOKUP($AA296,Lookup!$D:$E,2,FALSE),\"\")","v":""},"",{"$f":"IFERROR(VLOOKUP($AC296,Lookup!$C:$E,2,FALSE),\"\")","v":""},{"$f":"IFERROR(VLOOKUP($AD296,Lookup!$D:$E,2,FALSE),\"\")","v":""},"",{"$f":"IFERROR(VLOOKUP($AF296,Lookup!$C:$E,2,FALSE),\"\")","v":""},{"$f":"IFERROR(VLOOKUP($AG296,Lookup!$D:$E,2,FALSE),\"\")","v":""},""]
[{"$f":"IF('Data Input'!I295=\"\",\"\",'Data Input'!I295)","v":""},{"$f":"IF('Data Input'!H295=\"\",\"\",'Data Input'!H295)","v":""},{"$f":"IF('Data Input'!A295=\"\",\"\",'Data Input'!A295)","v":""},{"$f":"IF('Data Input'!R295=\"\",\"\",'Data Input'!R295)","v":""},{"$f":"IF('Data Input'!D295=\"\",\"\",'Data Input'!D295)","v":""},{"$f":"IF('Data Input'!E295=\"\",\"\",'Data Input'!E295)","v":""},{"$f":"IF('Data Input'!F295=\"\",\"\",'Data Input'!F295)","v":""},{"$f":"IF('Data Input'!G295=\"\",\"\",'Data Input'!G295)","v":""},{"$f":"IF('Data Input'!B295=\"\",\"\",'Data Input'!B295)","v":""},{"$f":"IF('Data Input'!C295=\"\",\"\",'Data Input'!C295)","v":""},{"$f":"IF('Data Input'!J295=\"\",\"\",'Data Input'!J295)","v":""},{"$f":"IF('Data Input'!K295=\"\",\"\",'Data Input'!K295)","v":""},{"$f":"IF('Data Input'!O295=\"\",\"\",'Data Input'!O295)","v":""},{"$f":"IF('Data Input'!L295=\"\",\"\",'Data Input'!L295)","v":""},{"$f":"IF('Data Input'!M295=\"\",\"\",'Data Input'!M295)","v":""},{"$f":"IF('Data Input'!Q295=\"\",\"\",'Data Input'!Q295)","v":""},{"$f":"IF('Data Input'!N295=\"\",\"\",'Data Input'!N295)","v":""},null,null,null,null,null,null,null,null,"",{"$f":"IFERROR(VLOOKUP($Z297,Lookup!$C:$E,2,FALSE),\"\")","v":""},{"$f":"IFERROR(VLOOKUP($AA297,Lookup!$D:$E,2,FALSE),\"\")","v":""},"",{"$f":"IFERROR(VLOOKUP($AC297,Lookup!$C:$E,2,FALSE),\"\")","v":""},{"$f":"IFERROR(VLOOKUP($AD297,Lookup!$D:$E,2,FALSE),\"\")","v":""},"",{"$f":"IFERROR(VLOOKUP($AF297,Lookup!$C:$E,2,FALSE),\"\")","v":""},{"$f":"IFERROR(VLOOKUP($AG297,Lookup!$D:$E,2,FALSE),\"\")","v":""},""]
[{"$f":"IF('Data Input'!I296=\"\",\"\",'Data Input'!I296)","v":""},{"$f":"IF('Data Input'!H296=\"\",\"\",'Data Input'!H296)","v":""},{"$f":"IF('Data Input'!A296=\"\",\"\",'Data Input'!A296)","v":""},{"$f":"IF('Data Input'!R296=\"\",\"\",'Data Input'!R296)","v":""},{"$f":"IF('Data Input'!D296=\"\",\"\",'Data Input'!D296)","v":""},{"$f":"IF('Data Input'!E296=\"\",\"\",'Data Input'!E296)","v":""},{"$f":"IF('Data Input'!F296=\"\",\"\",'Data Input'!F296)","v":""},{"$f":"IF('Data Input'!G296=\"\",\"\",'Data Input'!G296)","v":""},{"$f":"IF('Data Input'!B296=\"\",\"\",'Data Input'!B296)","v":""},{"$f":"IF('Data Input'!C296=\"\",\"\",'Data Input'!C296)","v":""},{"$f":"IF('Data Input'!J296=\"\",\"\",'Data Input'!J296)","v":""},{"$f":"IF('Data Input'!K296=\"\",\"\",'Data Input'!K296)","v":""},{"$f":"IF('Data Input'!O296=\"\",\"\",'Data Input'!O296)","v":""},{"$f":"IF('Data Input'!L296=\"\",\"\",'Data Input'!L296)","v":""},{"$f":"IF('Data Input'!M296=\"\",\"\",'Data Input'!M296)","v":""},{"$f":"IF('Data Input'!Q296=\"\",\"\",'Data Input'!Q296)","v":""},{"$f":"IF('Data Input'!N296=\"\",\"\",'Data Input'!N296)","v":""},null,null,null,null,null,null,null,null,"",{"$f":"IFERROR(VLOOKUP($Z298,Lookup!$C:$E,2,FALSE),\"\")","v":""},{"$f":"IFERROR(VLOOKUP($AA298,Lookup!$D:$E,2,FALSE),\"\")","v":""},"",{"$f":"IFERROR(VLOOKUP($AC298,Lookup!$C:$E,2,FALSE),\"\")","v":""},{"$f":"IFERROR(VLOOKUP($AD298,Lookup!$D:$E,2,FALSE),\"\")","v":""},"",{"$f":"IFERROR(VLOOKUP($AF298,Lookup!$C:$E,2,FALSE),\"\")","v":""},{"$f":"IFERROR(VLOOKUP($AG298,Lookup!$D:$E,2,FALSE),\"\")","v":""},""]
[{"$f":"IF('Data Input'!I297=\"\",\"\",'Data Input'!I297)","v":""},{"$f":"IF('Data Input'!H297=\"\",\"\",'Data Input'!H297)","v":""},{"$f":"IF('Data Input'!A297=\"\",\"\",'Data Input'!A297)","v":""},{"$f":"IF('Data Input'!R297=\"\",\"\",'Data Input'!R297)","v":""},{"$f":"IF('Data Input'!D297=\"\",\"\",'Data Input'!D297)","v":""},{"$f":"IF('Data Input'!E297=\"\",\"\",'Data Input'!E297)","v":""},{"$f":"IF('Data Input'!F297=\"\",\"\",'Data Input'!F297)","v":""},{"$f":"IF('Data Input'!G297=\"\",\"\",'Data Input'!G297)","v":""},{"$f":"IF('Data Input'!B297=\"\",\"\",'Data Input'!B297)","v":""},{"$f":"IF('Data Input'!C297=\"\",\"\",'Data Input'!C297)","v":""},{"$f":"IF('Data Input'!J297=\"\",\"\",'Data Input'!J297)","v":""},{"$f":"IF('Data Input'!K297=\"\",\"\",'Data Input'!K297)","v":""},{"$f":"IF('Data Input'!O297=\"\",\"\",'Data Input'!O297)","v":""},{"$f":"IF('Data Input'!L297=\"\",\"\",'Data Input'!L297)","v":""},{"$f":"IF('Data Input'!M297=\"\",\"\",'Data Input'!M297)","v":""},{"$f":"IF('Data Input'!Q297=\"\",\"\",'Data Input'!Q297)","v":""},{"$f":"IF('Data Input'!N297=\"\",\"\",'Data Input'!N297)","v":""},null,null,null,null,null,null,null,null,"",{"$f":"IFERROR(VLOOKUP($Z299,Lookup!$C:$E,2,FALSE),\"\")","v":""},{"$f":"IFERROR(VLOOKUP($AA299,Lookup!$D:$E,2,FALSE),\"\")","v":""},"",{"$f":"IFERROR(VLOOKUP($AC299,Lookup!$C:$E,2,FALSE),\"\")","v":""},{"$f":"IFERROR(VLOOKUP($AD299,Lookup!$D:$E,2,FALSE),\"\")","v":""},"",{"$f":"IFERROR(VLOOKUP($AF299,Lookup!$C:$E,2,FALSE),\"\")","v":""},{"$f":"IFERROR(VLOOKUP($AG299,Lookup!$D:$E,2,FALSE),\"\")","v":""},""]
[{"$f":"IF('Data Input'!I298=\"\",\"\",'Data Input'!I298)","v":""},{"$f":"IF('Data Input'!H298=\"\",\"\",'Data Input'!H298)","v":""},{"$f":"IF('Data Input'!A298=\"\",\"\",'Data Input'!A298)","v":""},{"$f":"IF('Data Input'!R298=\"\",\"\",'Data Input'!R298)","v":""},{"$f":"IF('Data Input'!D298=\"\",\"\",'Data Input'!D298)","v":""},{"$f":"IF('Data Input'!E298=\"\",\"\",'Data Input'!E298)","v":""},{"$f":"IF('Data Input'!F298=\"\",\"\",'Data Input'!F298)","v":""},{"$f":"IF('Data Input'!G298=\"\",\"\",'Data Input'!G298)","v":""},{"$f":"IF('Data Input'!B298=\"\",\"\",'Data Input'!B298)","v":""},{"$f":"IF('Data Input'!C298=\"\",\"\",'Data Input'!C298)","v":""},{"$f":"IF('Data Input'!J298=\"\",\"\",'Data Input'!J298)","v":""},{"$f":"IF('Data Input'!K298=\"\",\"\",'Data Input'!K298)","v":""},{"$f":"IF('Data Input'!O298=\"\",\"\",'Data Input'!O298)","v":""},{"$f":"IF('Data Input'!L298=\"\",\"\",'Data Input'!L298)","v":""},{"$f":"IF('Data Input'!M298=\"\",\"\",'Data Input'!M298)","v":""},{"$f":"IF('Data Input'!Q298=\"\",\"\",'Data Input'!Q298)","v":""},{"$f":"IF('Data Input'!N298=\"\",\"\",'Data Input'!N298)","v":""},null,null,null,null,null,null,null,null,"",{"$f":"IFERROR(VLOOKUP($Z300,Lookup!$C:$E,2,FALSE),\"\")","v":""},{"$f":"IFERROR(VLOOKUP($AA300,Lookup!$D:$E,2,FALSE),\"\")","v":""},"",{"$f":"IFERROR(VLOOKUP($AC300,Lookup!$C:$E,2,FALSE),\"\")","v":""},{"$f":"IFERROR(VLOOKUP($AD300,Lookup!$D:$E,2,FALSE),\"\")","v":""},"",{"$f":"IFERROR(VLOOKUP($AF300,Lookup!$C:$E,2,FALSE),\"\")","v":""},{"$f":"IFERROR(VLOOKUP($AG300,Lookup!$D:$E,2,FALSE),\"\")","v":""},""]
[{"$f":"IF('Data Input'!I299=\"\",\"\",'Data Input'!I299)","v":""},{"$f":"IF('Data Input'!H299=\"\",\"\",'Data Input'!H299)","v":""},{"$f":"IF('Data Input'!A299=\"\",\"\",'Data Input'!A299)","v":""},{"$f":"IF('Data Input'!R299=\"\",\"\",'Data Input'!R299)","v":""},{"$f":"IF('Data Input'!D299=\"\",\"\",'Data Input'!D299)","v":""},{"$f":"IF('Data Input'!E299=\"\",\"\",'Data Input'!E299)","v":""},{"$f":"IF('Data Input'!F299=\"\",\"\",'Data Input'!F299)","v":""},{"$f":"IF('Data Input'!G299=\"\",\"\",'Data Input'!G299)","v":""},{"$f":"IF('Data Input'!B299=\"\",\"\",'Data Input'!B299)","v":""},{"$f":"IF('Data Input'!C299=\"\",\"\",'Data Input'!C299)","v":""},{"$f":"IF('Data Input'!J299=\"\",\"\",'Data Input'!J299)","v":""},{"$f":"IF('Data Input'!K299=\"\",\"\",'Data Input'!K299)","v":""},{"$f":"IF('Data Input'!O299=\"\",\"\",'Data Input'!O299)","v":""},{"$f":"IF('Data Input'!L299=\"\",\"\",'Data Input'!L299)","v":""},{"$f":"IF('Data Input'!M299=\"\",\"\",'Data Input'!M299)","v":""},{"$f":"IF('Data Input'!Q299=\"\",\"\",'Data Input'!Q299)","v":""},{"$f":"IF('Data Input'!N299=\"\",\"\",'Data Input'!N299)","v":""},null,null,null,null,null,null,null,null,"",{"$f":"IFERROR(VLOOKUP($Z301,Lookup!$C:$E,2,FALSE),\"\")","v":""},{"$f":"IFERROR(VLOOKUP($AA301,Lookup!$D:$E,2,FALSE),\"\")","v":""},"",{"$f":"IFERROR(VLOOKUP($AC301,Lookup!$C:$E,2,FALSE),\"\")","v":""},{"$f":"IFERROR(VLOOKUP($AD301,Lookup!$D:$E,2,FALSE),\"\")","v":""},"",{"$f":"IFERROR(VLOOKUP($AF301,Lookup!$C:$E,2,FALSE),\"\")","v":""},{"$f":"IFERROR(VLOOKUP($AG301,Lookup!$D:$E,2,FALSE),\"\")","v":""},""]
[{"$f":"IF('Data Input'!I300=\"\",\"\",'Data Input'!I300)","v":""},{"$f":"IF('Data Input'!H300=\"\",\"\",'Data Input'!H300)","v":""},{"$f":"IF('Data Input'!A300=\"\",\"\",'Data Input'!A300)","v":""},{"$f":"IF('Data Input'!R300=\"\",\"\",'Data Input'!R300)","v":""},{"$f":"IF('Data Input'!D300=\"\",\"\",'Data Input'!D300)","v":""},{"$f":"IF('Data Input'!E300=\"\",\"\",'Data Input'!E300)","v":""},{"$f":"IF('Data Input'!F300=\"\",\"\",'Data Input'!F300)","v":""},{"$f":"IF('Data Input'!G300=\"\",\"\",'Data Input'!G300)","v":""},{"$f":"IF('Data Input'!B300=\"\",\"\",'Data Input'!B300)","v":""},{"$f":"IF('Data Input'!C300=\"\",\"\",'Data Input'!C300)","v":""},{"$f":"IF('Data Input'!J300=\"\",\"\",'Data Input'!J300)","v":""},{"$f":"IF('Data Input'!K300=\"\",\"\",'Data Input'!K300)","v":""},{"$f":"IF('Data Input'!O300=\"\",\"\",'Data Input'!O300)","v":""},{"$f":"IF('Data Input'!L300=\"\",\"\",'Data Input'!L300)","v":""},{"$f":"IF('Data Input'!M300=\"\",\"\",'Data Input'!M300)","v":""},{"$f":"IF('Data Input'!Q300=\"\",\"\",'Data Input'!Q300)","v":""},{"$f":"IF('Data Input'!N300=\"\",\"\",'Data Input'!N300)","v":""},null,null,null,null,null,null,null,null,"",{"$f":"IFERROR(VLOOKUP($Z302,Lookup!$C:$E,2,FALSE),\"\")","v":""},{"$f":"IFERROR(VLOOKUP($AA302,Lookup!$D:$E,2,FALSE),\"\")","v":""},"",{"$f":"IFERROR(VLOOKUP($AC302,Lookup!$C:$E,2,FALSE),\"\")","v":""},{"$f":"IFERROR(VLOOKUP($AD302,Lookup!$D:$E,2,FALSE),\"\")","v":""},"",{"$f":"IFERROR(VLOOKUP($AF302,Lookup!$C:$E,2,FALSE),\"\")","v":""},{"$f":"IFERROR(VLOOKUP($AG302,Lookup!$D:$E,2,FALSE),\"\")","v":""},""]
[{"$f":"IF('Data Input'!I301=\"\",\"\",'Data Input'!I301)","v":""},{"$f":"IF('Data Input'!H301=\"\",\"\",'Data Input'!H301)","v":""},{"$f":"IF('Data Input'!A301=\"\",\"\",'Data Input'!A301)","v":""},{"$f":"IF('Data Input'!R301=\"\",\"\",'Data Input'!R301)","v":""},{"$f":"IF('Data Input'!D301=\"\",\"\",'Data Input'!D301)","v":""},{"$f":"IF('Data Input'!E301=\"\",\"\",'Data Input'!E301)","v":""},{"$f":"IF('Data Input'!F301=\"\",\"\",'Data Input'!F301)","v":""},{"$f":"IF('Data Input'!G301=\"\",\"\",'Data Input'!G301)","v":""},{"$f":"IF('Data Input'!B301=\"\",\"\",'Data Input'!B301)","v":""},{"$f":"IF('Data Input'!C301=\"\",\"\",'Data Input'!C301)","v":""},{"$f":"IF('Data Input'!J301=\"\",\"\",'Data Input'!J301)","v":""},{"$f":"IF('Data Input'!K301=\"\",\"\",'Data Input'!K301)","v":""},{"$f":"IF('Data Input'!O301=\"\",\"\",'Data Input'!O301)","v":""},{"$f":"IF('Data Input'!L301=\"\",\"\",'Data Input'!L301)","v":""},{"$f":"IF('Data Input'!M301=\"\",\"\",'Data Input'!M301)","v":""},{"$f":"IF('Data Input'!Q301=\"\",\"\",'Data Input'!Q301)","v":""},{"$f":"IF('Data Input'!N301=\"\",\"\",'Data Input'!N301)","v":""},null,null,null,null,null,null,null,null,"",{"$f":"IFERROR(VLOOKUP($Z303,Lookup!$C:$E,2,FALSE),\"\")","v":""},{"$f":"IFERROR(VLOOKUP($AA303,Lookup!$D:$E,2,FALSE),\"\")","v":""},"",{"$f":"IFERROR(VLOOKUP($AC303,Lookup!$C:$E,2,FALSE),\"\")","v":""},{"$f":"IFERROR(VLOOKUP($AD303,Lookup!$D:$E,2,FALSE),\"\")","v":""},"",{"$f":"IFERROR(VLOOKUP($AF303,Lookup!$C:$E,2,FALSE),\"\")","v":""},{"$f":"IFERROR(VLOOKUP($AG303,Lookup!$D:$E,2,FALSE),\"\")","v":""},""]
[{"$f":"IF('Data Input'!I302=\"\",\"\",'Data Input'!I302)","v":""},{"$f":"IF('Data Input'!H302=\"\",\"\",'Data Input'!H302)","v":""},{"$f":"IF('Data Input'!A302=\"\",\"\",'Data Input'!A302)","v":""},{"$f":"IF('Data Input'!R302=\"\",\"\",'Data Input'!R302)","v":""},{"$f":"IF('Data Input'!D302=\"\",\"\",'Data Input'!D302)","v":""},{"$f":"IF('Data Input'!E302=\"\",\"\",'Data Input'!E302)","v":""},{"$f":"IF('Data Input'!F302=\"\",\"\",'Data Input'!F302)","v":""},{"$f":"IF('Data Input'!G302=\"\",\"\",'Data Input'!G302)","v":""},{"$f":"IF('Data Input'!B302=\"\",\"\",'Data Input'!B302)","v":""},{"$f":"IF('Data Input'!C302=\"\",\"\",'Data Input'!C302)","v":""},{"$f":"IF('Data Input'!J302=\"\",\"\",'Data Input'!J302)","v":""},{"$f":"IF('Data Input'!K302=\"\",\"\",'Data Input'!K302)","v":""},{"$f":"IF('Data Input'!O302=\"\",\"\",'Data Input'!O302)","v":""},{"$f":"IF('Data Input'!L302=\"\",\"\",'Data Input'!L302)","v":""},{"$f":"IF('Data Input'!M302=\"\",\"\",'Data Input'!M302)","v":""},{"$f":"IF('Data Input'!Q302=\"\",\"\",'Data Input'!Q302)","v":""},{"$f":"IF('Data Input'!N302=\"\",\"\",'Data Input'!N302)","v":""},null,null,null,null,null,null,null,null,"",{"$f":"IFERROR(VLOOKUP($Z304,Lookup!$C:$E,2,FALSE),\"\")","v":""},{"$f":"IFERROR(VLOOKUP($AA304,Lookup!$D:$E,2,FALSE),\"\")","v":""},"",{"$f":"IFERROR(VLOOKUP($AC304,Lookup!$C:$E,2,FALSE),\"\")","v":""},{"$f":"IFERROR(VLOOKUP($AD304,Lookup!$D:$E,2,FALSE),\"\")","v":""},"",{"$f":"IFERROR(VLOOKUP($AF304,Lookup!$C:$E,2,FALSE),\"\")","v":""},{"$f":"IFERROR(VLOOKUP($AG304,Lookup!$D:$E,2,FALSE),\"\")","v":""},""]
[{"$f":"IF('Data Input'!I303=\"\",\"\",'Data Input'!I303)","v":""},{"$f":"IF('Data Input'!H303=\"\",\"\",'Data Input'!H303)","v":""},{"$f":"IF('Data Input'!A303=\"\",\"\",'Data Input'!A303)","v":""},{"$f":"IF('Data Input'!R303=\"\",\"\",'Data Input'!R303)","v":""},{"$f":"IF('Data Input'!D303=\"\",\"\",'Data Input'!D303)","v":""},{"$f":"IF('Data Input'!E303=\"\",\"\",'Data Input'!E303)","v":""},{"$f":"IF('Data Input'!F303=\"\",\"\",'Data Input'!F303)","v":""},{"$f":"IF('Data Input'!G303=\"\",\"\",'Data Input'!G303)","v":""},{"$f":"IF('Data Input'!B303=\"\",\"\",'Data Input'!B303)","v":""},{"$f":"IF('Data Input'!C303=\"\",\"\",'Data Input'!C303)","v":""},{"$f":"IF('Data Input'!J303=\"\",\"\",'Data Input'!J303)","v":""},{"$f":"IF('Data Input'!K303=\"\",\"\",'Data Input'!K303)","v":""},{"$f":"IF('Data Input'!O303=\"\",\"\",'Data Input'!O303)","v":""},{"$f":"IF('Data Input'!L303=\"\",\"\",'Data Input'!L303)","v":""},{"$f":"IF('Data Input'!M303=\"\",\"\",'Data Input'!M303)","v":""},{"$f":"IF('Data Input'!Q303=\"\",\"\",'Data Input'!Q303)","v":""},{"$f":"IF('Data Input'!N303=\"\",\"\",'Data Input'!N303)","v":""},null,null,null,null,null,null,null,null,"",{"$f":"IFERROR(VLOOKUP($Z305,Lookup!$C:$E,2,FALSE),\"\")","v":""},{"$f":"IFERROR(VLOOKUP($AA305,Lookup!$D:$E,2,FALSE),\"\")","v":""},"",{"$f":"IFERROR(VLOOKUP($AC305,Lookup!$C:$E,2,FALSE),\"\")","v":""},{"$f":"IFERROR(VLOOKUP($AD305,Lookup!$D:$E,2,FALSE),\"\")","v":""},"",{"$f":"IFERROR(VLOOKUP($AF305,Lookup!$C:$E,2,FALSE),\"\")","v":""},{"$f":"IFERROR(VLOOKUP($AG305,Lookup!$D:$E,2,FALSE),\"\")","v":""},""]
[{"$f":"IF('Data Input'!I304=\"\",\"\",'Data Input'!I304)","v":""},{"$f":"IF('Data Input'!H304=\"\",\"\",'Data Input'!H304)","v":""},{"$f":"IF('Data Input'!A304=\"\",\"\",'Data Input'!A304)","v":""},{"$f":"IF('Data Input'!R304=\"\",\"\",'Data Input'!R304)","v":""},{"$f":"IF('Data Input'!D304=\"\",\"\",'Data Input'!D304)","v":""},{"$f":"IF('Data Input'!E304=\"\",\"\",'Data Input'!E304)","v":""},{"$f":"IF('Data Input'!F304=\"\",\"\",'Data Input'!F304)","v":""},{"$f":"IF('Data Input'!G304=\"\",\"\",'Data Input'!G304)","v":""},{"$f":"IF('Data Input'!B304=\"\",\"\",'Data Input'!B304)","v":""},{"$f":"IF('Data Input'!C304=\"\",\"\",'Data Input'!C304)","v":""},{"$f":"IF('Data Input'!J304=\"\",\"\",'Data Input'!J304)","v":""},{"$f":"IF('Data Input'!K304=\"\",\"\",'Data Input'!K304)","v":""},{"$f":"IF('Data Input'!O304=\"\",\"\",'Data Input'!O304)","v":""},{"$f":"IF('Data Input'!L304=\"\",\"\",'Data Input'!L304)","v":""},{"$f":"IF('Data Input'!M304=\"\",\"\",'Data Input'!M304)","v":""},{"$f":"IF('Data Input'!Q304=\"\",\"\",'Data Input'!Q304)","v":""},{"$f":"IF('Data Input'!N304=\"\",\"\",'Data Input'!N304)","v":""},null,null,null,null,null,null,null,null,"",{"$f":"IFERROR(VLOOKUP($Z306,Lookup!$C:$E,2,FALSE),\"\")","v":""},{"$f":"IFERROR(VLOOKUP($AA306,Lookup!$D:$E,2,FALSE),\"\")","v":""},"",{"$f":"IFERROR(VLOOKUP($AC306,Lookup!$C:$E,2,FALSE),\"\")","v":""},{"$f":"IFERROR(VLOOKUP($AD306,Lookup!$D:$E,2,FALSE),\"\")","v":""},"",{"$f":"IFERROR(VLOOKUP($AF306,Lookup!$C:$E,2,FALSE),\"\")","v":""},{"$f":"IFERROR(VLOOKUP($AG306,Lookup!$D:$E,2,FALSE),\"\")","v":""},""]
[{"$f":"IF('Data Input'!I305=\"\",\"\",'Data Input'!I305)","v":""},{"$f":"IF('Data Input'!H305=\"\",\"\",'Data Input'!H305)","v":""},{"$f":"IF('Data Input'!A305=\"\",\"\",'Data Input'!A305)","v":""},{"$f":"IF('Data Input'!R305=\"\",\"\",'Data Input'!R305)","v":""},{"$f":"IF('Data Input'!D305=\"\",\"\",'Data Input'!D305)","v":""},{"$f":"IF('Data Input'!E305=\"\",\"\",'Data Input'!E305)","v":""},{"$f":"IF('Data Input'!F305=\"\",\"\",'Data Input'!F305)","v":""},{"$f":"IF('Data Input'!G305=\"\",\"\",'Data Input'!G305)","v":""},{"$f":"IF('Data Input'!B305=\"\",\"\",'Data Input'!B305)","v":""},{"$f":"IF('Data Input'!C305=\"\",\"\",'Data Input'!C305)","v":""},{"$f":"IF('Data Input'!J305=\"\",\"\",'Data Input'!J305)","v":""},{"$f":"IF('Data Input'!K305=\"\",\"\",'Data Input'!K305)","v":""},{"$f":"IF('Data Input'!O305=\"\",\"\",'Data Input'!O305)","v":""},{"$f":"IF('Data Input'!L305=\"\",\"\",'Data Input'!L305)","v":""},{"$f":"IF('Data Input'!M305=\"\",\"\",'Data Input'!M305)","v":""},{"$f":"IF('Data Input'!Q305=\"\",\"\",'Data Input'!Q305)","v":""},{"$f":"IF('Data Input'!N305=\"\",\"\",'Data Input'!N305)","v":""},null,null,null,null,null,null,null,null,"",{"$f":"IFERROR(VLOOKUP($Z307,Lookup!$C:$E,2,FALSE),\"\")","v":""},{"$f":"IFERROR(VLOOKUP($AA307,Lookup!$D:$E,2,FALSE),\"\")","v":""},"",{"$f":"IFERROR(VLOOKUP($AC307,Lookup!$C:$E,2,FALSE),\"\")","v":""},{"$f":"IFERROR(VLOOKUP($AD307,Lookup!$D:$E,2,FALSE),\"\")","v":""},"",{"$f":"IFERROR(VLOOKUP($AF307,Lookup!$C:$E,2,FALSE),\"\")","v":""},{"$f":"IFERROR(VLOOKUP($AG307,Lookup!$D:$E,2,FALSE),\"\")","v":""},""]
[{"$f":"IF('Data Input'!I306=\"\",\"\",'Data Input'!I306)","v":""},{"$f":"IF('Data Input'!H306=\"\",\"\",'Data Input'!H306)","v":""},{"$f":"IF('Data Input'!A306=\"\",\"\",'Data Input'!A306)","v":""},{"$f":"IF('Data Input'!R306=\"\",\"\",'Data Input'!R306)","v":""},{"$f":"IF('Data Input'!D306=\"\",\"\",'Data Input'!D306)","v":""},{"$f":"IF('Data Input'!E306=\"\",\"\",'Data Input'!E306)","v":""},{"$f":"IF('Data Input'!F306=\"\",\"\",'Data Input'!F306)","v":""},{"$f":"IF('Data Input'!G306=\"\",\"\",'Data Input'!G306)","v":""},{"$f":"IF('Data Input'!B306=\"\",\"\",'Data Input'!B306)","v":""},{"$f":"IF('Data Input'!C306=\"\",\"\",'Data Input'!C306)","v":""},{"$f":"IF('Data Input'!J306=\"\",\"\",'Data Input'!J306)","v":""},{"$f":"IF('Data Input'!K306=\"\",\"\",'Data Input'!K306)","v":""},{"$f":"IF('Data Input'!O306=\"\",\"\",'Data Input'!O306)","v":""},{"$f":"IF('Data Input'!L306=\"\",\"\",'Data Input'!L306)","v":""},{"$f":"IF('Data Input'!M306=\"\",\"\",'Data Input'!M306)","v":""},{"$f":"IF('Data Input'!Q306=\"\",\"\",'Data Input'!Q306)","v":""},{"$f":"IF('Data Input'!N306=\"\",\"\",'Data Input'!N306)","v":""},null,null,null,null,null,null,null,null,"",{"$f":"IFERROR(VLOOKUP($Z308,Lookup!$C:$E,2,FALSE),\"\")","v":""},{"$f":"IFERROR(VLOOKUP($AA308,Lookup!$D:$E,2,FALSE),\"\")","v":""},"",{"$f":"IFERROR(VLOOKUP($AC308,Lookup!$C:$E,2,FALSE),\"\")","v":""},{"$f":"IFERROR(VLOOKUP($AD308,Lookup!$D:$E,2,FALSE),\"\")","v":""},"",{"$f":"IFERROR(VLOOKUP($AF308,Lookup!$C:$E,2,FALSE),\"\")","v":""},{"$f":"IFERROR(VLOOKUP($AG308,Lookup!$D:$E,2,FALSE),\"\")","v":""},""]
[{"$f":"IF('Data Input'!I307=\"\",\"\",'Data Input'!I307)","v":""},{"$f":"IF('Data Input'!H307=\"\",\"\",'Data Input'!H307)","v":""},{"$f":"IF('Data Input'!A307=\"\",\"\",'Data Input'!A307)","v":""},{"$f":"IF('Data Input'!R307=\"\",\"\",'Data Input'!R307)","v":""},{"$f":"IF('Data Input'!D307=\"\",\"\",'Data Input'!D307)","v":""},{"$f":"IF('Data Input'!E307=\"\",\"\",'Data Input'!E307)","v":""},{"$f":"IF('Data Input'!F307=\"\",\"\",'Data Input'!F307)","v":""},{"$f":"IF('Data Input'!G307=\"\",\"\",'Data Input'!G307)","v":""},{"$f":"IF('Data Input'!B307=\"\",\"\",'Data Input'!B307)","v":""},{"$f":"IF('Data Input'!C307=\"\",\"\",'Data Input'!C307)","v":""},{"$f":"IF('Data Input'!J307=\"\",\"\",'Data Input'!J307)","v":""},{"$f":"IF('Data Input'!K307=\"\",\"\",'Data Input'!K307)","v":""},{"$f":"IF('Data Input'!O307=\"\",\"\",'Data Input'!O307)","v":""},{"$f":"IF('Data Input'!L307=\"\",\"\",'Data Input'!L307)","v":""},{"$f":"IF('Data Input'!M307=\"\",\"\",'Data Input'!M307)","v":""},{"$f":"IF('Data Input'!Q307=\"\",\"\",'Data Input'!Q307)","v":""},{"$f":"IF('Data Input'!N307=\"\",\"\",'Data Input'!N307)","v":""},null,null,null,null,null,null,null,null,"",{"$f":"IFERROR(VLOOKUP($Z309,Lookup!$C:$E,2,FALSE),\"\")","v":""},{"$f":"IFERROR(VLOOKUP($AA309,Lookup!$D:$E,2,FALSE),\"\")","v":""},"",{"$f":"IFERROR(VLOOKUP($AC309,Lookup!$C:$E,2,FALSE),\"\")","v":""},{"$f":"IFERROR(VLOOKUP($AD309,Lookup!$D:$E,2,FALSE),\"\")","v":""},"",{"$f":"IFERROR(VLOOKUP($AF309,Lookup!$C:$E,2,FALSE),\"\")","v":""},{"$f":"IFERROR(VLOOKUP($AG309,Lookup!$D:$E,2,FALSE),\"\")","v":""},""]
[{"$f":"IF('Data Input'!I308=\"\",\"\",'Data Input'!I308)","v":""},{"$f":"IF('Data Input'!H308=\"\",\"\",'Data Input'!H308)","v":""},{"$f":"IF('Data Input'!A308=\"\",\"\",'Data Input'!A308)","v":""},{"$f":"IF('Data Input'!R308=\"\",\"\",'Data Input'!R308)","v":""},{"$f":"IF('Data Input'!D308=\"\",\"\",'Data Input'!D308)","v":""},{"$f":"IF('Data Input'!E308=\"\",\"\",'Data Input'!E308)","v":""},{"$f":"IF('Data Input'!F308=\"\",\"\",'Data Input'!F308)","v":""},{"$f":"IF('Data Input'!G308=\"\",\"\",'Data Input'!G308)","v":""},{"$f":"IF('Data Input'!B308=\"\",\"\",'Data Input'!B308)","v":""},{"$f":"IF('Data Input'!C308=\"\",\"\",'Data Input'!C308)","v":""},{"$f":"IF('Data Input'!J308=\"\",\"\",'Data Input'!J308)","v":""},{"$f":"IF('Data Input'!K308=\"\",\"\",'Data Input'!K308)","v":""},{"$f":"IF('Data Input'!O308=\"\",\"\",'Data Input'!O308)","v":""},{"$f":"IF('Data Input'!L308=\"\",\"\",'Data Input'!L308)","v":""},{"$f":"IF('Data Input'!M308=\"\",\"\",'Data Input'!M308)","v":""},{"$f":"IF('Data Input'!Q308=\"\",\"\",'Data Input'!Q308)","v":""},{"$f":"IF('Data Input'!N308=\"\",\"\",'Data Input'!N308)","v":""},null,null,null,null,null,null,null,null,"",{"$f":"IFERROR(VLOOKUP($Z310,Lookup!$C:$E,2,FALSE),\"\")","v":""},{"$f":"IFERROR(VLOOKUP($AA310,Lookup!$D:$E,2,FALSE),\"\")","v":""},"",{"$f":"IFERROR(VLOOKUP($AC310,Lookup!$C:$E,2,FALSE),\"\")","v":""},{"$f":"IFERROR(VLOOKUP($AD310,Lookup!$D:$E,2,FALSE),\"\")","v":""},"",{"$f":"IFERROR(VLOOKUP($AF310,Lookup!$C:$E,2,FALSE),\"\")","v":""},{"$f":"IFERROR(VLOOKUP($AG310,Lookup!$D:$E,2,FALSE),\"\")","v":""},""]
[{"$f":"IF('Data Input'!I309=\"\",\"\",'Data Input'!I309)","v":""},{"$f":"IF('Data Input'!H309=\"\",\"\",'Data Input'!H309)","v":""},{"$f":"IF('Data Input'!A309=\"\",\"\",'Data Input'!A309)","v":""},{"$f":"IF('Data Input'!R309=\"\",\"\",'Data Input'!R309)","v":""},{"$f":"IF('Data Input'!D309=\"\",\"\",'Data Input'!D309)","v":""},{"$f":"IF('Data Input'!E309=\"\",\"\",'Data Input'!E309)","v":""},{"$f":"IF('Data Input'!F309=\"\",\"\",'Data Input'!F309)","v":""},{"$f":"IF('Data Input'!G309=\"\",\"\",'Data Input'!G309)","v":""},{"$f":"IF('Data Input'!B309=\"\",\"\",'Data Input'!B309)","v":""},{"$f":"IF('Data Input'!C309=\"\",\"\",'Data Input'!C309)","v":""},{"$f":"IF('Data Input'!J309=\"\",\"\",'Data Input'!J309)","v":""},{"$f":"IF('Data Input'!K309=\"\",\"\",'Data Input'!K309)","v":""},{"$f":"IF('Data Input'!O309=\"\",\"\",'Data Input'!O309)","v":""},{"$f":"IF('Data Input'!L309=\"\",\"\",'Data Input'!L309)","v":""},{"$f":"IF('Data Input'!M309=\"\",\"\",'Data Input'!M309)","v":""},{"$f":"IF('Data Input'!Q309=\"\",\"\",'Data Input'!Q309)","v":""},{"$f":"IF('Data Input'!N309=\"\",\"\",'Data Input'!N309)","v":""},null,null,null,null,null,null,null,null,"",{"$f":"IFERROR(VLOOKUP($Z311,Lookup!$C:$E,2,FALSE),\"\")","v":""},{"$f":"IFERROR(VLOOKUP($AA311,Lookup!$D:$E,2,FALSE),\"\")","v":""},"",{"$f":"IFERROR(VLOOKUP($AC311,Lookup!$C:$E,2,FALSE),\"\")","v":""},{"$f":"IFERROR(VLOOKUP($AD311,Lookup!$D:$E,2,FALSE),\"\")","v":""},"",{"$f":"IFERROR(VLOOKUP($AF311,Lookup!$C:$E,2,FALSE),\"\")","v":""},{"$f":"IFERROR(VLOOKUP($AG311,Lookup!$D:$E,2,FALSE),\"\")","v":""},""]
[{"$f":"IF('Data Input'!I310=\"\",\"\",'Data Input'!I310)","v":""},{"$f":"IF('Data Input'!H310=\"\",\"\",'Data Input'!H310)","v":""},{"$f":"IF('Data Input'!A310=\"\",\"\",'Data Input'!A310)","v":""},{"$f":"IF('Data Input'!R310=\"\",\"\",'Data Input'!R310)","v":""},{"$f":"IF('Data Input'!D310=\"\",\"\",'Data Input'!D310)","v":""},{"$f":"IF('Data Input'!E310=\"\",\"\",'Data Input'!E310)","v":""},{"$f":"IF('Data Input'!F310=\"\",\"\",'Data Input'!F310)","v":""},{"$f":"IF('Data Input'!G310=\"\",\"\",'Data Input'!G310)","v":""},{"$f":"IF('Data Input'!B310=\"\",\"\",'Data Input'!B310)","v":""},{"$f":"IF('Data Input'!C310=\"\",\"\",'Data Input'!C310)","v":""},{"$f":"IF('Data Input'!J310=\"\",\"\",'Data Input'!J310)","v":""},{"$f":"IF('Data Input'!K310=\"\",\"\",'Data Input'!K310)","v":""},{"$f":"IF('Data Input'!O310=\"\",\"\",'Data Input'!O310)","v":""},{"$f":"IF('Data Input'!L310=\"\",\"\",'Data Input'!L310)","v":""},{"$f":"IF('Data Input'!M310=\"\",\"\",'Data Input'!M310)","v":""},{"$f":"IF('Data Input'!Q310=\"\",\"\",'Data Input'!Q310)","v":""},{"$f":"IF('Data Input'!N310=\"\",\"\",'Data Input'!N310)","v":""},null,null,null,null,null,null,null,null,"",{"$f":"IFERROR(VLOOKUP($Z312,Lookup!$C:$E,2,FALSE),\"\")","v":""},{"$f":"IFERROR(VLOOKUP($AA312,Lookup!$D:$E,2,FALSE),\"\")","v":""},"",{"$f":"IFERROR(VLOOKUP($AC312,Lookup!$C:$E,2,FALSE),\"\")","v":""},{"$f":"IFERROR(VLOOKUP($AD312,Lookup!$D:$E,2,FALSE),\"\")","v":""},"",{"$f":"IFERROR(VLOOKUP($AF312,Lookup!$C:$E,2,FALSE),\"\")","v":""},{"$f":"IFERROR(VLOOKUP($AG312,Lookup!$D:$E,2,FALSE),\"\")","v":""},""]
[{"$f":"IF('Data Input'!I311=\"\",\"\",'Data Input'!I311)","v":""},{"$f":"IF('Data Input'!H311=\"\",\"\",'Data Input'!H311)","v":""},{"$f":"IF('Data Input'!A311=\"\",\"\",'Data Input'!A311)","v":""},{"$f":"IF('Data Input'!R311=\"\",\"\",'Data Input'!R311)","v":""},{"$f":"IF('Data Input'!D311=\"\",\"\",'Data Input'!D311)","v":""},{"$f":"IF('Data Input'!E311=\"\",\"\",'Data Input'!E311)","v":""},{"$f":"IF('Data Input'!F311=\"\",\"\",'Data Input'!F311)","v":""},{"$f":"IF('Data Input'!G311=\"\",\"\",'Data Input'!G311)","v":""},{"$f":"IF('Data Input'!B311=\"\",\"\",'Data Input'!B311)","v":""},{"$f":"IF('Data Input'!C311=\"\",\"\",'Data Input'!C311)","v":""},{"$f":"IF('Data Input'!J311=\"\",\"\",'Data Input'!J311)","v":""},{"$f":"IF('Data Input'!K311=\"\",\"\",'Data Input'!K311)","v":""},{"$f":"IF('Data Input'!O311=\"\",\"\",'Data Input'!O311)","v":""},{"$f":"IF('Data Input'!L311=\"\",\"\",'Data Input'!L311)","v":""},{"$f":"IF('Data Input'!M311=\"\",\"\",'Data Input'!M311)","v":""},{"$f":"IF('Data Input'!Q311=\"\",\"\",'Data Input'!Q311)","v":""},{"$f":"IF('Data Input'!N311=\"\",\"\",'Data Input'!N311)","v":""},null,null,null,null,null,null,null,null,"",{"$f":"IFERROR(VLOOKUP($Z313,Lookup!$C:$E,2,FALSE),\"\")","v":""},{"$f":"IFERROR(VLOOKUP($AA313,Lookup!$D:$E,2,FALSE),\"\")","v":""},"",{"$f":"IFERROR(VLOOKUP($AC313,Lookup!$C:$E,2,FALSE),\"\")","v":""},{"$f":"IFERROR(VLOOKUP($AD313,Lookup!$D:$E,2,FALSE),\"\")","v":""},"",{"$f":"IFERROR(VLOOKUP($AF313,Lookup!$C:$E,2,FALSE),\"\")","v":""},{"$f":"IFERROR(VLOOKUP($AG313,Lookup!$D:$E,2,FALSE),\"\")","v":""},""]
[{"$f":"IF('Data Input'!I312=\"\",\"\",'Data Input'!I312)","v":""},{"$f":"IF('Data Input'!H312=\"\",\"\",'Data Input'!H312)","v":""},{"$f":"IF('Data Input'!A312=\"\",\"\",'Data Input'!A312)","v":""},{"$f":"IF('Data Input'!R312=\"\",\"\",'Data Input'!R312)","v":""},{"$f":"IF('Data Input'!D312=\"\",\"\",'Data Input'!D312)","v":""},{"$f":"IF('Data Input'!E312=\"\",\"\",'Data Input'!E312)","v":""},{"$f":"IF('Data Input'!F312=\"\",\"\",'Data Input'!F312)","v":""},{"$f":"IF('Data Input'!G312=\"\",\"\",'Data Input'!G312)","v":""},{"$f":"IF('Data Input'!B312=\"\",\"\",'Data Input'!B312)","v":""},{"$f":"IF('Data Input'!C312=\"\",\"\",'Data Input'!C312)","v":""},{"$f":"IF('Data Input'!J312=\"\",\"\",'Data Input'!J312)","v":""},{"$f":"IF('Data Input'!K312=\"\",\"\",'Data Input'!K312)","v":""},{"$f":"IF('Data Input'!O312=\"\",\"\",'Data Input'!O312)","v":""},{"$f":"IF('Data Input'!L312=\"\",\"\",'Data Input'!L312)","v":""},{"$f":"IF('Data Input'!M312=\"\",\"\",'Data Input'!M312)","v":""},{"$f":"IF('Data Input'!Q312=\"\",\"\",'Data Input'!Q312)","v":""},{"$f":"IF('Data Input'!N312=\"\",\"\",'Data Input'!N312)","v":""},null,null,null,null,null,null,null,null,"",{"$f":"IFERROR(VLOOKUP($Z314,Lookup!$C:$E,2,FALSE),\"\")","v":""},{"$f":"IFERROR(VLOOKUP($AA314,Lookup!$D:$E,2,FALSE),\"\")","v":""},"",{"$f":"IFERROR(VLOOKUP($AC314,Lookup!$C:$E,2,FALSE),\"\")","v":""},{"$f":"IFERROR(VLOOKUP($AD314,Lookup!$D:$E,2,FALSE),\"\")","v":""},"",{"$f":"IFERROR(VLOOKUP($AF314,Lookup!$C:$E,2,FALSE),\"\")","v":""},{"$f":"IFERROR(VLOOKUP($AG314,Lookup!$D:$E,2,FALSE),\"\")","v":""},""]
[{"$f":"IF('Data Input'!I313=\"\",\"\",'Data Input'!I313)","v":""},{"$f":"IF('Data Input'!H313=\"\",\"\",'Data Input'!H313)","v":""},{"$f":"IF('Data Input'!A313=\"\",\"\",'Data Input'!A313)","v":""},{"$f":"IF('Data Input'!R313=\"\",\"\",'Data Input'!R313)","v":""},{"$f":"IF('Data Input'!D313=\"\",\"\",'Data Input'!D313)","v":""},{"$f":"IF('Data Input'!E313=\"\",\"\",'Data Input'!E313)","v":""},{"$f":"IF('Data Input'!F313=\"\",\"\",'Data Input'!F313)","v":""},{"$f":"IF('Data Input'!G313=\"\",\"\",'Data Input'!G313)","v":""},{"$f":"IF('Data Input'!B313=\"\",\"\",'Data Input'!B313)","v":""},{"$f":"IF('Data Input'!C313=\"\",\"\",'Data Input'!C313)","v":""},{"$f":"IF('Data Input'!J313=\"\",\"\",'Data Input'!J313)","v":""},{"$f":"IF('Data Input'!K313=\"\",\"\",'Data Input'!K313)","v":""},{"$f":"IF('Data Input'!O313=\"\",\"\",'Data Input'!O313)","v":""},{"$f":"IF('Data Input'!L313=\"\",\"\",'Data Input'!L313)","v":""},{"$f":"IF('Data Input'!M313=\"\",\"\",'Data Input'!M313)","v":""},{"$f":"IF('Data Input'!Q313=\"\",\"\",'Data Input'!Q313)","v":""},{"$f":"IF('Data Input'!N313=\"\",\"\",'Data Input'!N313)","v":""},null,null,null,null,null,null,null,null,"",{"$f":"IFERROR(VLOOKUP($Z315,Lookup!$C:$E,2,FALSE),\"\")","v":""},{"$f":"IFERROR(VLOOKUP($AA315,Lookup!$D:$E,2,FALSE),\"\")","v":""},"",{"$f":"IFERROR(VLOOKUP($AC315,Lookup!$C:$E,2,FALSE),\"\")","v":""},{"$f":"IFERROR(VLOOKUP($AD315,Lookup!$D:$E,2,FALSE),\"\")","v":""},"",{"$f":"IFERROR(VLOOKUP($AF315,Lookup!$C:$E,2,FALSE),\"\")","v":""},{"$f":"IFERROR(VLOOKUP($AG315,Lookup!$D:$E,2,FALSE),\"\")","v":""},""]
[{"$f":"IF('Data Input'!I314=\"\",\"\",'Data Input'!I314)","v":""},{"$f":"IF('Data Input'!H314=\"\",\"\",'Data Input'!H314)","v":""},{"$f":"IF('Data Input'!A314=\"\",\"\",'Data Input'!A314)","v":""},{"$f":"IF('Data Input'!R314=\"\",\"\",'Data Input'!R314)","v":""},{"$f":"IF('Data Input'!D314=\"\",\"\",'Data Input'!D314)","v":""},{"$f":"IF('Data Input'!E314=\"\",\"\",'Data Input'!E314)","v":""},{"$f":"IF('Data Input'!F314=\"\",\"\",'Data Input'!F314)","v":""},{"$f":"IF('Data Input'!G314=\"\",\"\",'Data Input'!G314)","v":""},{"$f":"IF('Data Input'!B314=\"\",\"\",'Data Input'!B314)","v":""},{"$f":"IF('Data Input'!C314=\"\",\"\",'Data Input'!C314)","v":""},{"$f":"IF('Data Input'!J314=\"\",\"\",'Data Input'!J314)","v":""},{"$f":"IF('Data Input'!K314=\"\",\"\",'Data Input'!K314)","v":""},{"$f":"IF('Data Input'!O314=\"\",\"\",'Data Input'!O314)","v":""},{"$f":"IF('Data Input'!L314=\"\",\"\",'Data Input'!L314)","v":""},{"$f":"IF('Data Input'!M314=\"\",\"\",'Data Input'!M314)","v":""},{"$f":"IF('Data Input'!Q314=\"\",\"\",'Data Input'!Q314)","v":""},{"$f":"IF('Data Input'!N314=\"\",\"\",'Data Input'!N314)","v":""},null,null,null,null,null,null,null,null,"",{"$f":"IFERROR(VLOOKUP($Z316,Lookup!$C:$E,2,FALSE),\"\")","v":""},{"$f":"IFERROR(VLOOKUP($AA316,Lookup!$D:$E,2,FALSE),\"\")","v":""},"",{"$f":"IFERROR(VLOOKUP($AC316,Lookup!$C:$E,2,FALSE),\"\")","v":""},{"$f":"IFERROR(VLOOKUP($AD316,Lookup!$D:$E,2,FALSE),\"\")","v":""},"",{"$f":"IFERROR(VLOOKUP($AF316,Lookup!$C:$E,2,FALSE),\"\")","v":""},{"$f":"IFERROR(VLOOKUP($AG316,Lookup!$D:$E,2,FALSE),\"\")","v":""},""]
[{"$f":"IF('Data Input'!I315=\"\",\"\",'Data Input'!I315)","v":""},{"$f":"IF('Data Input'!H315=\"\",\"\",'Data Input'!H315)","v":""},{"$f":"IF('Data Input'!A315=\"\",\"\",'Data Input'!A315)","v":""},{"$f":"IF('Data Input'!R315=\"\",\"\",'Data Input'!R315)","v":""},{"$f":"IF('Data Input'!D315=\"\",\"\",'Data Input'!D315)","v":""},{"$f":"IF('Data Input'!E315=\"\",\"\",'Data Input'!E315)","v":""},{"$f":"IF('Data Input'!F315=\"\",\"\",'Data Input'!F315)","v":""},{"$f":"IF('Data Input'!G315=\"\",\"\",'Data Input'!G315)","v":""},{"$f":"IF('Data Input'!B315=\"\",\"\",'Data Input'!B315)","v":""},{"$f":"IF('Data Input'!C315=\"\",\"\",'Data Input'!C315)","v":""},{"$f":"IF('Data Input'!J315=\"\",\"\",'Data Input'!J315)","v":""},{"$f":"IF('Data Input'!K315=\"\",\"\",'Data Input'!K315)","v":""},{"$f":"IF('Data Input'!O315=\"\",\"\",'Data Input'!O315)","v":""},{"$f":"IF('Data Input'!L315=\"\",\"\",'Data Input'!L315)","v":""},{"$f":"IF('Data Input'!M315=\"\",\"\",'Data Input'!M315)","v":""},{"$f":"IF('Data Input'!Q315=\"\",\"\",'Data Input'!Q315)","v":""},{"$f":"IF('Data Input'!N315=\"\",\"\",'Data Input'!N315)","v":""},null,null,null,null,null,null,null,null,"",{"$f":"IFERROR(VLOOKUP($Z317,Lookup!$C:$E,2,FALSE),\"\")","v":""},{"$f":"IFERROR(VLOOKUP($AA317,Lookup!$D:$E,2,FALSE),\"\")","v":""},"",{"$f":"IFERROR(VLOOKUP($AC317,Lookup!$C:$E,2,FALSE),\"\")","v":""},{"$f":"IFERROR(VLOOKUP($AD317,Lookup!$D:$E,2,FALSE),\"\")","v":""},"",{"$f":"IFERROR(VLOOKUP($AF317,Lookup!$C:$E,2,FALSE),\"\")","v":""},{"$f":"IFERROR(VLOOKUP($AG317,Lookup!$D:$E,2,FALSE),\"\")","v":""},""]
[{"$f":"IF('Data Input'!I316=\"\",\"\",'Data Input'!I316)","v":""},{"$f":"IF('Data Input'!H316=\"\",\"\",'Data Input'!H316)","v":""},{"$f":"IF('Data Input'!A316=\"\",\"\",'Data Input'!A316)","v":""},{"$f":"IF('Data Input'!R316=\"\",\"\",'Data Input'!R316)","v":""},{"$f":"IF('Data Input'!D316=\"\",\"\",'Data Input'!D316)","v":""},{"$f":"IF('Data Input'!E316=\"\",\"\",'Data Input'!E316)","v":""},{"$f":"IF('Data Input'!F316=\"\",\"\",'Data Input'!F316)","v":""},{"$f":"IF('Data Input'!G316=\"\",\"\",'Data Input'!G316)","v":""},{"$f":"IF('Data Input'!B316=\"\",\"\",'Data Input'!B316)","v":""},{"$f":"IF('Data Input'!C316=\"\",\"\",'Data Input'!C316)","v":""},{"$f":"IF('Data Input'!J316=\"\",\"\",'Data Input'!J316)","v":""},{"$f":"IF('Data Input'!K316=\"\",\"\",'Data Input'!K316)","v":""},{"$f":"IF('Data Input'!O316=\"\",\"\",'Data Input'!O316)","v":""},{"$f":"IF('Data Input'!L316=\"\",\"\",'Data Input'!L316)","v":""},{"$f":"IF('Data Input'!M316=\"\",\"\",'Data Input'!M316)","v":""},{"$f":"IF('Data Input'!Q316=\"\",\"\",'Data Input'!Q316)","v":""},{"$f":"IF('Data Input'!N316=\"\",\"\",'Data Input'!N316)","v":""},null,null,null,null,null,null,null,null,"",{"$f":"IFERROR(VLOOKUP($Z318,Lookup!$C:$E,2,FALSE),\"\")","v":""},{"$f":"IFERROR(VLOOKUP($AA318,Lookup!$D:$E,2,FALSE),\"\")","v":""},"",{"$f":"IFERROR(VLOOKUP($AC318,Lookup!$C:$E,2,FALSE),\"\")","v":""},{"$f":"IFERROR(VLOOKUP($AD318,Lookup!$D:$E,2,FALSE),\"\")","v":""},"",{"$f":"IFERROR(VLOOKUP($AF318,Lookup!$C:$E,2,FALSE),\"\")","v":""},{"$f":"IFERROR(VLOOKUP($AG318,Lookup!$D:$E,2,FALSE),\"\")","v":""},""]
[{"$f":"IF('Data Input'!I317=\"\",\"\",'Data Input'!I317)","v":""},{"$f":"IF('Data Input'!H317=\"\",\"\",'Data Input'!H317)","v":""},{"$f":"IF('Data Input'!A317=\"\",\"\",'Data Input'!A317)","v":""},{"$f":"IF('Data Input'!R317=\"\",\"\",'Data Input'!R317)","v":""},{"$f":"IF('Data Input'!D317=\"\",\"\",'Data Input'!D317)","v":""},{"$f":"IF('Data Input'!E317=\"\",\"\",'Data Input'!E317)","v":""},{"$f":"IF('Data Input'!F317=\"\",\"\",'Data Input'!F317)","v":""},{"$f":"IF('Data Input'!G317=\"\",\"\",'Data Input'!G317)","v":""},{"$f":"IF('Data Input'!B317=\"\",\"\",'Data Input'!B317)","v":""},{"$f":"IF('Data Input'!C317=\"\",\"\",'Data Input'!C317)","v":""},{"$f":"IF('Data Input'!J317=\"\",\"\",'Data Input'!J317)","v":""},{"$f":"IF('Data Input'!K317=\"\",\"\",'Data Input'!K317)","v":""},{"$f":"IF('Data Input'!O317=\"\",\"\",'Data Input'!O317)","v":""},{"$f":"IF('Data Input'!L317=\"\",\"\",'Data Input'!L317)","v":""},{"$f":"IF('Data Input'!M317=\"\",\"\",'Data Input'!M317)","v":""},{"$f":"IF('Data Input'!Q317=\"\",\"\",'Data Input'!Q317)","v":""},{"$f":"IF('Data Input'!N317=\"\",\"\",'Data Input'!N317)","v":""},null,null,null,null,null,null,null,null,"",{"$f":"IFERROR(VLOOKUP($Z319,Lookup!$C:$E,2,FALSE),\"\")","v":""},{"$f":"IFERROR(VLOOKUP($AA319,Lookup!$D:$E,2,FALSE),\"\")","v":""},"",{"$f":"IFERROR(VLOOKUP($AC319,Lookup!$C:$E,2,FALSE),\"\")","v":""},{"$f":"IFERROR(VLOOKUP($AD319,Lookup!$D:$E,2,FALSE),\"\")","v":""},"",{"$f":"IFERROR(VLOOKUP($AF319,Lookup!$C:$E,2,FALSE),\"\")","v":""},{"$f":"IFERROR(VLOOKUP($AG319,Lookup!$D:$E,2,FALSE),\"\")","v":""},""]
[{"$f":"IF('Data Input'!I318=\"\",\"\",'Data Input'!I318)","v":""},{"$f":"IF('Data Input'!H318=\"\",\"\",'Data Input'!H318)","v":""},{"$f":"IF('Data Input'!A318=\"\",\"\",'Data Input'!A318)","v":""},{"$f":"IF('Data Input'!R318=\"\",\"\",'Data Input'!R318)","v":""},{"$f":"IF('Data Input'!D318=\"\",\"\",'Data Input'!D318)","v":""},{"$f":"IF('Data Input'!E318=\"\",\"\",'Data Input'!E318)","v":""},{"$f":"IF('Data Input'!F318=\"\",\"\",'Data Input'!F318)","v":""},{"$f":"IF('Data Input'!G318=\"\",\"\",'Data Input'!G318)","v":""},{"$f":"IF('Data Input'!B318=\"\",\"\",'Data Input'!B318)","v":""},{"$f":"IF('Data Input'!C318=\"\",\"\",'Data Input'!C318)","v":""},{"$f":"IF('Data Input'!J318=\"\",\"\",'Data Input'!J318)","v":""},{"$f":"IF('Data Input'!K318=\"\",\"\",'Data Input'!K318)","v":""},{"$f":"IF('Data Input'!O318=\"\",\"\",'Data Input'!O318)","v":""},{"$f":"IF('Data Input'!L318=\"\",\"\",'Data Input'!L318)","v":""},{"$f":"IF('Data Input'!M318=\"\",\"\",'Data Input'!M318)","v":""},{"$f":"IF('Data Input'!Q318=\"\",\"\",'Data Input'!Q318)","v":""},{"$f":"IF('Data Input'!N318=\"\",\"\",'Data Input'!N318)","v":""},null,null,null,null,null,null,null,null,"",{"$f":"IFERROR(VLOOKUP($Z320,Lookup!$C:$E,2,FALSE),\"\")","v":""},{"$f":"IFERROR(VLOOKUP($AA320,Lookup!$D:$E,2,FALSE),\"\")","v":""},"",{"$f":"IFERROR(VLOOKUP($AC320,Lookup!$C:$E,2,FALSE),\"\")","v":""},{"$f":"IFERROR(VLOOKUP($AD320,Lookup!$D:$E,2,FALSE),\"\")","v":""},"",{"$f":"IFERROR(VLOOKUP($AF320,Lookup!$C:$E,2,FALSE),\"\")","v":""},{"$f":"IFERROR(VLOOKUP($AG320,Lookup!$D:$E,2,FALSE),\"\")","v":""},""]
[{"$f":"IF('Data Input'!I319=\"\",\"\",'Data Input'!I319)","v":""},{"$f":"IF('Data Input'!H319=\"\",\"\",'Data Input'!H319)","v":""},{"$f":"IF('Data Input'!A319=\"\",\"\",'Data Input'!A319)","v":""},{"$f":"IF('Data Input'!R319=\"\",\"\",'Data Input'!R319)","v":""},{"$f":"IF('Data Input'!D319=\"\",\"\",'Data Input'!D319)","v":""},{"$f":"IF('Data Input'!E319=\"\",\"\",'Data Input'!E319)","v":""},{"$f":"IF('Data Input'!F319=\"\",\"\",'Data Input'!F319)","v":""},{"$f":"IF('Data Input'!G319=\"\",\"\",'Data Input'!G319)","v":""},{"$f":"IF('Data Input'!B319=\"\",\"\",'Data Input'!B319)","v":""},{"$f":"IF('Data Input'!C319=\"\",\"\",'Data Input'!C319)","v":""},{"$f":"IF('Data Input'!J319=\"\",\"\",'Data Input'!J319)","v":""},{"$f":"IF('Data Input'!K319=\"\",\"\",'Data Input'!K319)","v":""},{"$f":"IF('Data Input'!O319=\"\",\"\",'Data Input'!O319)","v":""},{"$f":"IF('Data Input'!L319=\"\",\"\",'Data Input'!L319)","v":""},{"$f":"IF('Data Input'!M319=\"\",\"\",'Data Input'!M319)","v":""},{"$f":"IF('Data Input'!Q319=\"\",\"\",'Data Input'!Q319)","v":""},{"$f":"IF('Data Input'!N319=\"\",\"\",'Data Input'!N319)","v":""},null,null,null,null,null,null,null,null,"",{"$f":"IFERROR(VLOOKUP($Z321,Lookup!$C:$E,2,FALSE),\"\")","v":""},{"$f":"IFERROR(VLOOKUP($AA321,Lookup!$D:$E,2,FALSE),\"\")","v":""},"",{"$f":"IFERROR(VLOOKUP($AC321,Lookup!$C:$E,2,FALSE),\"\")","v":""},{"$f":"IFERROR(VLOOKUP($AD321,Lookup!$D:$E,2,FALSE),\"\")","v":""},"",{"$f":"IFERROR(VLOOKUP($AF321,Lookup!$C:$E,2,FALSE),\"\")","v":""},{"$f":"IFERROR(VLOOKUP($AG321,Lookup!$D:$E,2,FALSE),\"\")","v":""},""]
[{"$f":"IF('Data Input'!I320=\"\",\"\",'Data Input'!I320)","v":""},{"$f":"IF('Data Input'!H320=\"\",\"\",'Data Input'!H320)","v":""},{"$f":"IF('Data Input'!A320=\"\",\"\",'Data Input'!A320)","v":""},{"$f":"IF('Data Input'!R320=\"\",\"\",'Data Input'!R320)","v":""},{"$f":"IF('Data Input'!D320=\"\",\"\",'Data Input'!D320)","v":""},{"$f":"IF('Data Input'!E320=\"\",\"\",'Data Input'!E320)","v":""},{"$f":"IF('Data Input'!F320=\"\",\"\",'Data Input'!F320)","v":""},{"$f":"IF('Data Input'!G320=\"\",\"\",'Data Input'!G320)","v":""},{"$f":"IF('Data Input'!B320=\"\",\"\",'Data Input'!B320)","v":""},{"$f":"IF('Data Input'!C320=\"\",\"\",'Data Input'!C320)","v":""},{"$f":"IF('Data Input'!J320=\"\",\"\",'Data Input'!J320)","v":""},{"$f":"IF('Data Input'!K320=\"\",\"\",'Data Input'!K320)","v":""},{"$f":"IF('Data Input'!O320=\"\",\"\",'Data Input'!O320)","v":""},{"$f":"IF('Data Input'!L320=\"\",\"\",'Data Input'!L320)","v":""},{"$f":"IF('Data Input'!M320=\"\",\"\",'Data Input'!M320)","v":""},{"$f":"IF('Data Input'!Q320=\"\",\"\",'Data Input'!Q320)","v":""},{"$f":"IF('Data Input'!N320=\"\",\"\",'Data Input'!N320)","v":""},null,null,null,null,null,null,null,null,"",{"$f":"IFERROR(VLOOKUP($Z322,Lookup!$C:$E,2,FALSE),\"\")","v":""},{"$f":"IFERROR(VLOOKUP($AA322,Lookup!$D:$E,2,FALSE),\"\")","v":""},"",{"$f":"IFERROR(VLOOKUP($AC322,Lookup!$C:$E,2,FALSE),\"\")","v":""},{"$f":"IFERROR(VLOOKUP($AD322,Lookup!$D:$E,2,FALSE),\"\")","v":""},"",{"$f":"IFERROR(VLOOKUP($AF322,Lookup!$C:$E,2,FALSE),\"\")","v":""},{"$f":"IFERROR(VLOOKUP($AG322,Lookup!$D:$E,2,FALSE),\"\")","v":""},""]
[{"$f":"IF('Data Input'!I321=\"\",\"\",'Data Input'!I321)","v":""},{"$f":"IF('Data Input'!H321=\"\",\"\",'Data Input'!H321)","v":""},{"$f":"IF('Data Input'!A321=\"\",\"\",'Data Input'!A321)","v":""},{"$f":"IF('Data Input'!R321=\"\",\"\",'Data Input'!R321)","v":""},{"$f":"IF('Data Input'!D321=\"\",\"\",'Data Input'!D321)","v":""},{"$f":"IF('Data Input'!E321=\"\",\"\",'Data Input'!E321)","v":""},{"$f":"IF('Data Input'!F321=\"\",\"\",'Data Input'!F321)","v":""},{"$f":"IF('Data Input'!G321=\"\",\"\",'Data Input'!G321)","v":""},{"$f":"IF('Data Input'!B321=\"\",\"\",'Data Input'!B321)","v":""},{"$f":"IF('Data Input'!C321=\"\",\"\",'Data Input'!C321)","v":""},{"$f":"IF('Data Input'!J321=\"\",\"\",'Data Input'!J321)","v":""},{"$f":"IF('Data Input'!K321=\"\",\"\",'Data Input'!K321)","v":""},{"$f":"IF('Data Input'!O321=\"\",\"\",'Data Input'!O321)","v":""},{"$f":"IF('Data Input'!L321=\"\",\"\",'Data Input'!L321)","v":""},{"$f":"IF('Data Input'!M321=\"\",\"\",'Data Input'!M321)","v":""},{"$f":"IF('Data Input'!Q321=\"\",\"\",'Data Input'!Q321)","v":""},{"$f":"IF('Data Input'!N321=\"\",\"\",'Data Input'!N321)","v":""},null,null,null,null,null,null,null,null,"",{"$f":"IFERROR(VLOOKUP($Z323,Lookup!$C:$E,2,FALSE),\"\")","v":""},{"$f":"IFERROR(VLOOKUP($AA323,Lookup!$D:$E,2,FALSE),\"\")","v":""},"",{"$f":"IFERROR(VLOOKUP($AC323,Lookup!$C:$E,2,FALSE),\"\")","v":""},{"$f":"IFERROR(VLOOKUP($AD323,Lookup!$D:$E,2,FALSE),\"\")","v":""},"",{"$f":"IFERROR(VLOOKUP($AF323,Lookup!$C:$E,2,FALSE),\"\")","v":""},{"$f":"IFERROR(VLOOKUP($AG323,Lookup!$D:$E,2,FALSE),\"\")","v":""},""]
[{"$f":"IF('Data Input'!I322=\"\",\"\",'Data Input'!I322)","v":""},{"$f":"IF('Data Input'!H322=\"\",\"\",'Data Input'!H322)","v":""},{"$f":"IF('Data Input'!A322=\"\",\"\",'Data Input'!A322)","v":""},{"$f":"IF('Data Input'!R322=\"\",\"\",'Data Input'!R322)","v":""},{"$f":"IF('Data Input'!D322=\"\",\"\",'Data Input'!D322)","v":""},{"$f":"IF('Data Input'!E322=\"\",\"\",'Data Input'!E322)","v":""},{"$f":"IF('Data Input'!F322=\"\",\"\",'Data Input'!F322)","v":""},{"$f":"IF('Data Input'!G322=\"\",\"\",'Data Input'!G322)","v":""},{"$f":"IF('Data Input'!B322=\"\",\"\",'Data Input'!B322)","v":""},{"$f":"IF('Data Input'!C322=\"\",\"\",'Data Input'!C322)","v":""},{"$f":"IF('Data Input'!J322=\"\",\"\",'Data Input'!J322)","v":""},{"$f":"IF('Data Input'!K322=\"\",\"\",'Data Input'!K322)","v":""},{"$f":"IF('Data Input'!O322=\"\",\"\",'Data Input'!O322)","v":""},{"$f":"IF('Data Input'!L322=\"\",\"\",'Data Input'!L322)","v":""},{"$f":"IF('Data Input'!M322=\"\",\"\",'Data Input'!M322)","v":""},{"$f":"IF('Data Input'!Q322=\"\",\"\",'Data Input'!Q322)","v":""},{"$f":"IF('Data Input'!N322=\"\",\"\",'Data Input'!N322)","v":""},null,null,null,null,null,null,null,null,"",{"$f":"IFERROR(VLOOKUP($Z324,Lookup!$C:$E,2,FALSE),\"\")","v":""},{"$f":"IFERROR(VLOOKUP($AA324,Lookup!$D:$E,2,FALSE),\"\")","v":""},"",{"$f":"IFERROR(VLOOKUP($AC324,Lookup!$C:$E,2,FALSE),\"\")","v":""},{"$f":"IFERROR(VLOOKUP($AD324,Lookup!$D:$E,2,FALSE),\"\")","v":""},"",{"$f":"IFERROR(VLOOKUP($AF324,Lookup!$C:$E,2,FALSE),\"\")","v":""},{"$f":"IFERROR(VLOOKUP($AG324,Lookup!$D:$E,2,FALSE),\"\")","v":""},""]
[{"$f":"IF('Data Input'!I323=\"\",\"\",'Data Input'!I323)","v":""},{"$f":"IF('Data Input'!H323=\"\",\"\",'Data Input'!H323)","v":""},{"$f":"IF('Data Input'!A323=\"\",\"\",'Data Input'!A323)","v":""},{"$f":"IF('Data Input'!R323=\"\",\"\",'Data Input'!R323)","v":""},{"$f":"IF('Data Input'!D323=\"\",\"\",'Data Input'!D323)","v":""},{"$f":"IF('Data Input'!E323=\"\",\"\",'Data Input'!E323)","v":""},{"$f":"IF('Data Input'!F323=\"\",\"\",'Data Input'!F323)","v":""},{"$f":"IF('Data Input'!G323=\"\",\"\",'Data Input'!G323)","v":""},{"$f":"IF('Data Input'!B323=\"\",\"\",'Data Input'!B323)","v":""},{"$f":"IF('Data Input'!C323=\"\",\"\",'Data Input'!C323)","v":""},{"$f":"IF('Data Input'!J323=\"\",\"\",'Data Input'!J323)","v":""},{"$f":"IF('Data Input'!K323=\"\",\"\",'Data Input'!K323)","v":""},{"$f":"IF('Data Input'!O323=\"\",\"\",'Data Input'!O323)","v":""},{"$f":"IF('Data Input'!L323=\"\",\"\",'Data Input'!L323)","v":""},{"$f":"IF('Data Input'!M323=\"\",\"\",'Data Input'!M323)","v":""},{"$f":"IF('Data Input'!Q323=\"\",\"\",'Data Input'!Q323)","v":""},{"$f":"IF('Data Input'!N323=\"\",\"\",'Data Input'!N323)","v":""},null,null,null,null,null,null,null,null,{"$f":"_xlfn.CONCAT($C325,$O325)","v":""},{"$f":"IFERROR(VLOOKUP($Z325,Lookup!$C:$E,2,FALSE),\"\")","v":""},{"$f":"IFERROR(VLOOKUP($AA325,Lookup!$D:$E,2,FALSE),\"\")","v":""},{"$f":"_xlfn.CONCAT($C325,$R325)","v":""},{"$f":"IFERROR(VLOOKUP($AC325,Lookup!$C:$E,2,FALSE),\"\")","v":""},{"$f":"IFERROR(VLOOKUP($AD325,Lookup!$D:$E,2,FALSE),\"\")","v":""},{"$f":"_xlfn.CONCAT($C325,$S325)","v":""},{"$f":"IFERROR(VLOOKUP($AF325,Lookup!$C:$E,2,FALSE),\"\")","v":""},{"$f":"IFERROR(VLOOKUP($AG325,Lookup!$D:$E,2,FALSE),\"\")","v":""},{"$f":"P325","v":""}]
[{"$f":"IF('Data Input'!I324=\"\",\"\",'Data Input'!I324)","v":""},{"$f":"IF('Data Input'!H324=\"\",\"\",'Data Input'!H324)","v":""},{"$f":"IF('Data Input'!A324=\"\",\"\",'Data Input'!A324)","v":""},{"$f":"IF('Data Input'!R324=\"\",\"\",'Data Input'!R324)","v":""},{"$f":"IF('Data Input'!D324=\"\",\"\",'Data Input'!D324)","v":""},{"$f":"IF('Data Input'!E324=\"\",\"\",'Data Input'!E324)","v":""},{"$f":"IF('Data Input'!F324=\"\",\"\",'Data Input'!F324)","v":""},{"$f":"IF('Data Input'!G324=\"\",\"\",'Data Input'!G324)","v":""},{"$f":"IF('Data Input'!B324=\"\",\"\",'Data Input'!B324)","v":""},{"$f":"IF('Data Input'!C324=\"\",\"\",'Data Input'!C324)","v":""},{"$f":"IF('Data Input'!J324=\"\",\"\",'Data Input'!J324)","v":""},{"$f":"IF('Data Input'!K324=\"\",\"\",'Data Input'!K324)","v":""},{"$f":"IF('Data Input'!O324=\"\",\"\",'Data Input'!O324)","v":""},{"$f":"IF('Data Input'!L324=\"\",\"\",'Data Input'!L324)","v":""},{"$f":"IF('Data Input'!M324=\"\",\"\",'Data Input'!M324)","v":""},{"$f":"IF('Data Input'!Q324=\"\",\"\",'Data Input'!Q324)","v":""},{"$f":"IF('Data Input'!N324=\"\",\"\",'Data Input'!N324)","v":""},null,null,null,null,null,null,null,null,"",{"$f":"IFERROR(VLOOKUP($Z326,Lookup!$C:$E,2,FALSE),\"\")","v":""},{"$f":"IFERROR(VLOOKUP($AA326,Lookup!$D:$E,2,FALSE),\"\")","v":""},"",{"$f":"IFERROR(VLOOKUP($AC326,Lookup!$C:$E,2,FALSE),\"\")","v":""},{"$f":"IFERROR(VLOOKUP($AD326,Lookup!$D:$E,2,FALSE),\"\")","v":""},"",{"$f":"IFERROR(VLOOKUP($AF326,Lookup!$C:$E,2,FALSE),\"\")","v":""},{"$f":"IFERROR(VLOOKUP($AG326,Lookup!$D:$E,2,FALSE),\"\")","v":""},""]
[{"$f":"IF('Data Input'!I325=\"\",\"\",'Data Input'!I325)","v":""},{"$f":"IF('Data Input'!H325=\"\",\"\",'Data Input'!H325)","v":""},{"$f":"IF('Data Input'!A325=\"\",\"\",'Data Input'!A325)","v":""},{"$f":"IF('Data Input'!R325=\"\",\"\",'Data Input'!R325)","v":""},{"$f":"IF('Data Input'!D325=\"\",\"\",'Data Input'!D325)","v":""},{"$f":"IF('Data Input'!E325=\"\",\"\",'Data Input'!E325)","v":""},{"$f":"IF('Data Input'!F325=\"\",\"\",'Data Input'!F325)","v":""},{"$f":"IF('Data Input'!G325=\"\",\"\",'Data Input'!G325)","v":""},{"$f":"IF('Data Input'!B325=\"\",\"\",'Data Input'!B325)","v":""},{"$f":"IF('Data Input'!C325=\"\",\"\",'Data Input'!C325)","v":""},{"$f":"IF('Data Input'!J325=\"\",\"\",'Data Input'!J325)","v":""},{"$f":"IF('Data Input'!K325=\"\",\"\",'Data Input'!K325)","v":""},{"$f":"IF('Data Input'!O325=\"\",\"\",'Data Input'!O325)","v":""},{"$f":"IF('Data Input'!L325=\"\",\"\",'Data Input'!L325)","v":""},{"$f":"IF('Data Input'!M325=\"\",\"\",'Data Input'!M325)","v":""},{"$f":"IF('Data Input'!Q325=\"\",\"\",'Data Input'!Q325)","v":""},{"$f":"IF('Data Input'!N325=\"\",\"\",'Data Input'!N325)","v":""},null,null,null,null,null,null,null,null,"",{"$f":"IFERROR(VLOOKUP($Z327,Lookup!$C:$E,2,FALSE),\"\")","v":""},{"$f":"IFERROR(VLOOKUP($AA327,Lookup!$D:$E,2,FALSE),\"\")","v":""},"",{"$f":"IFERROR(VLOOKUP($AC327,Lookup!$C:$E,2,FALSE),\"\")","v":""},{"$f":"IFERROR(VLOOKUP($AD327,Lookup!$D:$E,2,FALSE),\"\")","v":""},"",{"$f":"IFERROR(VLOOKUP($AF327,Lookup!$C:$E,2,FALSE),\"\")","v":""},{"$f":"IFERROR(VLOOKUP($AG327,Lookup!$D:$E,2,FALSE),\"\")","v":""},""]
[{"$f":"IF('Data Input'!I326=\"\",\"\",'Data Input'!I326)","v":""},{"$f":"IF('Data Input'!H326=\"\",\"\",'Data Input'!H326)","v":""},{"$f":"IF('Data Input'!A326=\"\",\"\",'Data Input'!A326)","v":""},{"$f":"IF('Data Input'!R326=\"\",\"\",'Data Input'!R326)","v":""},{"$f":"IF('Data Input'!D326=\"\",\"\",'Data Input'!D326)","v":""},{"$f":"IF('Data Input'!E326=\"\",\"\",'Data Input'!E326)","v":""},{"$f":"IF('Data Input'!F326=\"\",\"\",'Data Input'!F326)","v":""},{"$f":"IF('Data Input'!G326=\"\",\"\",'Data Input'!G326)","v":""},{"$f":"IF('Data Input'!B326=\"\",\"\",'Data Input'!B326)","v":""},{"$f":"IF('Data Input'!C326=\"\",\"\",'Data Input'!C326)","v":""},{"$f":"IF('Data Input'!J326=\"\",\"\",'Data Input'!J326)","v":""},{"$f":"IF('Data Input'!K326=\"\",\"\",'Data Input'!K326)","v":""},{"$f":"IF('Data Input'!O326=\"\",\"\",'Data Input'!O326)","v":""},{"$f":"IF('Data Input'!L326=\"\",\"\",'Data Input'!L326)","v":""},{"$f":"IF('Data Input'!M326=\"\",\"\",'Data Input'!M326)","v":""},{"$f":"IF('Data Input'!Q326=\"\",\"\",'Data Input'!Q326)","v":""},{"$f":"IF('Data Input'!N326=\"\",\"\",'Data Input'!N326)","v":""},null,null,null,null,null,null,null,null,"",{"$f":"IFERROR(VLOOKUP($Z328,Lookup!$C:$E,2,FALSE),\"\")","v":""},{"$f":"IFERROR(VLOOKUP($AA328,Lookup!$D:$E,2,FALSE),\"\")","v":""},"",{"$f":"IFERROR(VLOOKUP($AC328,Lookup!$C:$E,2,FALSE),\"\")","v":""},{"$f":"IFERROR(VLOOKUP($AD328,Lookup!$D:$E,2,FALSE),\"\")","v":""},"",{"$f":"IFERROR(VLOOKUP($AF328,Lookup!$C:$E,2,FALSE),\"\")","v":""},{"$f":"IFERROR(VLOOKUP($AG328,Lookup!$D:$E,2,FALSE),\"\")","v":""},""]
[{"$f":"IF('Data Input'!I327=\"\",\"\",'Data Input'!I327)","v":""},{"$f":"IF('Data Input'!H327=\"\",\"\",'Data Input'!H327)","v":""},{"$f":"IF('Data Input'!A327=\"\",\"\",'Data Input'!A327)","v":""},{"$f":"IF('Data Input'!R327=\"\",\"\",'Data Input'!R327)","v":""},{"$f":"IF('Data Input'!D327=\"\",\"\",'Data Input'!D327)","v":""},{"$f":"IF('Data Input'!E327=\"\",\"\",'Data Input'!E327)","v":""},{"$f":"IF('Data Input'!F327=\"\",\"\",'Data Input'!F327)","v":""},{"$f":"IF('Data Input'!G327=\"\",\"\",'Data Input'!G327)","v":""},{"$f":"IF('Data Input'!B327=\"\",\"\",'Data Input'!B327)","v":""},{"$f":"IF('Data Input'!C327=\"\",\"\",'Data Input'!C327)","v":""},{"$f":"IF('Data Input'!J327=\"\",\"\",'Data Input'!J327)","v":""},{"$f":"IF('Data Input'!K327=\"\",\"\",'Data Input'!K327)","v":""},{"$f":"IF('Data Input'!O327=\"\",\"\",'Data Input'!O327)","v":""},{"$f":"IF('Data Input'!L327=\"\",\"\",'Data Input'!L327)","v":""},{"$f":"IF('Data Input'!M327=\"\",\"\",'Data Input'!M327)","v":""},{"$f":"IF('Data Input'!Q327=\"\",\"\",'Data Input'!Q327)","v":""},{"$f":"IF('Data Input'!N327=\"\",\"\",'Data Input'!N327)","v":""},null,null,null,null,null,null,null,null,"",{"$f":"IFERROR(VLOOKUP($Z329,Lookup!$C:$E,2,FALSE),\"\")","v":""},{"$f":"IFERROR(VLOOKUP($AA329,Lookup!$D:$E,2,FALSE),\"\")","v":""},"",{"$f":"IFERROR(VLOOKUP($AC329,Lookup!$C:$E,2,FALSE),\"\")","v":""},{"$f":"IFERROR(VLOOKUP($AD329,Lookup!$D:$E,2,FALSE),\"\")","v":""},"",{"$f":"IFERROR(VLOOKUP($AF329,Lookup!$C:$E,2,FALSE),\"\")","v":""},{"$f":"IFERROR(VLOOKUP($AG329,Lookup!$D:$E,2,FALSE),\"\")","v":""},""]
[{"$f":"IF('Data Input'!I328=\"\",\"\",'Data Input'!I328)","v":""},{"$f":"IF('Data Input'!H328=\"\",\"\",'Data Input'!H328)","v":""},{"$f":"IF('Data Input'!A328=\"\",\"\",'Data Input'!A328)","v":""},{"$f":"IF('Data Input'!R328=\"\",\"\",'Data Input'!R328)","v":""},{"$f":"IF('Data Input'!D328=\"\",\"\",'Data Input'!D328)","v":""},{"$f":"IF('Data Input'!E328=\"\",\"\",'Data Input'!E328)","v":""},{"$f":"IF('Data Input'!F328=\"\",\"\",'Data Input'!F328)","v":""},{"$f":"IF('Data Input'!G328=\"\",\"\",'Data Input'!G328)","v":""},{"$f":"IF('Data Input'!B328=\"\",\"\",'Data Input'!B328)","v":""},{"$f":"IF('Data Input'!C328=\"\",\"\",'Data Input'!C328)","v":""},{"$f":"IF('Data Input'!J328=\"\",\"\",'Data Input'!J328)","v":""},{"$f":"IF('Data Input'!K328=\"\",\"\",'Data Input'!K328)","v":""},{"$f":"IF('Data Input'!O328=\"\",\"\",'Data Input'!O328)","v":""},{"$f":"IF('Data Input'!L328=\"\",\"\",'Data Input'!L328)","v":""},{"$f":"IF('Data Input'!M328=\"\",\"\",'Data Input'!M328)","v":""},{"$f":"IF('Data Input'!Q328=\"\",\"\",'Data Input'!Q328)","v":""},{"$f":"IF('Data Input'!N328=\"\",\"\",'Data Input'!N328)","v":""},null,null,null,null,null,null,null,null,"",{"$f":"IFERROR(VLOOKUP($Z330,Lookup!$C:$E,2,FALSE),\"\")","v":""},{"$f":"IFERROR(VLOOKUP($AA330,Lookup!$D:$E,2,FALSE),\"\")","v":""},"",{"$f":"IFERROR(VLOOKUP($AC330,Lookup!$C:$E,2,FALSE),\"\")","v":""},{"$f":"IFERROR(VLOOKUP($AD330,Lookup!$D:$E,2,FALSE),\"\")","v":""},"",{"$f":"IFERROR(VLOOKUP($AF330,Lookup!$C:$E,2,FALSE),\"\")","v":""},{"$f":"IFERROR(VLOOKUP($AG330,Lookup!$D:$E,2,FALSE),\"\")","v":""},""]
[{"$f":"IF('Data Input'!I329=\"\",\"\",'Data Input'!I329)","v":""},{"$f":"IF('Data Input'!H329=\"\",\"\",'Data Input'!H329)","v":""},{"$f":"IF('Data Input'!A329=\"\",\"\",'Data Input'!A329)","v":""},{"$f":"IF('Data Input'!R329=\"\",\"\",'Data Input'!R329)","v":""},{"$f":"IF('Data Input'!D329=\"\",\"\",'Data Input'!D329)","v":""},{"$f":"IF('Data Input'!E329=\"\",\"\",'Data Input'!E329)","v":""},{"$f":"IF('Data Input'!F329=\"\",\"\",'Data Input'!F329)","v":""},{"$f":"IF('Data Input'!G329=\"\",\"\",'Data Input'!G329)","v":""},{"$f":"IF('Data Input'!B329=\"\",\"\",'Data Input'!B329)","v":""},{"$f":"IF('Data Input'!C329=\"\",\"\",'Data Input'!C329)","v":""},{"$f":"IF('Data Input'!J329=\"\",\"\",'Data Input'!J329)","v":""},{"$f":"IF('Data Input'!K329=\"\",\"\",'Data Input'!K329)","v":""},{"$f":"IF('Data Input'!O329=\"\",\"\",'Data Input'!O329)","v":""},{"$f":"IF('Data Input'!L329=\"\",\"\",'Data Input'!L329)","v":""},{"$f":"IF('Data Input'!M329=\"\",\"\",'Data Input'!M329)","v":""},{"$f":"IF('Data Input'!Q329=\"\",\"\",'Data Input'!Q329)","v":""},{"$f":"IF('Data Input'!N329=\"\",\"\",'Data Input'!N329)","v":""},null,null,null,null,null,null,null,null,"",{"$f":"IFERROR(VLOOKUP($Z331,Lookup!$C:$E,2,FALSE),\"\")","v":""},{"$f":"IFERROR(VLOOKUP($AA331,Lookup!$D:$E,2,FALSE),\"\")","v":""},"",{"$f":"IFERROR(VLOOKUP($AC331,Lookup!$C:$E,2,FALSE),\"\")","v":""},{"$f":"IFERROR(VLOOKUP($AD331,Lookup!$D:$E,2,FALSE),\"\")","v":""},"",{"$f":"IFERROR(VLOOKUP($AF331,Lookup!$C:$E,2,FALSE),\"\")","v":""},{"$f":"IFERROR(VLOOKUP($AG331,Lookup!$D:$E,2,FALSE),\"\")","v":""},""]
[{"$f":"IF('Data Input'!I330=\"\",\"\",'Data Input'!I330)","v":""},{"$f":"IF('Data Input'!H330=\"\",\"\",'Data Input'!H330)","v":""},{"$f":"IF('Data Input'!A330=\"\",\"\",'Data Input'!A330)","v":""},{"$f":"IF('Data Input'!R330=\"\",\"\",'Data Input'!R330)","v":""},{"$f":"IF('Data Input'!D330=\"\",\"\",'Data Input'!D330)","v":""},{"$f":"IF('Data Input'!E330=\"\",\"\",'Data Input'!E330)","v":""},{"$f":"IF('Data Input'!F330=\"\",\"\",'Data Input'!F330)","v":""},{"$f":"IF('Data Input'!G330=\"\",\"\",'Data Input'!G330)","v":""},{"$f":"IF('Data Input'!B330=\"\",\"\",'Data Input'!B330)","v":""},{"$f":"IF('Data Input'!C330=\"\",\"\",'Data Input'!C330)","v":""},{"$f":"IF('Data Input'!J330=\"\",\"\",'Data Input'!J330)","v":""},{"$f":"IF('Data Input'!K330=\"\",\"\",'Data Input'!K330)","v":""},{"$f":"IF('Data Input'!O330=\"\",\"\",'Data Input'!O330)","v":""},{"$f":"IF('Data Input'!L330=\"\",\"\",'Data Input'!L330)","v":""},{"$f":"IF('Data Input'!M330=\"\",\"\",'Data Input'!M330)","v":""},{"$f":"IF('Data Input'!Q330=\"\",\"\",'Data Input'!Q330)","v":""},{"$f":"IF('Data Input'!N330=\"\",\"\",'Data Input'!N330)","v":""},null,null,null,null,null,null,null,null,"",{"$f":"IFERROR(VLOOKUP($Z332,Lookup!$C:$E,2,FALSE),\"\")","v":""},{"$f":"IFERROR(VLOOKUP($AA332,Lookup!$D:$E,2,FALSE),\"\")","v":""},"",{"$f":"IFERROR(VLOOKUP($AC332,Lookup!$C:$E,2,FALSE),\"\")","v":""},{"$f":"IFERROR(VLOOKUP($AD332,Lookup!$D:$E,2,FALSE),\"\")","v":""},"",{"$f":"IFERROR(VLOOKUP($AF332,Lookup!$C:$E,2,FALSE),\"\")","v":""},{"$f":"IFERROR(VLOOKUP($AG332,Lookup!$D:$E,2,FALSE),\"\")","v":""},""]
[{"$f":"IF('Data Input'!I331=\"\",\"\",'Data Input'!I331)","v":""},{"$f":"IF('Data Input'!H331=\"\",\"\",'Data Input'!H331)","v":""},{"$f":"IF('Data Input'!A331=\"\",\"\",'Data Input'!A331)","v":""},{"$f":"IF('Data Input'!R331=\"\",\"\",'Data Input'!R331)","v":""},{"$f":"IF('Data Input'!D331=\"\",\"\",'Data Input'!D331)","v":""},{"$f":"IF('Data Input'!E331=\"\",\"\",'Data Input'!E331)","v":""},{"$f":"IF('Data Input'!F331=\"\",\"\",'Data Input'!F331)","v":""},{"$f":"IF('Data Input'!G331=\"\",\"\",'Data Input'!G331)","v":""},{"$f":"IF('Data Input'!B331=\"\",\"\",'Data Input'!B331)","v":""},{"$f":"IF('Data Input'!C331=\"\",\"\",'Data Input'!C331)","v":""},{"$f":"IF('Data Input'!J331=\"\",\"\",'Data Input'!J331)","v":""},{"$f":"IF('Data Input'!K331=\"\",\"\",'Data Input'!K331)","v":""},{"$f":"IF('Data Input'!O331=\"\",\"\",'Data Input'!O331)","v":""},{"$f":"IF('Data Input'!L331=\"\",\"\",'Data Input'!L331)","v":""},{"$f":"IF('Data Input'!M331=\"\",\"\",'Data Input'!M331)","v":""},{"$f":"IF('Data Input'!Q331=\"\",\"\",'Data Input'!Q331)","v":""},{"$f":"IF('Data Input'!N331=\"\",\"\",'Data Input'!N331)","v":""},null,null,null,null,null,null,null,null,"",{"$f":"IFERROR(VLOOKUP($Z333,Lookup!$C:$E,2,FALSE),\"\")","v":""},{"$f":"IFERROR(VLOOKUP($AA333,Lookup!$D:$E,2,FALSE),\"\")","v":""},"",{"$f":"IFERROR(VLOOKUP($AC333,Lookup!$C:$E,2,FALSE),\"\")","v":""},{"$f":"IFERROR(VLOOKUP($AD333,Lookup!$D:$E,2,FALSE),\"\")","v":""},"",{"$f":"IFERROR(VLOOKUP($AF333,Lookup!$C:$E,2,FALSE),\"\")","v":""},{"$f":"IFERROR(VLOOKUP($AG333,Lookup!$D:$E,2,FALSE),\"\")","v":""},""]
[{"$f":"IF('Data Input'!I332=\"\",\"\",'Data Input'!I332)","v":""},{"$f":"IF('Data Input'!H332=\"\",\"\",'Data Input'!H332)","v":""},{"$f":"IF('Data Input'!A332=\"\",\"\",'Data Input'!A332)","v":""},{"$f":"IF('Data Input'!R332=\"\",\"\",'Data Input'!R332)","v":""},{"$f":"IF('Data Input'!D332=\"\",\"\",'Data Input'!D332)","v":""},{"$f":"IF('Data Input'!E332=\"\",\"\",'Data Input'!E332)","v":""},{"$f":"IF('Data Input'!F332=\"\",\"\",'Data Input'!F332)","v":""},{"$f":"IF('Data Input'!G332=\"\",\"\",'Data Input'!G332)","v":""},{"$f":"IF('Data Input'!B332=\"\",\"\",'Data Input'!B332)","v":""},{"$f":"IF('Data Input'!C332=\"\",\"\",'Data Input'!C332)","v":""},{"$f":"IF('Data Input'!J332=\"\",\"\",'Data Input'!J332)","v":""},{"$f":"IF('Data Input'!K332=\"\",\"\",'Data Input'!K332)","v":""},{"$f":"IF('Data Input'!O332=\"\",\"\",'Data Input'!O332)","v":""},{"$f":"IF('Data Input'!L332=\"\",\"\",'Data Input'!L332)","v":""},{"$f":"IF('Data Input'!M332=\"\",\"\",'Data Input'!M332)","v":""},{"$f":"IF('Data Input'!Q332=\"\",\"\",'Data Input'!Q332)","v":""},{"$f":"IF('Data Input'!N332=\"\",\"\",'Data Input'!N332)","v":""},null,null,null,null,null,null,null,null,"",{"$f":"IFERROR(VLOOKUP($Z334,Lookup!$C:$E,2,FALSE),\"\")","v":""},{"$f":"IFERROR(VLOOKUP($AA334,Lookup!$D:$E,2,FALSE),\"\")","v":""},"",{"$f":"IFERROR(VLOOKUP($AC334,Lookup!$C:$E,2,FALSE),\"\")","v":""},{"$f":"IFERROR(VLOOKUP($AD334,Lookup!$D:$E,2,FALSE),\"\")","v":""},"",{"$f":"IFERROR(VLOOKUP($AF334,Lookup!$C:$E,2,FALSE),\"\")","v":""},{"$f":"IFERROR(VLOOKUP($AG334,Lookup!$D:$E,2,FALSE),\"\")","v":""},""]
[{"$f":"IF('Data Input'!I333=\"\",\"\",'Data Input'!I333)","v":""},{"$f":"IF('Data Input'!H333=\"\",\"\",'Data Input'!H333)","v":""},{"$f":"IF('Data Input'!A333=\"\",\"\",'Data Input'!A333)","v":""},{"$f":"IF('Data Input'!R333=\"\",\"\",'Data Input'!R333)","v":""},{"$f":"IF('Data Input'!D333=\"\",\"\",'Data Input'!D333)","v":""},{"$f":"IF('Data Input'!E333=\"\",\"\",'Data Input'!E333)","v":""},{"$f":"IF('Data Input'!F333=\"\",\"\",'Data Input'!F333)","v":""},{"$f":"IF('Data Input'!G333=\"\",\"\",'Data Input'!G333)","v":""},{"$f":"IF('Data Input'!B333=\"\",\"\",'Data Input'!B333)","v":""},{"$f":"IF('Data Input'!C333=\"\",\"\",'Data Input'!C333)","v":""},{"$f":"IF('Data Input'!J333=\"\",\"\",'Data Input'!J333)","v":""},{"$f":"IF('Data Input'!K333=\"\",\"\",'Data Input'!K333)","v":""},{"$f":"IF('Data Input'!O333=\"\",\"\",'Data Input'!O333)","v":""},{"$f":"IF('Data Input'!L333=\"\",\"\",'Data Input'!L333)","v":""},{"$f":"IF('Data Input'!M333=\"\",\"\",'Data Input'!M333)","v":""},{"$f":"IF('Data Input'!Q333=\"\",\"\",'Data Input'!Q333)","v":""},{"$f":"IF('Data Input'!N333=\"\",\"\",'Data Input'!N333)","v":""},null,null,null,null,null,null,null,null,"",{"$f":"IFERROR(VLOOKUP($Z335,Lookup!$C:$E,2,FALSE),\"\")","v":""},{"$f":"IFERROR(VLOOKUP($AA335,Lookup!$D:$E,2,FALSE),\"\")","v":""},"",{"$f":"IFERROR(VLOOKUP($AC335,Lookup!$C:$E,2,FALSE),\"\")","v":""},{"$f":"IFERROR(VLOOKUP($AD335,Lookup!$D:$E,2,FALSE),\"\")","v":""},"",{"$f":"IFERROR(VLOOKUP($AF335,Lookup!$C:$E,2,FALSE),\"\")","v":""},{"$f":"IFERROR(VLOOKUP($AG335,Lookup!$D:$E,2,FALSE),\"\")","v":""},""]
[{"$f":"IF('Data Input'!I334=\"\",\"\",'Data Input'!I334)","v":""},{"$f":"IF('Data Input'!H334=\"\",\"\",'Data Input'!H334)","v":""},{"$f":"IF('Data Input'!A334=\"\",\"\",'Data Input'!A334)","v":""},{"$f":"IF('Data Input'!R334=\"\",\"\",'Data Input'!R334)","v":""},{"$f":"IF('Data Input'!D334=\"\",\"\",'Data Input'!D334)","v":""},{"$f":"IF('Data Input'!E334=\"\",\"\",'Data Input'!E334)","v":""},{"$f":"IF('Data Input'!F334=\"\",\"\",'Data Input'!F334)","v":""},{"$f":"IF('Data Input'!G334=\"\",\"\",'Data Input'!G334)","v":""},{"$f":"IF('Data Input'!B334=\"\",\"\",'Data Input'!B334)","v":""},{"$f":"IF('Data Input'!C334=\"\",\"\",'Data Input'!C334)","v":""},{"$f":"IF('Data Input'!J334=\"\",\"\",'Data Input'!J334)","v":""},{"$f":"IF('Data Input'!K334=\"\",\"\",'Data Input'!K334)","v":""},{"$f":"IF('Data Input'!O334=\"\",\"\",'Data Input'!O334)","v":""},{"$f":"IF('Data Input'!L334=\"\",\"\",'Data Input'!L334)","v":""},{"$f":"IF('Data Input'!M334=\"\",\"\",'Data Input'!M334)","v":""},{"$f":"IF('Data Input'!Q334=\"\",\"\",'Data Input'!Q334)","v":""},{"$f":"IF('Data Input'!N334=\"\",\"\",'Data Input'!N334)","v":""},null,null,null,null,null,null,null,null,"",{"$f":"IFERROR(VLOOKUP($Z336,Lookup!$C:$E,2,FALSE),\"\")","v":""},{"$f":"IFERROR(VLOOKUP($AA336,Lookup!$D:$E,2,FALSE),\"\")","v":""},"",{"$f":"IFERROR(VLOOKUP($AC336,Lookup!$C:$E,2,FALSE),\"\")","v":""},{"$f":"IFERROR(VLOOKUP($AD336,Lookup!$D:$E,2,FALSE),\"\")","v":""},"",{"$f":"IFERROR(VLOOKUP($AF336,Lookup!$C:$E,2,FALSE),\"\")","v":""},{"$f":"IFERROR(VLOOKUP($AG336,Lookup!$D:$E,2,FALSE),\"\")","v":""},""]
[{"$f":"IF('Data Input'!I335=\"\",\"\",'Data Input'!I335)","v":""},{"$f":"IF('Data Input'!H335=\"\",\"\",'Data Input'!H335)","v":""},{"$f":"IF('Data Input'!A335=\"\",\"\",'Data Input'!A335)","v":""},{"$f":"IF('Data Input'!R335=\"\",\"\",'Data Input'!R335)","v":""},{"$f":"IF('Data Input'!D335=\"\",\"\",'Data Input'!D335)","v":""},{"$f":"IF('Data Input'!E335=\"\",\"\",'Data Input'!E335)","v":""},{"$f":"IF('Data Input'!F335=\"\",\"\",'Data Input'!F335)","v":""},{"$f":"IF('Data Input'!G335=\"\",\"\",'Data Input'!G335)","v":""},{"$f":"IF('Data Input'!B335=\"\",\"\",'Data Input'!B335)","v":""},{"$f":"IF('Data Input'!C335=\"\",\"\",'Data Input'!C335)","v":""},{"$f":"IF('Data Input'!J335=\"\",\"\",'Data Input'!J335)","v":""},{"$f":"IF('Data Input'!K335=\"\",\"\",'Data Input'!K335)","v":""},{"$f":"IF('Data Input'!O335=\"\",\"\",'Data Input'!O335)","v":""},{"$f":"IF('Data Input'!L335=\"\",\"\",'Data Input'!L335)","v":""},{"$f":"IF('Data Input'!M335=\"\",\"\",'Data Input'!M335)","v":""},{"$f":"IF('Data Input'!Q335=\"\",\"\",'Data Input'!Q335)","v":""},{"$f":"IF('Data Input'!N335=\"\",\"\",'Data Input'!N335)","v":""},null,null,null,null,null,null,null,null,"",{"$f":"IFERROR(VLOOKUP($Z337,Lookup!$C:$E,2,FALSE),\"\")","v":""},{"$f":"IFERROR(VLOOKUP($AA337,Lookup!$D:$E,2,FALSE),\"\")","v":""},"",{"$f":"IFERROR(VLOOKUP($AC337,Lookup!$C:$E,2,FALSE),\"\")","v":""},{"$f":"IFERROR(VLOOKUP($AD337,Lookup!$D:$E,2,FALSE),\"\")","v":""},"",{"$f":"IFERROR(VLOOKUP($AF337,Lookup!$C:$E,2,FALSE),\"\")","v":""},{"$f":"IFERROR(VLOOKUP($AG337,Lookup!$D:$E,2,FALSE),\"\")","v":""},""]
[{"$f":"IF('Data Input'!I336=\"\",\"\",'Data Input'!I336)","v":""},{"$f":"IF('Data Input'!H336=\"\",\"\",'Data Input'!H336)","v":""},{"$f":"IF('Data Input'!A336=\"\",\"\",'Data Input'!A336)","v":""},{"$f":"IF('Data Input'!R336=\"\",\"\",'Data Input'!R336)","v":""},{"$f":"IF('Data Input'!D336=\"\",\"\",'Data Input'!D336)","v":""},{"$f":"IF('Data Input'!E336=\"\",\"\",'Data Input'!E336)","v":""},{"$f":"IF('Data Input'!F336=\"\",\"\",'Data Input'!F336)","v":""},{"$f":"IF('Data Input'!G336=\"\",\"\",'Data Input'!G336)","v":""},{"$f":"IF('Data Input'!B336=\"\",\"\",'Data Input'!B336)","v":""},{"$f":"IF('Data Input'!C336=\"\",\"\",'Data Input'!C336)","v":""},{"$f":"IF('Data Input'!J336=\"\",\"\",'Data Input'!J336)","v":""},{"$f":"IF('Data Input'!K336=\"\",\"\",'Data Input'!K336)","v":""},{"$f":"IF('Data Input'!O336=\"\",\"\",'Data Input'!O336)","v":""},{"$f":"IF('Data Input'!L336=\"\",\"\",'Data Input'!L336)","v":""},{"$f":"IF('Data Input'!M336=\"\",\"\",'Data Input'!M336)","v":""},{"$f":"IF('Data Input'!Q336=\"\",\"\",'Data Input'!Q336)","v":""},{"$f":"IF('Data Input'!N336=\"\",\"\",'Data Input'!N336)","v":""},null,null,null,null,null,null,null,null,"",{"$f":"IFERROR(VLOOKUP($Z338,Lookup!$C:$E,2,FALSE),\"\")","v":""},{"$f":"IFERROR(VLOOKUP($AA338,Lookup!$D:$E,2,FALSE),\"\")","v":""},"",{"$f":"IFERROR(VLOOKUP($AC338,Lookup!$C:$E,2,FALSE),\"\")","v":""},{"$f":"IFERROR(VLOOKUP($AD338,Lookup!$D:$E,2,FALSE),\"\")","v":""},"",{"$f":"IFERROR(VLOOKUP($AF338,Lookup!$C:$E,2,FALSE),\"\")","v":""},{"$f":"IFERROR(VLOOKUP($AG338,Lookup!$D:$E,2,FALSE),\"\")","v":""},""]
[{"$f":"IF('Data Input'!I337=\"\",\"\",'Data Input'!I337)","v":""},{"$f":"IF('Data Input'!H337=\"\",\"\",'Data Input'!H337)","v":""},{"$f":"IF('Data Input'!A337=\"\",\"\",'Data Input'!A337)","v":""},{"$f":"IF('Data Input'!R337=\"\",\"\",'Data Input'!R337)","v":""},{"$f":"IF('Data Input'!D337=\"\",\"\",'Data Input'!D337)","v":""},{"$f":"IF('Data Input'!E337=\"\",\"\",'Data Input'!E337)","v":""},{"$f":"IF('Data Input'!F337=\"\",\"\",'Data Input'!F337)","v":""},{"$f":"IF('Data Input'!G337=\"\",\"\",'Data Input'!G337)","v":""},{"$f":"IF('Data Input'!B337=\"\",\"\",'Data Input'!B337)","v":""},{"$f":"IF('Data Input'!C337=\"\",\"\",'Data Input'!C337)","v":""},{"$f":"IF('Data Input'!J337=\"\",\"\",'Data Input'!J337)","v":""},{"$f":"IF('Data Input'!K337=\"\",\"\",'Data Input'!K337)","v":""},{"$f":"IF('Data Input'!O337=\"\",\"\",'Data Input'!O337)","v":""},{"$f":"IF('Data Input'!L337=\"\",\"\",'Data Input'!L337)","v":""},{"$f":"IF('Data Input'!M337=\"\",\"\",'Data Input'!M337)","v":""},{"$f":"IF('Data Input'!Q337=\"\",\"\",'Data Input'!Q337)","v":""},{"$f":"IF('Data Input'!N337=\"\",\"\",'Data Input'!N337)","v":""},null,null,null,null,null,null,null,null,"",{"$f":"IFERROR(VLOOKUP($Z339,Lookup!$C:$E,2,FALSE),\"\")","v":""},{"$f":"IFERROR(VLOOKUP($AA339,Lookup!$D:$E,2,FALSE),\"\")","v":""},"",{"$f":"IFERROR(VLOOKUP($AC339,Lookup!$C:$E,2,FALSE),\"\")","v":""},{"$f":"IFERROR(VLOOKUP($AD339,Lookup!$D:$E,2,FALSE),\"\")","v":""},"",{"$f":"IFERROR(VLOOKUP($AF339,Lookup!$C:$E,2,FALSE),\"\")","v":""},{"$f":"IFERROR(VLOOKUP($AG339,Lookup!$D:$E,2,FALSE),\"\")","v":""},""]
[{"$f":"IF('Data Input'!I338=\"\",\"\",'Data Input'!I338)","v":""},{"$f":"IF('Data Input'!H338=\"\",\"\",'Data Input'!H338)","v":""},{"$f":"IF('Data Input'!A338=\"\",\"\",'Data Input'!A338)","v":""},{"$f":"IF('Data Input'!R338=\"\",\"\",'Data Input'!R338)","v":""},{"$f":"IF('Data Input'!D338=\"\",\"\",'Data Input'!D338)","v":""},{"$f":"IF('Data Input'!E338=\"\",\"\",'Data Input'!E338)","v":""},{"$f":"IF('Data Input'!F338=\"\",\"\",'Data Input'!F338)","v":""},{"$f":"IF('Data Input'!G338=\"\",\"\",'Data Input'!G338)","v":""},{"$f":"IF('Data Input'!B338=\"\",\"\",'Data Input'!B338)","v":""},{"$f":"IF('Data Input'!C338=\"\",\"\",'Data Input'!C338)","v":""},{"$f":"IF('Data Input'!J338=\"\",\"\",'Data Input'!J338)","v":""},{"$f":"IF('Data Input'!K338=\"\",\"\",'Data Input'!K338)","v":""},{"$f":"IF('Data Input'!O338=\"\",\"\",'Data Input'!O338)","v":""},{"$f":"IF('Data Input'!L338=\"\",\"\",'Data Input'!L338)","v":""},{"$f":"IF('Data Input'!M338=\"\",\"\",'Data Input'!M338)","v":""},{"$f":"IF('Data Input'!Q338=\"\",\"\",'Data Input'!Q338)","v":""},{"$f":"IF('Data Input'!N338=\"\",\"\",'Data Input'!N338)","v":""},null,null,null,null,null,null,null,null,"",{"$f":"IFERROR(VLOOKUP($Z340,Lookup!$C:$E,2,FALSE),\"\")","v":""},{"$f":"IFERROR(VLOOKUP($AA340,Lookup!$D:$E,2,FALSE),\"\")","v":""},"",{"$f":"IFERROR(VLOOKUP($AC340,Lookup!$C:$E,2,FALSE),\"\")","v":""},{"$f":"IFERROR(VLOOKUP($AD340,Lookup!$D:$E,2,FALSE),\"\")","v":""},"",{"$f":"IFERROR(VLOOKUP($AF340,Lookup!$C:$E,2,FALSE),\"\")","v":""},{"$f":"IFERROR(VLOOKUP($AG340,Lookup!$D:$E,2,FALSE),\"\")","v":""},""]
[{"$f":"IF('Data Input'!I339=\"\",\"\",'Data Input'!I339)","v":""},{"$f":"IF('Data Input'!H339=\"\",\"\",'Data Input'!H339)","v":""},{"$f":"IF('Data Input'!A339=\"\",\"\",'Data Input'!A339)","v":""},{"$f":"IF('Data Input'!R339=\"\",\"\",'Data Input'!R339)","v":""},{"$f":"IF('Data Input'!D339=\"\",\"\",'Data Input'!D339)","v":""},{"$f":"IF('Data Input'!E339=\"\",\"\",'Data Input'!E339)","v":""},{"$f":"IF('Data Input'!F339=\"\",\"\",'Data Input'!F339)","v":""},{"$f":"IF('Data Input'!G339=\"\",\"\",'Data Input'!G339)","v":""},{"$f":"IF('Data Input'!B339=\"\",\"\",'Data Input'!B339)","v":""},{"$f":"IF('Data Input'!C339=\"\",\"\",'Data Input'!C339)","v":""},{"$f":"IF('Data Input'!J339=\"\",\"\",'Data Input'!J339)","v":""},{"$f":"IF('Data Input'!K339=\"\",\"\",'Data Input'!K339)","v":""},{"$f":"IF('Data Input'!O339=\"\",\"\",'Data Input'!O339)","v":""},{"$f":"IF('Data Input'!L339=\"\",\"\",'Data Input'!L339)","v":""},{"$f":"IF('Data Input'!M339=\"\",\"\",'Data Input'!M339)","v":""},{"$f":"IF('Data Input'!Q339=\"\",\"\",'Data Input'!Q339)","v":""},{"$f":"IF('Data Input'!N339=\"\",\"\",'Data Input'!N339)","v":""},null,null,null,null,null,null,null,null,"",{"$f":"IFERROR(VLOOKUP($Z341,Lookup!$C:$E,2,FALSE),\"\")","v":""},{"$f":"IFERROR(VLOOKUP($AA341,Lookup!$D:$E,2,FALSE),\"\")","v":""},"",{"$f":"IFERROR(VLOOKUP($AC341,Lookup!$C:$E,2,FALSE),\"\")","v":""},{"$f":"IFERROR(VLOOKUP($AD341,Lookup!$D:$E,2,FALSE),\"\")","v":""},"",{"$f":"IFERROR(VLOOKUP($AF341,Lookup!$C:$E,2,FALSE),\"\")","v":""},{"$f":"IFERROR(VLOOKUP($AG341,Lookup!$D:$E,2,FALSE),\"\")","v":""},""]
[{"$f":"IF('Data Input'!I340=\"\",\"\",'Data Input'!I340)","v":""},{"$f":"IF('Data Input'!H340=\"\",\"\",'Data Input'!H340)","v":""},{"$f":"IF('Data Input'!A340=\"\",\"\",'Data Input'!A340)","v":""},{"$f":"IF('Data Input'!R340=\"\",\"\",'Data Input'!R340)","v":""},{"$f":"IF('Data Input'!D340=\"\",\"\",'Data Input'!D340)","v":""},{"$f":"IF('Data Input'!E340=\"\",\"\",'Data Input'!E340)","v":""},{"$f":"IF('Data Input'!F340=\"\",\"\",'Data Input'!F340)","v":""},{"$f":"IF('Data Input'!G340=\"\",\"\",'Data Input'!G340)","v":""},{"$f":"IF('Data Input'!B340=\"\",\"\",'Data Input'!B340)","v":""},{"$f":"IF('Data Input'!C340=\"\",\"\",'Data Input'!C340)","v":""},{"$f":"IF('Data Input'!J340=\"\",\"\",'Data Input'!J340)","v":""},{"$f":"IF('Data Input'!K340=\"\",\"\",'Data Input'!K340)","v":""},{"$f":"IF('Data Input'!O340=\"\",\"\",'Data Input'!O340)","v":""},{"$f":"IF('Data Input'!L340=\"\",\"\",'Data Input'!L340)","v":""},{"$f":"IF('Data Input'!M340=\"\",\"\",'Data Input'!M340)","v":""},{"$f":"IF('Data Input'!Q340=\"\",\"\",'Data Input'!Q340)","v":""},{"$f":"IF('Data Input'!N340=\"\",\"\",'Data Input'!N340)","v":""},null,null,null,null,null,null,null,null,"",{"$f":"IFERROR(VLOOKUP($Z342,Lookup!$C:$E,2,FALSE),\"\")","v":""},{"$f":"IFERROR(VLOOKUP($AA342,Lookup!$D:$E,2,FALSE),\"\")","v":""},"",{"$f":"IFERROR(VLOOKUP($AC342,Lookup!$C:$E,2,FALSE),\"\")","v":""},{"$f":"IFERROR(VLOOKUP($AD342,Lookup!$D:$E,2,FALSE),\"\")","v":""},"",{"$f":"IFERROR(VLOOKUP($AF342,Lookup!$C:$E,2,FALSE),\"\")","v":""},{"$f":"IFERROR(VLOOKUP($AG342,Lookup!$D:$E,2,FALSE),\"\")","v":""},""]
[{"$f":"IF('Data Input'!I341=\"\",\"\",'Data Input'!I341)","v":""},{"$f":"IF('Data Input'!H341=\"\",\"\",'Data Input'!H341)","v":""},{"$f":"IF('Data Input'!A341=\"\",\"\",'Data Input'!A341)","v":""},{"$f":"IF('Data Input'!R341=\"\",\"\",'Data Input'!R341)","v":""},{"$f":"IF('Data Input'!D341=\"\",\"\",'Data Input'!D341)","v":""},{"$f":"IF('Data Input'!E341=\"\",\"\",'Data Input'!E341)","v":""},{"$f":"IF('Data Input'!F341=\"\",\"\",'Data Input'!F341)","v":""},{"$f":"IF('Data Input'!G341=\"\",\"\",'Data Input'!G341)","v":""},{"$f":"IF('Data Input'!B341=\"\",\"\",'Data Input'!B341)","v":""},{"$f":"IF('Data Input'!C341=\"\",\"\",'Data Input'!C341)","v":""},{"$f":"IF('Data Input'!J341=\"\",\"\",'Data Input'!J341)","v":""},{"$f":"IF('Data Input'!K341=\"\",\"\",'Data Input'!K341)","v":""},{"$f":"IF('Data Input'!O341=\"\",\"\",'Data Input'!O341)","v":""},{"$f":"IF('Data Input'!L341=\"\",\"\",'Data Input'!L341)","v":""},{"$f":"IF('Data Input'!M341=\"\",\"\",'Data Input'!M341)","v":""},{"$f":"IF('Data Input'!Q341=\"\",\"\",'Data Input'!Q341)","v":""},{"$f":"IF('Data Input'!N341=\"\",\"\",'Data Input'!N341)","v":""},null,null,null,null,null,null,null,null,"",{"$f":"IFERROR(VLOOKUP($Z343,Lookup!$C:$E,2,FALSE),\"\")","v":""},{"$f":"IFERROR(VLOOKUP($AA343,Lookup!$D:$E,2,FALSE),\"\")","v":""},"",{"$f":"IFERROR(VLOOKUP($AC343,Lookup!$C:$E,2,FALSE),\"\")","v":""},{"$f":"IFERROR(VLOOKUP($AD343,Lookup!$D:$E,2,FALSE),\"\")","v":""},"",{"$f":"IFERROR(VLOOKUP($AF343,Lookup!$C:$E,2,FALSE),\"\")","v":""},{"$f":"IFERROR(VLOOKUP($AG343,Lookup!$D:$E,2,FALSE),\"\")","v":""},""]
[{"$f":"IF('Data Input'!I342=\"\",\"\",'Data Input'!I342)","v":""},{"$f":"IF('Data Input'!H342=\"\",\"\",'Data Input'!H342)","v":""},{"$f":"IF('Data Input'!A342=\"\",\"\",'Data Input'!A342)","v":""},{"$f":"IF('Data Input'!R342=\"\",\"\",'Data Input'!R342)","v":""},{"$f":"IF('Data Input'!D342=\"\",\"\",'Data Input'!D342)","v":""},{"$f":"IF('Data Input'!E342=\"\",\"\",'Data Input'!E342)","v":""},{"$f":"IF('Data Input'!F342=\"\",\"\",'Data Input'!F342)","v":""},{"$f":"IF('Data Input'!G342=\"\",\"\",'Data Input'!G342)","v":""},{"$f":"IF('Data Input'!B342=\"\",\"\",'Data Input'!B342)","v":""},{"$f":"IF('Data Input'!C342=\"\",\"\",'Data Input'!C342)","v":""},{"$f":"IF('Data Input'!J342=\"\",\"\",'Data Input'!J342)","v":""},{"$f":"IF('Data Input'!K342=\"\",\"\",'Data Input'!K342)","v":""},{"$f":"IF('Data Input'!O342=\"\",\"\",'Data Input'!O342)","v":""},{"$f":"IF('Data Input'!L342=\"\",\"\",'Data Input'!L342)","v":""},{"$f":"IF('Data Input'!M342=\"\",\"\",'Data Input'!M342)","v":""},{"$f":"IF('Data Input'!Q342=\"\",\"\",'Data Input'!Q342)","v":""},{"$f":"IF('Data Input'!N342=\"\",\"\",'Data Input'!N342)","v":""},null,null,null,null,null,null,null,null,"",{"$f":"IFERROR(VLOOKUP($Z344,Lookup!$C:$E,2,FALSE),\"\")","v":""},{"$f":"IFERROR(VLOOKUP($AA344,Lookup!$D:$E,2,FALSE),\"\")","v":""},"",{"$f":"IFERROR(VLOOKUP($AC344,Lookup!$C:$E,2,FALSE),\"\")","v":""},{"$f":"IFERROR(VLOOKUP($AD344,Lookup!$D:$E,2,FALSE),\"\")","v":""},"",{"$f":"IFERROR(VLOOKUP($AF344,Lookup!$C:$E,2,FALSE),\"\")","v":""},{"$f":"IFERROR(VLOOKUP($AG344,Lookup!$D:$E,2,FALSE),\"\")","v":""},""]
[{"$f":"IF('Data Input'!I343=\"\",\"\",'Data Input'!I343)","v":""},{"$f":"IF('Data Input'!H343=\"\",\"\",'Data Input'!H343)","v":""},{"$f":"IF('Data Input'!A343=\"\",\"\",'Data Input'!A343)","v":""},{"$f":"IF('Data Input'!R343=\"\",\"\",'Data Input'!R343)","v":""},{"$f":"IF('Data Input'!D343=\"\",\"\",'Data Input'!D343)","v":""},{"$f":"IF('Data Input'!E343=\"\",\"\",'Data Input'!E343)","v":""},{"$f":"IF('Data Input'!F343=\"\",\"\",'Data Input'!F343)","v":""},{"$f":"IF('Data Input'!G343=\"\",\"\",'Data Input'!G343)","v":""},{"$f":"IF('Data Input'!B343=\"\",\"\",'Data Input'!B343)","v":""},{"$f":"IF('Data Input'!C343=\"\",\"\",'Data Input'!C343)","v":""},{"$f":"IF('Data Input'!J343=\"\",\"\",'Data Input'!J343)","v":""},{"$f":"IF('Data Input'!K343=\"\",\"\",'Data Input'!K343)","v":""},{"$f":"IF('Data Input'!O343=\"\",\"\",'Data Input'!O343)","v":""},{"$f":"IF('Data Input'!L343=\"\",\"\",'Data Input'!L343)","v":""},{"$f":"IF('Data Input'!M343=\"\",\"\",'Data Input'!M343)","v":""},{"$f":"IF('Data Input'!Q343=\"\",\"\",'Data Input'!Q343)","v":""},{"$f":"IF('Data Input'!N343=\"\",\"\",'Data Input'!N343)","v":""},null,null,null,null,null,null,null,null,"",{"$f":"IFERROR(VLOOKUP($Z345,Lookup!$C:$E,2,FALSE),\"\")","v":""},{"$f":"IFERROR(VLOOKUP($AA345,Lookup!$D:$E,2,FALSE),\"\")","v":""},"",{"$f":"IFERROR(VLOOKUP($AC345,Lookup!$C:$E,2,FALSE),\"\")","v":""},{"$f":"IFERROR(VLOOKUP($AD345,Lookup!$D:$E,2,FALSE),\"\")","v":""},"",{"$f":"IFERROR(VLOOKUP($AF345,Lookup!$C:$E,2,FALSE),\"\")","v":""},{"$f":"IFERROR(VLOOKUP($AG345,Lookup!$D:$E,2,FALSE),\"\")","v":""},""]
[{"$f":"IF('Data Input'!I344=\"\",\"\",'Data Input'!I344)","v":""},{"$f":"IF('Data Input'!H344=\"\",\"\",'Data Input'!H344)","v":""},{"$f":"IF('Data Input'!A344=\"\",\"\",'Data Input'!A344)","v":""},{"$f":"IF('Data Input'!R344=\"\",\"\",'Data Input'!R344)","v":""},{"$f":"IF('Data Input'!D344=\"\",\"\",'Data Input'!D344)","v":""},{"$f":"IF('Data Input'!E344=\"\",\"\",'Data Input'!E344)","v":""},{"$f":"IF('Data Input'!F344=\"\",\"\",'Data Input'!F344)","v":""},{"$f":"IF('Data Input'!G344=\"\",\"\",'Data Input'!G344)","v":""},{"$f":"IF('Data Input'!B344=\"\",\"\",'Data Input'!B344)","v":""},{"$f":"IF('Data Input'!C344=\"\",\"\",'Data Input'!C344)","v":""},{"$f":"IF('Data Input'!J344=\"\",\"\",'Data Input'!J344)","v":""},{"$f":"IF('Data Input'!K344=\"\",\"\",'Data Input'!K344)","v":""},{"$f":"IF('Data Input'!O344=\"\",\"\",'Data Input'!O344)","v":""},{"$f":"IF('Data Input'!L344=\"\",\"\",'Data Input'!L344)","v":""},{"$f":"IF('Data Input'!M344=\"\",\"\",'Data Input'!M344)","v":""},{"$f":"IF('Data Input'!Q344=\"\",\"\",'Data Input'!Q344)","v":""},{"$f":"IF('Data Input'!N344=\"\",\"\",'Data Input'!N344)","v":""},null,null,null,null,null,null,null,null,"",{"$f":"IFERROR(VLOOKUP($Z346,Lookup!$C:$E,2,FALSE),\"\")","v":""},{"$f":"IFERROR(VLOOKUP($AA346,Lookup!$D:$E,2,FALSE),\"\")","v":""},"",{"$f":"IFERROR(VLOOKUP($AC346,Lookup!$C:$E,2,FALSE),\"\")","v":""},{"$f":"IFERROR(VLOOKUP($AD346,Lookup!$D:$E,2,FALSE),\"\")","v":""},"",{"$f":"IFERROR(VLOOKUP($AF346,Lookup!$C:$E,2,FALSE),\"\")","v":""},{"$f":"IFERROR(VLOOKUP($AG346,Lookup!$D:$E,2,FALSE),\"\")","v":""},""]
[{"$f":"IF('Data Input'!I345=\"\",\"\",'Data Input'!I345)","v":""},{"$f":"IF('Data Input'!H345=\"\",\"\",'Data Input'!H345)","v":""},{"$f":"IF('Data Input'!A345=\"\",\"\",'Data Input'!A345)","v":""},{"$f":"IF('Data Input'!R345=\"\",\"\",'Data Input'!R345)","v":""},{"$f":"IF('Data Input'!D345=\"\",\"\",'Data Input'!D345)","v":""},{"$f":"IF('Data Input'!E345=\"\",\"\",'Data Input'!E345)","v":""},{"$f":"IF('Data Input'!F345=\"\",\"\",'Data Input'!F345)","v":""},{"$f":"IF('Data Input'!G345=\"\",\"\",'Data Input'!G345)","v":""},{"$f":"IF('Data Input'!B345=\"\",\"\",'Data Input'!B345)","v":""},{"$f":"IF('Data Input'!C345=\"\",\"\",'Data Input'!C345)","v":""},{"$f":"IF('Data Input'!J345=\"\",\"\",'Data Input'!J345)","v":""},{"$f":"IF('Data Input'!K345=\"\",\"\",'Data Input'!K345)","v":""},{"$f":"IF('Data Input'!O345=\"\",\"\",'Data Input'!O345)","v":""},{"$f":"IF('Data Input'!L345=\"\",\"\",'Data Input'!L345)","v":""},{"$f":"IF('Data Input'!M345=\"\",\"\",'Data Input'!M345)","v":""},{"$f":"IF('Data Input'!Q345=\"\",\"\",'Data Input'!Q345)","v":""},{"$f":"IF('Data Input'!N345=\"\",\"\",'Data Input'!N345)","v":""},null,null,null,null,null,null,null,null,"",{"$f":"IFERROR(VLOOKUP($Z347,Lookup!$C:$E,2,FALSE),\"\")","v":""},{"$f":"IFERROR(VLOOKUP($AA347,Lookup!$D:$E,2,FALSE),\"\")","v":""},"",{"$f":"IFERROR(VLOOKUP($AC347,Lookup!$C:$E,2,FALSE),\"\")","v":""},{"$f":"IFERROR(VLOOKUP($AD347,Lookup!$D:$E,2,FALSE),\"\")","v":""},"",{"$f":"IFERROR(VLOOKUP($AF347,Lookup!$C:$E,2,FALSE),\"\")","v":""},{"$f":"IFERROR(VLOOKUP($AG347,Lookup!$D:$E,2,FALSE),\"\")","v":""},""]
[{"$f":"IF('Data Input'!I346=\"\",\"\",'Data Input'!I346)","v":""},{"$f":"IF('Data Input'!H346=\"\",\"\",'Data Input'!H346)","v":""},{"$f":"IF('Data Input'!A346=\"\",\"\",'Data Input'!A346)","v":""},{"$f":"IF('Data Input'!R346=\"\",\"\",'Data Input'!R346)","v":""},{"$f":"IF('Data Input'!D346=\"\",\"\",'Data Input'!D346)","v":""},{"$f":"IF('Data Input'!E346=\"\",\"\",'Data Input'!E346)","v":""},{"$f":"IF('Data Input'!F346=\"\",\"\",'Data Input'!F346)","v":""},{"$f":"IF('Data Input'!G346=\"\",\"\",'Data Input'!G346)","v":""},{"$f":"IF('Data Input'!B346=\"\",\"\",'Data Input'!B346)","v":""},{"$f":"IF('Data Input'!C346=\"\",\"\",'Data Input'!C346)","v":""},{"$f":"IF('Data Input'!J346=\"\",\"\",'Data Input'!J346)","v":""},{"$f":"IF('Data Input'!K346=\"\",\"\",'Data Input'!K346)","v":""},{"$f":"IF('Data Input'!O346=\"\",\"\",'Data Input'!O346)","v":""},{"$f":"IF('Data Input'!L346=\"\",\"\",'Data Input'!L346)","v":""},{"$f":"IF('Data Input'!M346=\"\",\"\",'Data Input'!M346)","v":""},{"$f":"IF('Data Input'!Q346=\"\",\"\",'Data Input'!Q346)","v":""},{"$f":"IF('Data Input'!N346=\"\",\"\",'Data Input'!N346)","v":""},null,null,null,null,null,null,null,null,"",{"$f":"IFERROR(VLOOKUP($Z348,Lookup!$C:$E,2,FALSE),\"\")","v":""},{"$f":"IFERROR(VLOOKUP($AA348,Lookup!$D:$E,2,FALSE),\"\")","v":""},"",{"$f":"IFERROR(VLOOKUP($AC348,Lookup!$C:$E,2,FALSE),\"\")","v":""},{"$f":"IFERROR(VLOOKUP($AD348,Lookup!$D:$E,2,FALSE),\"\")","v":""},"",{"$f":"IFERROR(VLOOKUP($AF348,Lookup!$C:$E,2,FALSE),\"\")","v":""},{"$f":"IFERROR(VLOOKUP($AG348,Lookup!$D:$E,2,FALSE),\"\")","v":""},""]
[{"$f":"IF('Data Input'!I347=\"\",\"\",'Data Input'!I347)","v":""},{"$f":"IF('Data Input'!H347=\"\",\"\",'Data Input'!H347)","v":""},{"$f":"IF('Data Input'!A347=\"\",\"\",'Data Input'!A347)","v":""},{"$f":"IF('Data Input'!R347=\"\",\"\",'Data Input'!R347)","v":""},{"$f":"IF('Data Input'!D347=\"\",\"\",'Data Input'!D347)","v":""},{"$f":"IF('Data Input'!E347=\"\",\"\",'Data Input'!E347)","v":""},{"$f":"IF('Data Input'!F347=\"\",\"\",'Data Input'!F347)","v":""},{"$f":"IF('Data Input'!G347=\"\",\"\",'Data Input'!G347)","v":""},{"$f":"IF('Data Input'!B347=\"\",\"\",'Data Input'!B347)","v":""},{"$f":"IF('Data Input'!C347=\"\",\"\",'Data Input'!C347)","v":""},{"$f":"IF('Data Input'!J347=\"\",\"\",'Data Input'!J347)","v":""},{"$f":"IF('Data Input'!K347=\"\",\"\",'Data Input'!K347)","v":""},{"$f":"IF('Data Input'!O347=\"\",\"\",'Data Input'!O347)","v":""},{"$f":"IF('Data Input'!L347=\"\",\"\",'Data Input'!L347)","v":""},{"$f":"IF('Data Input'!M347=\"\",\"\",'Data Input'!M347)","v":""},{"$f":"IF('Data Input'!Q347=\"\",\"\",'Data Input'!Q347)","v":""},{"$f":"IF('Data Input'!N347=\"\",\"\",'Data Input'!N347)","v":""},null,null,null,null,null,null,null,null,"",{"$f":"IFERROR(VLOOKUP($Z349,Lookup!$C:$E,2,FALSE),\"\")","v":""},{"$f":"IFERROR(VLOOKUP($AA349,Lookup!$D:$E,2,FALSE),\"\")","v":""},"",{"$f":"IFERROR(VLOOKUP($AC349,Lookup!$C:$E,2,FALSE),\"\")","v":""},{"$f":"IFERROR(VLOOKUP($AD349,Lookup!$D:$E,2,FALSE),\"\")","v":""},"",{"$f":"IFERROR(VLOOKUP($AF349,Lookup!$C:$E,2,FALSE),\"\")","v":""},{"$f":"IFERROR(VLOOKUP($AG349,Lookup!$D:$E,2,FALSE),\"\")","v":""},""]
[{"$f":"IF('Data Input'!I348=\"\",\"\",'Data Input'!I348)","v":""},{"$f":"IF('Data Input'!H348=\"\",\"\",'Data Input'!H348)","v":""},{"$f":"IF('Data Input'!A348=\"\",\"\",'Data Input'!A348)","v":""},{"$f":"IF('Data Input'!R348=\"\",\"\",'Data Input'!R348)","v":""},{"$f":"IF('Data Input'!D348=\"\",\"\",'Data Input'!D348)","v":""},{"$f":"IF('Data Input'!E348=\"\",\"\",'Data Input'!E348)","v":""},{"$f":"IF('Data Input'!F348=\"\",\"\",'Data Input'!F348)","v":""},{"$f":"IF('Data Input'!G348=\"\",\"\",'Data Input'!G348)","v":""},{"$f":"IF('Data Input'!B348=\"\",\"\",'Data Input'!B348)","v":""},{"$f":"IF('Data Input'!C348=\"\",\"\",'Data Input'!C348)","v":""},{"$f":"IF('Data Input'!J348=\"\",\"\",'Data Input'!J348)","v":""},{"$f":"IF('Data Input'!K348=\"\",\"\",'Data Input'!K348)","v":""},{"$f":"IF('Data Input'!O348=\"\",\"\",'Data Input'!O348)","v":""},{"$f":"IF('Data Input'!L348=\"\",\"\",'Data Input'!L348)","v":""},{"$f":"IF('Data Input'!M348=\"\",\"\",'Data Input'!M348)","v":""},{"$f":"IF('Data Input'!Q348=\"\",\"\",'Data Input'!Q348)","v":""},{"$f":"IF('Data Input'!N348=\"\",\"\",'Data Input'!N348)","v":""},null,null,null,null,null,null,null,null,"",{"$f":"IFERROR(VLOOKUP($Z350,Lookup!$C:$E,2,FALSE),\"\")","v":""},{"$f":"IFERROR(VLOOKUP($AA350,Lookup!$D:$E,2,FALSE),\"\")","v":""},"",{"$f":"IFERROR(VLOOKUP($AC350,Lookup!$C:$E,2,FALSE),\"\")","v":""},{"$f":"IFERROR(VLOOKUP($AD350,Lookup!$D:$E,2,FALSE),\"\")","v":""},"",{"$f":"IFERROR(VLOOKUP($AF350,Lookup!$C:$E,2,FALSE),\"\")","v":""},{"$f":"IFERROR(VLOOKUP($AG350,Lookup!$D:$E,2,FALSE),\"\")","v":""},""]
[{"$f":"IF('Data Input'!I349=\"\",\"\",'Data Input'!I349)","v":""},{"$f":"IF('Data Input'!H349=\"\",\"\",'Data Input'!H349)","v":""},{"$f":"IF('Data Input'!A349=\"\",\"\",'Data Input'!A349)","v":""},{"$f":"IF('Data Input'!R349=\"\",\"\",'Data Input'!R349)","v":""},{"$f":"IF('Data Input'!D349=\"\",\"\",'Data Input'!D349)","v":""},{"$f":"IF('Data Input'!E349=\"\",\"\",'Data Input'!E349)","v":""},{"$f":"IF('Data Input'!F349=\"\",\"\",'Data Input'!F349)","v":""},{"$f":"IF('Data Input'!G349=\"\",\"\",'Data Input'!G349)","v":""},{"$f":"IF('Data Input'!B349=\"\",\"\",'Data Input'!B349)","v":""},{"$f":"IF('Data Input'!C349=\"\",\"\",'Data Input'!C349)","v":""},{"$f":"IF('Data Input'!J349=\"\",\"\",'Data Input'!J349)","v":""},{"$f":"IF('Data Input'!K349=\"\",\"\",'Data Input'!K349)","v":""},{"$f":"IF('Data Input'!O349=\"\",\"\",'Data Input'!O349)","v":""},{"$f":"IF('Data Input'!L349=\"\",\"\",'Data Input'!L349)","v":""},{"$f":"IF('Data Input'!M349=\"\",\"\",'Data Input'!M349)","v":""},{"$f":"IF('Data Input'!Q349=\"\",\"\",'Data Input'!Q349)","v":""},{"$f":"IF('Data Input'!N349=\"\",\"\",'Data Input'!N349)","v":""},null,null,null,null,null,null,null,null,"",{"$f":"IFERROR(VLOOKUP($Z351,Lookup!$C:$E,2,FALSE),\"\")","v":""},{"$f":"IFERROR(VLOOKUP($AA351,Lookup!$D:$E,2,FALSE),\"\")","v":""},"",{"$f":"IFERROR(VLOOKUP($AC351,Lookup!$C:$E,2,FALSE),\"\")","v":""},{"$f":"IFERROR(VLOOKUP($AD351,Lookup!$D:$E,2,FALSE),\"\")","v":""},"",{"$f":"IFERROR(VLOOKUP($AF351,Lookup!$C:$E,2,FALSE),\"\")","v":""},{"$f":"IFERROR(VLOOKUP($AG351,Lookup!$D:$E,2,FALSE),\"\")","v":""},""]
[{"$f":"IF('Data Input'!I350=\"\",\"\",'Data Input'!I350)","v":""},{"$f":"IF('Data Input'!H350=\"\",\"\",'Data Input'!H350)","v":""},{"$f":"IF('Data Input'!A350=\"\",\"\",'Data Input'!A350)","v":""},{"$f":"IF('Data Input'!R350=\"\",\"\",'Data Input'!R350)","v":""},{"$f":"IF('Data Input'!D350=\"\",\"\",'Data Input'!D350)","v":""},{"$f":"IF('Data Input'!E350=\"\",\"\",'Data Input'!E350)","v":""},{"$f":"IF('Data Input'!F350=\"\",\"\",'Data Input'!F350)","v":""},{"$f":"IF('Data Input'!G350=\"\",\"\",'Data Input'!G350)","v":""},{"$f":"IF('Data Input'!B350=\"\",\"\",'Data Input'!B350)","v":""},{"$f":"IF('Data Input'!C350=\"\",\"\",'Data Input'!C350)","v":""},{"$f":"IF('Data Input'!J350=\"\",\"\",'Data Input'!J350)","v":""},{"$f":"IF('Data Input'!K350=\"\",\"\",'Data Input'!K350)","v":""},{"$f":"IF('Data Input'!O350=\"\",\"\",'Data Input'!O350)","v":""},{"$f":"IF('Data Input'!L350=\"\",\"\",'Data Input'!L350)","v":""},{"$f":"IF('Data Input'!M350=\"\",\"\",'Data Input'!M350)","v":""},{"$f":"IF('Data Input'!Q350=\"\",\"\",'Data Input'!Q350)","v":""},{"$f":"IF('Data Input'!N350=\"\",\"\",'Data Input'!N350)","v":""},null,null,null,null,null,null,null,null,"",{"$f":"IFERROR(VLOOKUP($Z352,Lookup!$C:$E,2,FALSE),\"\")","v":""},{"$f":"IFERROR(VLOOKUP($AA352,Lookup!$D:$E,2,FALSE),\"\")","v":""},"",{"$f":"IFERROR(VLOOKUP($AC352,Lookup!$C:$E,2,FALSE),\"\")","v":""},{"$f":"IFERROR(VLOOKUP($AD352,Lookup!$D:$E,2,FALSE),\"\")","v":""},"",{"$f":"IFERROR(VLOOKUP($AF352,Lookup!$C:$E,2,FALSE),\"\")","v":""},{"$f":"IFERROR(VLOOKUP($AG352,Lookup!$D:$E,2,FALSE),\"\")","v":""},""]
[{"$f":"IF('Data Input'!I351=\"\",\"\",'Data Input'!I351)","v":""},{"$f":"IF('Data Input'!H351=\"\",\"\",'Data Input'!H351)","v":""},{"$f":"IF('Data Input'!A351=\"\",\"\",'Data Input'!A351)","v":""},{"$f":"IF('Data Input'!R351=\"\",\"\",'Data Input'!R351)","v":""},{"$f":"IF('Data Input'!D351=\"\",\"\",'Data Input'!D351)","v":""},{"$f":"IF('Data Input'!E351=\"\",\"\",'Data Input'!E351)","v":""},{"$f":"IF('Data Input'!F351=\"\",\"\",'Data Input'!F351)","v":""},{"$f":"IF('Data Input'!G351=\"\",\"\",'Data Input'!G351)","v":""},{"$f":"IF('Data Input'!B351=\"\",\"\",'Data Input'!B351)","v":""},{"$f":"IF('Data Input'!C351=\"\",\"\",'Data Input'!C351)","v":""},{"$f":"IF('Data Input'!J351=\"\",\"\",'Data Input'!J351)","v":""},{"$f":"IF('Data Input'!K351=\"\",\"\",'Data Input'!K351)","v":""},{"$f":"IF('Data Input'!O351=\"\",\"\",'Data Input'!O351)","v":""},{"$f":"IF('Data Input'!L351=\"\",\"\",'Data Input'!L351)","v":""},{"$f":"IF('Data Input'!M351=\"\",\"\",'Data Input'!M351)","v":""},{"$f":"IF('Data Input'!Q351=\"\",\"\",'Data Input'!Q351)","v":""},{"$f":"IF('Data Input'!N351=\"\",\"\",'Data Input'!N351)","v":""},null,null,null,null,null,null,null,null,"",{"$f":"IFERROR(VLOOKUP($Z353,Lookup!$C:$E,2,FALSE),\"\")","v":""},{"$f":"IFERROR(VLOOKUP($AA353,Lookup!$D:$E,2,FALSE),\"\")","v":""},"",{"$f":"IFERROR(VLOOKUP($AC353,Lookup!$C:$E,2,FALSE),\"\")","v":""},{"$f":"IFERROR(VLOOKUP($AD353,Lookup!$D:$E,2,FALSE),\"\")","v":""},"",{"$f":"IFERROR(VLOOKUP($AF353,Lookup!$C:$E,2,FALSE),\"\")","v":""},{"$f":"IFERROR(VLOOKUP($AG353,Lookup!$D:$E,2,FALSE),\"\")","v":""},""]
[{"$f":"IF('Data Input'!I352=\"\",\"\",'Data Input'!I352)","v":""},{"$f":"IF('Data Input'!H352=\"\",\"\",'Data Input'!H352)","v":""},{"$f":"IF('Data Input'!A352=\"\",\"\",'Data Input'!A352)","v":""},{"$f":"IF('Data Input'!R352=\"\",\"\",'Data Input'!R352)","v":""},{"$f":"IF('Data Input'!D352=\"\",\"\",'Data Input'!D352)","v":""},{"$f":"IF('Data Input'!E352=\"\",\"\",'Data Input'!E352)","v":""},{"$f":"IF('Data Input'!F352=\"\",\"\",'Data Input'!F352)","v":""},{"$f":"IF('Data Input'!G352=\"\",\"\",'Data Input'!G352)","v":""},{"$f":"IF('Data Input'!B352=\"\",\"\",'Data Input'!B352)","v":""},{"$f":"IF('Data Input'!C352=\"\",\"\",'Data Input'!C352)","v":""},{"$f":"IF('Data Input'!J352=\"\",\"\",'Data Input'!J352)","v":""},{"$f":"IF('Data Input'!K352=\"\",\"\",'Data Input'!K352)","v":""},{"$f":"IF('Data Input'!O352=\"\",\"\",'Data Input'!O352)","v":""},{"$f":"IF('Data Input'!L352=\"\",\"\",'Data Input'!L352)","v":""},{"$f":"IF('Data Input'!M352=\"\",\"\",'Data Input'!M352)","v":""},{"$f":"IF('Data Input'!Q352=\"\",\"\",'Data Input'!Q352)","v":""},{"$f":"IF('Data Input'!N352=\"\",\"\",'Data Input'!N352)","v":""},null,null,null,null,null,null,null,null,"",{"$f":"IFERROR(VLOOKUP($Z354,Lookup!$C:$E,2,FALSE),\"\")","v":""},{"$f":"IFERROR(VLOOKUP($AA354,Lookup!$D:$E,2,FALSE),\"\")","v":""},"",{"$f":"IFERROR(VLOOKUP($AC354,Lookup!$C:$E,2,FALSE),\"\")","v":""},{"$f":"IFERROR(VLOOKUP($AD354,Lookup!$D:$E,2,FALSE),\"\")","v":""},"",{"$f":"IFERROR(VLOOKUP($AF354,Lookup!$C:$E,2,FALSE),\"\")","v":""},{"$f":"IFERROR(VLOOKUP($AG354,Lookup!$D:$E,2,FALSE),\"\")","v":""},""]
[{"$f":"IF('Data Input'!I353=\"\",\"\",'Data Input'!I353)","v":""},{"$f":"IF('Data Input'!H353=\"\",\"\",'Data Input'!H353)","v":""},{"$f":"IF('Data Input'!A353=\"\",\"\",'Data Input'!A353)","v":""},{"$f":"IF('Data Input'!R353=\"\",\"\",'Data Input'!R353)","v":""},{"$f":"IF('Data Input'!D353=\"\",\"\",'Data Input'!D353)","v":""},{"$f":"IF('Data Input'!E353=\"\",\"\",'Data Input'!E353)","v":""},{"$f":"IF('Data Input'!F353=\"\",\"\",'Data Input'!F353)","v":""},{"$f":"IF('Data Input'!G353=\"\",\"\",'Data Input'!G353)","v":""},{"$f":"IF('Data Input'!B353=\"\",\"\",'Data Input'!B353)","v":""},{"$f":"IF('Data Input'!C353=\"\",\"\",'Data Input'!C353)","v":""},{"$f":"IF('Data Input'!J353=\"\",\"\",'Data Input'!J353)","v":""},{"$f":"IF('Data Input'!K353=\"\",\"\",'Data Input'!K353)","v":""},{"$f":"IF('Data Input'!O353=\"\",\"\",'Data Input'!O353)","v":""},{"$f":"IF('Data Input'!L353=\"\",\"\",'Data Input'!L353)","v":""},{"$f":"IF('Data Input'!M353=\"\",\"\",'Data Input'!M353)","v":""},{"$f":"IF('Data Input'!Q353=\"\",\"\",'Data Input'!Q353)","v":""},{"$f":"IF('Data Input'!N353=\"\",\"\",'Data Input'!N353)","v":""},null,null,null,null,null,null,null,null,"",{"$f":"IFERROR(VLOOKUP($Z355,Lookup!$C:$E,2,FALSE),\"\")","v":""},{"$f":"IFERROR(VLOOKUP($AA355,Lookup!$D:$E,2,FALSE),\"\")","v":""},"",{"$f":"IFERROR(VLOOKUP($AC355,Lookup!$C:$E,2,FALSE),\"\")","v":""},{"$f":"IFERROR(VLOOKUP($AD355,Lookup!$D:$E,2,FALSE),\"\")","v":""},"",{"$f":"IFERROR(VLOOKUP($AF355,Lookup!$C:$E,2,FALSE),\"\")","v":""},{"$f":"IFERROR(VLOOKUP($AG355,Lookup!$D:$E,2,FALSE),\"\")","v":""},""]
[{"$f":"IF('Data Input'!I354=\"\",\"\",'Data Input'!I354)","v":""},{"$f":"IF('Data Input'!H354=\"\",\"\",'Data Input'!H354)","v":""},{"$f":"IF('Data Input'!A354=\"\",\"\",'Data Input'!A354)","v":""},{"$f":"IF('Data Input'!R354=\"\",\"\",'Data Input'!R354)","v":""},{"$f":"IF('Data Input'!D354=\"\",\"\",'Data Input'!D354)","v":""},{"$f":"IF('Data Input'!E354=\"\",\"\",'Data Input'!E354)","v":""},{"$f":"IF('Data Input'!F354=\"\",\"\",'Data Input'!F354)","v":""},{"$f":"IF('Data Input'!G354=\"\",\"\",'Data Input'!G354)","v":""},{"$f":"IF('Data Input'!B354=\"\",\"\",'Data Input'!B354)","v":""},{"$f":"IF('Data Input'!C354=\"\",\"\",'Data Input'!C354)","v":""},{"$f":"IF('Data Input'!J354=\"\",\"\",'Data Input'!J354)","v":""},{"$f":"IF('Data Input'!K354=\"\",\"\",'Data Input'!K354)","v":""},{"$f":"IF('Data Input'!O354=\"\",\"\",'Data Input'!O354)","v":""},{"$f":"IF('Data Input'!L354=\"\",\"\",'Data Input'!L354)","v":""},{"$f":"IF('Data Input'!M354=\"\",\"\",'Data Input'!M354)","v":""},{"$f":"IF('Data Input'!Q354=\"\",\"\",'Data Input'!Q354)","v":""},{"$f":"IF('Data Input'!N354=\"\",\"\",'Data Input'!N354)","v":""},null,null,null,null,null,null,null,null,"",{"$f":"IFERROR(VLOOKUP($Z356,Lookup!$C:$E,2,FALSE),\"\")","v":""},{"$f":"IFERROR(VLOOKUP($AA356,Lookup!$D:$E,2,FALSE),\"\")","v":""},"",{"$f":"IFERROR(VLOOKUP($AC356,Lookup!$C:$E,2,FALSE),\"\")","v":""},{"$f":"IFERROR(VLOOKUP($AD356,Lookup!$D:$E,2,FALSE),\"\")","v":""},"",{"$f":"IFERROR(VLOOKUP($AF356,Lookup!$C:$E,2,FALSE),\"\")","v":""},{"$f":"IFERROR(VLOOKUP($AG356,Lookup!$D:$E,2,FALSE),\"\")","v":""},""]
[{"$f":"IF('Data Input'!I355=\"\",\"\",'Data Input'!I355)","v":""},{"$f":"IF('Data Input'!H355=\"\",\"\",'Data Input'!H355)","v":""},{"$f":"IF('Data Input'!A355=\"\",\"\",'Data Input'!A355)","v":""},{"$f":"IF('Data Input'!R355=\"\",\"\",'Data Input'!R355)","v":""},{"$f":"IF('Data Input'!D355=\"\",\"\",'Data Input'!D355)","v":""},{"$f":"IF('Data Input'!E355=\"\",\"\",'Data Input'!E355)","v":""},{"$f":"IF('Data Input'!F355=\"\",\"\",'Data Input'!F355)","v":""},{"$f":"IF('Data Input'!G355=\"\",\"\",'Data Input'!G355)","v":""},{"$f":"IF('Data Input'!B355=\"\",\"\",'Data Input'!B355)","v":""},{"$f":"IF('Data Input'!C355=\"\",\"\",'Data Input'!C355)","v":""},{"$f":"IF('Data Input'!J355=\"\",\"\",'Data Input'!J355)","v":""},{"$f":"IF('Data Input'!K355=\"\",\"\",'Data Input'!K355)","v":""},{"$f":"IF('Data Input'!O355=\"\",\"\",'Data Input'!O355)","v":""},{"$f":"IF('Data Input'!L355=\"\",\"\",'Data Input'!L355)","v":""},{"$f":"IF('Data Input'!M355=\"\",\"\",'Data Input'!M355)","v":""},{"$f":"IF('Data Input'!Q355=\"\",\"\",'Data Input'!Q355)","v":""},{"$f":"IF('Data Input'!N355=\"\",\"\",'Data Input'!N355)","v":""},null,null,null,null,null,null,null,null,"",{"$f":"IFERROR(VLOOKUP($Z357,Lookup!$C:$E,2,FALSE),\"\")","v":""},{"$f":"IFERROR(VLOOKUP($AA357,Lookup!$D:$E,2,FALSE),\"\")","v":""},"",{"$f":"IFERROR(VLOOKUP($AC357,Lookup!$C:$E,2,FALSE),\"\")","v":""},{"$f":"IFERROR(VLOOKUP($AD357,Lookup!$D:$E,2,FALSE),\"\")","v":""},"",{"$f":"IFERROR(VLOOKUP($AF357,Lookup!$C:$E,2,FALSE),\"\")","v":""},{"$f":"IFERROR(VLOOKUP($AG357,Lookup!$D:$E,2,FALSE),\"\")","v":""},""]
[{"$f":"IF('Data Input'!I356=\"\",\"\",'Data Input'!I356)","v":""},{"$f":"IF('Data Input'!H356=\"\",\"\",'Data Input'!H356)","v":""},{"$f":"IF('Data Input'!A356=\"\",\"\",'Data Input'!A356)","v":""},{"$f":"IF('Data Input'!R356=\"\",\"\",'Data Input'!R356)","v":""},{"$f":"IF('Data Input'!D356=\"\",\"\",'Data Input'!D356)","v":""},{"$f":"IF('Data Input'!E356=\"\",\"\",'Data Input'!E356)","v":""},{"$f":"IF('Data Input'!F356=\"\",\"\",'Data Input'!F356)","v":""},{"$f":"IF('Data Input'!G356=\"\",\"\",'Data Input'!G356)","v":""},{"$f":"IF('Data Input'!B356=\"\",\"\",'Data Input'!B356)","v":""},{"$f":"IF('Data Input'!C356=\"\",\"\",'Data Input'!C356)","v":""},{"$f":"IF('Data Input'!J356=\"\",\"\",'Data Input'!J356)","v":""},{"$f":"IF('Data Input'!K356=\"\",\"\",'Data Input'!K356)","v":""},{"$f":"IF('Data Input'!O356=\"\",\"\",'Data Input'!O356)","v":""},{"$f":"IF('Data Input'!L356=\"\",\"\",'Data Input'!L356)","v":""},{"$f":"IF('Data Input'!M356=\"\",\"\",'Data Input'!M356)","v":""},{"$f":"IF('Data Input'!Q356=\"\",\"\",'Data Input'!Q356)","v":""},{"$f":"IF('Data Input'!N356=\"\",\"\",'Data Input'!N356)","v":""},null,null,null,null,null,null,null,null,"",{"$f":"IFERROR(VLOOKUP($Z358,Lookup!$C:$E,2,FALSE),\"\")","v":""},{"$f":"IFERROR(VLOOKUP($AA358,Lookup!$D:$E,2,FALSE),\"\")","v":""},"",{"$f":"IFERROR(VLOOKUP($AC358,Lookup!$C:$E,2,FALSE),\"\")","v":""},{"$f":"IFERROR(VLOOKUP($AD358,Lookup!$D:$E,2,FALSE),\"\")","v":""},"",{"$f":"IFERROR(VLOOKUP($AF358,Lookup!$C:$E,2,FALSE),\"\")","v":""},{"$f":"IFERROR(VLOOKUP($AG358,Lookup!$D:$E,2,FALSE),\"\")","v":""},""]
[{"$f":"IF('Data Input'!I357=\"\",\"\",'Data Input'!I357)","v":""},{"$f":"IF('Data Input'!H357=\"\",\"\",'Data Input'!H357)","v":""},{"$f":"IF('Data Input'!A357=\"\",\"\",'Data Input'!A357)","v":""},{"$f":"IF('Data Input'!R357=\"\",\"\",'Data Input'!R357)","v":""},{"$f":"IF('Data Input'!D357=\"\",\"\",'Data Input'!D357)","v":""},{"$f":"IF('Data Input'!E357=\"\",\"\",'Data Input'!E357)","v":""},{"$f":"IF('Data Input'!F357=\"\",\"\",'Data Input'!F357)","v":""},{"$f":"IF('Data Input'!G357=\"\",\"\",'Data Input'!G357)","v":""},{"$f":"IF('Data Input'!B357=\"\",\"\",'Data Input'!B357)","v":""},{"$f":"IF('Data Input'!C357=\"\",\"\",'Data Input'!C357)","v":""},{"$f":"IF('Data Input'!J357=\"\",\"\",'Data Input'!J357)","v":""},{"$f":"IF('Data Input'!K357=\"\",\"\",'Data Input'!K357)","v":""},{"$f":"IF('Data Input'!O357=\"\",\"\",'Data Input'!O357)","v":""},{"$f":"IF('Data Input'!L357=\"\",\"\",'Data Input'!L357)","v":""},{"$f":"IF('Data Input'!M357=\"\",\"\",'Data Input'!M357)","v":""},{"$f":"IF('Data Input'!Q357=\"\",\"\",'Data Input'!Q357)","v":""},{"$f":"IF('Data Input'!N357=\"\",\"\",'Data Input'!N357)","v":""},null,null,null,null,null,null,null,null,"",{"$f":"IFERROR(VLOOKUP($Z359,Lookup!$C:$E,2,FALSE),\"\")","v":""},{"$f":"IFERROR(VLOOKUP($AA359,Lookup!$D:$E,2,FALSE),\"\")","v":""},"",{"$f":"IFERROR(VLOOKUP($AC359,Lookup!$C:$E,2,FALSE),\"\")","v":""},{"$f":"IFERROR(VLOOKUP($AD359,Lookup!$D:$E,2,FALSE),\"\")","v":""},"",{"$f":"IFERROR(VLOOKUP($AF359,Lookup!$C:$E,2,FALSE),\"\")","v":""},{"$f":"IFERROR(VLOOKUP($AG359,Lookup!$D:$E,2,FALSE),\"\")","v":""},""]
[{"$f":"IF('Data Input'!I358=\"\",\"\",'Data Input'!I358)","v":""},{"$f":"IF('Data Input'!H358=\"\",\"\",'Data Input'!H358)","v":""},{"$f":"IF('Data Input'!A358=\"\",\"\",'Data Input'!A358)","v":""},{"$f":"IF('Data Input'!R358=\"\",\"\",'Data Input'!R358)","v":""},{"$f":"IF('Data Input'!D358=\"\",\"\",'Data Input'!D358)","v":""},{"$f":"IF('Data Input'!E358=\"\",\"\",'Data Input'!E358)","v":""},{"$f":"IF('Data Input'!F358=\"\",\"\",'Data Input'!F358)","v":""},{"$f":"IF('Data Input'!G358=\"\",\"\",'Data Input'!G358)","v":""},{"$f":"IF('Data Input'!B358=\"\",\"\",'Data Input'!B358)","v":""},{"$f":"IF('Data Input'!C358=\"\",\"\",'Data Input'!C358)","v":""},{"$f":"IF('Data Input'!J358=\"\",\"\",'Data Input'!J358)","v":""},{"$f":"IF('Data Input'!K358=\"\",\"\",'Data Input'!K358)","v":""},{"$f":"IF('Data Input'!O358=\"\",\"\",'Data Input'!O358)","v":""},{"$f":"IF('Data Input'!L358=\"\",\"\",'Data Input'!L358)","v":""},{"$f":"IF('Data Input'!M358=\"\",\"\",'Data Input'!M358)","v":""},{"$f":"IF('Data Input'!Q358=\"\",\"\",'Data Input'!Q358)","v":""},{"$f":"IF('Data Input'!N358=\"\",\"\",'Data Input'!N358)","v":""},null,null,null,null,null,null,null,null,"",{"$f":"IFERROR(VLOOKUP($Z360,Lookup!$C:$E,2,FALSE),\"\")","v":""},{"$f":"IFERROR(VLOOKUP($AA360,Lookup!$D:$E,2,FALSE),\"\")","v":""},"",{"$f":"IFERROR(VLOOKUP($AC360,Lookup!$C:$E,2,FALSE),\"\")","v":""},{"$f":"IFERROR(VLOOKUP($AD360,Lookup!$D:$E,2,FALSE),\"\")","v":""},"",{"$f":"IFERROR(VLOOKUP($AF360,Lookup!$C:$E,2,FALSE),\"\")","v":""},{"$f":"IFERROR(VLOOKUP($AG360,Lookup!$D:$E,2,FALSE),\"\")","v":""},""]
[{"$f":"IF('Data Input'!I359=\"\",\"\",'Data Input'!I359)","v":""},{"$f":"IF('Data Input'!H359=\"\",\"\",'Data Input'!H359)","v":""},{"$f":"IF('Data Input'!A359=\"\",\"\",'Data Input'!A359)","v":""},{"$f":"IF('Data Input'!R359=\"\",\"\",'Data Input'!R359)","v":""},{"$f":"IF('Data Input'!D359=\"\",\"\",'Data Input'!D359)","v":""},{"$f":"IF('Data Input'!E359=\"\",\"\",'Data Input'!E359)","v":""},{"$f":"IF('Data Input'!F359=\"\",\"\",'Data Input'!F359)","v":""},{"$f":"IF('Data Input'!G359=\"\",\"\",'Data Input'!G359)","v":""},{"$f":"IF('Data Input'!B359=\"\",\"\",'Data Input'!B359)","v":""},{"$f":"IF('Data Input'!C359=\"\",\"\",'Data Input'!C359)","v":""},{"$f":"IF('Data Input'!J359=\"\",\"\",'Data Input'!J359)","v":""},{"$f":"IF('Data Input'!K359=\"\",\"\",'Data Input'!K359)","v":""},{"$f":"IF('Data Input'!O359=\"\",\"\",'Data Input'!O359)","v":""},{"$f":"IF('Data Input'!L359=\"\",\"\",'Data Input'!L359)","v":""},{"$f":"IF('Data Input'!M359=\"\",\"\",'Data Input'!M359)","v":""},{"$f":"IF('Data Input'!Q359=\"\",\"\",'Data Input'!Q359)","v":""},{"$f":"IF('Data Input'!N359=\"\",\"\",'Data Input'!N359)","v":""},null,null,null,null,null,null,null,null,"",{"$f":"IFERROR(VLOOKUP($Z361,Lookup!$C:$E,2,FALSE),\"\")","v":""},{"$f":"IFERROR(VLOOKUP($AA361,Lookup!$D:$E,2,FALSE),\"\")","v":""},"",{"$f":"IFERROR(VLOOKUP($AC361,Lookup!$C:$E,2,FALSE),\"\")","v":""},{"$f":"IFERROR(VLOOKUP($AD361,Lookup!$D:$E,2,FALSE),\"\")","v":""},"",{"$f":"IFERROR(VLOOKUP($AF361,Lookup!$C:$E,2,FALSE),\"\")","v":""},{"$f":"IFERROR(VLOOKUP($AG361,Lookup!$D:$E,2,FALSE),\"\")","v":""},""]
[{"$f":"IF('Data Input'!I360=\"\",\"\",'Data Input'!I360)","v":""},{"$f":"IF('Data Input'!H360=\"\",\"\",'Data Input'!H360)","v":""},{"$f":"IF('Data Input'!A360=\"\",\"\",'Data Input'!A360)","v":""},{"$f":"IF('Data Input'!R360=\"\",\"\",'Data Input'!R360)","v":""},{"$f":"IF('Data Input'!D360=\"\",\"\",'Data Input'!D360)","v":""},{"$f":"IF('Data Input'!E360=\"\",\"\",'Data Input'!E360)","v":""},{"$f":"IF('Data Input'!F360=\"\",\"\",'Data Input'!F360)","v":""},{"$f":"IF('Data Input'!G360=\"\",\"\",'Data Input'!G360)","v":""},{"$f":"IF('Data Input'!B360=\"\",\"\",'Data Input'!B360)","v":""},{"$f":"IF('Data Input'!C360=\"\",\"\",'Data Input'!C360)","v":""},{"$f":"IF('Data Input'!J360=\"\",\"\",'Data Input'!J360)","v":""},{"$f":"IF('Data Input'!K360=\"\",\"\",'Data Input'!K360)","v":""},{"$f":"IF('Data Input'!O360=\"\",\"\",'Data Input'!O360)","v":""},{"$f":"IF('Data Input'!L360=\"\",\"\",'Data Input'!L360)","v":""},{"$f":"IF('Data Input'!M360=\"\",\"\",'Data Input'!M360)","v":""},{"$f":"IF('Data Input'!Q360=\"\",\"\",'Data Input'!Q360)","v":""},{"$f":"IF('Data Input'!N360=\"\",\"\",'Data Input'!N360)","v":""},null,null,null,null,null,null,null,null,"",{"$f":"IFERROR(VLOOKUP($Z362,Lookup!$C:$E,2,FALSE),\"\")","v":""},{"$f":"IFERROR(VLOOKUP($AA362,Lookup!$D:$E,2,FALSE),\"\")","v":""},"",{"$f":"IFERROR(VLOOKUP($AC362,Lookup!$C:$E,2,FALSE),\"\")","v":""},{"$f":"IFERROR(VLOOKUP($AD362,Lookup!$D:$E,2,FALSE),\"\")","v":""},"",{"$f":"IFERROR(VLOOKUP($AF362,Lookup!$C:$E,2,FALSE),\"\")","v":""},{"$f":"IFERROR(VLOOKUP($AG362,Lookup!$D:$E,2,FALSE),\"\")","v":""},""]
[{"$f":"IF('Data Input'!I361=\"\",\"\",'Data Input'!I361)","v":""},{"$f":"IF('Data Input'!H361=\"\",\"\",'Data Input'!H361)","v":""},{"$f":"IF('Data Input'!A361=\"\",\"\",'Data Input'!A361)","v":""},{"$f":"IF('Data Input'!R361=\"\",\"\",'Data Input'!R361)","v":""},{"$f":"IF('Data Input'!D361=\"\",\"\",'Data Input'!D361)","v":""},{"$f":"IF('Data Input'!E361=\"\",\"\",'Data Input'!E361)","v":""},{"$f":"IF('Data Input'!F361=\"\",\"\",'Data Input'!F361)","v":""},{"$f":"IF('Data Input'!G361=\"\",\"\",'Data Input'!G361)","v":""},{"$f":"IF('Data Input'!B361=\"\",\"\",'Data Input'!B361)","v":""},{"$f":"IF('Data Input'!C361=\"\",\"\",'Data Input'!C361)","v":""},{"$f":"IF('Data Input'!J361=\"\",\"\",'Data Input'!J361)","v":""},{"$f":"IF('Data Input'!K361=\"\",\"\",'Data Input'!K361)","v":""},{"$f":"IF('Data Input'!O361=\"\",\"\",'Data Input'!O361)","v":""},{"$f":"IF('Data Input'!L361=\"\",\"\",'Data Input'!L361)","v":""},{"$f":"IF('Data Input'!M361=\"\",\"\",'Data Input'!M361)","v":""},{"$f":"IF('Data Input'!Q361=\"\",\"\",'Data Input'!Q361)","v":""},{"$f":"IF('Data Input'!N361=\"\",\"\",'Data Input'!N361)","v":""},null,null,null,null,null,null,null,null,"",{"$f":"IFERROR(VLOOKUP($Z363,Lookup!$C:$E,2,FALSE),\"\")","v":""},{"$f":"IFERROR(VLOOKUP($AA363,Lookup!$D:$E,2,FALSE),\"\")","v":""},"",{"$f":"IFERROR(VLOOKUP($AC363,Lookup!$C:$E,2,FALSE),\"\")","v":""},{"$f":"IFERROR(VLOOKUP($AD363,Lookup!$D:$E,2,FALSE),\"\")","v":""},"",{"$f":"IFERROR(VLOOKUP($AF363,Lookup!$C:$E,2,FALSE),\"\")","v":""},{"$f":"IFERROR(VLOOKUP($AG363,Lookup!$D:$E,2,FALSE),\"\")","v":""},""]
[{"$f":"IF('Data Input'!I362=\"\",\"\",'Data Input'!I362)","v":""},{"$f":"IF('Data Input'!H362=\"\",\"\",'Data Input'!H362)","v":""},{"$f":"IF('Data Input'!A362=\"\",\"\",'Data Input'!A362)","v":""},{"$f":"IF('Data Input'!R362=\"\",\"\",'Data Input'!R362)","v":""},{"$f":"IF('Data Input'!D362=\"\",\"\",'Data Input'!D362)","v":""},{"$f":"IF('Data Input'!E362=\"\",\"\",'Data Input'!E362)","v":""},{"$f":"IF('Data Input'!F362=\"\",\"\",'Data Input'!F362)","v":""},{"$f":"IF('Data Input'!G362=\"\",\"\",'Data Input'!G362)","v":""},{"$f":"IF('Data Input'!B362=\"\",\"\",'Data Input'!B362)","v":""},{"$f":"IF('Data Input'!C362=\"\",\"\",'Data Input'!C362)","v":""},{"$f":"IF('Data Input'!J362=\"\",\"\",'Data Input'!J362)","v":""},{"$f":"IF('Data Input'!K362=\"\",\"\",'Data Input'!K362)","v":""},{"$f":"IF('Data Input'!O362=\"\",\"\",'Data Input'!O362)","v":""},{"$f":"IF('Data Input'!L362=\"\",\"\",'Data Input'!L362)","v":""},{"$f":"IF('Data Input'!M362=\"\",\"\",'Data Input'!M362)","v":""},{"$f":"IF('Data Input'!Q362=\"\",\"\",'Data Input'!Q362)","v":""},{"$f":"IF('Data Input'!N362=\"\",\"\",'Data Input'!N362)","v":""},null,null,null,null,null,null,null,null,"",{"$f":"IFERROR(VLOOKUP($Z364,Lookup!$C:$E,2,FALSE),\"\")","v":""},{"$f":"IFERROR(VLOOKUP($AA364,Lookup!$D:$E,2,FALSE),\"\")","v":""},"",{"$f":"IFERROR(VLOOKUP($AC364,Lookup!$C:$E,2,FALSE),\"\")","v":""},{"$f":"IFERROR(VLOOKUP($AD364,Lookup!$D:$E,2,FALSE),\"\")","v":""},"",{"$f":"IFERROR(VLOOKUP($AF364,Lookup!$C:$E,2,FALSE),\"\")","v":""},{"$f":"IFERROR(VLOOKUP($AG364,Lookup!$D:$E,2,FALSE),\"\")","v":""},""]
[{"$f":"IF('Data Input'!I363=\"\",\"\",'Data Input'!I363)","v":""},{"$f":"IF('Data Input'!H363=\"\",\"\",'Data Input'!H363)","v":""},{"$f":"IF('Data Input'!A363=\"\",\"\",'Data Input'!A363)","v":""},{"$f":"IF('Data Input'!R363=\"\",\"\",'Data Input'!R363)","v":""},{"$f":"IF('Data Input'!D363=\"\",\"\",'Data Input'!D363)","v":""},{"$f":"IF('Data Input'!E363=\"\",\"\",'Data Input'!E363)","v":""},{"$f":"IF('Data Input'!F363=\"\",\"\",'Data Input'!F363)","v":""},{"$f":"IF('Data Input'!G363=\"\",\"\",'Data Input'!G363)","v":""},{"$f":"IF('Data Input'!B363=\"\",\"\",'Data Input'!B363)","v":""},{"$f":"IF('Data Input'!C363=\"\",\"\",'Data Input'!C363)","v":""},{"$f":"IF('Data Input'!J363=\"\",\"\",'Data Input'!J363)","v":""},{"$f":"IF('Data Input'!K363=\"\",\"\",'Data Input'!K363)","v":""},{"$f":"IF('Data Input'!O363=\"\",\"\",'Data Input'!O363)","v":""},{"$f":"IF('Data Input'!L363=\"\",\"\",'Data Input'!L363)","v":""},{"$f":"IF('Data Input'!M363=\"\",\"\",'Data Input'!M363)","v":""},{"$f":"IF('Data Input'!Q363=\"\",\"\",'Data Input'!Q363)","v":""},{"$f":"IF('Data Input'!N363=\"\",\"\",'Data Input'!N363)","v":""},null,null,null,null,null,null,null,null,"",{"$f":"IFERROR(VLOOKUP($Z365,Lookup!$C:$E,2,FALSE),\"\")","v":""},{"$f":"IFERROR(VLOOKUP($AA365,Lookup!$D:$E,2,FALSE),\"\")","v":""},"",{"$f":"IFERROR(VLOOKUP($AC365,Lookup!$C:$E,2,FALSE),\"\")","v":""},{"$f":"IFERROR(VLOOKUP($AD365,Lookup!$D:$E,2,FALSE),\"\")","v":""},"",{"$f":"IFERROR(VLOOKUP($AF365,Lookup!$C:$E,2,FALSE),\"\")","v":""},{"$f":"IFERROR(VLOOKUP($AG365,Lookup!$D:$E,2,FALSE),\"\")","v":""},""]
[{"$f":"IF('Data Input'!I364=\"\",\"\",'Data Input'!I364)","v":""},{"$f":"IF('Data Input'!H364=\"\",\"\",'Data Input'!H364)","v":""},{"$f":"IF('Data Input'!A364=\"\",\"\",'Data Input'!A364)","v":""},{"$f":"IF('Data Input'!R364=\"\",\"\",'Data Input'!R364)","v":""},{"$f":"IF('Data Input'!D364=\"\",\"\",'Data Input'!D364)","v":""},{"$f":"IF('Data Input'!E364=\"\",\"\",'Data Input'!E364)","v":""},{"$f":"IF('Data Input'!F364=\"\",\"\",'Data Input'!F364)","v":""},{"$f":"IF('Data Input'!G364=\"\",\"\",'Data Input'!G364)","v":""},{"$f":"IF('Data Input'!B364=\"\",\"\",'Data Input'!B364)","v":""},{"$f":"IF('Data Input'!C364=\"\",\"\",'Data Input'!C364)","v":""},{"$f":"IF('Data Input'!J364=\"\",\"\",'Data Input'!J364)","v":""},{"$f":"IF('Data Input'!K364=\"\",\"\",'Data Input'!K364)","v":""},{"$f":"IF('Data Input'!O364=\"\",\"\",'Data Input'!O364)","v":""},{"$f":"IF('Data Input'!L364=\"\",\"\",'Data Input'!L364)","v":""},{"$f":"IF('Data Input'!M364=\"\",\"\",'Data Input'!M364)","v":""},{"$f":"IF('Data Input'!Q364=\"\",\"\",'Data Input'!Q364)","v":""},{"$f":"IF('Data Input'!N364=\"\",\"\",'Data Input'!N364)","v":""},null,null,null,null,null,null,null,null,"",{"$f":"IFERROR(VLOOKUP($Z366,Lookup!$C:$E,2,FALSE),\"\")","v":""},{"$f":"IFERROR(VLOOKUP($AA366,Lookup!$D:$E,2,FALSE),\"\")","v":""},"",{"$f":"IFERROR(VLOOKUP($AC366,Lookup!$C:$E,2,FALSE),\"\")","v":""},{"$f":"IFERROR(VLOOKUP($AD366,Lookup!$D:$E,2,FALSE),\"\")","v":""},"",{"$f":"IFERROR(VLOOKUP($AF366,Lookup!$C:$E,2,FALSE),\"\")","v":""},{"$f":"IFERROR(VLOOKUP($AG366,Lookup!$D:$E,2,FALSE),\"\")","v":""},""]
[{"$f":"IF('Data Input'!I365=\"\",\"\",'Data Input'!I365)","v":""},{"$f":"IF('Data Input'!H365=\"\",\"\",'Data Input'!H365)","v":""},{"$f":"IF('Data Input'!A365=\"\",\"\",'Data Input'!A365)","v":""},{"$f":"IF('Data Input'!R365=\"\",\"\",'Data Input'!R365)","v":""},{"$f":"IF('Data Input'!D365=\"\",\"\",'Data Input'!D365)","v":""},{"$f":"IF('Data Input'!E365=\"\",\"\",'Data Input'!E365)","v":""},{"$f":"IF('Data Input'!F365=\"\",\"\",'Data Input'!F365)","v":""},{"$f":"IF('Data Input'!G365=\"\",\"\",'Data Input'!G365)","v":""},{"$f":"IF('Data Input'!B365=\"\",\"\",'Data Input'!B365)","v":""},{"$f":"IF('Data Input'!C365=\"\",\"\",'Data Input'!C365)","v":""},{"$f":"IF('Data Input'!J365=\"\",\"\",'Data Input'!J365)","v":""},{"$f":"IF('Data Input'!K365=\"\",\"\",'Data Input'!K365)","v":""},{"$f":"IF('Data Input'!O365=\"\",\"\",'Data Input'!O365)","v":""},{"$f":"IF('Data Input'!L365=\"\",\"\",'Data Input'!L365)","v":""},{"$f":"IF('Data Input'!M365=\"\",\"\",'Data Input'!M365)","v":""},{"$f":"IF('Data Input'!Q365=\"\",\"\",'Data Input'!Q365)","v":""},{"$f":"IF('Data Input'!N365=\"\",\"\",'Data Input'!N365)","v":""},null,null,null,null,null,null,null,null,"",{"$f":"IFERROR(VLOOKUP($Z367,Lookup!$C:$E,2,FALSE),\"\")","v":""},{"$f":"IFERROR(VLOOKUP($AA367,Lookup!$D:$E,2,FALSE),\"\")","v":""},"",{"$f":"IFERROR(VLOOKUP($AC367,Lookup!$C:$E,2,FALSE),\"\")","v":""},{"$f":"IFERROR(VLOOKUP($AD367,Lookup!$D:$E,2,FALSE),\"\")","v":""},"",{"$f":"IFERROR(VLOOKUP($AF367,Lookup!$C:$E,2,FALSE),\"\")","v":""},{"$f":"IFERROR(VLOOKUP($AG367,Lookup!$D:$E,2,FALSE),\"\")","v":""},""]
[{"$f":"IF('Data Input'!I366=\"\",\"\",'Data Input'!I366)","v":""},{"$f":"IF('Data Input'!H366=\"\",\"\",'Data Input'!H366)","v":""},{"$f":"IF('Data Input'!A366=\"\",\"\",'Data Input'!A366)","v":""},{"$f":"IF('Data Input'!R366=\"\",\"\",'Data Input'!R366)","v":""},{"$f":"IF('Data Input'!D366=\"\",\"\",'Data Input'!D366)","v":""},{"$f":"IF('Data Input'!E366=\"\",\"\",'Data Input'!E366)","v":""},{"$f":"IF('Data Input'!F366=\"\",\"\",'Data Input'!F366)","v":""},{"$f":"IF('Data Input'!G366=\"\",\"\",'Data Input'!G366)","v":""},{"$f":"IF('Data Input'!B366=\"\",\"\",'Data Input'!B366)","v":""},{"$f":"IF('Data Input'!C366=\"\",\"\",'Data Input'!C366)","v":""},{"$f":"IF('Data Input'!J366=\"\",\"\",'Data Input'!J366)","v":""},{"$f":"IF('Data Input'!K366=\"\",\"\",'Data Input'!K366)","v":""},{"$f":"IF('Data Input'!O366=\"\",\"\",'Data Input'!O366)","v":""},{"$f":"IF('Data Input'!L366=\"\",\"\",'Data Input'!L366)","v":""},{"$f":"IF('Data Input'!M366=\"\",\"\",'Data Input'!M366)","v":""},{"$f":"IF('Data Input'!Q366=\"\",\"\",'Data Input'!Q366)","v":""},{"$f":"IF('Data Input'!N366=\"\",\"\",'Data Input'!N366)","v":""},null,null,null,null,null,null,null,null,"",{"$f":"IFERROR(VLOOKUP($Z368,Lookup!$C:$E,2,FALSE),\"\")","v":""},{"$f":"IFERROR(VLOOKUP($AA368,Lookup!$D:$E,2,FALSE),\"\")","v":""},"",{"$f":"IFERROR(VLOOKUP($AC368,Lookup!$C:$E,2,FALSE),\"\")","v":""},{"$f":"IFERROR(VLOOKUP($AD368,Lookup!$D:$E,2,FALSE),\"\")","v":""},"",{"$f":"IFERROR(VLOOKUP($AF368,Lookup!$C:$E,2,FALSE),\"\")","v":""},{"$f":"IFERROR(VLOOKUP($AG368,Lookup!$D:$E,2,FALSE),\"\")","v":""},""]
[{"$f":"IF('Data Input'!I367=\"\",\"\",'Data Input'!I367)","v":""},{"$f":"IF('Data Input'!H367=\"\",\"\",'Data Input'!H367)","v":""},{"$f":"IF('Data Input'!A367=\"\",\"\",'Data Input'!A367)","v":""},{"$f":"IF('Data Input'!R367=\"\",\"\",'Data Input'!R367)","v":""},{"$f":"IF('Data Input'!D367=\"\",\"\",'Data Input'!D367)","v":""},{"$f":"IF('Data Input'!E367=\"\",\"\",'Data Input'!E367)","v":""},{"$f":"IF('Data Input'!F367=\"\",\"\",'Data Input'!F367)","v":""},{"$f":"IF('Data Input'!G367=\"\",\"\",'Data Input'!G367)","v":""},{"$f":"IF('Data Input'!B367=\"\",\"\",'Data Input'!B367)","v":""},{"$f":"IF('Data Input'!C367=\"\",\"\",'Data Input'!C367)","v":""},{"$f":"IF('Data Input'!J367=\"\",\"\",'Data Input'!J367)","v":""},{"$f":"IF('Data Input'!K367=\"\",\"\",'Data Input'!K367)","v":""},{"$f":"IF('Data Input'!O367=\"\",\"\",'Data Input'!O367)","v":""},{"$f":"IF('Data Input'!L367=\"\",\"\",'Data Input'!L367)","v":""},{"$f":"IF('Data Input'!M367=\"\",\"\",'Data Input'!M367)","v":""},{"$f":"IF('Data Input'!Q367=\"\",\"\",'Data Input'!Q367)","v":""},{"$f":"IF('Data Input'!N367=\"\",\"\",'Data Input'!N367)","v":""},null,null,null,null,null,null,null,null,"",{"$f":"IFERROR(VLOOKUP($Z369,Lookup!$C:$E,2,FALSE),\"\")","v":""},{"$f":"IFERROR(VLOOKUP($AA369,Lookup!$D:$E,2,FALSE),\"\")","v":""},"",{"$f":"IFERROR(VLOOKUP($AC369,Lookup!$C:$E,2,FALSE),\"\")","v":""},{"$f":"IFERROR(VLOOKUP($AD369,Lookup!$D:$E,2,FALSE),\"\")","v":""},"",{"$f":"IFERROR(VLOOKUP($AF369,Lookup!$C:$E,2,FALSE),\"\")","v":""},{"$f":"IFERROR(VLOOKUP($AG369,Lookup!$D:$E,2,FALSE),\"\")","v":""},""]
[{"$f":"IF('Data Input'!I368=\"\",\"\",'Data Input'!I368)","v":""},{"$f":"IF('Data Input'!H368=\"\",\"\",'Data Input'!H368)","v":""},{"$f":"IF('Data Input'!A368=\"\",\"\",'Data Input'!A368)","v":""},{"$f":"IF('Data Input'!R368=\"\",\"\",'Data Input'!R368)","v":""},{"$f":"IF('Data Input'!D368=\"\",\"\",'Data Input'!D368)","v":""},{"$f":"IF('Data Input'!E368=\"\",\"\",'Data Input'!E368)","v":""},{"$f":"IF('Data Input'!F368=\"\",\"\",'Data Input'!F368)","v":""},{"$f":"IF('Data Input'!G368=\"\",\"\",'Data Input'!G368)","v":""},{"$f":"IF('Data Input'!B368=\"\",\"\",'Data Input'!B368)","v":""},{"$f":"IF('Data Input'!C368=\"\",\"\",'Data Input'!C368)","v":""},{"$f":"IF('Data Input'!J368=\"\",\"\",'Data Input'!J368)","v":""},{"$f":"IF('Data Input'!K368=\"\",\"\",'Data Input'!K368)","v":""},{"$f":"IF('Data Input'!O368=\"\",\"\",'Data Input'!O368)","v":""},{"$f":"IF('Data Input'!L368=\"\",\"\",'Data Input'!L368)","v":""},{"$f":"IF('Data Input'!M368=\"\",\"\",'Data Input'!M368)","v":""},{"$f":"IF('Data Input'!Q368=\"\",\"\",'Data Input'!Q368)","v":""},{"$f":"IF('Data Input'!N368=\"\",\"\",'Data Input'!N368)","v":""},null,null,null,null,null,null,null,null,"",{"$f":"IFERROR(VLOOKUP($Z370,Lookup!$C:$E,2,FALSE),\"\")","v":""},{"$f":"IFERROR(VLOOKUP($AA370,Lookup!$D:$E,2,FALSE),\"\")","v":""},"",{"$f":"IFERROR(VLOOKUP($AC370,Lookup!$C:$E,2,FALSE),\"\")","v":""},{"$f":"IFERROR(VLOOKUP($AD370,Lookup!$D:$E,2,FALSE),\"\")","v":""},"",{"$f":"IFERROR(VLOOKUP($AF370,Lookup!$C:$E,2,FALSE),\"\")","v":""},{"$f":"IFERROR(VLOOKUP($AG370,Lookup!$D:$E,2,FALSE),\"\")","v":""},""]
[{"$f":"IF('Data Input'!I369=\"\",\"\",'Data Input'!I369)","v":""},{"$f":"IF('Data Input'!H369=\"\",\"\",'Data Input'!H369)","v":""},{"$f":"IF('Data Input'!A369=\"\",\"\",'Data Input'!A369)","v":""},{"$f":"IF('Data Input'!R369=\"\",\"\",'Data Input'!R369)","v":""},{"$f":"IF('Data Input'!D369=\"\",\"\",'Data Input'!D369)","v":""},{"$f":"IF('Data Input'!E369=\"\",\"\",'Data Input'!E369)","v":""},{"$f":"IF('Data Input'!F369=\"\",\"\",'Data Input'!F369)","v":""},{"$f":"IF('Data Input'!G369=\"\",\"\",'Data Input'!G369)","v":""},{"$f":"IF('Data Input'!B369=\"\",\"\",'Data Input'!B369)","v":""},{"$f":"IF('Data Input'!C369=\"\",\"\",'Data Input'!C369)","v":""},{"$f":"IF('Data Input'!J369=\"\",\"\",'Data Input'!J369)","v":""},{"$f":"IF('Data Input'!K369=\"\",\"\",'Data Input'!K369)","v":""},{"$f":"IF('Data Input'!O369=\"\",\"\",'Data Input'!O369)","v":""},{"$f":"IF('Data Input'!L369=\"\",\"\",'Data Input'!L369)","v":""},{"$f":"IF('Data Input'!M369=\"\",\"\",'Data Input'!M369)","v":""},{"$f":"IF('Data Input'!Q369=\"\",\"\",'Data Input'!Q369)","v":""},{"$f":"IF('Data Input'!N369=\"\",\"\",'Data Input'!N369)","v":""},null,null,null,null,null,null,null,null,"",{"$f":"IFERROR(VLOOKUP($Z371,Lookup!$C:$E,2,FALSE),\"\")","v":""},{"$f":"IFERROR(VLOOKUP($AA371,Lookup!$D:$E,2,FALSE),\"\")","v":""},"",{"$f":"IFERROR(VLOOKUP($AC371,Lookup!$C:$E,2,FALSE),\"\")","v":""},{"$f":"IFERROR(VLOOKUP($AD371,Lookup!$D:$E,2,FALSE),\"\")","v":""},"",{"$f":"IFERROR(VLOOKUP($AF371,Lookup!$C:$E,2,FALSE),\"\")","v":""},{"$f":"IFERROR(VLOOKUP($AG371,Lookup!$D:$E,2,FALSE),\"\")","v":""},""]
[{"$f":"IF('Data Input'!I370=\"\",\"\",'Data Input'!I370)","v":""},{"$f":"IF('Data Input'!H370=\"\",\"\",'Data Input'!H370)","v":""},{"$f":"IF('Data Input'!A370=\"\",\"\",'Data Input'!A370)","v":""},{"$f":"IF('Data Input'!R370=\"\",\"\",'Data Input'!R370)","v":""},{"$f":"IF('Data Input'!D370=\"\",\"\",'Data Input'!D370)","v":""},{"$f":"IF('Data Input'!E370=\"\",\"\",'Data Input'!E370)","v":""},{"$f":"IF('Data Input'!F370=\"\",\"\",'Data Input'!F370)","v":""},{"$f":"IF('Data Input'!G370=\"\",\"\",'Data Input'!G370)","v":""},{"$f":"IF('Data Input'!B370=\"\",\"\",'Data Input'!B370)","v":""},{"$f":"IF('Data Input'!C370=\"\",\"\",'Data Input'!C370)","v":""},{"$f":"IF('Data Input'!J370=\"\",\"\",'Data Input'!J370)","v":""},{"$f":"IF('Data Input'!K370=\"\",\"\",'Data Input'!K370)","v":""},{"$f":"IF('Data Input'!O370=\"\",\"\",'Data Input'!O370)","v":""},{"$f":"IF('Data Input'!L370=\"\",\"\",'Data Input'!L370)","v":""},{"$f":"IF('Data Input'!M370=\"\",\"\",'Data Input'!M370)","v":""},{"$f":"IF('Data Input'!Q370=\"\",\"\",'Data Input'!Q370)","v":""},{"$f":"IF('Data Input'!N370=\"\",\"\",'Data Input'!N370)","v":""},null,null,null,null,null,null,null,null,"",{"$f":"IFERROR(VLOOKUP($Z372,Lookup!$C:$E,2,FALSE),\"\")","v":""},{"$f":"IFERROR(VLOOKUP($AA372,Lookup!$D:$E,2,FALSE),\"\")","v":""},"",{"$f":"IFERROR(VLOOKUP($AC372,Lookup!$C:$E,2,FALSE),\"\")","v":""},{"$f":"IFERROR(VLOOKUP($AD372,Lookup!$D:$E,2,FALSE),\"\")","v":""},"",{"$f":"IFERROR(VLOOKUP($AF372,Lookup!$C:$E,2,FALSE),\"\")","v":""},{"$f":"IFERROR(VLOOKUP($AG372,Lookup!$D:$E,2,FALSE),\"\")","v":""},""]
[{"$f":"IF('Data Input'!I371=\"\",\"\",'Data Input'!I371)","v":""},{"$f":"IF('Data Input'!H371=\"\",\"\",'Data Input'!H371)","v":""},{"$f":"IF('Data Input'!A371=\"\",\"\",'Data Input'!A371)","v":""},{"$f":"IF('Data Input'!R371=\"\",\"\",'Data Input'!R371)","v":""},{"$f":"IF('Data Input'!D371=\"\",\"\",'Data Input'!D371)","v":""},{"$f":"IF('Data Input'!E371=\"\",\"\",'Data Input'!E371)","v":""},{"$f":"IF('Data Input'!F371=\"\",\"\",'Data Input'!F371)","v":""},{"$f":"IF('Data Input'!G371=\"\",\"\",'Data Input'!G371)","v":""},{"$f":"IF('Data Input'!B371=\"\",\"\",'Data Input'!B371)","v":""},{"$f":"IF('Data Input'!C371=\"\",\"\",'Data Input'!C371)","v":""},{"$f":"IF('Data Input'!J371=\"\",\"\",'Data Input'!J371)","v":""},{"$f":"IF('Data Input'!K371=\"\",\"\",'Data Input'!K371)","v":""},{"$f":"IF('Data Input'!O371=\"\",\"\",'Data Input'!O371)","v":""},{"$f":"IF('Data Input'!L371=\"\",\"\",'Data Input'!L371)","v":""},{"$f":"IF('Data Input'!M371=\"\",\"\",'Data Input'!M371)","v":""},{"$f":"IF('Data Input'!Q371=\"\",\"\",'Data Input'!Q371)","v":""},{"$f":"IF('Data Input'!N371=\"\",\"\",'Data Input'!N371)","v":""},null,null,null,null,null,null,null,null,"",{"$f":"IFERROR(VLOOKUP($Z373,Lookup!$C:$E,2,FALSE),\"\")","v":""},{"$f":"IFERROR(VLOOKUP($AA373,Lookup!$D:$E,2,FALSE),\"\")","v":""},"",{"$f":"IFERROR(VLOOKUP($AC373,Lookup!$C:$E,2,FALSE),\"\")","v":""},{"$f":"IFERROR(VLOOKUP($AD373,Lookup!$D:$E,2,FALSE),\"\")","v":""},"",{"$f":"IFERROR(VLOOKUP($AF373,Lookup!$C:$E,2,FALSE),\"\")","v":""},{"$f":"IFERROR(VLOOKUP($AG373,Lookup!$D:$E,2,FALSE),\"\")","v":""},""]
[{"$f":"IF('Data Input'!I372=\"\",\"\",'Data Input'!I372)","v":""},{"$f":"IF('Data Input'!H372=\"\",\"\",'Data Input'!H372)","v":""},{"$f":"IF('Data Input'!A372=\"\",\"\",'Data Input'!A372)","v":""},{"$f":"IF('Data Input'!R372=\"\",\"\",'Data Input'!R372)","v":""},{"$f":"IF('Data Input'!D372=\"\",\"\",'Data Input'!D372)","v":""},{"$f":"IF('Data Input'!E372=\"\",\"\",'Data Input'!E372)","v":""},{"$f":"IF('Data Input'!F372=\"\",\"\",'Data Input'!F372)","v":""},{"$f":"IF('Data Input'!G372=\"\",\"\",'Data Input'!G372)","v":""},{"$f":"IF('Data Input'!B372=\"\",\"\",'Data Input'!B372)","v":""},{"$f":"IF('Data Input'!C372=\"\",\"\",'Data Input'!C372)","v":""},{"$f":"IF('Data Input'!J372=\"\",\"\",'Data Input'!J372)","v":""},{"$f":"IF('Data Input'!K372=\"\",\"\",'Data Input'!K372)","v":""},{"$f":"IF('Data Input'!O372=\"\",\"\",'Data Input'!O372)","v":""},{"$f":"IF('Data Input'!L372=\"\",\"\",'Data Input'!L372)","v":""},{"$f":"IF('Data Input'!M372=\"\",\"\",'Data Input'!M372)","v":""},{"$f":"IF('Data Input'!Q372=\"\",\"\",'Data Input'!Q372)","v":""},{"$f":"IF('Data Input'!N372=\"\",\"\",'Data Input'!N372)","v":""},null,null,null,null,null,null,null,null,"",{"$f":"IFERROR(VLOOKUP($Z374,Lookup!$C:$E,2,FALSE),\"\")","v":""},{"$f":"IFERROR(VLOOKUP($AA374,Lookup!$D:$E,2,FALSE),\"\")","v":""},"",{"$f":"IFERROR(VLOOKUP($AC374,Lookup!$C:$E,2,FALSE),\"\")","v":""},{"$f":"IFERROR(VLOOKUP($AD374,Lookup!$D:$E,2,FALSE),\"\")","v":""},"",{"$f":"IFERROR(VLOOKUP($AF374,Lookup!$C:$E,2,FALSE),\"\")","v":""},{"$f":"IFERROR(VLOOKUP($AG374,Lookup!$D:$E,2,FALSE),\"\")","v":""},""]
[{"$f":"IF('Data Input'!I373=\"\",\"\",'Data Input'!I373)","v":""},{"$f":"IF('Data Input'!H373=\"\",\"\",'Data Input'!H373)","v":""},{"$f":"IF('Data Input'!A373=\"\",\"\",'Data Input'!A373)","v":""},{"$f":"IF('Data Input'!R373=\"\",\"\",'Data Input'!R373)","v":""},{"$f":"IF('Data Input'!D373=\"\",\"\",'Data Input'!D373)","v":""},{"$f":"IF('Data Input'!E373=\"\",\"\",'Data Input'!E373)","v":""},{"$f":"IF('Data Input'!F373=\"\",\"\",'Data Input'!F373)","v":""},{"$f":"IF('Data Input'!G373=\"\",\"\",'Data Input'!G373)","v":""},{"$f":"IF('Data Input'!B373=\"\",\"\",'Data Input'!B373)","v":""},{"$f":"IF('Data Input'!C373=\"\",\"\",'Data Input'!C373)","v":""},{"$f":"IF('Data Input'!J373=\"\",\"\",'Data Input'!J373)","v":""},{"$f":"IF('Data Input'!K373=\"\",\"\",'Data Input'!K373)","v":""},{"$f":"IF('Data Input'!O373=\"\",\"\",'Data Input'!O373)","v":""},{"$f":"IF('Data Input'!L373=\"\",\"\",'Data Input'!L373)","v":""},{"$f":"IF('Data Input'!M373=\"\",\"\",'Data Input'!M373)","v":""},{"$f":"IF('Data Input'!Q373=\"\",\"\",'Data Input'!Q373)","v":""},{"$f":"IF('Data Input'!N373=\"\",\"\",'Data Input'!N373)","v":""},null,null,null,null,null,null,null,null,"",{"$f":"IFERROR(VLOOKUP($Z375,Lookup!$C:$E,2,FALSE),\"\")","v":""},{"$f":"IFERROR(VLOOKUP($AA375,Lookup!$D:$E,2,FALSE),\"\")","v":""},"",{"$f":"IFERROR(VLOOKUP($AC375,Lookup!$C:$E,2,FALSE),\"\")","v":""},{"$f":"IFERROR(VLOOKUP($AD375,Lookup!$D:$E,2,FALSE),\"\")","v":""},"",{"$f":"IFERROR(VLOOKUP($AF375,Lookup!$C:$E,2,FALSE),\"\")","v":""},{"$f":"IFERROR(VLOOKUP($AG375,Lookup!$D:$E,2,FALSE),\"\")","v":""},""]
[{"$f":"IF('Data Input'!I374=\"\",\"\",'Data Input'!I374)","v":""},{"$f":"IF('Data Input'!H374=\"\",\"\",'Data Input'!H374)","v":""},{"$f":"IF('Data Input'!A374=\"\",\"\",'Data Input'!A374)","v":""},{"$f":"IF('Data Input'!R374=\"\",\"\",'Data Input'!R374)","v":""},{"$f":"IF('Data Input'!D374=\"\",\"\",'Data Input'!D374)","v":""},{"$f":"IF('Data Input'!E374=\"\",\"\",'Data Input'!E374)","v":""},{"$f":"IF('Data Input'!F374=\"\",\"\",'Data Input'!F374)","v":""},{"$f":"IF('Data Input'!G374=\"\",\"\",'Data Input'!G374)","v":""},{"$f":"IF('Data Input'!B374=\"\",\"\",'Data Input'!B374)","v":""},{"$f":"IF('Data Input'!C374=\"\",\"\",'Data Input'!C374)","v":""},{"$f":"IF('Data Input'!J374=\"\",\"\",'Data Input'!J374)","v":""},{"$f":"IF('Data Input'!K374=\"\",\"\",'Data Input'!K374)","v":""},{"$f":"IF('Data Input'!O374=\"\",\"\",'Data Input'!O374)","v":""},{"$f":"IF('Data Input'!L374=\"\",\"\",'Data Input'!L374)","v":""},{"$f":"IF('Data Input'!M374=\"\",\"\",'Data Input'!M374)","v":""},{"$f":"IF('Data Input'!Q374=\"\",\"\",'Data Input'!Q374)","v":""},{"$f":"IF('Data Input'!N374=\"\",\"\",'Data Input'!N374)","v":""},null,null,null,null,null,null,null,null,"",{"$f":"IFERROR(VLOOKUP($Z376,Lookup!$C:$E,2,FALSE),\"\")","v":""},{"$f":"IFERROR(VLOOKUP($AA376,Lookup!$D:$E,2,FALSE),\"\")","v":""},"",{"$f":"IFERROR(VLOOKUP($AC376,Lookup!$C:$E,2,FALSE),\"\")","v":""},{"$f":"IFERROR(VLOOKUP($AD376,Lookup!$D:$E,2,FALSE),\"\")","v":""},"",{"$f":"IFERROR(VLOOKUP($AF376,Lookup!$C:$E,2,FALSE),\"\")","v":""},{"$f":"IFERROR(VLOOKUP($AG376,Lookup!$D:$E,2,FALSE),\"\")","v":""},""]
[{"$f":"IF('Data Input'!I375=\"\",\"\",'Data Input'!I375)","v":""},{"$f":"IF('Data Input'!H375=\"\",\"\",'Data Input'!H375)","v":""},{"$f":"IF('Data Input'!A375=\"\",\"\",'Data Input'!A375)","v":""},{"$f":"IF('Data Input'!R375=\"\",\"\",'Data Input'!R375)","v":""},{"$f":"IF('Data Input'!D375=\"\",\"\",'Data Input'!D375)","v":""},{"$f":"IF('Data Input'!E375=\"\",\"\",'Data Input'!E375)","v":""},{"$f":"IF('Data Input'!F375=\"\",\"\",'Data Input'!F375)","v":""},{"$f":"IF('Data Input'!G375=\"\",\"\",'Data Input'!G375)","v":""},{"$f":"IF('Data Input'!B375=\"\",\"\",'Data Input'!B375)","v":""},{"$f":"IF('Data Input'!C375=\"\",\"\",'Data Input'!C375)","v":""},{"$f":"IF('Data Input'!J375=\"\",\"\",'Data Input'!J375)","v":""},{"$f":"IF('Data Input'!K375=\"\",\"\",'Data Input'!K375)","v":""},{"$f":"IF('Data Input'!O375=\"\",\"\",'Data Input'!O375)","v":""},{"$f":"IF('Data Input'!L375=\"\",\"\",'Data Input'!L375)","v":""},{"$f":"IF('Data Input'!M375=\"\",\"\",'Data Input'!M375)","v":""},{"$f":"IF('Data Input'!Q375=\"\",\"\",'Data Input'!Q375)","v":""},{"$f":"IF('Data Input'!N375=\"\",\"\",'Data Input'!N375)","v":""},null,null,null,null,null,null,null,null,"",{"$f":"IFERROR(VLOOKUP($Z377,Lookup!$C:$E,2,FALSE),\"\")","v":""},{"$f":"IFERROR(VLOOKUP($AA377,Lookup!$D:$E,2,FALSE),\"\")","v":""},"",{"$f":"IFERROR(VLOOKUP($AC377,Lookup!$C:$E,2,FALSE),\"\")","v":""},{"$f":"IFERROR(VLOOKUP($AD377,Lookup!$D:$E,2,FALSE),\"\")","v":""},"",{"$f":"IFERROR(VLOOKUP($AF377,Lookup!$C:$E,2,FALSE),\"\")","v":""},{"$f":"IFERROR(VLOOKUP($AG377,Lookup!$D:$E,2,FALSE),\"\")","v":""},{"$f":"P377","v":""}]
[{"$f":"IF('Data Input'!I376=\"\",\"\",'Data Input'!I376)","v":""},{"$f":"IF('Data Input'!H376=\"\",\"\",'Data Input'!H376)","v":""},{"$f":"IF('Data Input'!A376=\"\",\"\",'Data Input'!A376)","v":""},{"$f":"IF('Data Input'!R376=\"\",\"\",'Data Input'!R376)","v":""},{"$f":"IF('Data Input'!D376=\"\",\"\",'Data Input'!D376)","v":""},{"$f":"IF('Data Input'!E376=\"\",\"\",'Data Input'!E376)","v":""},{"$f":"IF('Data Input'!F376=\"\",\"\",'Data Input'!F376)","v":""},{"$f":"IF('Data Input'!G376=\"\",\"\",'Data Input'!G376)","v":""},{"$f":"IF('Data Input'!B376=\"\",\"\",'Data Input'!B376)","v":""},{"$f":"IF('Data Input'!C376=\"\",\"\",'Data Input'!C376)","v":""},{"$f":"IF('Data Input'!J376=\"\",\"\",'Data Input'!J376)","v":""},{"$f":"IF('Data Input'!K376=\"\",\"\",'Data Input'!K376)","v":""},{"$f":"IF('Data Input'!O376=\"\",\"\",'Data Input'!O376)","v":""},{"$f":"IF('Data Input'!L376=\"\",\"\",'Data Input'!L376)","v":""},{"$f":"IF('Data Input'!M376=\"\",\"\",'Data Input'!M376)","v":""},{"$f":"IF('Data Input'!Q376=\"\",\"\",'Data Input'!Q376)","v":""},{"$f":"IF('Data Input'!N376=\"\",\"\",'Data Input'!N376)","v":""},null,null,null,null,null,null,null,null,"",{"$f":"IFERROR(VLOOKUP($Z378,Lookup!$C:$E,2,FALSE),\"\")","v":""},{"$f":"IFERROR(VLOOKUP($AA378,Lookup!$D:$E,2,FALSE),\"\")","v":""},"",{"$f":"IFERROR(VLOOKUP($AC378,Lookup!$C:$E,2,FALSE),\"\")","v":""},{"$f":"IFERROR(VLOOKUP($AD378,Lookup!$D:$E,2,FALSE),\"\")","v":""},"",{"$f":"IFERROR(VLOOKUP($AF378,Lookup!$C:$E,2,FALSE),\"\")","v":""},{"$f":"IFERROR(VLOOKUP($AG378,Lookup!$D:$E,2,FALSE),\"\")","v":""},""]
[{"$f":"IF('Data Input'!I377=\"\",\"\",'Data Input'!I377)","v":""},{"$f":"IF('Data Input'!H377=\"\",\"\",'Data Input'!H377)","v":""},{"$f":"IF('Data Input'!A377=\"\",\"\",'Data Input'!A377)","v":""},{"$f":"IF('Data Input'!R377=\"\",\"\",'Data Input'!R377)","v":""},{"$f":"IF('Data Input'!D377=\"\",\"\",'Data Input'!D377)","v":""},{"$f":"IF('Data Input'!E377=\"\",\"\",'Data Input'!E377)","v":""},{"$f":"IF('Data Input'!F377=\"\",\"\",'Data Input'!F377)","v":""},{"$f":"IF('Data Input'!G377=\"\",\"\",'Data Input'!G377)","v":""},{"$f":"IF('Data Input'!B377=\"\",\"\",'Data Input'!B377)","v":""},{"$f":"IF('Data Input'!C377=\"\",\"\",'Data Input'!C377)","v":""},{"$f":"IF('Data Input'!J377=\"\",\"\",'Data Input'!J377)","v":""},{"$f":"IF('Data Input'!K377=\"\",\"\",'Data Input'!K377)","v":""},{"$f":"IF('Data Input'!O377=\"\",\"\",'Data Input'!O377)","v":""},{"$f":"IF('Data Input'!L377=\"\",\"\",'Data Input'!L377)","v":""},{"$f":"IF('Data Input'!M377=\"\",\"\",'Data Input'!M377)","v":""},{"$f":"IF('Data Input'!Q377=\"\",\"\",'Data Input'!Q377)","v":""},{"$f":"IF('Data Input'!N377=\"\",\"\",'Data Input'!N377)","v":""},null,null,null,null,null,null,null,null,"",{"$f":"IFERROR(VLOOKUP($Z379,Lookup!$C:$E,2,FALSE),\"\")","v":""},{"$f":"IFERROR(VLOOKUP($AA379,Lookup!$D:$E,2,FALSE),\"\")","v":""},"",{"$f":"IFERROR(VLOOKUP($AC379,Lookup!$C:$E,2,FALSE),\"\")","v":""},{"$f":"IFERROR(VLOOKUP($AD379,Lookup!$D:$E,2,FALSE),\"\")","v":""},"",{"$f":"IFERROR(VLOOKUP($AF379,Lookup!$C:$E,2,FALSE),\"\")","v":""},{"$f":"IFERROR(VLOOKUP($AG379,Lookup!$D:$E,2,FALSE),\"\")","v":""},""]

{"sheet":"Billing Impact by Month","index":3,"n_rows":40,"n_cols":16,"rows_kept":40,"cut":false,"hidden":false,"merged":[[3,9,3,15],[6,3,6,4],[6,0,6,1],[6,6,6,7]]}
["1.  Press the \"Refresh\" Button Below to populate the data",null,null,null,null,null,null,null,null,"2.  Enter the Months and bill values from the tables to the left"]
[]
[]
[null,null,null,null,null,null,null,null,null,"Billing Impact by Month in Base Curr"]
[]
[]
["Current Backlog Value by Month in Base Curr",null,null,"Customer Request Bill Value by Month in Base Curr",null,null,"Counter Proposed Bill Value by Month in Base Curr",null,null,null,"Current Backlog Value by month","Customer Requested Bill Value By Month",null,null,"Counter Proposed Bill Value by Month"]
[]
["Row Labels","Sum of Bill Value",null,"Row Labels","Sum of Bill Value",null,"Row Labels","Sum of Bill Value",null,"Month","Current Backlog","Customer Request","Movement",null,"Counter Proposal","Movement"]
[null,0,null,null,0,null,null,0,null,null,null,null,{"$f":"L10-K10","v":0},null,null,{"$f":"O10-K10","v":0}]
["Grand Total",0,null,"Grand Total",0,null,"Grand Total",0,null,null,null,null,{"$f":"L11-K11","v":0},null,null,{"$f":"O11-K11","v":0}]
[null,null,null,null,null,null,null,null,null,null,null,null,0,null,null,0]
[null,null,null,null,null,null,null,null,null,null,null,null,0,null,null,0]
[null,null,null,null,null,null,null,null,null,null,null,null,0,null,null,0]
[null,null,null,null,null,null,null,null,null,null,null,null,0,null,null,0]
[null,null,null,null,null,null,null,null,null,null,null,null,0,null,null,{"$f":"O16-K16","v":0}]
[null,null,null,null,null,null,null,null,null,null,null,null,0,null,null,0]
[null,null,null,null,null,null,null,null,null,null,null,null,0,null,null,0]
[null,null,null,null,null,null,null,null,null,null,null,null,0,null,null,0]
[null,null,null,null,null,null,null,null,null,null,null,null,0,null,null,0]
[null,null,null,null,null,null,null,null,null,null,null,null,{"$f":"L21-K21","v":0},null,null,0]
[null,null,null,null,null,null,null,null,null,null,null,null,0,null,null,0]
[null,null,null,null,null,null,null,null,null,null,null,null,0,null,null,0]
[null,null,null,null,null,null,null,null,null,null,null,null,0,null,null,0]
[null,null,null,null,null,null,null,null,null,null,null,null,0,null,null,0]
[null,null,null,null,null,null,null,null,null,null,null,null,0,null,null,0]
[null,null,null,null,null,null,null,null,null,null,null,null,0,null,null,0]
[null,null,null,null,null,null,null,null,null,null,null,null,0,null,null,0]
[null,null,null,null,null,null,null,null,null,null,null,null,0,null,null,0]
[null,null,null,null,null,null,null,null,null,null,null,null,0,null,null,0]
[null,null,null,null,null,null,null,null,null,null,null,null,0,null,null,0]
[null,null,null,null,null,null,null,null,null,null,null,null,0,null,null,0]
[null,null,null,null,null,null,null,null,null,null,null,null,0,null,null,0]
[null,null,null,null,null,null,null,null,null,null,null,null,0,null,null,0]
[null,null,null,null,null,null,null,null,null,null,null,null,0,null,null,0]
[null,null,null,null,null,null,null,null,null,null,null,null,0,null,null,0]
[null,null,null,null,null,null,null,null,null,null,null,null,0,null,null,0]
[null,null,null,null,null,null,null,null,null,null,null,null,0,null,null,0]
[null,null,null,null,null,null,null,null,null,null,null,null,0,null,null,0]
[null,null,null,null,null,null,null,null,null,null,null,null,0,null,null,0]

{"sheet":"Billing Impact by Qtr","index":4,"n_rows":35,"n_cols":16,"rows_kept":35,"cut":false,"hidden":false,"merged":[[1,0,1,1],[1,3,1,4],[1,6,1,7]]}
[null,null,null,null,null,null,null,null,null,"3.  Enter the Months and bill values from the tables to the left"]
["Current Backlog Value by Month in Base Curr",null,null,"Customer Request Bill Value by Month in Base Curr",null,null,"Counter Proposed Bill Value by Month in Base Curr",null,null,null,"Current Backlog Value by Qtr","Customer Requested Bill Value By Qtr",null,null,"Counter Proposed Bill Value by Qtr"]
[]
["Row Labels","Sum of Bill Value",null,"Row Labels","Sum of Bill Value",null,"Row Labels","Sum of Bill Value",null,"FY & Quarter","Current Backlog","Customer Request","Movement",null,"Counter Proposal","Movement"]
[null,0,null,null,0,null,null,0,null,null,null,null,{"$f":"L5-K5","v":0},null,null,{"$f":"O5-K5","v":0}]
["Grand Total",0,null,"Grand Total",0,null,"Grand Total",0,null,null,null,null,0,null,null,0]
[null,null,null,null,null,null,null,null,null,null,null,null,{"$f":"L7-K7","v":0},null,null,{"$f":"O7-K7","v":0}]
[null,null,null,null,null,null,null,null,null,null,null,null,0,null,null,0]
[null,null,null,null,null,null,null,null,null,null,null,null,0,null,null,0]
[null,null,null,null,null,null,null,null,null,null,null,null,0,null,null,0]
[null,null,null,null,null,null,null,null,null,null,null,null,0,null,null,0]
[null,null,null,null,null,null,null,null,null,null,null,null,0,null,null,0]
[null,null,null,null,null,null,null,null,null,null,null,null,0,null,null,0]
[null,null,null,null,null,null,null,null,null,null,null,null,0,null,null,0]
[null,null,null,null,null,null,null,null,null,null,null,null,0,null,null,0]
[null,null,null,null,null,null,null,null,null,null,null,null,0,null,null,0]
[null,null,null,null,null,null,null,null,null,null,null,null,0,null,null,0]
[null,null,null,null,null,null,null,null,null,null,null,null,0,null,null,0]
[null,null,null,null,null,null,null,null,null,null,null,null,0,null,null,0]
[null,null,null,null,null,null,null,null,null,null,null,null,0,null,null,0]
[null,null,null,null,null,null,null,null,null,null,null,null,0,null,null,0]
[null,null,null,null,null,null,null,null,null,null,null,null,0,null,null,0]
[null,null,null,null,null,null,null,null,null,null,null,null,0,null,null,0]
[null,null,null,null,null,null,null,null,null,null,null,null,0,null,null,0]
[null,null,null,null,null,null,null,null,null,null,null,null,0,null,null,0]
[null,null,null,null,null,null,null,null,null,null,null,null,0,null,null,0]
[null,null,null,null,null,null,null,null,null,null,null,null,0,null,null,0]
[null,null,null,null,null,null,null,null,null,null,null,null,0,null,null,0]
[null,null,null,null,null,null,null,null,null,null,null,null,0,null,null,0]
[null,null,null,null,null,null,null,null,null,null,null,null,0,null,null,0]
[null,null,null,null,null,null,null,null,null,null,null,null,0,null,null,0]
[null,null,null,null,null,null,null,null,null,null,null,null,0,null,null,0]
[null,null,null,null,null,null,null,null,null,null,null,null,0,null,null,0]
[null,null,null,null,null,null,null,null,null,null,null,null,0,null,null,0]
[null,null,null,null,null,null,null,null,null,null,null,null,0,null,null,0]

{"sheet":"Summary","index":5,"n_rows":34,"n_cols":15,"rows_kept":34,"cut":false,"hidden":false,"merged":[]}
["Billing Impact By Month (Base Curr)",null,null,null,null,null,null,null,"Billing Impact By Quarter (Base Curr)"]
[]
["Month","Current Backlog","Customer Request","Movement",null,"Counter Proposal","Movement",null,"FY & Quarter","Current Backlog","Customer Request","Movement",null,"Counter Proposal","Movement"]
[{"$f":"IF('Billing Impact by Month'!J10=\"\",\"\",'Billing Impact by Month'!J10)","v":""},{"$f":"IF('Billing Impact by Month'!K10=\"\",\"\",'Billing Impact by Month'!K10)","v":""},{"$f":"IF('Billing Impact by Month'!L10=\"\",\"\",'Billing Impact by Month'!L10)","v":""},{"$f":"IF('Billing Impact by Month'!M10=0,\"\",'Billing Impact by Month'!M10)","v":""},null,{"$f":"IF('Billing Impact by Month'!O10=\"\",\"\",'Billing Impact by Month'!O10)","v":""},{"$f":"IF('Billing Impact by Month'!P10=0,\"\",'Billing Impact by Month'!P10)","v":""},null,{"$f":"IF('Billing Impact by Qtr'!J5=\"\",\"\",'Billing Impact by Qtr'!J5)","v":""},{"$f":"IF('Billing Impact by Qtr'!K5=\"\",\"\",'Billing Impact by Qtr'!K5)","v":""},{"$f":"IF('Billing Impact by Qtr'!L5=\"\",\"\",'Billing Impact by Qtr'!L5)","v":""},{"$f":"IF('Billing Impact by Qtr'!M5=\"\",\"\",'Billing Impact by Qtr'!M5)","v":0},null,{"$f":"IF('Billing Impact by Qtr'!O5=\"\",\"\",'Billing Impact by Qtr'!O5)","v":""},{"$f":"IF('Billing Impact by Qtr'!P5=\"\",\"\",'Billing Impact by Qtr'!P5)","v":0}]
[{"$f":"IF('Billing Impact by Month'!J11=\"\",\"\",'Billing Impact by Month'!J11)","v":""},{"$f":"IF('Billing Impact by Month'!K11=\"\",\"\",'Billing Impact by Month'!K11)","v":""},{"$f":"IF('Billing Impact by Month'!L11=\"\",\"\",'Billing Impact by Month'!L11)","v":""},{"$f":"IF('Billing Impact by Month'!M11=0,\"\",'Billing Impact by Month'!M11)","v":""},null,{"$f":"IF('Billing Impact by Month'!O11=\"\",\"\",'Billing Impact by Month'!O11)","v":""},{"$f":"IF('Billing Impact by Month'!P11=0,\"\",'Billing Impact by Month'!P11)","v":""},null,{"$f":"IF('Billing Impact by Qtr'!J6=\"\",\"\",'Billing Impact by Qtr'!J6)","v":""},{"$f":"IF('Billing Impact by Qtr'!K6=\"\",\"\",'Billing Impact by Qtr'!K6)","v":""},{"$f":"IF('Billing Impact by Qtr'!L6=\"\",\"\",'Billing Impact by Qtr'!L6)","v":""},{"$f":"IF('Billing Impact by Qtr'!M6=\"\",\"\",'Billing Impact by Qtr'!M6)","v":0},null,{"$f":"IF('Billing Impact by Qtr'!O6=\"\",\"\",'Billing Impact by Qtr'!O6)","v":""},{"$f":"IF('Billing Impact by Qtr'!P6=\"\",\"\",'Billing Impact by Qtr'!P6)","v":0}]
[{"$f":"IF('Billing Impact by Month'!J12=\"\",\"\",'Billing Impact by Month'!J12)","v":""},{"$f":"IF('Billing Impact by Month'!K12=\"\",\"\",'Billing Impact by Month'!K12)","v":""},{"$f":"IF('Billing Impact by Month'!L12=\"\",\"\",'Billing Impact by Month'!L12)","v":""},{"$f":"IF('Billing Impact by Month'!M12=0,\"\",'Billing Impact by Month'!M12)","v":""},null,{"$f":"IF('Billing Impact by Month'!O12=\"\",\"\",'Billing Impact by Month'!O12)","v":""},{"$f":"IF('Billing Impact by Month'!P12=0,\"\",'Billing Impact by Month'!P12)","v":""},null,{"$f":"IF('Billing Impact by Qtr'!J7=\"\",\"\",'Billing Impact by Qtr'!J7)","v":""},{"$f":"IF('Billing Impact by Qtr'!K7=\"\",\"\",'Billing Impact by Qtr'!K7)","v":""},{"$f":"IF('Billing Impact by Qtr'!L7=\"\",\"\",'Billing Impact by Qtr'!L7)","v":""},{"$f":"IF('Billing Impact by Qtr'!M7=\"\",\"\",'Billing Impact by Qtr'!M7)","v":0},null,{"$f":"IF('Billing Impact by Qtr'!O7=\"\",\"\",'Billing Impact by Qtr'!O7)","v":""},{"$f":"IF('Billing Impact by Qtr'!P7=\"\",\"\",'Billing Impact by Qtr'!P7)","v":0}]
[{"$f":"IF('Billing Impact by Month'!J13=\"\",\"\",'Billing Impact by Month'!J13)","v":""},{"$f":"IF('Billing Impact by Month'!K13=\"\",\"\",'Billing Impact by Month'!K13)","v":""},{"$f":"IF('Billing Impact by Month'!L13=\"\",\"\",'Billing Impact by Month'!L13)","v":""},{"$f":"IF('Billing Impact by Month'!M13=0,\"\",'Billing Impact by Month'!M13)","v":""},null,{"$f":"IF('Billing Impact by Month'!O13=\"\",\"\",'Billing Impact by Month'!O13)","v":""},{"$f":"IF('Billing Impact by Month'!P13=0,\"\",'Billing Impact by Month'!P13)","v":""},null,{"$f":"IF('Billing Impact by Qtr'!J8=\"\",\"\",'Billing Impact by Qtr'!J8)","v":""},{"$f":"IF('Billing Impact by Qtr'!K8=\"\",\"\",'Billing Impact by Qtr'!K8)","v":""},{"$f":"IF('Billing Impact by Qtr'!L8=\"\",\"\",'Billing Impact by Qtr'!L8)","v":""},{"$f":"IF('Billing Impact by Qtr'!M8=\"\",\"\",'Billing Impact by Qtr'!M8)","v":0},null,{"$f":"IF('Billing Impact by Qtr'!O8=\"\",\"\",'Billing Impact by Qtr'!O8)","v":""},{"$f":"IF('Billing Impact by Qtr'!P8=\"\",\"\",'Billing Impact by Qtr'!P8)","v":0}]
[{"$f":"IF('Billing Impact by Month'!J14=\"\",\"\",'Billing Impact by Month'!J14)","v":""},{"$f":"IF('Billing Impact by Month'!K14=\"\",\"\",'Billing Impact by Month'!K14)","v":""},{"$f":"IF('Billing Impact by Month'!L14=\"\",\"\",'Billing Impact by Month'!L14)","v":""},{"$f":"IF('Billing Impact by Month'!M14=0,\"\",'Billing Impact by Month'!M14)","v":""},null,{"$f":"IF('Billing Impact by Month'!O14=\"\",\"\",'Billing Impact by Month'!O14)","v":""},{"$f":"IF('Billing Impact by Month'!P14=0,\"\",'Billing Impact by Month'!P14)","v":""},null,{"$f":"IF('Billing Impact by Qtr'!J9=\"\",\"\",'Billing Impact by Qtr'!J9)","v":""},{"$f":"IF('Billing Impact by Qtr'!K9=\"\",\"\",'Billing Impact by Qtr'!K9)","v":""},{"$f":"IF('Billing Impact by Qtr'!L9=\"\",\"\",'Billing Impact by Qtr'!L9)","v":""},{"$f":"IF('Billing Impact by Qtr'!M9=\"\",\"\",'Billing Impact by Qtr'!M9)","v":0},null,{"$f":"IF('Billing Impact by Qtr'!O9=\"\",\"\",'Billing Impact by Qtr'!O9)","v":""},{"$f":"IF('Billing Impact by Qtr'!P9=\"\",\"\",'Billing Impact by Qtr'!P9)","v":0}]
[{"$f":"IF('Billing Impact by Month'!J15=\"\",\"\",'Billing Impact by Month'!J15)","v":""},{"$f":"IF('Billing Impact by Month'!K15=\"\",\"\",'Billing Impact by Month'!K15)","v":""},{"$f":"IF('Billing Impact by Month'!L15=\"\",\"\",'Billing Impact by Month'!L15)","v":""},{"$f":"IF('Billing Impact by Month'!M15=0,\"\",'Billing Impact by Month'!M15)","v":""},null,{"$f":"IF('Billing Impact by Month'!O15=\"\",\"\",'Billing Impact by Month'!O15)","v":""},{"$f":"IF('Billing Impact by Month'!P15=0,\"\",'Billing Impact by Month'!P15)","v":""},null,{"$f":"IF('Billing Impact by Qtr'!J10=\"\",\"\",'Billing Impact by Qtr'!J10)","v":""},{"$f":"IF('Billing Impact by Qtr'!K10=\"\",\"\",'Billing Impact by Qtr'!K10)","v":""},{"$f":"IF('Billing Impact by Qtr'!L10=\"\",\"\",'Billing Impact by Qtr'!L10)","v":""},{"$f":"IF('Billing Impact by Qtr'!M10=\"\",\"\",'Billing Impact by Qtr'!M10)","v":0},null,{"$f":"IF('Billing Impact by Qtr'!O10=\"\",\"\",'Billing Impact by Qtr'!O10)","v":""},{"$f":"IF('Billing Impact by Qtr'!P10=\"\",\"\",'Billing Impact by Qtr'!P10)","v":0}]
[{"$f":"IF('Billing Impact by Month'!J16=\"\",\"\",'Billing Impact by Month'!J16)","v":""},{"$f":"IF('Billing Impact by Month'!K16=\"\",\"\",'Billing Impact by Month'!K16)","v":""},{"$f":"IF('Billing Impact by Month'!L16=\"\",\"\",'Billing Impact by Month'!L16)","v":""},{"$f":"IF('Billing Impact by Month'!M16=0,\"\",'Billing Impact by Month'!M16)","v":""},null,{"$f":"IF('Billing Impact by Month'!O16=\"\",\"\",'Billing Impact by Month'!O16)","v":""},{"$f":"IF('Billing Impact by Month'!P16=0,\"\",'Billing Impact by Month'!P16)","v":""},null,{"$f":"IF('Billing Impact by Qtr'!J11=\"\",\"\",'Billing Impact by Qtr'!J11)","v":""},{"$f":"IF('Billing Impact by Qtr'!K11=\"\",\"\",'Billing Impact by Qtr'!K11)","v":""},{"$f":"IF('Billing Impact by Qtr'!L11=\"\",\"\",'Billing Impact by Qtr'!L11)","v":""},{"$f":"IF('Billing Impact by Qtr'!M11=\"\",\"\",'Billing Impact by Qtr'!M11)","v":0},null,{"$f":"IF('Billing Impact by Qtr'!O11=\"\",\"\",'Billing Impact by Qtr'!O11)","v":""},{"$f":"IF('Billing Impact by Qtr'!P11=\"\",\"\",'Billing Impact by Qtr'!P11)","v":0}]
[{"$f":"IF('Billing Impact by Month'!J17=\"\",\"\",'Billing Impact by Month'!J17)","v":""},{"$f":"IF('Billing Impact by Month'!K17=\"\",\"\",'Billing Impact by Month'!K17)","v":""},{"$f":"IF('Billing Impact by Month'!L17=\"\",\"\",'Billing Impact by Month'!L17)","v":""},{"$f":"IF('Billing Impact by Month'!M17=0,\"\",'Billing Impact by Month'!M17)","v":""},null,{"$f":"IF('Billing Impact by Month'!O17=\"\",\"\",'Billing Impact by Month'!O17)","v":""},{"$f":"IF('Billing Impact by Month'!P17=0,\"\",'Billing Impact by Month'!P17)","v":""},null,{"$f":"IF('Billing Impact by Qtr'!J12=\"\",\"\",'Billing Impact by Qtr'!J12)","v":""},{"$f":"IF('Billing Impact by Qtr'!K12=\"\",\"\",'Billing Impact by Qtr'!K12)","v":""},{"$f":"IF('Billing Impact by Qtr'!L12=\"\",\"\",'Billing Impact by Qtr'!L12)","v":""},{"$f":"IF('Billing Impact by Qtr'!M12=\"\",\"\",'Billing Impact by Qtr'!M12)","v":0},null,{"$f":"IF('Billing Impact by Qtr'!O12=\"\",\"\",'Billing Impact by Qtr'!O12)","v":""},{"$f":"IF('Billing Impact by Qtr'!P12=\"\",\"\",'Billing Impact by Qtr'!P12)","v":0}]
[{"$f":"IF('Billing Impact by Month'!J18=\"\",\"\",'Billing Impact by Month'!J18)","v":""},{"$f":"IF('Billing Impact by Month'!K18=\"\",\"\",'Billing Impact by Month'!K18)","v":""},{"$f":"IF('Billing Impact by Month'!L18=\"\",\"\",'Billing Impact by Month'!L18)","v":""},{"$f":"IF('Billing Impact by Month'!M18=0,\"\",'Billing Impact by Month'!M18)","v":""},null,{"$f":"IF('Billing Impact by Month'!O18=\"\",\"\",'Billing Impact by Month'!O18)","v":""},{"$f":"IF('Billing Impact by Month'!P18=0,\"\",'Billing Impact by Month'!P18)","v":""},null,{"$f":"IF('Billing Impact by Qtr'!J13=\"\",\"\",'Billing Impact by Qtr'!J13)","v":""},{"$f":"IF('Billing Impact by Qtr'!K13=\"\",\"\",'Billing Impact by Qtr'!K13)","v":""},{"$f":"IF('Billing Impact by Qtr'!L13=\"\",\"\",'Billing Impact by Qtr'!L13)","v":""},{"$f":"IF('Billing Impact by Qtr'!M13=\"\",\"\",'Billing Impact by Qtr'!M13)","v":0},null,{"$f":"IF('Billing Impact by Qtr'!O13=\"\",\"\",'Billing Impact by Qtr'!O13)","v":""},{"$f":"IF('Billing Impact by Qtr'!P13=\"\",\"\",'Billing Impact by Qtr'!P13)","v":0}]
[{"$f":"IF('Billing Impact by Month'!J19=\"\",\"\",'Billing Impact by Month'!J19)","v":""},{"$f":"IF('Billing Impact by Month'!K19=\"\",\"\",'Billing Impact by Month'!K19)","v":""},{"$f":"IF('Billing Impact by Month'!L19=\"\",\"\",'Billing Impact by Month'!L19)","v":""},{"$f":"IF('Billing Impact by Month'!M19=0,\"\",'Billing Impact by Month'!M19)","v":""},null,{"$f":"IF('Billing Impact by Month'!O19=\"\",\"\",'Billing Impact by Month'!O19)","v":""},{"$f":"IF('Billing Impact by Month'!P19=0,\"\",'Billing Impact by Month'!P19)","v":""},null,{"$f":"IF('Billing Impact by Qtr'!J14=\"\",\"\",'Billing Impact by Qtr'!J14)","v":""},{"$f":"IF('Billing Impact by Qtr'!K14=\"\",\"\",'Billing Impact by Qtr'!K14)","v":""},{"$f":"IF('Billing Impact by Qtr'!L14=\"\",\"\",'Billing Impact by Qtr'!L14)","v":""},{"$f":"IF('Billing Impact by Qtr'!M14=\"\",\"\",'Billing Impact by Qtr'!M14)","v":0},null,{"$f":"IF('Billing Impact by Qtr'!O14=\"\",\"\",'Billing Impact by Qtr'!O14)","v":""},{"$f":"IF('Billing Impact by Qtr'!P14=\"\",\"\",'Billing Impact by Qtr'!P14)","v":0}]
[{"$f":"IF('Billing Impact by Month'!J20=\"\",\"\",'Billing Impact by Month'!J20)","v":""},{"$f":"IF('Billing Impact by Month'!K20=\"\",\"\",'Billing Impact by Month'!K20)","v":""},{"$f":"IF('Billing Impact by Month'!L20=\"\",\"\",'Billing Impact by Month'!L20)","v":""},{"$f":"IF('Billing Impact by Month'!M20=0,\"\",'Billing Impact by Month'!M20)","v":""},null,{"$f":"IF('Billing Impact by Month'!O20=\"\",\"\",'Billing Impact by Month'!O20)","v":""},{"$f":"IF('Billing Impact by Month'!P20=0,\"\",'Billing Impact by Month'!P20)","v":""},null,{"$f":"IF('Billing Impact by Qtr'!J15=\"\",\"\",'Billing Impact by Qtr'!J15)","v":""},{"$f":"IF('Billing Impact by Qtr'!K15=\"\",\"\",'Billing Impact by Qtr'!K15)","v":""},{"$f":"IF('Billing Impact by Qtr'!L15=\"\",\"\",'Billing Impact by Qtr'!L15)","v":""},{"$f":"IF('Billing Impact by Qtr'!M15=\"\",\"\",'Billing Impact by Qtr'!M15)","v":0},null,{"$f":"IF('Billing Impact by Qtr'!O15=\"\",\"\",'Billing Impact by Qtr'!O15)","v":""},{"$f":"IF('Billing Impact by Qtr'!P15=\"\",\"\",'Billing Impact by Qtr'!P15)","v":0}]
[{"$f":"IF('Billing Impact by Month'!J21=\"\",\"\",'Billing Impact by Month'!J21)","v":""},{"$f":"IF('Billing Impact by Month'!K21=\"\",\"\",'Billing Impact by Month'!K21)","v":""},{"$f":"IF('Billing Impact by Month'!L21=\"\",\"\",'Billing Impact by Month'!L21)","v":""},{"$f":"IF('Billing Impact by Month'!M21=0,\"\",'Billing Impact by Month'!M21)","v":""},null,{"$f":"IF('Billing Impact by Month'!O21=\"\",\"\",'Billing Impact by Month'!O21)","v":""},{"$f":"IF('Billing Impact by Month'!P21=0,\"\",'Billing Impact by Month'!P21)","v":""},null,{"$f":"IF('Billing Impact by Qtr'!J16=\"\",\"\",'Billing Impact by Qtr'!J16)","v":""},{"$f":"IF('Billing Impact by Qtr'!K16=\"\",\"\",'Billing Impact by Qtr'!K16)","v":""},{"$f":"IF('Billing Impact by Qtr'!L16=\"\",\"\",'Billing Impact by Qtr'!L16)","v":""},{"$f":"IF('Billing Impact by Qtr'!M16=\"\",\"\",'Billing Impact by Qtr'!M16)","v":0},null,{"$f":"IF('Billing Impact by Qtr'!O16=\"\",\"\",'Billing Impact by Qtr'!O16)","v":""},{"$f":"IF('Billing Impact by Qtr'!P16=\"\",\"\",'Billing Impact by Qtr'!P16)","v":0}]
[{"$f":"IF('Billing Impact by Month'!J22=\"\",\"\",'Billing Impact by Month'!J22)","v":""},{"$f":"IF('Billing Impact by Month'!K22=\"\",\"\",'Billing Impact by Month'!K22)","v":""},{"$f":"IF('Billing Impact by Month'!L22=\"\",\"\",'Billing Impact by Month'!L22)","v":""},{"$f":"IF('Billing Impact by Month'!M22=0,\"\",'Billing Impact by Month'!M22)","v":""},null,{"$f":"IF('Billing Impact by Month'!O22=\"\",\"\",'Billing Impact by Month'!O22)","v":""},{"$f":"IF('Billing Impact by Month'!P22=0,\"\",'Billing Impact by Month'!P22)","v":""},null,{"$f":"IF('Billing Impact by Qtr'!J17=\"\",\"\",'Billing Impact by Qtr'!J17)","v":""},{"$f":"IF('Billing Impact by Qtr'!K17=\"\",\"\",'Billing Impact by Qtr'!K17)","v":""},{"$f":"IF('Billing Impact by Qtr'!L17=\"\",\"\",'Billing Impact by Qtr'!L17)","v":""},{"$f":"IF('Billing Impact by Qtr'!M17=\"\",\"\",'Billing Impact by Qtr'!M17)","v":0},null,{"$f":"IF('Billing Impact by Qtr'!O17=\"\",\"\",'Billing Impact by Qtr'!O17)","v":""},{"$f":"IF('Billing Impact by Qtr'!P17=\"\",\"\",'Billing Impact by Qtr'!P17)","v":0}]
[{"$f":"IF('Billing Impact by Month'!J23=\"\",\"\",'Billing Impact by Month'!J23)","v":""},{"$f":"IF('Billing Impact by Month'!K23=\"\",\"\",'Billing Impact by Month'!K23)","v":""},{"$f":"IF('Billing Impact by Month'!L23=\"\",\"\",'Billing Impact by Month'!L23)","v":""},{"$f":"IF('Billing Impact by Month'!M23=0,\"\",'Billing Impact by Month'!M23)","v":""},null,{"$f":"IF('Billing Impact by Month'!O23=\"\",\"\",'Billing Impact by Month'!O23)","v":""},{"$f":"IF('Billing Impact by Month'!P23=0,\"\",'Billing Impact by Month'!P23)","v":""},null,{"$f":"IF('Billing Impact by Qtr'!J18=\"\",\"\",'Billing Impact by Qtr'!J18)","v":""},{"$f":"IF('Billing Impact by Qtr'!K18=\"\",\"\",'Billing Impact by Qtr'!K18)","v":""},{"$f":"IF('Billing Impact by Qtr'!L18=\"\",\"\",'Billing Impact by Qtr'!L18)","v":""},{"$f":"IF('Billing Impact by Qtr'!M18=\"\",\"\",'Billing Impact by Qtr'!M18)","v":0},null,{"$f":"IF('Billing Impact by Qtr'!O18=\"\",\"\",'Billing Impact by Qtr'!O18)","v":""},{"$f":"IF('Billing Impact by Qtr'!P18=\"\",\"\",'Billing Impact by Qtr'!P18)","v":0}]
[{"$f":"IF('Billing Impact by Month'!J24=\"\",\"\",'Billing Impact by Month'!J24)","v":""},{"$f":"IF('Billing Impact by Month'!K24=\"\",\"\",'Billing Impact by Month'!K24)","v":""},{"$f":"IF('Billing Impact by Month'!L24=\"\",\"\",'Billing Impact by Month'!L24)","v":""},{"$f":"IF('Billing Impact by Month'!M24=0,\"\",'Billing Impact by Month'!M24)","v":""},null,{"$f":"IF('Billing Impact by Month'!O24=\"\",\"\",'Billing Impact by Month'!O24)","v":""},{"$f":"IF('Billing Impact by Month'!P24=0,\"\",'Billing Impact by Month'!P24)","v":""},null,{"$f":"IF('Billing Impact by Qtr'!J19=\"\",\"\",'Billing Impact by Qtr'!J19)","v":""},{"$f":"IF('Billing Impact by Qtr'!K19=\"\",\"\",'Billing Impact by Qtr'!K19)","v":""},{"$f":"IF('Billing Impact by Qtr'!L19=\"\",\"\",'Billing Impact by Qtr'!L19)","v":""},{"$f":"IF('Billing Impact by Qtr'!M19=\"\",\"\",'Billing Impact by Qtr'!M19)","v":0},null,{"$f":"IF('Billing Impact by Qtr'!O19=\"\",\"\",'Billing Impact by Qtr'!O19)","v":""},{"$f":"IF('Billing Impact by Qtr'!P19=\"\",\"\",'Billing Impact by Qtr'!P19)","v":0}]
[{"$f":"IF('Billing Impact by Month'!J25=\"\",\"\",'Billing Impact by Month'!J25)","v":""},{"$f":"IF('Billing Impact by Month'!K25=\"\",\"\",'Billing Impact by Month'!K25)","v":""},{"$f":"IF('Billing Impact by Month'!L25=\"\",\"\",'Billing Impact by Month'!L25)","v":""},{"$f":"IF('Billing Impact by Month'!M25=0,\"\",'Billing Impact by Month'!M25)","v":""},null,{"$f":"IF('Billing Impact by Month'!O25=\"\",\"\",'Billing Impact by Month'!O25)","v":""},{"$f":"IF('Billing Impact by Month'!P25=0,\"\",'Billing Impact by Month'!P25)","v":""},null,{"$f":"IF('Billing Impact by Qtr'!J20=\"\",\"\",'Billing Impact by Qtr'!J20)","v":""},{"$f":"IF('Billing Impact by Qtr'!K20=\"\",\"\",'Billing Impact by Qtr'!K20)","v":""},{"$f":"IF('Billing Impact by Qtr'!L20=\"\",\"\",'Billing Impact by Qtr'!L20)","v":""},{"$f":"IF('Billing Impact by Qtr'!M20=\"\",\"\",'Billing Impact by Qtr'!M20)","v":0},null,{"$f":"IF('Billing Impact by Qtr'!O20=\"\",\"\",'Billing Impact by Qtr'!O20)","v":""},{"$f":"IF('Billing Impact by Qtr'!P20=\"\",\"\",'Billing Impact by Qtr'!P20)","v":0}]
[{"$f":"IF('Billing Impact by Month'!J26=\"\",\"\",'Billing Impact by Month'!J26)","v":""},{"$f":"IF('Billing Impact by Month'!K26=\"\",\"\",'Billing Impact by Month'!K26)","v":""},{"$f":"IF('Billing Impact by Month'!L26=\"\",\"\",'Billing Impact by Month'!L26)","v":""},{"$f":"IF('Billing Impact by Month'!M26=0,\"\",'Billing Impact by Month'!M26)","v":""},null,{"$f":"IF('Billing Impact by Month'!O26=\"\",\"\",'Billing Impact by Month'!O26)","v":""},{"$f":"IF('Billing Impact by Month'!P26=0,\"\",'Billing Impact by Month'!P26)","v":""},null,{"$f":"IF('Billing Impact by Qtr'!J21=\"\",\"\",'Billing Impact by Qtr'!J21)","v":""},{"$f":"IF('Billing Impact by Qtr'!K21=\"\",\"\",'Billing Impact by Qtr'!K21)","v":""},{"$f":"IF('Billing Impact by Qtr'!L21=\"\",\"\",'Billing Impact by Qtr'!L21)","v":""},{"$f":"IF('Billing Impact by Qtr'!M21=\"\",\"\",'Billing Impact by Qtr'!M21)","v":0},null,{"$f":"IF('Billing Impact by Qtr'!O21=\"\",\"\",'Billing Impact by Qtr'!O21)","v":""},{"$f":"IF('Billing Impact by Qtr'!P21=\"\",\"\",'Billing Impact by Qtr'!P21)","v":0}]
[{"$f":"IF('Billing Impact by Month'!J27=\"\",\"\",'Billing Impact by Month'!J27)","v":""},{"$f":"IF('Billing Impact by Month'!K27=\"\",\"\",'Billing Impact by Month'!K27)","v":""},{"$f":"IF('Billing Impact by Month'!L27=\"\",\"\",'Billing Impact by Month'!L27)","v":""},{"$f":"IF('Billing Impact by Month'!M27=0,\"\",'Billing Impact by Month'!M27)","v":""},null,{"$f":"IF('Billing Impact by Month'!O27=\"\",\"\",'Billing Impact by Month'!O27)","v":""},{"$f":"IF('Billing Impact by Month'!P27=0,\"\",'Billing Impact by Month'!P27)","v":""},null,{"$f":"IF('Billing Impact by Qtr'!J22=\"\",\"\",'Billing Impact by Qtr'!J22)","v":""},{"$f":"IF('Billing Impact by Qtr'!K22=\"\",\"\",'Billing Impact by Qtr'!K22)","v":""},{"$f":"IF('Billing Impact by Qtr'!L22=\"\",\"\",'Billing Impact by Qtr'!L22)","v":""},{"$f":"IF('Billing Impact by Qtr'!M22=\"\",\"\",'Billing Impact by Qtr'!M22)","v":0},null,{"$f":"IF('Billing Impact by Qtr'!O22=\"\",\"\",'Billing Impact by Qtr'!O22)","v":""},{"$f":"IF('Billing Impact by Qtr'!P22=\"\",\"\",'Billing Impact by Qtr'!P22)","v":0}]
[{"$f":"IF('Billing Impact by Month'!J28=\"\",\"\",'Billing Impact by Month'!J28)","v":""},{"$f":"IF('Billing Impact by Month'!K28=\"\",\"\",'Billing Impact by Month'!K28)","v":""},{"$f":"IF('Billing Impact by Month'!L28=\"\",\"\",'Billing Impact by Month'!L28)","v":""},{"$f":"IF('Billing Impact by Month'!M28=0,\"\",'Billing Impact by Month'!M28)","v":""},null,{"$f":"IF('Billing Impact by Month'!O28=\"\",\"\",'Billing Impact by Month'!O28)","v":""},{"$f":"IF('Billing Impact by Month'!P28=0,\"\",'Billing Impact by Month'!P28)","v":""},null,{"$f":"IF('Billing Impact by Qtr'!J23=\"\",\"\",'Billing Impact by Qtr'!J23)","v":""},{"$f":"IF('Billing Impact by Qtr'!K23=\"\",\"\",'Billing Impact by Qtr'!K23)","v":""},{"$f":"IF('Billing Impact by Qtr'!L23=\"\",\"\",'Billing Impact by Qtr'!L23)","v":""},{"$f":"IF('Billing Impact by Qtr'!M23=\"\",\"\",'Billing Impact by Qtr'!M23)","v":0},null,{"$f":"IF('Billing Impact by Qtr'!O23=\"\",\"\",'Billing Impact by Qtr'!O23)","v":""},{"$f":"IF('Billing Impact by Qtr'!P23=\"\",\"\",'Billing Impact by Qtr'!P23)","v":0}]
[{"$f":"IF('Billing Impact by Month'!J29=\"\",\"\",'Billing Impact by Month'!J29)","v":""},{"$f":"IF('Billing Impact by Month'!K29=\"\",\"\",'Billing Impact by Month'!K29)","v":""},{"$f":"IF('Billing Impact by Month'!L29=\"\",\"\",'Billing Impact by Month'!L29)","v":""},{"$f":"IF('Billing Impact by Month'!M29=0,\"\",'Billing Impact by Month'!M29)","v":""},null,{"$f":"IF('Billing Impact by Month'!O29=\"\",\"\",'Billing Impact by Month'!O29)","v":""},{"$f":"IF('Billing Impact by Month'!P29=0,\"\",'Billing Impact by Month'!P29)","v":""},null,{"$f":"IF('Billing Impact by Qtr'!J24=\"\",\"\",'Billing Impact by Qtr'!J24)","v":""},{"$f":"IF('Billing Impact by Qtr'!K24=\"\",\"\",'Billing Impact by Qtr'!K24)","v":""},{"$f":"IF('Billing Impact by Qtr'!L24=\"\",\"\",'Billing Impact by Qtr'!L24)","v":""},{"$f":"IF('Billing Impact by Qtr'!M24=\"\",\"\",'Billing Impact by Qtr'!M24)","v":0},null,{"$f":"IF('Billing Impact by Qtr'!O24=\"\",\"\",'Billing Impact by Qtr'!O24)","v":""},{"$f":"IF('Billing Impact by Qtr'!P24=\"\",\"\",'Billing Impact by Qtr'!P24)","v":0}]
[{"$f":"IF('Billing Impact by Month'!J30=\"\",\"\",'Billing Impact by Month'!J30)","v":""},{"$f":"IF('Billing Impact by Month'!K30=\"\",\"\",'Billing Impact by Month'!K30)","v":""},{"$f":"IF('Billing Impact by Month'!L30=\"\",\"\",'Billing Impact by Month'!L30)","v":""},{"$f":"IF('Billing Impact by Month'!M30=0,\"\",'Billing Impact by Month'!M30)","v":""},null,{"$f":"IF('Billing Impact by Month'!O30=\"\",\"\",'Billing Impact by Month'!O30)","v":""},{"$f":"IF('Billing Impact by Month'!P30=0,\"\",'Billing Impact by Month'!P30)","v":""},null,{"$f":"IF('Billing Impact by Qtr'!J25=\"\",\"\",'Billing Impact by Qtr'!J25)","v":""},{"$f":"IF('Billing Impact by Qtr'!K25=\"\",\"\",'Billing Impact by Qtr'!K25)","v":""},{"$f":"IF('Billing Impact by Qtr'!L25=\"\",\"\",'Billing Impact by Qtr'!L25)","v":""},{"$f":"IF('Billing Impact by Qtr'!M25=\"\",\"\",'Billing Impact by Qtr'!M25)","v":0},null,{"$f":"IF('Billing Impact by Qtr'!O25=\"\",\"\",'Billing Impact by Qtr'!O25)","v":""},{"$f":"IF('Billing Impact by Qtr'!P25=\"\",\"\",'Billing Impact by Qtr'!P25)","v":0}]
[{"$f":"IF('Billing Impact by Month'!J31=\"\",\"\",'Billing Impact by Month'!J31)","v":""},{"$f":"IF('Billing Impact by Month'!K31=\"\",\"\",'Billing Impact by Month'!K31)","v":""},{"$f":"IF('Billing Impact by Month'!L31=\"\",\"\",'Billing Impact by Month'!L31)","v":""},{"$f":"IF('Billing Impact by Month'!M31=0,\"\",'Billing Impact by Month'!M31)","v":""},null,{"$f":"IF('Billing Impact by Month'!O31=\"\",\"\",'Billing Impact by Month'!O31)","v":""},{"$f":"IF('Billing Impact by Month'!P31=0,\"\",'Billing Impact by Month'!P31)","v":""},null,{"$f":"IF('Billing Impact by Qtr'!J26=\"\",\"\",'Billing Impact by Qtr'!J26)","v":""},{"$f":"IF('Billing Impact by Qtr'!K26=\"\",\"\",'Billing Impact by Qtr'!K26)","v":""},{"$f":"IF('Billing Impact by Qtr'!L26=\"\",\"\",'Billing Impact by Qtr'!L26)","v":""},{"$f":"IF('Billing Impact by Qtr'!M26=\"\",\"\",'Billing Impact by Qtr'!M26)","v":0},null,{"$f":"IF('Billing Impact by Qtr'!O26=\"\",\"\",'Billing Impact by Qtr'!O26)","v":""},{"$f":"IF('Billing Impact by Qtr'!P26=\"\",\"\",'Billing Impact by Qtr'!P26)","v":0}]
[{"$f":"IF('Billing Impact by Month'!J32=\"\",\"\",'Billing Impact by Month'!J32)","v":""},{"$f":"IF('Billing Impact by Month'!K32=\"\",\"\",'Billing Impact by Month'!K32)","v":""},{"$f":"IF('Billing Impact by Month'!L32=\"\",\"\",'Billing Impact by Month'!L32)","v":""},{"$f":"IF('Billing Impact by Month'!M32=0,\"\",'Billing Impact by Month'!M32)","v":""},null,{"$f":"IF('Billing Impact by Month'!O32=\"\",\"\",'Billing Impact by Month'!O32)","v":""},{"$f":"IF('Billing Impact by Month'!P32=0,\"\",'Billing Impact by Month'!P32)","v":""},null,{"$f":"IF('Billing Impact by Qtr'!J27=\"\",\"\",'Billing Impact by Qtr'!J27)","v":""},{"$f":"IF('Billing Impact by Qtr'!K27=\"\",\"\",'Billing Impact by Qtr'!K27)","v":""},{"$f":"IF('Billing Impact by Qtr'!L27=\"\",\"\",'Billing Impact by Qtr'!L27)","v":""},{"$f":"IF('Billing Impact by Qtr'!M27=\"\",\"\",'Billing Impact by Qtr'!M27)","v":0},null,{"$f":"IF('Billing Impact by Qtr'!O27=\"\",\"\",'Billing Impact by Qtr'!O27)","v":""},{"$f":"IF('Billing Impact by Qtr'!P27=\"\",\"\",'Billing Impact by Qtr'!P27)","v":0}]
[{"$f":"IF('Billing Impact by Month'!J33=\"\",\"\",'Billing Impact by Month'!J33)","v":""},{"$f":"IF('Billing Impact by Month'!K33=\"\",\"\",'Billing Impact by Month'!K33)","v":""},{"$f":"IF('Billing Impact by Month'!L33=\"\",\"\",'Billing Impact by Month'!L33)","v":""},{"$f":"IF('Billing Impact by Month'!M33=0,\"\",'Billing Impact by Month'!M33)","v":""},null,{"$f":"IF('Billing Impact by Month'!O33=\"\",\"\",'Billing Impact by Month'!O33)","v":""},{"$f":"IF('Billing Impact by Month'!P33=0,\"\",'Billing Impact by Month'!P33)","v":""},null,{"$f":"IF('Billing Impact by Qtr'!J28=\"\",\"\",'Billing Impact by Qtr'!J28)","v":""},{"$f":"IF('Billing Impact by Qtr'!K28=\"\",\"\",'Billing Impact by Qtr'!K28)","v":""},{"$f":"IF('Billing Impact by Qtr'!L28=\"\",\"\",'Billing Impact by Qtr'!L28)","v":""},{"$f":"IF('Billing Impact by Qtr'!M28=\"\",\"\",'Billing Impact by Qtr'!M28)","v":0},null,{"$f":"IF('Billing Impact by Qtr'!O28=\"\",\"\",'Billing Impact by Qtr'!O28)","v":""},{"$f":"IF('Billing Impact by Qtr'!P28=\"\",\"\",'Billing Impact by Qtr'!P28)","v":0}]
[{"$f":"IF('Billing Impact by Month'!J34=\"\",\"\",'Billing Impact by Month'!J34)","v":""},{"$f":"IF('Billing Impact by Month'!K34=\"\",\"\",'Billing Impact by Month'!K34)","v":""},{"$f":"IF('Billing Impact by Month'!L34=\"\",\"\",'Billing Impact by Month'!L34)","v":""},{"$f":"IF('Billing Impact by Month'!M34=0,\"\",'Billing Impact by Month'!M34)","v":""},null,{"$f":"IF('Billing Impact by Month'!O34=\"\",\"\",'Billing Impact by Month'!O34)","v":""},{"$f":"IF('Billing Impact by Month'!P34=0,\"\",'Billing Impact by Month'!P34)","v":""},null,{"$f":"IF('Billing Impact by Qtr'!J29=\"\",\"\",'Billing Impact by Qtr'!J29)","v":""},{"$f":"IF('Billing Impact by Qtr'!K29=\"\",\"\",'Billing Impact by Qtr'!K29)","v":""},{"$f":"IF('Billing Impact by Qtr'!L29=\"\",\"\",'Billing Impact by Qtr'!L29)","v":""},{"$f":"IF('Billing Impact by Qtr'!M29=\"\",\"\",'Billing Impact by Qtr'!M29)","v":0},null,{"$f":"IF('Billing Impact by Qtr'!O29=\"\",\"\",'Billing Impact by Qtr'!O29)","v":""},{"$f":"IF('Billing Impact by Qtr'!P29=\"\",\"\",'Billing Impact by Qtr'!P29)","v":0}]
[{"$f":"IF('Billing Impact by Month'!J35=\"\",\"\",'Billing Impact by Month'!J35)","v":""},{"$f":"IF('Billing Impact by Month'!K35=\"\",\"\",'Billing Impact by Month'!K35)","v":""},{"$f":"IF('Billing Impact by Month'!L35=\"\",\"\",'Billing Impact by Month'!L35)","v":""},{"$f":"IF('Billing Impact by Month'!M35=0,\"\",'Billing Impact by Month'!M35)","v":""},null,{"$f":"IF('Billing Impact by Month'!O35=\"\",\"\",'Billing Impact by Month'!O35)","v":""},{"$f":"IF('Billing Impact by Month'!P35=0,\"\",'Billing Impact by Month'!P35)","v":""},null,{"$f":"IF('Billing Impact by Qtr'!J30=\"\",\"\",'Billing Impact by Qtr'!J30)","v":""},{"$f":"IF('Billing Impact by Qtr'!K30=\"\",\"\",'Billing Impact by Qtr'!K30)","v":""},{"$f":"IF('Billing Impact by Qtr'!L30=\"\",\"\",'Billing Impact by Qtr'!L30)","v":""},{"$f":"IF('Billing Impact by Qtr'!M30=\"\",\"\",'Billing Impact by Qtr'!M30)","v":0},null,{"$f":"IF('Billing Impact by Qtr'!O30=\"\",\"\",'Billing Impact by Qtr'!O30)","v":""},{"$f":"IF('Billing Impact by Qtr'!P30=\"\",\"\",'Billing Impact by Qtr'!P30)","v":0}]
[{"$f":"IF('Billing Impact by Month'!J36=\"\",\"\",'Billing Impact by Month'!J36)","v":""},{"$f":"IF('Billing Impact by Month'!K36=\"\",\"\",'Billing Impact by Month'!K36)","v":""},{"$f":"IF('Billing Impact by Month'!L36=\"\",\"\",'Billing Impact by Month'!L36)","v":""},{"$f":"IF('Billing Impact by Month'!M36=0,\"\",'Billing Impact by Month'!M36)","v":""},null,{"$f":"IF('Billing Impact by Month'!O36=\"\",\"\",'Billing Impact by Month'!O36)","v":""},{"$f":"IF('Billing Impact by Month'!P36=0,\"\",'Billing Impact by Month'!P36)","v":""},null,{"$f":"IF('Billing Impact by Qtr'!J31=\"\",\"\",'Billing Impact by Qtr'!J31)","v":""},{"$f":"IF('Billing Impact by Qtr'!K31=\"\",\"\",'Billing Impact by Qtr'!K31)","v":""},{"$f":"IF('Billing Impact by Qtr'!L31=\"\",\"\",'Billing Impact by Qtr'!L31)","v":""},{"$f":"IF('Billing Impact by Qtr'!M31=\"\",\"\",'Billing Impact by Qtr'!M31)","v":0},null,{"$f":"IF('Billing Impact by Qtr'!O31=\"\",\"\",'Billing Impact by Qtr'!O31)","v":""},{"$f":"IF('Billing Impact by Qtr'!P31=\"\",\"\",'Billing Impact by Qtr'!P31)","v":0}]
[{"$f":"IF('Billing Impact by Month'!J37=\"\",\"\",'Billing Impact by Month'!J37)","v":""},{"$f":"IF('Billing Impact by Month'!K37=\"\",\"\",'Billing Impact by Month'!K37)","v":""},{"$f":"IF('Billing Impact by Month'!L37=\"\",\"\",'Billing Impact by Month'!L37)","v":""},{"$f":"IF('Billing Impact by Month'!M37=0,\"\",'Billing Impact by Month'!M37)","v":""},null,{"$f":"IF('Billing Impact by Month'!O37=\"\",\"\",'Billing Impact by Month'!O37)","v":""},{"$f":"IF('Billing Impact by Month'!P37=0,\"\",'Billing Impact by Month'!P37)","v":""},null,{"$f":"IF('Billing Impact by Qtr'!J32=\"\",\"\",'Billing Impact by Qtr'!J32)","v":""},{"$f":"IF('Billing Impact by Qtr'!K32=\"\",\"\",'Billing Impact by Qtr'!K32)","v":""},{"$f":"IF('Billing Impact by Qtr'!L32=\"\",\"\",'Billing Impact by Qtr'!L32)","v":""},{"$f":"IF('Billing Impact by Qtr'!M32=\"\",\"\",'Billing Impact by Qtr'!M32)","v":0},null,{"$f":"IF('Billing Impact by Qtr'!O32=\"\",\"\",'Billing Impact by Qtr'!O32)","v":""},{"$f":"IF('Billing Impact by Qtr'!P32=\"\",\"\",'Billing Impact by Qtr'!P32)","v":0}]
[{"$f":"IF('Billing Impact by Month'!J38=\"\",\"\",'Billing Impact by Month'!J38)","v":""},{"$f":"IF('Billing Impact by Month'!K38=\"\",\"\",'Billing Impact by Month'!K38)","v":""},{"$f":"IF('Billing Impact by Month'!L38=\"\",\"\",'Billing Impact by Month'!L38)","v":""},{"$f":"IF('Billing Impact by Month'!M38=0,\"\",'Billing Impact by Month'!M38)","v":""},null,{"$f":"IF('Billing Impact by Month'!O38=\"\",\"\",'Billing Impact by Month'!O38)","v":""},{"$f":"IF('Billing Impact by Month'!P38=0,\"\",'Billing Impact by Month'!P38)","v":""},null,{"$f":"IF('Billing Impact by Qtr'!J33=\"\",\"\",'Billing Impact by Qtr'!J33)","v":""},{"$f":"IF('Billing Impact by Qtr'!K33=\"\",\"\",'Billing Impact by Qtr'!K33)","v":""},{"$f":"IF('Billing Impact by Qtr'!L33=\"\",\"\",'Billing Impact by Qtr'!L33)","v":""},{"$f":"IF('Billing Impact by Qtr'!M33=\"\",\"\",'Billing Impact by Qtr'!M33)","v":0},null,{"$f":"IF('Billing Impact by Qtr'!O33=\"\",\"\",'Billing Impact by Qtr'!O33)","v":""},{"$f":"IF('Billing Impact by Qtr'!P33=\"\",\"\",'Billing Impact by Qtr'!P33)","v":0}]
[{"$f":"IF('Billing Impact by Month'!J39=\"\",\"\",'Billing Impact by Month'!J39)","v":""},{"$f":"IF('Billing Impact by Month'!K39=\"\",\"\",'Billing Impact by Month'!K39)","v":""},{"$f":"IF('Billing Impact by Month'!L39=\"\",\"\",'Billing Impact by Month'!L39)","v":""},{"$f":"IF('Billing Impact by Month'!M39=0,\"\",'Billing Impact by Month'!M39)","v":""},null,{"$f":"IF('Billing Impact by Month'!O39=\"\",\"\",'Billing Impact by Month'!O39)","v":""},{"$f":"IF('Billing Impact by Month'!P39=0,\"\",'Billing Impact by Month'!P39)","v":""},null,{"$f":"IF('Billing Impact by Qtr'!J34=\"\",\"\",'Billing Impact by Qtr'!J34)","v":""},{"$f":"IF('Billing Impact by Qtr'!K34=\"\",\"\",'Billing Impact by Qtr'!K34)","v":""},{"$f":"IF('Billing Impact by Qtr'!L34=\"\",\"\",'Billing Impact by Qtr'!L34)","v":""},{"$f":"IF('Billing Impact by Qtr'!M34=\"\",\"\",'Billing Impact by Qtr'!M34)","v":0},null,{"$f":"IF('Billing Impact by Qtr'!O34=\"\",\"\",'Billing Impact by Qtr'!O34)","v":""},{"$f":"IF('Billing Impact by Qtr'!P34=\"\",\"\",'Billing Impact by Qtr'!P34)","v":0}]
[{"$f":"IF('Billing Impact by Month'!J40=\"\",\"\",'Billing Impact by Month'!J40)","v":""},{"$f":"IF('Billing Impact by Month'!K40=\"\",\"\",'Billing Impact by Month'!K40)","v":""},{"$f":"IF('Billing Impact by Month'!L40=\"\",\"\",'Billing Impact by Month'!L40)","v":""},{"$f":"IF('Billing Impact by Month'!M40=0,\"\",'Billing Impact by Month'!M40)","v":""},null,{"$f":"IF('Billing Impact by Month'!O40=\"\",\"\",'Billing Impact by Month'!O40)","v":""},{"$f":"IF('Billing Impact by Month'!P40=0,\"\",'Billing Impact by Month'!P40)","v":""},null,{"$f":"IF('Billing Impact by Qtr'!J35=\"\",\"\",'Billing Impact by Qtr'!J35)","v":""},{"$f":"IF('Billing Impact by Qtr'!K35=\"\",\"\",'Billing Impact by Qtr'!K35)","v":""},{"$f":"IF('Billing Impact by Qtr'!L35=\"\",\"\",'Billing Impact by Qtr'!L35)","v":""},{"$f":"IF('Billing Impact by Qtr'!M35=\"\",\"\",'Billing Impact by Qtr'!M35)","v":0},null,{"$f":"IF('Billing Impact by Qtr'!O35=\"\",\"\",'Billing Impact by Qtr'!O35)","v":""},{"$f":"IF('Billing Impact by Qtr'!P35=\"\",\"\",'Billing Impact by Qtr'!P35)","v":0}]

{"sheet":"Lookup","index":6,"n_rows":31387,"n_cols":5,"rows_kept":4500,"cut":true,"hidden":true,"merged":[],"bounds":{"rows_first":2000,"rows_last":500,"rows_between":2000,"halvings":0}}
[null,null,null,"Pushout Macro"]
["Company","Date","Billing month Concat","STD Billing Month","FY and Qtr"]
[15000,"2016-01-01",{"$f":"_xlfn.CONCAT(A3,B3)","v":"1500042370"},"2026-08-01","FY27 Q2"]
[19000,"2016-01-01",{"$f":"_xlfn.CONCAT(A4,B4)","v":"1900042370"},"2026-08-01","FY27 Q2"]
[20000,"2016-01-01","2000042370","2026-08-01","FY27 Q2"]
[21000,"2016-01-01","2100042370","2026-08-01","FY27 Q2"]
[24000,"2016-01-01","2400042370","2026-08-01","FY27 Q2"]
[30000,"2016-01-01","3000042370","2026-08-01","FY27 Q2"]
[34000,"2016-01-01","3400042370","2026-08-01","FY27 Q2"]
[15000,"2016-01-02","1500042371","2026-08-01","FY27 Q2"]
[19000,"2016-01-02","1900042371","2026-08-01","FY27 Q2"]
[20000,"2016-01-02","2000042371","2026-08-01","FY27 Q2"]
[21000,"2016-01-02","2100042371","2026-08-01","FY27 Q2"]
[24000,"2016-01-02","2400042371","2026-08-01","FY27 Q2"]
[30000,"2016-01-02","3000042371","2026-08-01","FY27 Q2"]
[34000,"2016-01-02","3400042371","2026-08-01","FY27 Q2"]
[15000,"2016-01-03","1500042372","2026-08-01","FY27 Q2"]
[19000,"2016-01-03","1900042372","2026-08-01","FY27 Q2"]
[20000,"2016-01-03","2000042372","2026-08-01","FY27 Q2"]
[21000,"2016-01-03","2100042372","2026-08-01","FY27 Q2"]
[24000,"2016-01-03","2400042372","2026-08-01","FY27 Q2"]
[30000,"2016-01-03","3000042372","2026-08-01","FY27 Q2"]
[34000,"2016-01-03","3400042372","2026-08-01","FY27 Q2"]
[15000,"2016-01-04","1500042373","2026-08-01","FY27 Q2"]
[19000,"2016-01-04","1900042373","2026-08-01","FY27 Q2"]
[20000,"2016-01-04","2000042373","2026-08-01","FY27 Q2"]
[21000,"2016-01-04","2100042373","2026-08-01","FY27 Q2"]
[24000,"2016-01-04","2400042373","2026-08-01","FY27 Q2"]
[30000,"2016-01-04","3000042373","2026-08-01","FY27 Q2"]
[34000,"2016-01-04","3400042373","2026-08-01","FY27 Q2"]
[15000,"2016-01-05","1500042374","2026-08-01","FY27 Q2"]
[19000,"2016-01-05","1900042374","2026-08-01","FY27 Q2"]
[20000,"2016-01-05","2000042374","2026-08-01","FY27 Q2"]
[21000,"2016-01-05","2100042374","2026-08-01","FY27 Q2"]
[24000,"2016-01-05","2400042374","2026-08-01","FY27 Q2"]
[30000,"2016-01-05","3000042374","2026-08-01","FY27 Q2"]
[34000,"2016-01-05","3400042374","2026-08-01","FY27 Q2"]
[15000,"2016-01-06","1500042375","2026-08-01","FY27 Q2"]
[19000,"2016-01-06","1900042375","2026-08-01","FY27 Q2"]
[20000,"2016-01-06","2000042375","2026-08-01","FY27 Q2"]
[21000,"2016-01-06","2100042375","2026-08-01","FY27 Q2"]
[24000,"2016-01-06","2400042375","2026-08-01","FY27 Q2"]
[30000,"2016-01-06","3000042375","2026-08-01","FY27 Q2"]
[34000,"2016-01-06","3400042375","2026-08-01","FY27 Q2"]
[15000,"2016-01-07","1500042376","2026-08-01","FY27 Q2"]
[19000,"2016-01-07","1900042376","2026-08-01","FY27 Q2"]
[20000,"2016-01-07","2000042376","2026-08-01","FY27 Q2"]
[21000,"2016-01-07","2100042376","2026-08-01","FY27 Q2"]
[24000,"2016-01-07","2400042376","2026-08-01","FY27 Q2"]
[30000,"2016-01-07","3000042376","2026-08-01","FY27 Q2"]
[34000,"2016-01-07","3400042376","2026-08-01","FY27 Q2"]
[15000,"2016-01-08","1500042377","2026-08-01","FY27 Q2"]
[19000,"2016-01-08","1900042377","2026-08-01","FY27 Q2"]
[20000,"2016-01-08","2000042377","2026-08-01","FY27 Q2"]
[21000,"2016-01-08","2100042377","2026-08-01","FY27 Q2"]
[24000,"2016-01-08","2400042377","2026-08-01","FY27 Q2"]
[30000,"2016-01-08","3000042377","2026-08-01","FY27 Q2"]
[34000,"2016-01-08","3400042377","2026-08-01","FY27 Q2"]
[15000,"2016-01-09","1500042378","2026-08-01","FY27 Q2"]
[19000,"2016-01-09","1900042378","2026-08-01","FY27 Q2"]
[20000,"2016-01-09","2000042378","2026-08-01","FY27 Q2"]
[21000,"2016-01-09","2100042378","2026-08-01","FY27 Q2"]
[24000,"2016-01-09","2400042378","2026-08-01","FY27 Q2"]
[30000,"2016-01-09","3000042378","2026-08-01","FY27 Q2"]
[34000,"2016-01-09","3400042378","2026-08-01","FY27 Q2"]
[15000,"2016-01-10","1500042379","2026-08-01","FY27 Q2"]
[19000,"2016-01-10","1900042379","2026-08-01","FY27 Q2"]
[20000,"2016-01-10",{"$f":"_xlfn.CONCAT(A68,B68)","v":"2000042379"},"2026-08-01","FY27 Q2"]
[21000,"2016-01-10","2100042379","2026-08-01","FY27 Q2"]
[24000,"2016-01-10","2400042379","2026-08-01","FY27 Q2"]
[30000,"2016-01-10","3000042379","2026-08-01","FY27 Q2"]
[34000,"2016-01-10","3400042379","2026-08-01","FY27 Q2"]
[15000,"2016-01-11","1500042380","2026-08-01","FY27 Q2"]
[19000,"2016-01-11","1900042380","2026-08-01","FY27 Q2"]
[20000,"2016-01-11","2000042380","2026-08-01","FY27 Q2"]
[21000,"2016-01-11","2100042380","2026-08-01","FY27 Q2"]
[24000,"2016-01-11","2400042380","2026-08-01","FY27 Q2"]
[30000,"2016-01-11","3000042380","2026-08-01","FY27 Q2"]
[34000,"2016-01-11","3400042380","2026-08-01","FY27 Q2"]
[15000,"2016-01-12","1500042381","2026-08-01","FY27 Q2"]
[19000,"2016-01-12","1900042381","2026-08-01","FY27 Q2"]
[20000,"2016-01-12","2000042381","2026-08-01","FY27 Q2"]
[21000,"2016-01-12","2100042381","2026-08-01","FY27 Q2"]
[24000,"2016-01-12","2400042381","2026-08-01","FY27 Q2"]
[30000,"2016-01-12","3000042381","2026-08-01","FY27 Q2"]
[34000,"2016-01-12","3400042381","2026-08-01","FY27 Q2"]
[15000,"2016-01-13","1500042382","2026-08-01","FY27 Q2"]
[19000,"2016-01-13","1900042382","2026-08-01","FY27 Q2"]
[20000,"2016-01-13","2000042382","2026-08-01","FY27 Q2"]
[21000,"2016-01-13","2100042382","2026-08-01","FY27 Q2"]
[24000,"2016-01-13","2400042382","2026-08-01","FY27 Q2"]
[30000,"2016-01-13","3000042382","2026-08-01","FY27 Q2"]
[34000,"2016-01-13","3400042382","2026-08-01","FY27 Q2"]
[15000,"2016-01-14","1500042383","2026-08-01","FY27 Q2"]
[19000,"2016-01-14","1900042383","2026-08-01","FY27 Q2"]
[20000,"2016-01-14","2000042383","2026-08-01","FY27 Q2"]
[21000,"2016-01-14","2100042383","2026-08-01","FY27 Q2"]
[24000,"2016-01-14","2400042383","2026-08-01","FY27 Q2"]
[30000,"2016-01-14","3000042383","2026-08-01","FY27 Q2"]
[34000,"2016-01-14","3400042383","2026-08-01","FY27 Q2"]
[15000,"2016-01-15","1500042384","2026-08-01","FY27 Q2"]
[19000,"2016-01-15","1900042384","2026-08-01","FY27 Q2"]
[20000,"2016-01-15","2000042384","2026-08-01","FY27 Q2"]
[21000,"2016-01-15","2100042384","2026-08-01","FY27 Q2"]
[24000,"2016-01-15","2400042384","2026-08-01","FY27 Q2"]
[30000,"2016-01-15","3000042384","2026-08-01","FY27 Q2"]
[34000,"2016-01-15","3400042384","2026-08-01","FY27 Q2"]
[15000,"2016-01-16","1500042385","2026-08-01","FY27 Q2"]
[19000,"2016-01-16","1900042385","2026-08-01","FY27 Q2"]
[20000,"2016-01-16","2000042385","2026-08-01","FY27 Q2"]
[21000,"2016-01-16","2100042385","2026-08-01","FY27 Q2"]
[24000,"2016-01-16","2400042385","2026-08-01","FY27 Q2"]
[30000,"2016-01-16","3000042385","2026-08-01","FY27 Q2"]
[34000,"2016-01-16","3400042385","2026-08-01","FY27 Q2"]
[15000,"2016-01-17","1500042386","2026-08-01","FY27 Q2"]
[19000,"2016-01-17","1900042386","2026-08-01","FY27 Q2"]
[20000,"2016-01-17","2000042386","2026-08-01","FY27 Q2"]
[21000,"2016-01-17","2100042386","2026-08-01","FY27 Q2"]
[24000,"2016-01-17","2400042386","2026-08-01","FY27 Q2"]
[30000,"2016-01-17","3000042386","2026-08-01","FY27 Q2"]
[34000,"2016-01-17","3400042386","2026-08-01","FY27 Q2"]
[15000,"2016-01-18","1500042387","2026-08-01","FY27 Q2"]
[19000,"2016-01-18","1900042387","2026-08-01","FY27 Q2"]
[20000,"2016-01-18","2000042387","2026-08-01","FY27 Q2"]
[21000,"2016-01-18","2100042387","2026-08-01","FY27 Q2"]
[24000,"2016-01-18","2400042387","2026-08-01","FY27 Q2"]
[30000,"2016-01-18","3000042387","2026-08-01","FY27 Q2"]
[34000,"2016-01-18","3400042387","2026-08-01","FY27 Q2"]
[15000,"2016-01-19","1500042388","2026-08-01","FY27 Q2"]
[19000,"2016-01-19","1900042388","2026-08-01","FY27 Q2"]
[20000,"2016-01-19","2000042388","2026-08-01","FY27 Q2"]
[21000,"2016-01-19",{"$f":"_xlfn.CONCAT(A132,B132)","v":"2100042388"},"2026-08-01","FY27 Q2"]
[24000,"2016-01-19","2400042388","2026-08-01","FY27 Q2"]
[30000,"2016-01-19","3000042388","2026-08-01","FY27 Q2"]
[34000,"2016-01-19","3400042388","2026-08-01","FY27 Q2"]
[15000,"2016-01-20","1500042389","2026-08-01","FY27 Q2"]
[19000,"2016-01-20","1900042389","2026-08-01","FY27 Q2"]
[20000,"2016-01-20","2000042389","2026-08-01","FY27 Q2"]
[21000,"2016-01-20","2100042389","2026-08-01","FY27 Q2"]
[24000,"2016-01-20","2400042389","2026-08-01","FY27 Q2"]
[30000,"2016-01-20","3000042389","2026-08-01","FY27 Q2"]
[34000,"2016-01-20","3400042389","2026-08-01","FY27 Q2"]
[15000,"2016-01-21","1500042390","2026-08-01","FY27 Q2"]
[19000,"2016-01-21","1900042390","2026-08-01","FY27 Q2"]
[20000,"2016-01-21","2000042390","2026-08-01","FY27 Q2"]
[21000,"2016-01-21","2100042390","2026-08-01","FY27 Q2"]
[24000,"2016-01-21","2400042390","2026-08-01","FY27 Q2"]
[30000,"2016-01-21","3000042390","2026-08-01","FY27 Q2"]
[34000,"2016-01-21","3400042390","2026-08-01","FY27 Q2"]
[15000,"2016-01-22","1500042391","2026-08-01","FY27 Q2"]
[19000,"2016-01-22","1900042391","2026-08-01","FY27 Q2"]
[20000,"2016-01-22","2000042391","2026-08-01","FY27 Q2"]
[21000,"2016-01-22","2100042391","2026-08-01","FY27 Q2"]
[24000,"2016-01-22","2400042391","2026-08-01","FY27 Q2"]
[30000,"2016-01-22","3000042391","2026-08-01","FY27 Q2"]
[34000,"2016-01-22","3400042391","2026-08-01","FY27 Q2"]
[15000,"2016-01-23","1500042392","2026-08-01","FY27 Q2"]
[19000,"2016-01-23","1900042392","2026-08-01","FY27 Q2"]
[20000,"2016-01-23","2000042392","2026-08-01","FY27 Q2"]
[21000,"2016-01-23","2100042392","2026-08-01","FY27 Q2"]
[24000,"2016-01-23","2400042392","2026-08-01","FY27 Q2"]
[30000,"2016-01-23","3000042392","2026-08-01","FY27 Q2"]
[34000,"2016-01-23","3400042392","2026-08-01","FY27 Q2"]
[15000,"2016-01-24","1500042393","2026-08-01","FY27 Q2"]
[19000,"2016-01-24","1900042393","2026-08-01","FY27 Q2"]
[20000,"2016-01-24","2000042393","2026-08-01","FY27 Q2"]
[21000,"2016-01-24","2100042393","2026-08-01","FY27 Q2"]
[24000,"2016-01-24","2400042393","2026-08-01","FY27 Q2"]
[30000,"2016-01-24","3000042393","2026-08-01","FY27 Q2"]
[34000,"2016-01-24","3400042393","2026-08-01","FY27 Q2"]
[15000,"2016-01-25","1500042394","2026-08-01","FY27 Q2"]
[19000,"2016-01-25","1900042394","2026-08-01","FY27 Q2"]
[20000,"2016-01-25","2000042394","2026-08-01","FY27 Q2"]
[21000,"2016-01-25","2100042394","2026-08-01","FY27 Q2"]
[24000,"2016-01-25","2400042394","2026-08-01","FY27 Q2"]
[30000,"2016-01-25","3000042394","2026-08-01","FY27 Q2"]
[34000,"2016-01-25","3400042394","2026-08-01","FY27 Q2"]
[15000,"2016-01-26","1500042395","2026-08-01","FY27 Q2"]
[19000,"2016-01-26","1900042395","2026-08-01","FY27 Q2"]
[20000,"2016-01-26","2000042395","2026-08-01","FY27 Q2"]
[21000,"2016-01-26","2100042395","2026-08-01","FY27 Q2"]
[24000,"2016-01-26","2400042395","2026-08-01","FY27 Q2"]
[30000,"2016-01-26","3000042395","2026-08-01","FY27 Q2"]
[34000,"2016-01-26","3400042395","2026-08-01","FY27 Q2"]
[15000,"2016-01-27","1500042396","2026-08-01","FY27 Q2"]
[19000,"2016-01-27","1900042396","2026-08-01","FY27 Q2"]
[20000,"2016-01-27","2000042396","2026-08-01","FY27 Q2"]
[21000,"2016-01-27","2100042396","2026-08-01","FY27 Q2"]
[24000,"2016-01-27","2400042396","2026-08-01","FY27 Q2"]
[30000,"2016-01-27","3000042396","2026-08-01","FY27 Q2"]
[34000,"2016-01-27","3400042396","2026-08-01","FY27 Q2"]
[15000,"2016-01-28","1500042397","2026-08-01","FY27 Q2"]
[19000,"2016-01-28","1900042397","2026-08-01","FY27 Q2"]
[20000,"2016-01-28","2000042397","2026-08-01","FY27 Q2"]
[21000,"2016-01-28","2100042397","2026-08-01","FY27 Q2"]
[24000,"2016-01-28",{"$f":"_xlfn.CONCAT(A196,B196)","v":"2400042397"},"2026-08-01","FY27 Q2"]
[30000,"2016-01-28","3000042397","2026-08-01","FY27 Q2"]
[34000,"2016-01-28","3400042397","2026-08-01","FY27 Q2"]
[15000,"2016-01-29","1500042398","2026-08-01","FY27 Q2"]
[19000,"2016-01-29","1900042398","2026-08-01","FY27 Q2"]
[20000,"2016-01-29","2000042398","2026-08-01","FY27 Q2"]
[21000,"2016-01-29","2100042398","2026-08-01","FY27 Q2"]
[24000,"2016-01-29","2400042398","2026-08-01","FY27 Q2"]
[30000,"2016-01-29","3000042398","2026-08-01","FY27 Q2"]
[34000,"2016-01-29","3400042398","2026-08-01","FY27 Q2"]
[15000,"2016-01-30","1500042399","2026-08-01","FY27 Q2"]
[19000,"2016-01-30","1900042399","2026-08-01","FY27 Q2"]
[20000,"2016-01-30","2000042399","2026-08-01","FY27 Q2"]
[21000,"2016-01-30","2100042399","2026-08-01","FY27 Q2"]
[24000,"2016-01-30","2400042399","2026-08-01","FY27 Q2"]
[30000,"2016-01-30","3000042399","2026-08-01","FY27 Q2"]
[34000,"2016-01-30","3400042399","2026-08-01","FY27 Q2"]
[15000,"2016-01-31","1500042400","2026-08-01","FY27 Q2"]
[19000,"2016-01-31","1900042400","2026-08-01","FY27 Q2"]
[20000,"2016-01-31","2000042400","2026-08-01","FY27 Q2"]
[21000,"2016-01-31","2100042400","2026-08-01","FY27 Q2"]
[24000,"2016-01-31","2400042400","2026-08-01","FY27 Q2"]
[30000,"2016-01-31","3000042400","2026-08-01","FY27 Q2"]
[34000,"2016-01-31","3400042400","2026-08-01","FY27 Q2"]
[15000,"2016-02-01","1500042401","2026-08-01","FY27 Q2"]
[19000,"2016-02-01","1900042401","2026-08-01","FY27 Q2"]
[20000,"2016-02-01","2000042401","2026-08-01","FY27 Q2"]
[21000,"2016-02-01","2100042401","2026-08-01","FY27 Q2"]
[24000,"2016-02-01","2400042401","2026-08-01","FY27 Q2"]
[30000,"2016-02-01","3000042401","2026-08-01","FY27 Q2"]
[34000,"2016-02-01","3400042401","2026-08-01","FY27 Q2"]
[15000,"2016-02-02","1500042402","2026-08-01","FY27 Q2"]
[19000,"2016-02-02","1900042402","2026-08-01","FY27 Q2"]
[20000,"2016-02-02","2000042402","2026-08-01","FY27 Q2"]
[21000,"2016-02-02","2100042402","2026-08-01","FY27 Q2"]
[24000,"2016-02-02","2400042402","2026-08-01","FY27 Q2"]
[30000,"2016-02-02","3000042402","2026-08-01","FY27 Q2"]
[34000,"2016-02-02","3400042402","2026-08-01","FY27 Q2"]
[15000,"2016-02-03","1500042403","2026-08-01","FY27 Q2"]
[19000,"2016-02-03","1900042403","2026-08-01","FY27 Q2"]
[20000,"2016-02-03","2000042403","2026-08-01","FY27 Q2"]
[21000,"2016-02-03","2100042403","2026-08-01","FY27 Q2"]
[24000,"2016-02-03","2400042403","2026-08-01","FY27 Q2"]
[30000,"2016-02-03","3000042403","2026-08-01","FY27 Q2"]
[34000,"2016-02-03","3400042403","2026-08-01","FY27 Q2"]
[15000,"2016-02-04","1500042404","2026-08-01","FY27 Q2"]
[19000,"2016-02-04","1900042404","2026-08-01","FY27 Q2"]
[20000,"2016-02-04","2000042404","2026-08-01","FY27 Q2"]
[21000,"2016-02-04","2100042404","2026-08-01","FY27 Q2"]
[24000,"2016-02-04","2400042404","2026-08-01","FY27 Q2"]
[30000,"2016-02-04","3000042404","2026-08-01","FY27 Q2"]
[34000,"2016-02-04","3400042404","2026-08-01","FY27 Q2"]
[15000,"2016-02-05","1500042405","2026-08-01","FY27 Q2"]
[19000,"2016-02-05","1900042405","2026-08-01","FY27 Q2"]
[20000,"2016-02-05","2000042405","2026-08-01","FY27 Q2"]
[21000,"2016-02-05","2100042405","2026-08-01","FY27 Q2"]
[24000,"2016-02-05","2400042405","2026-08-01","FY27 Q2"]
[30000,"2016-02-05","3000042405","2026-08-01","FY27 Q2"]
[34000,"2016-02-05","3400042405","2026-08-01","FY27 Q2"]
[15000,"2016-02-06","1500042406","2026-08-01","FY27 Q2"]
[19000,"2016-02-06","1900042406","2026-08-01","FY27 Q2"]
[20000,"2016-02-06","2000042406","2026-08-01","FY27 Q2"]
[21000,"2016-02-06","2100042406","2026-08-01","FY27 Q2"]
[24000,"2016-02-06","2400042406","2026-08-01","FY27 Q2"]
[30000,"2016-02-06",{"$f":"_xlfn.CONCAT(A260,B260)","v":"3000042406"},"2026-08-01","FY27 Q2"]
[34000,"2016-02-06","3400042406","2026-08-01","FY27 Q2"]
[15000,"2016-02-07","1500042407","2026-08-01","FY27 Q2"]
[19000,"2016-02-07","1900042407","2026-08-01","FY27 Q2"]
[20000,"2016-02-07","2000042407","2026-08-01","FY27 Q2"]
[21000,"2016-02-07","2100042407","2026-08-01","FY27 Q2"]
[24000,"2016-02-07","2400042407","2026-08-01","FY27 Q2"]
[30000,"2016-02-07","3000042407","2026-08-01","FY27 Q2"]
[34000,"2016-02-07","3400042407","2026-08-01","FY27 Q2"]
[15000,"2016-02-08","1500042408","2026-08-01","FY27 Q2"]
[19000,"2016-02-08","1900042408","2026-08-01","FY27 Q2"]
[20000,"2016-02-08","2000042408","2026-08-01","FY27 Q2"]
[21000,"2016-02-08","2100042408","2026-08-01","FY27 Q2"]
[24000,"2016-02-08","2400042408","2026-08-01","FY27 Q2"]
[30000,"2016-02-08","3000042408","2026-08-01","FY27 Q2"]
[34000,"2016-02-08","3400042408","2026-08-01","FY27 Q2"]
[15000,"2016-02-09","1500042409","2026-08-01","FY27 Q2"]
[19000,"2016-02-09","1900042409","2026-08-01","FY27 Q2"]
[20000,"2016-02-09","2000042409","2026-08-01","FY27 Q2"]
[21000,"2016-02-09","2100042409","2026-08-01","FY27 Q2"]
[24000,"2016-02-09","2400042409","2026-08-01","FY27 Q2"]
[30000,"2016-02-09","3000042409","2026-08-01","FY27 Q2"]
[34000,"2016-02-09","3400042409","2026-08-01","FY27 Q2"]
[15000,"2016-02-10","1500042410","2026-08-01","FY27 Q2"]
[19000,"2016-02-10","1900042410","2026-08-01","FY27 Q2"]
[20000,"2016-02-10","2000042410","2026-08-01","FY27 Q2"]
[21000,"2016-02-10","2100042410","2026-08-01","FY27 Q2"]
[24000,"2016-02-10","2400042410","2026-08-01","FY27 Q2"]
[30000,"2016-02-10","3000042410","2026-08-01","FY27 Q2"]
[34000,"2016-02-10","3400042410","2026-08-01","FY27 Q2"]
[15000,"2016-02-11","1500042411","2026-08-01","FY27 Q2"]
[19000,"2016-02-11","1900042411","2026-08-01","FY27 Q2"]
[20000,"2016-02-11","2000042411","2026-08-01","FY27 Q2"]
[21000,"2016-02-11","2100042411","2026-08-01","FY27 Q2"]
[24000,"2016-02-11","2400042411","2026-08-01","FY27 Q2"]
[30000,"2016-02-11","3000042411","2026-08-01","FY27 Q2"]
[34000,"2016-02-11","3400042411","2026-08-01","FY27 Q2"]
[15000,"2016-02-12","1500042412","2026-08-01","FY27 Q2"]
[19000,"2016-02-12","1900042412","2026-08-01","FY27 Q2"]
[20000,"2016-02-12","2000042412","2026-08-01","FY27 Q2"]
[21000,"2016-02-12","2100042412","2026-08-01","FY27 Q2"]
[24000,"2016-02-12","2400042412","2026-08-01","FY27 Q2"]
[30000,"2016-02-12","3000042412","2026-08-01","FY27 Q2"]
[34000,"2016-02-12","3400042412","2026-08-01","FY27 Q2"]
[15000,"2016-02-13","1500042413","2026-08-01","FY27 Q2"]
[19000,"2016-02-13","1900042413","2026-08-01","FY27 Q2"]
[20000,"2016-02-13","2000042413","2026-08-01","FY27 Q2"]
[21000,"2016-02-13","2100042413","2026-08-01","FY27 Q2"]
[24000,"2016-02-13","2400042413","2026-08-01","FY27 Q2"]
[30000,"2016-02-13","3000042413","2026-08-01","FY27 Q2"]
[34000,"2016-02-13","3400042413","2026-08-01","FY27 Q2"]
[15000,"2016-02-14","1500042414","2026-08-01","FY27 Q2"]
[19000,"2016-02-14","1900042414","2026-08-01","FY27 Q2"]
[20000,"2016-02-14","2000042414","2026-08-01","FY27 Q2"]
[21000,"2016-02-14","2100042414","2026-08-01","FY27 Q2"]
[24000,"2016-02-14","2400042414","2026-08-01","FY27 Q2"]
[30000,"2016-02-14","3000042414","2026-08-01","FY27 Q2"]
[34000,"2016-02-14","3400042414","2026-08-01","FY27 Q2"]
[15000,"2016-02-15","1500042415","2026-08-01","FY27 Q2"]
[19000,"2016-02-15","1900042415","2026-08-01","FY27 Q2"]
[20000,"2016-02-15","2000042415","2026-08-01","FY27 Q2"]
[21000,"2016-02-15","2100042415","2026-08-01","FY27 Q2"]
[24000,"2016-02-15","2400042415","2026-08-01","FY27 Q2"]
[30000,"2016-02-15","3000042415","2026-08-01","FY27 Q2"]
[34000,"2016-02-15",{"$f":"_xlfn.CONCAT(A324,B324)","v":"3400042415"},"2026-08-01","FY27 Q2"]
[15000,"2016-02-16","1500042416","2026-08-01","FY27 Q2"]
[19000,"2016-02-16","1900042416","2026-08-01","FY27 Q2"]
[20000,"2016-02-16","2000042416","2026-08-01","FY27 Q2"]
[21000,"2016-02-16","2100042416","2026-08-01","FY27 Q2"]
[24000,"2016-02-16","2400042416","2026-08-01","FY27 Q2"]
[30000,"2016-02-16","3000042416","2026-08-01","FY27 Q2"]
[34000,"2016-02-16","3400042416","2026-08-01","FY27 Q2"]
[15000,"2016-02-17","1500042417","2026-08-01","FY27 Q2"]
[19000,"2016-02-17","1900042417","2026-08-01","FY27 Q2"]
[20000,"2016-02-17","2000042417","2026-08-01","FY27 Q2"]
[21000,"2016-02-17","2100042417","2026-08-01","FY27 Q2"]
[24000,"2016-02-17","2400042417","2026-08-01","FY27 Q2"]
[30000,"2016-02-17","3000042417","2026-08-01","FY27 Q2"]
[34000,"2016-02-17","3400042417","2026-08-01","FY27 Q2"]
[15000,"2016-02-18","1500042418","2026-08-01","FY27 Q2"]
[19000,"2016-02-18","1900042418","2026-08-01","FY27 Q2"]
[20000,"2016-02-18","2000042418","2026-08-01","FY27 Q2"]
[21000,"2016-02-18","2100042418","2026-08-01","FY27 Q2"]
[24000,"2016-02-18","2400042418","2026-08-01","FY27 Q2"]
[30000,"2016-02-18","3000042418","2026-08-01","FY27 Q2"]
[34000,"2016-02-18","3400042418","2026-08-01","FY27 Q2"]
[15000,"2016-02-19","1500042419","2026-08-01","FY27 Q2"]
[19000,"2016-02-19","1900042419","2026-08-01","FY27 Q2"]
[20000,"2016-02-19","2000042419","2026-08-01","FY27 Q2"]
[21000,"2016-02-19","2100042419","2026-08-01","FY27 Q2"]
[24000,"2016-02-19","2400042419","2026-08-01","FY27 Q2"]
[30000,"2016-02-19","3000042419","2026-08-01","FY27 Q2"]
[34000,"2016-02-19","3400042419","2026-08-01","FY27 Q2"]
[15000,"2016-02-20","1500042420","2026-08-01","FY27 Q2"]
[19000,"2016-02-20","1900042420","2026-08-01","FY27 Q2"]
[20000,"2016-02-20","2000042420","2026-08-01","FY27 Q2"]
[21000,"2016-02-20","2100042420","2026-08-01","FY27 Q2"]
[24000,"2016-02-20","2400042420","2026-08-01","FY27 Q2"]
[30000,"2016-02-20","3000042420","2026-08-01","FY27 Q2"]
[34000,"2016-02-20","3400042420","2026-08-01","FY27 Q2"]
[15000,"2016-02-21","1500042421","2026-08-01","FY27 Q2"]
[19000,"2016-02-21","1900042421","2026-08-01","FY27 Q2"]
[20000,"2016-02-21","2000042421","2026-08-01","FY27 Q2"]
[21000,"2016-02-21","2100042421","2026-08-01","FY27 Q2"]
[24000,"2016-02-21","2400042421","2026-08-01","FY27 Q2"]
[30000,"2016-02-21","3000042421","2026-08-01","FY27 Q2"]
[34000,"2016-02-21","3400042421","2026-08-01","FY27 Q2"]
[15000,"2016-02-22","1500042422","2026-08-01","FY27 Q2"]
[19000,"2016-02-22","1900042422","2026-08-01","FY27 Q2"]
[20000,"2016-02-22","2000042422","2026-08-01","FY27 Q2"]
[21000,"2016-02-22","2100042422","2026-08-01","FY27 Q2"]
[24000,"2016-02-22","2400042422","2026-08-01","FY27 Q2"]
[30000,"2016-02-22","3000042422","2026-08-01","FY27 Q2"]
[34000,"2016-02-22","3400042422","2026-08-01","FY27 Q2"]
[15000,"2016-02-23","1500042423","2026-08-01","FY27 Q2"]
[19000,"2016-02-23","1900042423","2026-08-01","FY27 Q2"]
[20000,"2016-02-23","2000042423","2026-08-01","FY27 Q2"]
[21000,"2016-02-23","2100042423","2026-08-01","FY27 Q2"]
[24000,"2016-02-23","2400042423","2026-08-01","FY27 Q2"]
[30000,"2016-02-23","3000042423","2026-08-01","FY27 Q2"]
[34000,"2016-02-23","3400042423","2026-08-01","FY27 Q2"]
[15000,"2016-02-24","1500042424","2026-08-01","FY27 Q2"]
[19000,"2016-02-24","1900042424","2026-08-01","FY27 Q2"]
[20000,"2016-02-24","2000042424","2026-08-01","FY27 Q2"]
[21000,"2016-02-24","2100042424","2026-08-01","FY27 Q2"]
[24000,"2016-02-24","2400042424","2026-08-01","FY27 Q2"]
[30000,"2016-02-24","3000042424","2026-08-01","FY27 Q2"]
[34000,"2016-02-24","3400042424","2026-08-01","FY27 Q2"]
[15000,"2016-02-25",{"$f":"_xlfn.CONCAT(A388,B388)","v":"1500042425"},"2026-08-01","FY27 Q2"]
[19000,"2016-02-25","1900042425","2026-08-01","FY27 Q2"]
[20000,"2016-02-25","2000042425","2026-08-01","FY27 Q2"]
[21000,"2016-02-25","2100042425","2026-08-01","FY27 Q2"]
[24000,"2016-02-25","2400042425","2026-08-01","FY27 Q2"]
[30000,"2016-02-25","3000042425","2026-08-01","FY27 Q2"]
[34000,"2016-02-25","3400042425","2026-08-01","FY27 Q2"]
[15000,"2016-02-26","1500042426","2026-08-01","FY27 Q2"]
[19000,"2016-02-26","1900042426","2026-08-01","FY27 Q2"]
[20000,"2016-02-26","2000042426","2026-08-01","FY27 Q2"]
[21000,"2016-02-26","2100042426","2026-08-01","FY27 Q2"]
[24000,"2016-02-26","2400042426","2026-08-01","FY27 Q2"]
[30000,"2016-02-26","3000042426","2026-08-01","FY27 Q2"]
[34000,"2016-02-26","3400042426","2026-08-01","FY27 Q2"]
[15000,"2016-02-27","1500042427","2026-08-01","FY27 Q2"]
[19000,"2016-02-27","1900042427","2026-08-01","FY27 Q2"]
[20000,"2016-02-27","2000042427","2026-08-01","FY27 Q2"]
[21000,"2016-02-27","2100042427","2026-08-01","FY27 Q2"]
[24000,"2016-02-27","2400042427","2026-08-01","FY27 Q2"]
[30000,"2016-02-27","3000042427","2026-08-01","FY27 Q2"]
[34000,"2016-02-27","3400042427","2026-08-01","FY27 Q2"]
[15000,"2016-02-28","1500042428","2026-08-01","FY27 Q2"]
[19000,"2016-02-28","1900042428","2026-08-01","FY27 Q2"]
[20000,"2016-02-28","2000042428","2026-08-01","FY27 Q2"]
[21000,"2016-02-28","2100042428","2026-08-01","FY27 Q2"]
[24000,"2016-02-28","2400042428","2026-08-01","FY27 Q2"]
[30000,"2016-02-28","3000042428","2026-08-01","FY27 Q2"]
[34000,"2016-02-28","3400042428","2026-08-01","FY27 Q2"]
[15000,"2016-02-29","1500042429","2026-08-01","FY27 Q2"]
[19000,"2016-02-29","1900042429","2026-08-01","FY27 Q2"]
[20000,"2016-02-29","2000042429","2026-08-01","FY27 Q2"]
[21000,"2016-02-29","2100042429","2026-08-01","FY27 Q2"]
[24000,"2016-02-29","2400042429","2026-08-01","FY27 Q2"]
[30000,"2016-02-29","3000042429","2026-08-01","FY27 Q2"]
[34000,"2016-02-29","3400042429","2026-08-01","FY27 Q2"]
[15000,"2016-03-01","1500042430","2026-08-01","FY27 Q2"]
[19000,"2016-03-01","1900042430","2026-08-01","FY27 Q2"]
[20000,"2016-03-01","2000042430","2026-08-01","FY27 Q2"]
[21000,"2016-03-01","2100042430","2026-08-01","FY27 Q2"]
[24000,"2016-03-01","2400042430","2026-08-01","FY27 Q2"]
[30000,"2016-03-01","3000042430","2026-08-01","FY27 Q2"]
[34000,"2016-03-01","3400042430","2026-08-01","FY27 Q2"]
[15000,"2016-03-02","1500042431","2026-08-01","FY27 Q2"]
[19000,"2016-03-02","1900042431","2026-08-01","FY27 Q2"]
[20000,"2016-03-02","2000042431","2026-08-01","FY27 Q2"]
[21000,"2016-03-02","2100042431","2026-08-01","FY27 Q2"]
[24000,"2016-03-02","2400042431","2026-08-01","FY27 Q2"]
[30000,"2016-03-02","3000042431","2026-08-01","FY27 Q2"]
[34000,"2016-03-02","3400042431","2026-08-01","FY27 Q2"]
[15000,"2016-03-03","1500042432","2026-08-01","FY27 Q2"]
[19000,"2016-03-03","1900042432","2026-08-01","FY27 Q2"]
[20000,"2016-03-03","2000042432","2026-08-01","FY27 Q2"]
[21000,"2016-03-03","2100042432","2026-08-01","FY27 Q2"]
[24000,"2016-03-03","2400042432","2026-08-01","FY27 Q2"]
[30000,"2016-03-03","3000042432","2026-08-01","FY27 Q2"]
[34000,"2016-03-03","3400042432","2026-08-01","FY27 Q2"]
[15000,"2016-03-04","1500042433","2026-08-01","FY27 Q2"]
[19000,"2016-03-04","1900042433","2026-08-01","FY27 Q2"]
[20000,"2016-03-04","2000042433","2026-08-01","FY27 Q2"]
[21000,"2016-03-04","2100042433","2026-08-01","FY27 Q2"]
[24000,"2016-03-04","2400042433","2026-08-01","FY27 Q2"]
[30000,"2016-03-04","3000042433","2026-08-01","FY27 Q2"]
[34000,"2016-03-04","3400042433","2026-08-01","FY27 Q2"]
[15000,"2016-03-05","1500042434","2026-08-01","FY27 Q2"]
[19000,"2016-03-05",{"$f":"_xlfn.CONCAT(A452,B452)","v":"1900042434"},"2026-08-01","FY27 Q2"]
[20000,"2016-03-05","2000042434","2026-08-01","FY27 Q2"]
[21000,"2016-03-05","2100042434","2026-08-01","FY27 Q2"]
[24000,"2016-03-05","2400042434","2026-08-01","FY27 Q2"]
[30000,"2016-03-05","3000042434","2026-08-01","FY27 Q2"]
[34000,"2016-03-05","3400042434","2026-08-01","FY27 Q2"]
[15000,"2016-03-06","1500042435","2026-08-01","FY27 Q2"]
[19000,"2016-03-06","1900042435","2026-08-01","FY27 Q2"]
[20000,"2016-03-06","2000042435","2026-08-01","FY27 Q2"]
[21000,"2016-03-06","2100042435","2026-08-01","FY27 Q2"]
[24000,"2016-03-06","2400042435","2026-08-01","FY27 Q2"]
[30000,"2016-03-06","3000042435","2026-08-01","FY27 Q2"]
[34000,"2016-03-06","3400042435","2026-08-01","FY27 Q2"]
[15000,"2016-03-07","1500042436","2026-08-01","FY27 Q2"]
[19000,"2016-03-07","1900042436","2026-08-01","FY27 Q2"]
[20000,"2016-03-07","2000042436","2026-08-01","FY27 Q2"]
[21000,"2016-03-07","2100042436","2026-08-01","FY27 Q2"]
[24000,"2016-03-07","2400042436","2026-08-01","FY27 Q2"]
[30000,"2016-03-07","3000042436","2026-08-01","FY27 Q2"]
[34000,"2016-03-07","3400042436","2026-08-01","FY27 Q2"]
[15000,"2016-03-08","1500042437","2026-08-01","FY27 Q2"]
[19000,"2016-03-08","1900042437","2026-08-01","FY27 Q2"]
[20000,"2016-03-08","2000042437","2026-08-01","FY27 Q2"]
[21000,"2016-03-08","2100042437","2026-08-01","FY27 Q2"]
[24000,"2016-03-08","2400042437","2026-08-01","FY27 Q2"]
[30000,"2016-03-08","3000042437","2026-08-01","FY27 Q2"]
[34000,"2016-03-08","3400042437","2026-08-01","FY27 Q2"]
[15000,"2016-03-09","1500042438","2026-08-01","FY27 Q2"]
[19000,"2016-03-09","1900042438","2026-08-01","FY27 Q2"]
[20000,"2016-03-09","2000042438","2026-08-01","FY27 Q2"]
[21000,"2016-03-09","2100042438","2026-08-01","FY27 Q2"]
[24000,"2016-03-09","2400042438","2026-08-01","FY27 Q2"]
[30000,"2016-03-09","3000042438","2026-08-01","FY27 Q2"]
[34000,"2016-03-09","3400042438","2026-08-01","FY27 Q2"]
[15000,"2016-03-10","1500042439","2026-08-01","FY27 Q2"]
[19000,"2016-03-10","1900042439","2026-08-01","FY27 Q2"]
[20000,"2016-03-10","2000042439","2026-08-01","FY27 Q2"]
[21000,"2016-03-10","2100042439","2026-08-01","FY27 Q2"]
[24000,"2016-03-10","2400042439","2026-08-01","FY27 Q2"]
[30000,"2016-03-10","3000042439","2026-08-01","FY27 Q2"]
[34000,"2016-03-10","3400042439","2026-08-01","FY27 Q2"]
[15000,"2016-03-11","1500042440","2026-08-01","FY27 Q2"]
[19000,"2016-03-11","1900042440","2026-08-01","FY27 Q2"]
[20000,"2016-03-11","2000042440","2026-08-01","FY27 Q2"]
[21000,"2016-03-11","2100042440","2026-08-01","FY27 Q2"]
[24000,"2016-03-11","2400042440","2026-08-01","FY27 Q2"]
[30000,"2016-03-11","3000042440","2026-08-01","FY27 Q2"]
[34000,"2016-03-11","3400042440","2026-08-01","FY27 Q2"]
[15000,"2016-03-12","1500042441","2026-08-01","FY27 Q2"]
[19000,"2016-03-12","1900042441","2026-08-01","FY27 Q2"]
[20000,"2016-03-12","2000042441","2026-08-01","FY27 Q2"]
[21000,"2016-03-12","2100042441","2026-08-01","FY27 Q2"]
[24000,"2016-03-12","2400042441","2026-08-01","FY27 Q2"]
[30000,"2016-03-12","3000042441","2026-08-01","FY27 Q2"]
[34000,"2016-03-12","3400042441","2026-08-01","FY27 Q2"]
[15000,"2016-03-13","1500042442","2026-08-01","FY27 Q2"]
[19000,"2016-03-13","1900042442","2026-08-01","FY27 Q2"]
[20000,"2016-03-13","2000042442","2026-08-01","FY27 Q2"]
[21000,"2016-03-13","2100042442","2026-08-01","FY27 Q2"]
[24000,"2016-03-13","2400042442","2026-08-01","FY27 Q2"]
[30000,"2016-03-13","3000042442","2026-08-01","FY27 Q2"]
[34000,"2016-03-13","3400042442","2026-08-01","FY27 Q2"]
[15000,"2016-03-14","1500042443","2026-08-01","FY27 Q2"]
[19000,"2016-03-14","1900042443","2026-08-01","FY27 Q2"]
[20000,"2016-03-14",{"$f":"_xlfn.CONCAT(A516,B516)","v":"2000042443"},"2026-08-01","FY27 Q2"]
[21000,"2016-03-14","2100042443","2026-08-01","FY27 Q2"]
[24000,"2016-03-14","2400042443","2026-08-01","FY27 Q2"]
[30000,"2016-03-14","3000042443","2026-08-01","FY27 Q2"]
[34000,"2016-03-14","3400042443","2026-08-01","FY27 Q2"]
[15000,"2016-03-15","1500042444","2026-08-01","FY27 Q2"]
[19000,"2016-03-15","1900042444","2026-08-01","FY27 Q2"]
[20000,"2016-03-15","2000042444","2026-08-01","FY27 Q2"]
[21000,"2016-03-15","2100042444","2026-08-01","FY27 Q2"]
[24000,"2016-03-15","2400042444","2026-08-01","FY27 Q2"]
[30000,"2016-03-15","3000042444","2026-08-01","FY27 Q2"]
[34000,"2016-03-15","3400042444","2026-08-01","FY27 Q2"]
[15000,"2016-03-16","1500042445","2026-08-01","FY27 Q2"]
[19000,"2016-03-16","1900042445","2026-08-01","FY27 Q2"]
[20000,"2016-03-16","2000042445","2026-08-01","FY27 Q2"]
[21000,"2016-03-16","2100042445","2026-08-01","FY27 Q2"]
[24000,"2016-03-16","2400042445","2026-08-01","FY27 Q2"]
[30000,"2016-03-16","3000042445","2026-08-01","FY27 Q2"]
[34000,"2016-03-16","3400042445","2026-08-01","FY27 Q2"]
[15000,"2016-03-17","1500042446","2026-08-01","FY27 Q2"]
[19000,"2016-03-17","1900042446","2026-08-01","FY27 Q2"]
[20000,"2016-03-17","2000042446","2026-08-01","FY27 Q2"]
[21000,"2016-03-17","2100042446","2026-08-01","FY27 Q2"]
[24000,"2016-03-17","2400042446","2026-08-01","FY27 Q2"]
[30000,"2016-03-17","3000042446","2026-08-01","FY27 Q2"]
[34000,"2016-03-17","3400042446","2026-08-01","FY27 Q2"]
[15000,"2016-03-18","1500042447","2026-08-01","FY27 Q2"]
[19000,"2016-03-18","1900042447","2026-08-01","FY27 Q2"]
[20000,"2016-03-18","2000042447","2026-08-01","FY27 Q2"]
[21000,"2016-03-18","2100042447","2026-08-01","FY27 Q2"]
[24000,"2016-03-18","2400042447","2026-08-01","FY27 Q2"]
[30000,"2016-03-18","3000042447","2026-08-01","FY27 Q2"]
[34000,"2016-03-18","3400042447","2026-08-01","FY27 Q2"]
[15000,"2016-03-19","1500042448","2026-08-01","FY27 Q2"]
[19000,"2016-03-19","1900042448","2026-08-01","FY27 Q2"]
[20000,"2016-03-19","2000042448","2026-08-01","FY27 Q2"]
[21000,"2016-03-19","2100042448","2026-08-01","FY27 Q2"]
[24000,"2016-03-19","2400042448","2026-08-01","FY27 Q2"]
[30000,"2016-03-19","3000042448","2026-08-01","FY27 Q2"]
[34000,"2016-03-19","3400042448","2026-08-01","FY27 Q2"]
[15000,"2016-03-20","1500042449","2026-08-01","FY27 Q2"]
[19000,"2016-03-20","1900042449","2026-08-01","FY27 Q2"]
[20000,"2016-03-20","2000042449","2026-08-01","FY27 Q2"]
[21000,"2016-03-20","2100042449","2026-08-01","FY27 Q2"]
[24000,"2016-03-20","2400042449","2026-08-01","FY27 Q2"]
[30000,"2016-03-20","3000042449","2026-08-01","FY27 Q2"]
[34000,"2016-03-20","3400042449","2026-08-01","FY27 Q2"]
[15000,"2016-03-21","1500042450","2026-08-01","FY27 Q2"]
[19000,"2016-03-21","1900042450","2026-08-01","FY27 Q2"]
[20000,"2016-03-21","2000042450","2026-08-01","FY27 Q2"]
[21000,"2016-03-21","2100042450","2026-08-01","FY27 Q2"]
[24000,"2016-03-21","2400042450","2026-08-01","FY27 Q2"]
[30000,"2016-03-21","3000042450","2026-08-01","FY27 Q2"]
[34000,"2016-03-21","3400042450","2026-08-01","FY27 Q2"]
[15000,"2016-03-22","1500042451","2026-08-01","FY27 Q2"]
[19000,"2016-03-22","1900042451","2026-08-01","FY27 Q2"]
[20000,"2016-03-22","2000042451","2026-08-01","FY27 Q2"]
[21000,"2016-03-22","2100042451","2026-08-01","FY27 Q2"]
[24000,"2016-03-22","2400042451","2026-08-01","FY27 Q2"]
[30000,"2016-03-22","3000042451","2026-08-01","FY27 Q2"]
[34000,"2016-03-22","3400042451","2026-08-01","FY27 Q2"]
[15000,"2016-03-23","1500042452","2026-08-01","FY27 Q2"]
[19000,"2016-03-23","1900042452","2026-08-01","FY27 Q2"]
[20000,"2016-03-23","2000042452","2026-08-01","FY27 Q2"]
[21000,"2016-03-23",{"$f":"_xlfn.CONCAT(A580,B580)","v":"2100042452"},"2026-08-01","FY27 Q2"]
[24000,"2016-03-23","2400042452","2026-08-01","FY27 Q2"]
[30000,"2016-03-23","3000042452","2026-08-01","FY27 Q2"]
[34000,"2016-03-23","3400042452","2026-08-01","FY27 Q2"]
[15000,"2016-03-24","1500042453","2026-08-01","FY27 Q2"]
[19000,"2016-03-24","1900042453","2026-08-01","FY27 Q2"]
[20000,"2016-03-24","2000042453","2026-08-01","FY27 Q2"]
[21000,"2016-03-24","2100042453","2026-08-01","FY27 Q2"]
[24000,"2016-03-24","2400042453","2026-08-01","FY27 Q2"]
[30000,"2016-03-24","3000042453","2026-08-01","FY27 Q2"]
[34000,"2016-03-24","3400042453","2026-08-01","FY27 Q2"]
[15000,"2016-03-25","1500042454","2026-08-01","FY27 Q2"]
[19000,"2016-03-25","1900042454","2026-08-01","FY27 Q2"]
[20000,"2016-03-25","2000042454","2026-08-01","FY27 Q2"]
[21000,"2016-03-25","2100042454","2026-08-01","FY27 Q2"]
[24000,"2016-03-25","2400042454","2026-08-01","FY27 Q2"]
[30000,"2016-03-25","3000042454","2026-08-01","FY27 Q2"]
[34000,"2016-03-25","3400042454","2026-08-01","FY27 Q2"]
[15000,"2016-03-26","1500042455","2026-08-01","FY27 Q2"]
[19000,"2016-03-26","1900042455","2026-08-01","FY27 Q2"]
[20000,"2016-03-26","2000042455","2026-08-01","FY27 Q2"]
[21000,"2016-03-26","2100042455","2026-08-01","FY27 Q2"]
[24000,"2016-03-26","2400042455","2026-08-01","FY27 Q2"]
[30000,"2016-03-26","3000042455","2026-08-01","FY27 Q2"]
[34000,"2016-03-26","3400042455","2026-08-01","FY27 Q2"]
[15000,"2016-03-27","1500042456","2026-08-01","FY27 Q2"]
[19000,"2016-03-27","1900042456","2026-08-01","FY27 Q2"]
[20000,"2016-03-27","2000042456","2026-08-01","FY27 Q2"]
[21000,"2016-03-27","2100042456","2026-08-01","FY27 Q2"]
[24000,"2016-03-27","2400042456","2026-08-01","FY27 Q2"]
[30000,"2016-03-27","3000042456","2026-08-01","FY27 Q2"]
[34000,"2016-03-27","3400042456","2026-08-01","FY27 Q2"]
[15000,"2016-03-28","1500042457","2026-08-01","FY27 Q2"]
[19000,"2016-03-28","1900042457","2026-08-01","FY27 Q2"]
[20000,"2016-03-28","2000042457","2026-08-01","FY27 Q2"]
[21000,"2016-03-28","2100042457","2026-08-01","FY27 Q2"]
[24000,"2016-03-28","2400042457","2026-08-01","FY27 Q2"]
[30000,"2016-03-28","3000042457","2026-08-01","FY27 Q2"]
[34000,"2016-03-28","3400042457","2026-08-01","FY27 Q2"]
[15000,"2016-03-29","1500042458","2026-08-01","FY27 Q2"]
[19000,"2016-03-29","1900042458","2026-08-01","FY27 Q2"]
[20000,"2016-03-29","2000042458","2026-08-01","FY27 Q2"]
[21000,"2016-03-29","2100042458","2026-08-01","FY27 Q2"]
[24000,"2016-03-29","2400042458","2026-08-01","FY27 Q2"]
[30000,"2016-03-29","3000042458","2026-08-01","FY27 Q2"]
[34000,"2016-03-29","3400042458","2026-08-01","FY27 Q2"]
[15000,"2016-03-30","1500042459","2026-08-01","FY27 Q2"]
[19000,"2016-03-30","1900042459","2026-08-01","FY27 Q2"]
[20000,"2016-03-30","2000042459","2026-08-01","FY27 Q2"]
[21000,"2016-03-30","2100042459","2026-08-01","FY27 Q2"]
[24000,"2016-03-30","2400042459","2026-08-01","FY27 Q2"]
[30000,"2016-03-30","3000042459","2026-08-01","FY27 Q2"]
[34000,"2016-03-30","3400042459","2026-08-01","FY27 Q2"]
[15000,"2016-03-31","1500042460","2026-08-01","FY27 Q2"]
[19000,"2016-03-31","1900042460","2026-08-01","FY27 Q2"]
[20000,"2016-03-31","2000042460","2026-08-01","FY27 Q2"]
[21000,"2016-03-31","2100042460","2026-08-01","FY27 Q2"]
[24000,"2016-03-31","2400042460","2026-08-01","FY27 Q2"]
[30000,"2016-03-31","3000042460","2026-08-01","FY27 Q2"]
[34000,"2016-03-31","3400042460","2026-08-01","FY27 Q2"]
[15000,"2016-04-01","1500042461","2026-08-01","FY27 Q2"]
[19000,"2016-04-01","1900042461","2026-08-01","FY27 Q2"]
[20000,"2016-04-01","2000042461","2026-08-01","FY27 Q2"]
[21000,"2016-04-01","2100042461","2026-08-01","FY27 Q2"]
[24000,"2016-04-01",{"$f":"_xlfn.CONCAT(A644,B644)","v":"2400042461"},"2026-08-01","FY27 Q2"]
[30000,"2016-04-01","3000042461","2026-08-01","FY27 Q2"]
[34000,"2016-04-01","3400042461","2026-08-01","FY27 Q2"]
[15000,"2016-04-02","1500042462","2026-08-01","FY27 Q2"]
[19000,"2016-04-02","1900042462","2026-08-01","FY27 Q2"]
[20000,"2016-04-02","2000042462","2026-08-01","FY27 Q2"]
[21000,"2016-04-02","2100042462","2026-08-01","FY27 Q2"]
[24000,"2016-04-02","2400042462","2026-08-01","FY27 Q2"]
[30000,"2016-04-02","3000042462","2026-08-01","FY27 Q2"]
[34000,"2016-04-02","3400042462","2026-08-01","FY27 Q2"]
[15000,"2016-04-03","1500042463","2026-08-01","FY27 Q2"]
[19000,"2016-04-03","1900042463","2026-08-01","FY27 Q2"]
[20000,"2016-04-03","2000042463","2026-08-01","FY27 Q2"]
[21000,"2016-04-03","2100042463","2026-08-01","FY27 Q2"]
[24000,"2016-04-03","2400042463","2026-08-01","FY27 Q2"]
[30000,"2016-04-03","3000042463","2026-08-01","FY27 Q2"]
[34000,"2016-04-03","3400042463","2026-08-01","FY27 Q2"]
[15000,"2016-04-04","1500042464","2026-08-01","FY27 Q2"]
[19000,"2016-04-04","1900042464","2026-08-01","FY27 Q2"]
[20000,"2016-04-04","2000042464","2026-08-01","FY27 Q2"]
[21000,"2016-04-04","2100042464","2026-08-01","FY27 Q2"]
[24000,"2016-04-04","2400042464","2026-08-01","FY27 Q2"]
[30000,"2016-04-04","3000042464","2026-08-01","FY27 Q2"]
[34000,"2016-04-04","3400042464","2026-08-01","FY27 Q2"]
[15000,"2016-04-05","1500042465","2026-08-01","FY27 Q2"]
[19000,"2016-04-05","1900042465","2026-08-01","FY27 Q2"]
[20000,"2016-04-05","2000042465","2026-08-01","FY27 Q2"]
[21000,"2016-04-05","2100042465","2026-08-01","FY27 Q2"]
[24000,"2016-04-05","2400042465","2026-08-01","FY27 Q2"]
[30000,"2016-04-05","3000042465","2026-08-01","FY27 Q2"]
[34000,"2016-04-05","3400042465","2026-08-01","FY27 Q2"]
[15000,"2016-04-06","1500042466","2026-08-01","FY27 Q2"]
[19000,"2016-04-06","1900042466","2026-08-01","FY27 Q2"]
[20000,"2016-04-06","2000042466","2026-08-01","FY27 Q2"]
[21000,"2016-04-06","2100042466","2026-08-01","FY27 Q2"]
[24000,"2016-04-06","2400042466","2026-08-01","FY27 Q2"]
[30000,"2016-04-06","3000042466","2026-08-01","FY27 Q2"]
[34000,"2016-04-06","3400042466","2026-08-01","FY27 Q2"]
[15000,"2016-04-07","1500042467","2026-08-01","FY27 Q2"]
[19000,"2016-04-07","1900042467","2026-08-01","FY27 Q2"]
[20000,"2016-04-07","2000042467","2026-08-01","FY27 Q2"]
[21000,"2016-04-07","2100042467","2026-08-01","FY27 Q2"]
[24000,"2016-04-07","2400042467","2026-08-01","FY27 Q2"]
[30000,"2016-04-07","3000042467","2026-08-01","FY27 Q2"]
[34000,"2016-04-07","3400042467","2026-08-01","FY27 Q2"]
[15000,"2016-04-08","1500042468","2026-08-01","FY27 Q2"]
[19000,"2016-04-08","1900042468","2026-08-01","FY27 Q2"]
[20000,"2016-04-08","2000042468","2026-08-01","FY27 Q2"]
[21000,"2016-04-08","2100042468","2026-08-01","FY27 Q2"]
[24000,"2016-04-08","2400042468","2026-08-01","FY27 Q2"]
[30000,"2016-04-08","3000042468","2026-08-01","FY27 Q2"]
[34000,"2016-04-08","3400042468","2026-08-01","FY27 Q2"]
[15000,"2016-04-09","1500042469","2026-08-01","FY27 Q2"]
[19000,"2016-04-09","1900042469","2026-08-01","FY27 Q2"]
[20000,"2016-04-09","2000042469","2026-08-01","FY27 Q2"]
[21000,"2016-04-09","2100042469","2026-08-01","FY27 Q2"]
[24000,"2016-04-09","2400042469","2026-08-01","FY27 Q2"]
[30000,"2016-04-09","3000042469","2026-08-01","FY27 Q2"]
[34000,"2016-04-09","3400042469","2026-08-01","FY27 Q2"]
[15000,"2016-04-10","1500042470","2026-08-01","FY27 Q2"]
[19000,"2016-04-10","1900042470","2026-08-01","FY27 Q2"]
[20000,"2016-04-10","2000042470","2026-08-01","FY27 Q2"]
[21000,"2016-04-10","2100042470","2026-08-01","FY27 Q2"]
[24000,"2016-04-10","2400042470","2026-08-01","FY27 Q2"]
[30000,"2016-04-10",{"$f":"_xlfn.CONCAT(A708,B708)","v":"3000042470"},"2026-08-01","FY27 Q2"]
[34000,"2016-04-10","3400042470","2026-08-01","FY27 Q2"]
[15000,"2016-04-11","1500042471","2026-08-01","FY27 Q2"]
[19000,"2016-04-11","1900042471","2026-08-01","FY27 Q2"]
[20000,"2016-04-11","2000042471","2026-08-01","FY27 Q2"]
[21000,"2016-04-11","2100042471","2026-08-01","FY27 Q2"]
[24000,"2016-04-11","2400042471","2026-08-01","FY27 Q2"]
[30000,"2016-04-11","3000042471","2026-08-01","FY27 Q2"]
[34000,"2016-04-11","3400042471","2026-08-01","FY27 Q2"]
[15000,"2016-04-12","1500042472","2026-08-01","FY27 Q2"]
[19000,"2016-04-12","1900042472","2026-08-01","FY27 Q2"]
[20000,"2016-04-12","2000042472","2026-08-01","FY27 Q2"]
[21000,"2016-04-12","2100042472","2026-08-01","FY27 Q2"]
[24000,"2016-04-12","2400042472","2026-08-01","FY27 Q2"]
[30000,"2016-04-12","3000042472","2026-08-01","FY27 Q2"]
[34000,"2016-04-12","3400042472","2026-08-01","FY27 Q2"]
[15000,"2016-04-13","1500042473","2026-08-01","FY27 Q2"]
[19000,"2016-04-13","1900042473","2026-08-01","FY27 Q2"]
[20000,"2016-04-13","2000042473","2026-08-01","FY27 Q2"]
[21000,"2016-04-13","2100042473","2026-08-01","FY27 Q2"]
[24000,"2016-04-13","2400042473","2026-08-01","FY27 Q2"]
[30000,"2016-04-13","3000042473","2026-08-01","FY27 Q2"]
[34000,"2016-04-13","3400042473","2026-08-01","FY27 Q2"]
[15000,"2016-04-14","1500042474","2026-08-01","FY27 Q2"]
[19000,"2016-04-14","1900042474","2026-08-01","FY27 Q2"]
[20000,"2016-04-14","2000042474","2026-08-01","FY27 Q2"]
[21000,"2016-04-14","2100042474","2026-08-01","FY27 Q2"]
[24000,"2016-04-14","2400042474","2026-08-01","FY27 Q2"]
[30000,"2016-04-14","3000042474","2026-08-01","FY27 Q2"]
[34000,"2016-04-14","3400042474","2026-08-01","FY27 Q2"]
[15000,"2016-04-15","1500042475","2026-08-01","FY27 Q2"]
[19000,"2016-04-15","1900042475","2026-08-01","FY27 Q2"]
[20000,"2016-04-15","2000042475","2026-08-01","FY27 Q2"]
[21000,"2016-04-15","2100042475","2026-08-01","FY27 Q2"]
[24000,"2016-04-15","2400042475","2026-08-01","FY27 Q2"]
[30000,"2016-04-15","3000042475","2026-08-01","FY27 Q2"]
[34000,"2016-04-15","3400042475","2026-08-01","FY27 Q2"]
[15000,"2016-04-16","1500042476","2026-08-01","FY27 Q2"]
[19000,"2016-04-16","1900042476","2026-08-01","FY27 Q2"]
[20000,"2016-04-16","2000042476","2026-08-01","FY27 Q2"]
[21000,"2016-04-16","2100042476","2026-08-01","FY27 Q2"]
[24000,"2016-04-16","2400042476","2026-08-01","FY27 Q2"]
[30000,"2016-04-16","3000042476","2026-08-01","FY27 Q2"]
[34000,"2016-04-16","3400042476","2026-08-01","FY27 Q2"]
[15000,"2016-04-17","1500042477","2026-08-01","FY27 Q2"]
[19000,"2016-04-17","1900042477","2026-08-01","FY27 Q2"]
[20000,"2016-04-17","2000042477","2026-08-01","FY27 Q2"]
[21000,"2016-04-17","2100042477","2026-08-01","FY27 Q2"]
[24000,"2016-04-17","2400042477","2026-08-01","FY27 Q2"]
[30000,"2016-04-17","3000042477","2026-08-01","FY27 Q2"]
[34000,"2016-04-17","3400042477","2026-08-01","FY27 Q2"]
[15000,"2016-04-18","1500042478","2026-08-01","FY27 Q2"]
[19000,"2016-04-18","1900042478","2026-08-01","FY27 Q2"]
[20000,"2016-04-18","2000042478","2026-08-01","FY27 Q2"]
[21000,"2016-04-18","2100042478","2026-08-01","FY27 Q2"]
[24000,"2016-04-18","2400042478","2026-08-01","FY27 Q2"]
[30000,"2016-04-18","3000042478","2026-08-01","FY27 Q2"]
[34000,"2016-04-18","3400042478","2026-08-01","FY27 Q2"]
[15000,"2016-04-19","1500042479","2026-08-01","FY27 Q2"]
[19000,"2016-04-19","1900042479","2026-08-01","FY27 Q2"]
[20000,"2016-04-19","2000042479","2026-08-01","FY27 Q2"]
[21000,"2016-04-19","2100042479","2026-08-01","FY27 Q2"]
[24000,"2016-04-19","2400042479","2026-08-01","FY27 Q2"]
[30000,"2016-04-19","3000042479","2026-08-01","FY27 Q2"]
[34000,"2016-04-19",{"$f":"_xlfn.CONCAT(A772,B772)","v":"3400042479"},"2026-08-01","FY27 Q2"]
[15000,"2016-04-20","1500042480","2026-08-01","FY27 Q2"]
[19000,"2016-04-20","1900042480","2026-08-01","FY27 Q2"]
[20000,"2016-04-20","2000042480","2026-08-01","FY27 Q2"]
[21000,"2016-04-20","2100042480","2026-08-01","FY27 Q2"]
[24000,"2016-04-20","2400042480","2026-08-01","FY27 Q2"]
[30000,"2016-04-20","3000042480","2026-08-01","FY27 Q2"]
[34000,"2016-04-20","3400042480","2026-08-01","FY27 Q2"]
[15000,"2016-04-21","1500042481","2026-08-01","FY27 Q2"]
[19000,"2016-04-21","1900042481","2026-08-01","FY27 Q2"]
[20000,"2016-04-21","2000042481","2026-08-01","FY27 Q2"]
[21000,"2016-04-21","2100042481","2026-08-01","FY27 Q2"]
[24000,"2016-04-21","2400042481","2026-08-01","FY27 Q2"]
[30000,"2016-04-21","3000042481","2026-08-01","FY27 Q2"]
[34000,"2016-04-21","3400042481","2026-08-01","FY27 Q2"]
[15000,"2016-04-22","1500042482","2026-08-01","FY27 Q2"]
[19000,"2016-04-22","1900042482","2026-08-01","FY27 Q2"]
[20000,"2016-04-22","2000042482","2026-08-01","FY27 Q2"]
[21000,"2016-04-22","2100042482","2026-08-01","FY27 Q2"]
[24000,"2016-04-22","2400042482","2026-08-01","FY27 Q2"]
[30000,"2016-04-22","3000042482","2026-08-01","FY27 Q2"]
[34000,"2016-04-22","3400042482","2026-08-01","FY27 Q2"]
[15000,"2016-04-23","1500042483","2026-08-01","FY27 Q2"]
[19000,"2016-04-23","1900042483","2026-08-01","FY27 Q2"]
[20000,"2016-04-23","2000042483","2026-08-01","FY27 Q2"]
[21000,"2016-04-23","2100042483","2026-08-01","FY27 Q2"]
[24000,"2016-04-23","2400042483","2026-08-01","FY27 Q2"]
[30000,"2016-04-23","3000042483","2026-08-01","FY27 Q2"]
[34000,"2016-04-23","3400042483","2026-08-01","FY27 Q2"]
[15000,"2016-04-24","1500042484","2026-08-01","FY27 Q2"]
[19000,"2016-04-24","1900042484","2026-08-01","FY27 Q2"]
[20000,"2016-04-24","2000042484","2026-08-01","FY27 Q2"]
[21000,"2016-04-24","2100042484","2026-08-01","FY27 Q2"]
[24000,"2016-04-24","2400042484","2026-08-01","FY27 Q2"]
[30000,"2016-04-24","3000042484","2026-08-01","FY27 Q2"]
[34000,"2016-04-24","3400042484","2026-08-01","FY27 Q2"]
[15000,"2016-04-25","1500042485","2026-08-01","FY27 Q2"]
[19000,"2016-04-25","1900042485","2026-08-01","FY27 Q2"]
[20000,"2016-04-25","2000042485","2026-08-01","FY27 Q2"]
[21000,"2016-04-25","2100042485","2026-08-01","FY27 Q2"]
[24000,"2016-04-25","2400042485","2026-08-01","FY27 Q2"]
[30000,"2016-04-25","3000042485","2026-08-01","FY27 Q2"]
[34000,"2016-04-25","3400042485","2026-08-01","FY27 Q2"]
[15000,"2016-04-26","1500042486","2026-08-01","FY27 Q2"]
[19000,"2016-04-26","1900042486","2026-08-01","FY27 Q2"]
[20000,"2016-04-26","2000042486","2026-08-01","FY27 Q2"]
[21000,"2016-04-26","2100042486","2026-08-01","FY27 Q2"]
[24000,"2016-04-26","2400042486","2026-08-01","FY27 Q2"]
[30000,"2016-04-26","3000042486","2026-08-01","FY27 Q2"]
[34000,"2016-04-26","3400042486","2026-08-01","FY27 Q2"]
[15000,"2016-04-27","1500042487","2026-08-01","FY27 Q2"]
[19000,"2016-04-27","1900042487","2026-08-01","FY27 Q2"]
[20000,"2016-04-27","2000042487","2026-08-01","FY27 Q2"]
[21000,"2016-04-27","2100042487","2026-08-01","FY27 Q2"]
[24000,"2016-04-27","2400042487","2026-08-01","FY27 Q2"]
[30000,"2016-04-27","3000042487","2026-08-01","FY27 Q2"]
[34000,"2016-04-27","3400042487","2026-08-01","FY27 Q2"]
[15000,"2016-04-28","1500042488","2026-08-01","FY27 Q2"]
[19000,"2016-04-28","1900042488","2026-08-01","FY27 Q2"]
[20000,"2016-04-28","2000042488","2026-08-01","FY27 Q2"]
[21000,"2016-04-28","2100042488","2026-08-01","FY27 Q2"]
[24000,"2016-04-28","2400042488","2026-08-01","FY27 Q2"]
[30000,"2016-04-28","3000042488","2026-08-01","FY27 Q2"]
[34000,"2016-04-28","3400042488","2026-08-01","FY27 Q2"]
[15000,"2016-04-29",{"$f":"_xlfn.CONCAT(A836,B836)","v":"1500042489"},"2026-08-01","FY27 Q2"]
[19000,"2016-04-29","1900042489","2026-08-01","FY27 Q2"]
[20000,"2016-04-29","2000042489","2026-08-01","FY27 Q2"]
[21000,"2016-04-29","2100042489","2026-08-01","FY27 Q2"]
[24000,"2016-04-29","2400042489","2026-08-01","FY27 Q2"]
[30000,"2016-04-29","3000042489","2026-08-01","FY27 Q2"]
[34000,"2016-04-29","3400042489","2026-08-01","FY27 Q2"]
[15000,"2016-04-30","1500042490","2026-08-01","FY27 Q2"]
[19000,"2016-04-30","1900042490","2026-08-01","FY27 Q2"]
[20000,"2016-04-30","2000042490","2026-08-01","FY27 Q2"]
[21000,"2016-04-30","2100042490","2026-08-01","FY27 Q2"]
[24000,"2016-04-30","2400042490","2026-08-01","FY27 Q2"]
[30000,"2016-04-30","3000042490","2026-08-01","FY27 Q2"]
[34000,"2016-04-30","3400042490","2026-08-01","FY27 Q2"]
[15000,"2016-05-01","1500042491","2026-08-01","FY27 Q2"]
[19000,"2016-05-01","1900042491","2026-08-01","FY27 Q2"]
[20000,"2016-05-01","2000042491","2026-08-01","FY27 Q2"]
[21000,"2016-05-01","2100042491","2026-08-01","FY27 Q2"]
[24000,"2016-05-01","2400042491","2026-08-01","FY27 Q2"]
[30000,"2016-05-01","3000042491","2026-08-01","FY27 Q2"]
[34000,"2016-05-01","3400042491","2026-08-01","FY27 Q2"]
[15000,"2016-05-02","1500042492","2026-08-01","FY27 Q2"]
[19000,"2016-05-02","1900042492","2026-08-01","FY27 Q2"]
[20000,"2016-05-02","2000042492","2026-08-01","FY27 Q2"]
[21000,"2016-05-02","2100042492","2026-08-01","FY27 Q2"]
[24000,"2016-05-02","2400042492","2026-08-01","FY27 Q2"]
[30000,"2016-05-02","3000042492","2026-08-01","FY27 Q2"]
[34000,"2016-05-02","3400042492","2026-08-01","FY27 Q2"]
[15000,"2016-05-03","1500042493","2026-08-01","FY27 Q2"]
[19000,"2016-05-03","1900042493","2026-08-01","FY27 Q2"]
[20000,"2016-05-03","2000042493","2026-08-01","FY27 Q2"]
[21000,"2016-05-03","2100042493","2026-08-01","FY27 Q2"]
[24000,"2016-05-03","2400042493","2026-08-01","FY27 Q2"]
[30000,"2016-05-03","3000042493","2026-08-01","FY27 Q2"]
[34000,"2016-05-03","3400042493","2026-08-01","FY27 Q2"]
[15000,"2016-05-04","1500042494","2026-08-01","FY27 Q2"]
[19000,"2016-05-04","1900042494","2026-08-01","FY27 Q2"]
[20000,"2016-05-04","2000042494","2026-08-01","FY27 Q2"]
[21000,"2016-05-04","2100042494","2026-08-01","FY27 Q2"]
[24000,"2016-05-04","2400042494","2026-08-01","FY27 Q2"]
[30000,"2016-05-04","3000042494","2026-08-01","FY27 Q2"]
[34000,"2016-05-04","3400042494","2026-08-01","FY27 Q2"]
[15000,"2016-05-05","1500042495","2026-08-01","FY27 Q2"]
[19000,"2016-05-05","1900042495","2026-08-01","FY27 Q2"]
[20000,"2016-05-05","2000042495","2026-08-01","FY27 Q2"]
[21000,"2016-05-05","2100042495","2026-08-01","FY27 Q2"]
[24000,"2016-05-05","2400042495","2026-08-01","FY27 Q2"]
[30000,"2016-05-05","3000042495","2026-08-01","FY27 Q2"]
[34000,"2016-05-05","3400042495","2026-08-01","FY27 Q2"]
[15000,"2016-05-06","1500042496","2026-08-01","FY27 Q2"]
[19000,"2016-05-06","1900042496","2026-08-01","FY27 Q2"]
[20000,"2016-05-06","2000042496","2026-08-01","FY27 Q2"]
[21000,"2016-05-06","2100042496","2026-08-01","FY27 Q2"]
[24000,"2016-05-06","2400042496","2026-08-01","FY27 Q2"]
[30000,"2016-05-06","3000042496","2026-08-01","FY27 Q2"]
[34000,"2016-05-06","3400042496","2026-08-01","FY27 Q2"]
[15000,"2016-05-07","1500042497","2026-08-01","FY27 Q2"]
[19000,"2016-05-07","1900042497","2026-08-01","FY27 Q2"]
[20000,"2016-05-07","2000042497","2026-08-01","FY27 Q2"]
[21000,"2016-05-07","2100042497","2026-08-01","FY27 Q2"]
[24000,"2016-05-07","2400042497","2026-08-01","FY27 Q2"]
[30000,"2016-05-07","3000042497","2026-08-01","FY27 Q2"]
[34000,"2016-05-07","3400042497","2026-08-01","FY27 Q2"]
[15000,"2016-05-08","1500042498","2026-08-01","FY27 Q2"]
[19000,"2016-05-08",{"$f":"_xlfn.CONCAT(A900,B900)","v":"1900042498"},"2026-08-01","FY27 Q2"]
[20000,"2016-05-08","2000042498","2026-08-01","FY27 Q2"]
[21000,"2016-05-08","2100042498","2026-08-01","FY27 Q2"]
[24000,"2016-05-08","2400042498","2026-08-01","FY27 Q2"]
[30000,"2016-05-08","3000042498","2026-08-01","FY27 Q2"]
[34000,"2016-05-08","3400042498","2026-08-01","FY27 Q2"]
[15000,"2016-05-09","1500042499","2026-08-01","FY27 Q2"]
[19000,"2016-05-09","1900042499","2026-08-01","FY27 Q2"]
[20000,"2016-05-09","2000042499","2026-08-01","FY27 Q2"]
[21000,"2016-05-09","2100042499","2026-08-01","FY27 Q2"]
[24000,"2016-05-09","2400042499","2026-08-01","FY27 Q2"]
[30000,"2016-05-09","3000042499","2026-08-01","FY27 Q2"]
[34000,"2016-05-09","3400042499","2026-08-01","FY27 Q2"]
[15000,"2016-05-10","1500042500","2026-08-01","FY27 Q2"]
[19000,"2016-05-10","1900042500","2026-08-01","FY27 Q2"]
[20000,"2016-05-10","2000042500","2026-08-01","FY27 Q2"]
[21000,"2016-05-10","2100042500","2026-08-01","FY27 Q2"]
[24000,"2016-05-10","2400042500","2026-08-01","FY27 Q2"]
[30000,"2016-05-10","3000042500","2026-08-01","FY27 Q2"]
[34000,"2016-05-10","3400042500","2026-08-01","FY27 Q2"]
[15000,"2016-05-11","1500042501","2026-08-01","FY27 Q2"]
[19000,"2016-05-11","1900042501","2026-08-01","FY27 Q2"]
[20000,"2016-05-11","2000042501","2026-08-01","FY27 Q2"]
[21000,"2016-05-11","2100042501","2026-08-01","FY27 Q2"]
[24000,"2016-05-11","2400042501","2026-08-01","FY27 Q2"]
[30000,"2016-05-11","3000042501","2026-08-01","FY27 Q2"]
[34000,"2016-05-11","3400042501","2026-08-01","FY27 Q2"]
[15000,"2016-05-12","1500042502","2026-08-01","FY27 Q2"]
[19000,"2016-05-12","1900042502","2026-08-01","FY27 Q2"]
[20000,"2016-05-12","2000042502","2026-08-01","FY27 Q2"]
[21000,"2016-05-12","2100042502","2026-08-01","FY27 Q2"]
[24000,"2016-05-12","2400042502","2026-08-01","FY27 Q2"]
[30000,"2016-05-12","3000042502","2026-08-01","FY27 Q2"]
[34000,"2016-05-12","3400042502","2026-08-01","FY27 Q2"]
[15000,"2016-05-13","1500042503","2026-08-01","FY27 Q2"]
[19000,"2016-05-13","1900042503","2026-08-01","FY27 Q2"]
[20000,"2016-05-13","2000042503","2026-08-01","FY27 Q2"]
[21000,"2016-05-13","2100042503","2026-08-01","FY27 Q2"]
[24000,"2016-05-13","2400042503","2026-08-01","FY27 Q2"]
[30000,"2016-05-13","3000042503","2026-08-01","FY27 Q2"]
[34000,"2016-05-13","3400042503","2026-08-01","FY27 Q2"]
[15000,"2016-05-14","1500042504","2026-08-01","FY27 Q2"]
[19000,"2016-05-14","1900042504","2026-08-01","FY27 Q2"]
[20000,"2016-05-14","2000042504","2026-08-01","FY27 Q2"]
[21000,"2016-05-14","2100042504","2026-08-01","FY27 Q2"]
[24000,"2016-05-14","2400042504","2026-08-01","FY27 Q2"]
[30000,"2016-05-14","3000042504","2026-08-01","FY27 Q2"]
[34000,"2016-05-14","3400042504","2026-08-01","FY27 Q2"]
[15000,"2016-05-15","1500042505","2026-08-01","FY27 Q2"]
[19000,"2016-05-15","1900042505","2026-08-01","FY27 Q2"]
[20000,"2016-05-15","2000042505","2026-08-01","FY27 Q2"]
[21000,"2016-05-15","2100042505","2026-08-01","FY27 Q2"]
[24000,"2016-05-15","2400042505","2026-08-01","FY27 Q2"]
[30000,"2016-05-15","3000042505","2026-08-01","FY27 Q2"]
[34000,"2016-05-15","3400042505","2026-08-01","FY27 Q2"]
[15000,"2016-05-16","1500042506","2026-08-01","FY27 Q2"]
[19000,"2016-05-16","1900042506","2026-08-01","FY27 Q2"]
[20000,"2016-05-16","2000042506","2026-08-01","FY27 Q2"]
[21000,"2016-05-16","2100042506","2026-08-01","FY27 Q2"]
[24000,"2016-05-16","2400042506","2026-08-01","FY27 Q2"]
[30000,"2016-05-16","3000042506","2026-08-01","FY27 Q2"]
[34000,"2016-05-16","3400042506","2026-08-01","FY27 Q2"]
[15000,"2016-05-17","1500042507","2026-08-01","FY27 Q2"]
[19000,"2016-05-17","1900042507","2026-08-01","FY27 Q2"]
[20000,"2016-05-17",{"$f":"_xlfn.CONCAT(A964,B964)","v":"2000042507"},"2026-08-01","FY27 Q2"]
[21000,"2016-05-17","2100042507","2026-08-01","FY27 Q2"]
[24000,"2016-05-17","2400042507","2026-08-01","FY27 Q2"]
[30000,"2016-05-17","3000042507","2026-08-01","FY27 Q2"]
[34000,"2016-05-17","3400042507","2026-08-01","FY27 Q2"]
[15000,"2016-05-18","1500042508","2026-08-01","FY27 Q2"]
[19000,"2016-05-18","1900042508","2026-08-01","FY27 Q2"]
[20000,"2016-05-18","2000042508","2026-08-01","FY27 Q2"]
[21000,"2016-05-18","2100042508","2026-08-01","FY27 Q2"]
[24000,"2016-05-18","2400042508","2026-08-01","FY27 Q2"]
[30000,"2016-05-18","3000042508","2026-08-01","FY27 Q2"]
[34000,"2016-05-18","3400042508","2026-08-01","FY27 Q2"]
[15000,"2016-05-19","1500042509","2026-08-01","FY27 Q2"]
[19000,"2016-05-19","1900042509","2026-08-01","FY27 Q2"]
[20000,"2016-05-19","2000042509","2026-08-01","FY27 Q2"]
[21000,"2016-05-19","2100042509","2026-08-01","FY27 Q2"]
[24000,"2016-05-19","2400042509","2026-08-01","FY27 Q2"]
[30000,"2016-05-19","3000042509","2026-08-01","FY27 Q2"]
[34000,"2016-05-19","3400042509","2026-08-01","FY27 Q2"]
[15000,"2016-05-20","1500042510","2026-08-01","FY27 Q2"]
[19000,"2016-05-20","1900042510","2026-08-01","FY27 Q2"]
[20000,"2016-05-20","2000042510","2026-08-01","FY27 Q2"]
[21000,"2016-05-20","2100042510","2026-08-01","FY27 Q2"]
[24000,"2016-05-20","2400042510","2026-08-01","FY27 Q2"]
[30000,"2016-05-20","3000042510","2026-08-01","FY27 Q2"]
[34000,"2016-05-20","3400042510","2026-08-01","FY27 Q2"]
[15000,"2016-05-21","1500042511","2026-08-01","FY27 Q2"]
[19000,"2016-05-21","1900042511","2026-08-01","FY27 Q2"]
[20000,"2016-05-21","2000042511","2026-08-01","FY27 Q2"]
[21000,"2016-05-21","2100042511","2026-08-01","FY27 Q2"]
[24000,"2016-05-21","2400042511","2026-08-01","FY27 Q2"]
[30000,"2016-05-21","3000042511","2026-08-01","FY27 Q2"]
[34000,"2016-05-21","3400042511","2026-08-01","FY27 Q2"]
[15000,"2016-05-22","1500042512","2026-08-01","FY27 Q2"]
[19000,"2016-05-22","1900042512","2026-08-01","FY27 Q2"]
[20000,"2016-05-22","2000042512","2026-08-01","FY27 Q2"]
[21000,"2016-05-22","2100042512","2026-08-01","FY27 Q2"]
[24000,"2016-05-22","2400042512","2026-08-01","FY27 Q2"]
[30000,"2016-05-22","3000042512","2026-08-01","FY27 Q2"]
[34000,"2016-05-22","3400042512","2026-08-01","FY27 Q2"]
[15000,"2016-05-23","1500042513","2026-08-01","FY27 Q2"]
[19000,"2016-05-23","1900042513","2026-08-01","FY27 Q2"]
[20000,"2016-05-23","2000042513","2026-08-01","FY27 Q2"]
[21000,"2016-05-23","2100042513","2026-08-01","FY27 Q2"]
[24000,"2016-05-23","2400042513","2026-08-01","FY27 Q2"]
[30000,"2016-05-23","3000042513","2026-08-01","FY27 Q2"]
[34000,"2016-05-23","3400042513","2026-08-01","FY27 Q2"]
[15000,"2016-05-24","1500042514","2026-08-01","FY27 Q2"]
[19000,"2016-05-24","1900042514","2026-08-01","FY27 Q2"]
[20000,"2016-05-24","2000042514","2026-08-01","FY27 Q2"]
[21000,"2016-05-24","2100042514","2026-08-01","FY27 Q2"]
[24000,"2016-05-24","2400042514","2026-08-01","FY27 Q2"]
[30000,"2016-05-24","3000042514","2026-08-01","FY27 Q2"]
[34000,"2016-05-24","3400042514","2026-08-01","FY27 Q2"]
[15000,"2016-05-25","1500042515","2026-08-01","FY27 Q2"]
[19000,"2016-05-25","1900042515","2026-08-01","FY27 Q2"]
[20000,"2016-05-25","2000042515","2026-08-01","FY27 Q2"]
[21000,"2016-05-25","2100042515","2026-08-01","FY27 Q2"]
[24000,"2016-05-25","2400042515","2026-08-01","FY27 Q2"]
[30000,"2016-05-25","3000042515","2026-08-01","FY27 Q2"]
[34000,"2016-05-25","3400042515","2026-08-01","FY27 Q2"]
[15000,"2016-05-26","1500042516","2026-08-01","FY27 Q2"]
[19000,"2016-05-26","1900042516","2026-08-01","FY27 Q2"]
[20000,"2016-05-26","2000042516","2026-08-01","FY27 Q2"]
[21000,"2016-05-26",{"$f":"_xlfn.CONCAT(A1028,B1028)","v":"2100042516"},"2026-08-01","FY27 Q2"]
[24000,"2016-05-26","2400042516","2026-08-01","FY27 Q2"]
[30000,"2016-05-26","3000042516","2026-08-01","FY27 Q2"]
[34000,"2016-05-26","3400042516","2026-08-01","FY27 Q2"]
[15000,"2016-05-27","1500042517","2026-08-01","FY27 Q2"]
[19000,"2016-05-27","1900042517","2026-08-01","FY27 Q2"]
[20000,"2016-05-27","2000042517","2026-08-01","FY27 Q2"]
[21000,"2016-05-27","2100042517","2026-08-01","FY27 Q2"]
[24000,"2016-05-27","2400042517","2026-08-01","FY27 Q2"]
[30000,"2016-05-27","3000042517","2026-08-01","FY27 Q2"]
[34000,"2016-05-27","3400042517","2026-08-01","FY27 Q2"]
[15000,"2016-05-28","1500042518","2026-08-01","FY27 Q2"]
[19000,"2016-05-28","1900042518","2026-08-01","FY27 Q2"]
[20000,"2016-05-28","2000042518","2026-08-01","FY27 Q2"]
[21000,"2016-05-28","2100042518","2026-08-01","FY27 Q2"]
[24000,"2016-05-28","2400042518","2026-08-01","FY27 Q2"]
[30000,"2016-05-28","3000042518","2026-08-01","FY27 Q2"]
[34000,"2016-05-28","3400042518","2026-08-01","FY27 Q2"]
[15000,"2016-05-29","1500042519","2026-08-01","FY27 Q2"]
[19000,"2016-05-29","1900042519","2026-08-01","FY27 Q2"]
[20000,"2016-05-29","2000042519","2026-08-01","FY27 Q2"]
[21000,"2016-05-29","2100042519","2026-08-01","FY27 Q2"]
[24000,"2016-05-29","2400042519","2026-08-01","FY27 Q2"]
[30000,"2016-05-29","3000042519","2026-08-01","FY27 Q2"]
[34000,"2016-05-29","3400042519","2026-08-01","FY27 Q2"]
[15000,"2016-05-30","1500042520","2026-08-01","FY27 Q2"]
[19000,"2016-05-30","1900042520","2026-08-01","FY27 Q2"]
[20000,"2016-05-30","2000042520","2026-08-01","FY27 Q2"]
[21000,"2016-05-30","2100042520","2026-08-01","FY27 Q2"]
[24000,"2016-05-30","2400042520","2026-08-01","FY27 Q2"]
[30000,"2016-05-30","3000042520","2026-08-01","FY27 Q2"]
[34000,"2016-05-30","3400042520","2026-08-01","FY27 Q2"]
[15000,"2016-05-31","1500042521","2026-08-01","FY27 Q2"]
[19000,"2016-05-31","1900042521","2026-08-01","FY27 Q2"]
[20000,"2016-05-31","2000042521","2026-08-01","FY27 Q2"]
[21000,"2016-05-31","2100042521","2026-08-01","FY27 Q2"]
[24000,"2016-05-31","2400042521","2026-08-01","FY27 Q2"]
[30000,"2016-05-31","3000042521","2026-08-01","FY27 Q2"]
[34000,"2016-05-31","3400042521","2026-08-01","FY27 Q2"]
[15000,"2016-06-01","1500042522","2026-08-01","FY27 Q2"]
[19000,"2016-06-01","1900042522","2026-08-01","FY27 Q2"]
[20000,"2016-06-01","2000042522","2026-08-01","FY27 Q2"]
[21000,"2016-06-01","2100042522","2026-08-01","FY27 Q2"]
[24000,"2016-06-01","2400042522","2026-08-01","FY27 Q2"]
[30000,"2016-06-01","3000042522","2026-08-01","FY27 Q2"]
[34000,"2016-06-01","3400042522","2026-08-01","FY27 Q2"]
[15000,"2016-06-02","1500042523","2026-08-01","FY27 Q2"]
[19000,"2016-06-02","1900042523","2026-08-01","FY27 Q2"]
[20000,"2016-06-02","2000042523","2026-08-01","FY27 Q2"]
[21000,"2016-06-02","2100042523","2026-08-01","FY27 Q2"]
[24000,"2016-06-02","2400042523","2026-08-01","FY27 Q2"]
[30000,"2016-06-02","3000042523","2026-08-01","FY27 Q2"]
[34000,"2016-06-02","3400042523","2026-08-01","FY27 Q2"]
[15000,"2016-06-03","1500042524","2026-08-01","FY27 Q2"]
[19000,"2016-06-03","1900042524","2026-08-01","FY27 Q2"]
[20000,"2016-06-03","2000042524","2026-08-01","FY27 Q2"]
[21000,"2016-06-03","2100042524","2026-08-01","FY27 Q2"]
[24000,"2016-06-03","2400042524","2026-08-01","FY27 Q2"]
[30000,"2016-06-03","3000042524","2026-08-01","FY27 Q2"]
[34000,"2016-06-03","3400042524","2026-08-01","FY27 Q2"]
[15000,"2016-06-04","1500042525","2026-08-01","FY27 Q2"]
[19000,"2016-06-04","1900042525","2026-08-01","FY27 Q2"]
[20000,"2016-06-04","2000042525","2026-08-01","FY27 Q2"]
[21000,"2016-06-04","2100042525","2026-08-01","FY27 Q2"]
[24000,"2016-06-04",{"$f":"_xlfn.CONCAT(A1092,B1092)","v":"2400042525"},"2026-08-01","FY27 Q2"]
[30000,"2016-06-04","3000042525","2026-08-01","FY27 Q2"]
[34000,"2016-06-04","3400042525","2026-08-01","FY27 Q2"]
[15000,"2016-06-05","1500042526","2026-08-01","FY27 Q2"]
[19000,"2016-06-05","1900042526","2026-08-01","FY27 Q2"]
[20000,"2016-06-05","2000042526","2026-08-01","FY27 Q2"]
[21000,"2016-06-05","2100042526","2026-08-01","FY27 Q2"]
[24000,"2016-06-05","2400042526","2026-08-01","FY27 Q2"]
[30000,"2016-06-05","3000042526","2026-08-01","FY27 Q2"]
[34000,"2016-06-05","3400042526","2026-08-01","FY27 Q2"]
[15000,"2016-06-06","1500042527","2026-08-01","FY27 Q2"]
[19000,"2016-06-06","1900042527","2026-08-01","FY27 Q2"]
[20000,"2016-06-06","2000042527","2026-08-01","FY27 Q2"]
[21000,"2016-06-06","2100042527","2026-08-01","FY27 Q2"]
[24000,"2016-06-06","2400042527","2026-08-01","FY27 Q2"]
[30000,"2016-06-06","3000042527","2026-08-01","FY27 Q2"]
[34000,"2016-06-06","3400042527","2026-08-01","FY27 Q2"]
[15000,"2016-06-07","1500042528","2026-08-01","FY27 Q2"]
[19000,"2016-06-07","1900042528","2026-08-01","FY27 Q2"]
[20000,"2016-06-07","2000042528","2026-08-01","FY27 Q2"]
[21000,"2016-06-07","2100042528","2026-08-01","FY27 Q2"]
[24000,"2016-06-07","2400042528","2026-08-01","FY27 Q2"]
[30000,"2016-06-07","3000042528","2026-08-01","FY27 Q2"]
[34000,"2016-06-07","3400042528","2026-08-01","FY27 Q2"]
[15000,"2016-06-08","1500042529","2026-08-01","FY27 Q2"]
[19000,"2016-06-08","1900042529","2026-08-01","FY27 Q2"]
[20000,"2016-06-08","2000042529","2026-08-01","FY27 Q2"]
[21000,"2016-06-08","2100042529","2026-08-01","FY27 Q2"]
[24000,"2016-06-08","2400042529","2026-08-01","FY27 Q2"]
[30000,"2016-06-08","3000042529","2026-08-01","FY27 Q2"]
[34000,"2016-06-08","3400042529","2026-08-01","FY27 Q2"]
[15000,"2016-06-09","1500042530","2026-08-01","FY27 Q2"]
[19000,"2016-06-09","1900042530","2026-08-01","FY27 Q2"]
[20000,"2016-06-09","2000042530","2026-08-01","FY27 Q2"]
[21000,"2016-06-09","2100042530","2026-08-01","FY27 Q2"]
[24000,"2016-06-09","2400042530","2026-08-01","FY27 Q2"]
[30000,"2016-06-09","3000042530","2026-08-01","FY27 Q2"]
[34000,"2016-06-09","3400042530","2026-08-01","FY27 Q2"]
[15000,"2016-06-10","1500042531","2026-08-01","FY27 Q2"]
[19000,"2016-06-10","1900042531","2026-08-01","FY27 Q2"]
[20000,"2016-06-10","2000042531","2026-08-01","FY27 Q2"]
[21000,"2016-06-10","2100042531","2026-08-01","FY27 Q2"]
[24000,"2016-06-10","2400042531","2026-08-01","FY27 Q2"]
[30000,"2016-06-10","3000042531","2026-08-01","FY27 Q2"]
[34000,"2016-06-10","3400042531","2026-08-01","FY27 Q2"]
[15000,"2016-06-11","1500042532","2026-08-01","FY27 Q2"]
[19000,"2016-06-11","1900042532","2026-08-01","FY27 Q2"]
[20000,"2016-06-11","2000042532","2026-08-01","FY27 Q2"]
[21000,"2016-06-11","2100042532","2026-08-01","FY27 Q2"]
[24000,"2016-06-11","2400042532","2026-08-01","FY27 Q2"]
[30000,"2016-06-11","3000042532","2026-08-01","FY27 Q2"]
[34000,"2016-06-11","3400042532","2026-08-01","FY27 Q2"]
[15000,"2016-06-12","1500042533","2026-08-01","FY27 Q2"]
[19000,"2016-06-12","1900042533","2026-08-01","FY27 Q2"]
[20000,"2016-06-12","2000042533","2026-08-01","FY27 Q2"]
[21000,"2016-06-12","2100042533","2026-08-01","FY27 Q2"]
[24000,"2016-06-12","2400042533","2026-08-01","FY27 Q2"]
[30000,"2016-06-12","3000042533","2026-08-01","FY27 Q2"]
[34000,"2016-06-12","3400042533","2026-08-01","FY27 Q2"]
[15000,"2016-06-13","1500042534","2026-08-01","FY27 Q2"]
[19000,"2016-06-13","1900042534","2026-08-01","FY27 Q2"]
[20000,"2016-06-13","2000042534","2026-08-01","FY27 Q2"]
[21000,"2016-06-13","2100042534","2026-08-01","FY27 Q2"]
[24000,"2016-06-13","2400042534","2026-08-01","FY27 Q2"]
[30000,"2016-06-13",{"$f":"_xlfn.CONCAT(A1156,B1156)","v":"3000042534"},"2026-08-01","FY27 Q2"]
[34000,"2016-06-13","3400042534","2026-08-01","FY27 Q2"]
[15000,"2016-06-14","1500042535","2026-08-01","FY27 Q2"]
[19000,"2016-06-14","1900042535","2026-08-01","FY27 Q2"]
[20000,"2016-06-14","2000042535","2026-08-01","FY27 Q2"]
[21000,"2016-06-14","2100042535","2026-08-01","FY27 Q2"]
[24000,"2016-06-14","2400042535","2026-08-01","FY27 Q2"]
[30000,"2016-06-14","3000042535","2026-08-01","FY27 Q2"]
[34000,"2016-06-14","3400042535","2026-08-01","FY27 Q2"]
[15000,"2016-06-15","1500042536","2026-08-01","FY27 Q2"]
[19000,"2016-06-15","1900042536","2026-08-01","FY27 Q2"]
[20000,"2016-06-15","2000042536","2026-08-01","FY27 Q2"]
[21000,"2016-06-15","2100042536","2026-08-01","FY27 Q2"]
[24000,"2016-06-15","2400042536","2026-08-01","FY27 Q2"]
[30000,"2016-06-15","3000042536","2026-08-01","FY27 Q2"]
[34000,"2016-06-15","3400042536","2026-08-01","FY27 Q2"]
[15000,"2016-06-16","1500042537","2026-08-01","FY27 Q2"]
[19000,"2016-06-16","1900042537","2026-08-01","FY27 Q2"]
[20000,"2016-06-16","2000042537","2026-08-01","FY27 Q2"]
[21000,"2016-06-16","2100042537","2026-08-01","FY27 Q2"]
[24000,"2016-06-16","2400042537","2026-08-01","FY27 Q2"]
[30000,"2016-06-16","3000042537","2026-08-01","FY27 Q2"]
[34000,"2016-06-16","3400042537","2026-08-01","FY27 Q2"]
[15000,"2016-06-17","1500042538","2026-08-01","FY27 Q2"]
[19000,"2016-06-17","1900042538","2026-08-01","FY27 Q2"]
[20000,"2016-06-17","2000042538","2026-08-01","FY27 Q2"]
[21000,"2016-06-17","2100042538","2026-08-01","FY27 Q2"]
[24000,"2016-06-17","2400042538","2026-08-01","FY27 Q2"]
[30000,"2016-06-17","3000042538","2026-08-01","FY27 Q2"]
[34000,"2016-06-17","3400042538","2026-08-01","FY27 Q2"]
[15000,"2016-06-18","1500042539","2026-08-01","FY27 Q2"]
[19000,"2016-06-18","1900042539","2026-08-01","FY27 Q2"]
[20000,"2016-06-18","2000042539","2026-08-01","FY27 Q2"]
[21000,"2016-06-18","2100042539","2026-08-01","FY27 Q2"]
[24000,"2016-06-18","2400042539","2026-08-01","FY27 Q2"]
[30000,"2016-06-18","3000042539","2026-08-01","FY27 Q2"]
[34000,"2016-06-18","3400042539","2026-08-01","FY27 Q2"]
[15000,"2016-06-19","1500042540","2026-08-01","FY27 Q2"]
[19000,"2016-06-19","1900042540","2026-08-01","FY27 Q2"]
[20000,"2016-06-19","2000042540","2026-08-01","FY27 Q2"]
[21000,"2016-06-19","2100042540","2026-08-01","FY27 Q2"]
[24000,"2016-06-19","2400042540","2026-08-01","FY27 Q2"]
[30000,"2016-06-19","3000042540","2026-08-01","FY27 Q2"]
[34000,"2016-06-19","3400042540","2026-08-01","FY27 Q2"]
[15000,"2016-06-20","1500042541","2026-08-01","FY27 Q2"]
[19000,"2016-06-20","1900042541","2026-08-01","FY27 Q2"]
[20000,"2016-06-20","2000042541","2026-08-01","FY27 Q2"]
[21000,"2016-06-20","2100042541","2026-08-01","FY27 Q2"]
[24000,"2016-06-20","2400042541","2026-08-01","FY27 Q2"]
[30000,"2016-06-20","3000042541","2026-08-01","FY27 Q2"]
[34000,"2016-06-20","3400042541","2026-08-01","FY27 Q2"]
[15000,"2016-06-21","1500042542","2026-08-01","FY27 Q2"]
[19000,"2016-06-21","1900042542","2026-08-01","FY27 Q2"]
[20000,"2016-06-21","2000042542","2026-08-01","FY27 Q2"]
[21000,"2016-06-21","2100042542","2026-08-01","FY27 Q2"]
[24000,"2016-06-21","2400042542","2026-08-01","FY27 Q2"]
[30000,"2016-06-21","3000042542","2026-08-01","FY27 Q2"]
[34000,"2016-06-21","3400042542","2026-08-01","FY27 Q2"]
[15000,"2016-06-22","1500042543","2026-08-01","FY27 Q2"]
[19000,"2016-06-22","1900042543","2026-08-01","FY27 Q2"]
[20000,"2016-06-22","2000042543","2026-08-01","FY27 Q2"]
[21000,"2016-06-22","2100042543","2026-08-01","FY27 Q2"]
[24000,"2016-06-22","2400042543","2026-08-01","FY27 Q2"]
[30000,"2016-06-22","3000042543","2026-08-01","FY27 Q2"]
[34000,"2016-06-22",{"$f":"_xlfn.CONCAT(A1220,B1220)","v":"3400042543"},"2026-08-01","FY27 Q2"]
[15000,"2016-06-23","1500042544","2026-08-01","FY27 Q2"]
[19000,"2016-06-23","1900042544","2026-08-01","FY27 Q2"]
[20000,"2016-06-23","2000042544","2026-08-01","FY27 Q2"]
[21000,"2016-06-23","2100042544","2026-08-01","FY27 Q2"]
[24000,"2016-06-23","2400042544","2026-08-01","FY27 Q2"]
[30000,"2016-06-23","3000042544","2026-08-01","FY27 Q2"]
[34000,"2016-06-23","3400042544","2026-08-01","FY27 Q2"]
[15000,"2016-06-24","1500042545","2026-08-01","FY27 Q2"]
[19000,"2016-06-24","1900042545","2026-08-01","FY27 Q2"]
[20000,"2016-06-24","2000042545","2026-08-01","FY27 Q2"]
[21000,"2016-06-24","2100042545","2026-08-01","FY27 Q2"]
[24000,"2016-06-24","2400042545","2026-08-01","FY27 Q2"]
[30000,"2016-06-24","3000042545","2026-08-01","FY27 Q2"]
[34000,"2016-06-24","3400042545","2026-08-01","FY27 Q2"]
[15000,"2016-06-25","1500042546","2026-08-01","FY27 Q2"]
[19000,"2016-06-25","1900042546","2026-08-01","FY27 Q2"]
[20000,"2016-06-25","2000042546","2026-08-01","FY27 Q2"]
[21000,"2016-06-25","2100042546","2026-08-01","FY27 Q2"]
[24000,"2016-06-25","2400042546","2026-08-01","FY27 Q2"]
[30000,"2016-06-25","3000042546","2026-08-01","FY27 Q2"]
[34000,"2016-06-25","3400042546","2026-08-01","FY27 Q2"]
[15000,"2016-06-26","1500042547","2026-08-01","FY27 Q2"]
[19000,"2016-06-26","1900042547","2026-08-01","FY27 Q2"]
[20000,"2016-06-26","2000042547","2026-08-01","FY27 Q2"]
[21000,"2016-06-26","2100042547","2026-08-01","FY27 Q2"]
[24000,"2016-06-26","2400042547","2026-08-01","FY27 Q2"]
[30000,"2016-06-26","3000042547","2026-08-01","FY27 Q2"]
[34000,"2016-06-26","3400042547","2026-08-01","FY27 Q2"]
[15000,"2016-06-27","1500042548","2026-08-01","FY27 Q2"]
[19000,"2016-06-27","1900042548","2026-08-01","FY27 Q2"]
[20000,"2016-06-27","2000042548","2026-08-01","FY27 Q2"]
[21000,"2016-06-27","2100042548","2026-08-01","FY27 Q2"]
[24000,"2016-06-27","2400042548","2026-08-01","FY27 Q2"]
[30000,"2016-06-27","3000042548","2026-08-01","FY27 Q2"]
[34000,"2016-06-27","3400042548","2026-08-01","FY27 Q2"]
[15000,"2016-06-28","1500042549","2026-08-01","FY27 Q2"]
[19000,"2016-06-28","1900042549","2026-08-01","FY27 Q2"]
[20000,"2016-06-28","2000042549","2026-08-01","FY27 Q2"]
[21000,"2016-06-28","2100042549","2026-08-01","FY27 Q2"]
[24000,"2016-06-28","2400042549","2026-08-01","FY27 Q2"]
[30000,"2016-06-28","3000042549","2026-08-01","FY27 Q2"]
[34000,"2016-06-28","3400042549","2026-08-01","FY27 Q2"]
[15000,"2016-06-29","1500042550","2026-08-01","FY27 Q2"]
[19000,"2016-06-29","1900042550","2026-08-01","FY27 Q2"]
[20000,"2016-06-29","2000042550","2026-08-01","FY27 Q2"]
[21000,"2016-06-29","2100042550","2026-08-01","FY27 Q2"]
[24000,"2016-06-29","2400042550","2026-08-01","FY27 Q2"]
[30000,"2016-06-29","3000042550","2026-08-01","FY27 Q2"]
[34000,"2016-06-29","3400042550","2026-08-01","FY27 Q2"]
[15000,"2016-06-30","1500042551","2026-08-01","FY27 Q2"]
[19000,"2016-06-30","1900042551","2026-08-01","FY27 Q2"]
[20000,"2016-06-30","2000042551","2026-08-01","FY27 Q2"]
[21000,"2016-06-30","2100042551","2026-08-01","FY27 Q2"]
[24000,"2016-06-30","2400042551","2026-08-01","FY27 Q2"]
[30000,"2016-06-30","3000042551","2026-08-01","FY27 Q2"]
[34000,"2016-06-30","3400042551","2026-08-01","FY27 Q2"]
[15000,"2016-07-01","1500042552","2026-08-01","FY27 Q2"]
[19000,"2016-07-01","1900042552","2026-08-01","FY27 Q2"]
[20000,"2016-07-01","2000042552","2026-08-01","FY27 Q2"]
[21000,"2016-07-01","2100042552","2026-08-01","FY27 Q2"]
[24000,"2016-07-01","2400042552","2026-08-01","FY27 Q2"]
[30000,"2016-07-01","3000042552","2026-08-01","FY27 Q2"]
[34000,"2016-07-01","3400042552","2026-08-01","FY27 Q2"]
[15000,"2016-07-02",{"$f":"_xlfn.CONCAT(A1284,B1284)","v":"1500042553"},"2026-08-01","FY27 Q2"]
[19000,"2016-07-02","1900042553","2026-08-01","FY27 Q2"]
[20000,"2016-07-02","2000042553","2026-08-01","FY27 Q2"]
[21000,"2016-07-02","2100042553","2026-08-01","FY27 Q2"]
[24000,"2016-07-02","2400042553","2026-08-01","FY27 Q2"]
[30000,"2016-07-02","3000042553","2026-08-01","FY27 Q2"]
[34000,"2016-07-02","3400042553","2026-08-01","FY27 Q2"]
[15000,"2016-07-03","1500042554","2026-08-01","FY27 Q2"]
[19000,"2016-07-03","1900042554","2026-08-01","FY27 Q2"]
[20000,"2016-07-03","2000042554","2026-08-01","FY27 Q2"]
[21000,"2016-07-03","2100042554","2026-08-01","FY27 Q2"]
[24000,"2016-07-03","2400042554","2026-08-01","FY27 Q2"]
[30000,"2016-07-03","3000042554","2026-08-01","FY27 Q2"]
[34000,"2016-07-03","3400042554","2026-08-01","FY27 Q2"]
[15000,"2016-07-04","1500042555","2026-08-01","FY27 Q2"]
[19000,"2016-07-04","1900042555","2026-08-01","FY27 Q2"]
[20000,"2016-07-04","2000042555","2026-08-01","FY27 Q2"]
[21000,"2016-07-04","2100042555","2026-08-01","FY27 Q2"]
[24000,"2016-07-04","2400042555","2026-08-01","FY27 Q2"]
[30000,"2016-07-04","3000042555","2026-08-01","FY27 Q2"]
[34000,"2016-07-04","3400042555","2026-08-01","FY27 Q2"]
[15000,"2016-07-05","1500042556","2026-08-01","FY27 Q2"]
[19000,"2016-07-05","1900042556","2026-08-01","FY27 Q2"]
[20000,"2016-07-05","2000042556","2026-08-01","FY27 Q2"]
[21000,"2016-07-05","2100042556","2026-08-01","FY27 Q2"]
[24000,"2016-07-05","2400042556","2026-08-01","FY27 Q2"]
[30000,"2016-07-05","3000042556","2026-08-01","FY27 Q2"]
[34000,"2016-07-05","3400042556","2026-08-01","FY27 Q2"]
[15000,"2016-07-06","1500042557","2026-08-01","FY27 Q2"]
[19000,"2016-07-06","1900042557","2026-08-01","FY27 Q2"]
[20000,"2016-07-06","2000042557","2026-08-01","FY27 Q2"]
[21000,"2016-07-06","2100042557","2026-08-01","FY27 Q2"]
[24000,"2016-07-06","2400042557","2026-08-01","FY27 Q2"]
[30000,"2016-07-06","3000042557","2026-08-01","FY27 Q2"]
[34000,"2016-07-06","3400042557","2026-08-01","FY27 Q2"]
[15000,"2016-07-07","1500042558","2026-08-01","FY27 Q2"]
[19000,"2016-07-07","1900042558","2026-08-01","FY27 Q2"]
[20000,"2016-07-07","2000042558","2026-08-01","FY27 Q2"]
[21000,"2016-07-07","2100042558","2026-08-01","FY27 Q2"]
[24000,"2016-07-07","2400042558","2026-08-01","FY27 Q2"]
[30000,"2016-07-07","3000042558","2026-08-01","FY27 Q2"]
[34000,"2016-07-07","3400042558","2026-08-01","FY27 Q2"]
[15000,"2016-07-08","1500042559","2026-08-01","FY27 Q2"]
[19000,"2016-07-08","1900042559","2026-08-01","FY27 Q2"]
[20000,"2016-07-08","2000042559","2026-08-01","FY27 Q2"]
[21000,"2016-07-08","2100042559","2026-08-01","FY27 Q2"]
[24000,"2016-07-08","2400042559","2026-08-01","FY27 Q2"]
[30000,"2016-07-08","3000042559","2026-08-01","FY27 Q2"]
[34000,"2016-07-08","3400042559","2026-08-01","FY27 Q2"]
[15000,"2016-07-09","1500042560","2026-08-01","FY27 Q2"]
[19000,"2016-07-09","1900042560","2026-08-01","FY27 Q2"]
[20000,"2016-07-09","2000042560","2026-08-01","FY27 Q2"]
[21000,"2016-07-09","2100042560","2026-08-01","FY27 Q2"]
[24000,"2016-07-09","2400042560","2026-08-01","FY27 Q2"]
[30000,"2016-07-09","3000042560","2026-08-01","FY27 Q2"]
[34000,"2016-07-09","3400042560","2026-08-01","FY27 Q2"]
[15000,"2016-07-10","1500042561","2026-08-01","FY27 Q2"]
[19000,"2016-07-10","1900042561","2026-08-01","FY27 Q2"]
[20000,"2016-07-10","2000042561","2026-08-01","FY27 Q2"]
[21000,"2016-07-10","2100042561","2026-08-01","FY27 Q2"]
[24000,"2016-07-10","2400042561","2026-08-01","FY27 Q2"]
[30000,"2016-07-10","3000042561","2026-08-01","FY27 Q2"]
[34000,"2016-07-10","3400042561","2026-08-01","FY27 Q2"]
[15000,"2016-07-11","1500042562","2026-08-01","FY27 Q2"]
[19000,"2016-07-11",{"$f":"_xlfn.CONCAT(A1348,B1348)","v":"1900042562"},"2026-08-01","FY27 Q2"]
[20000,"2016-07-11","2000042562","2026-08-01","FY27 Q2"]
[21000,"2016-07-11","2100042562","2026-08-01","FY27 Q2"]
[24000,"2016-07-11","2400042562","2026-08-01","FY27 Q2"]
[30000,"2016-07-11","3000042562","2026-08-01","FY27 Q2"]
[34000,"2016-07-11","3400042562","2026-08-01","FY27 Q2"]
[15000,"2016-07-12","1500042563","2026-08-01","FY27 Q2"]
[19000,"2016-07-12","1900042563","2026-08-01","FY27 Q2"]
[20000,"2016-07-12","2000042563","2026-08-01","FY27 Q2"]
[21000,"2016-07-12","2100042563","2026-08-01","FY27 Q2"]
[24000,"2016-07-12","2400042563","2026-08-01","FY27 Q2"]
[30000,"2016-07-12","3000042563","2026-08-01","FY27 Q2"]
[34000,"2016-07-12","3400042563","2026-08-01","FY27 Q2"]
[15000,"2016-07-13","1500042564","2026-08-01","FY27 Q2"]
[19000,"2016-07-13","1900042564","2026-08-01","FY27 Q2"]
[20000,"2016-07-13","2000042564","2026-08-01","FY27 Q2"]
[21000,"2016-07-13","2100042564","2026-08-01","FY27 Q2"]
[24000,"2016-07-13","2400042564","2026-08-01","FY27 Q2"]
[30000,"2016-07-13","3000042564","2026-08-01","FY27 Q2"]
[34000,"2016-07-13","3400042564","2026-08-01","FY27 Q2"]
[15000,"2016-07-14","1500042565","2026-08-01","FY27 Q2"]
[19000,"2016-07-14","1900042565","2026-08-01","FY27 Q2"]
[20000,"2016-07-14","2000042565","2026-08-01","FY27 Q2"]
[21000,"2016-07-14","2100042565","2026-08-01","FY27 Q2"]
[24000,"2016-07-14","2400042565","2026-08-01","FY27 Q2"]
[30000,"2016-07-14","3000042565","2026-08-01","FY27 Q2"]
[34000,"2016-07-14","3400042565","2026-08-01","FY27 Q2"]
[15000,"2016-07-15","1500042566","2026-08-01","FY27 Q2"]
[19000,"2016-07-15","1900042566","2026-08-01","FY27 Q2"]
[20000,"2016-07-15","2000042566","2026-08-01","FY27 Q2"]
[21000,"2016-07-15","2100042566","2026-08-01","FY27 Q2"]
[24000,"2016-07-15","2400042566","2026-08-01","FY27 Q2"]
[30000,"2016-07-15","3000042566","2026-08-01","FY27 Q2"]
[34000,"2016-07-15","3400042566","2026-08-01","FY27 Q2"]
[15000,"2016-07-16","1500042567","2026-08-01","FY27 Q2"]
[19000,"2016-07-16","1900042567","2026-08-01","FY27 Q2"]
[20000,"2016-07-16","2000042567","2026-08-01","FY27 Q2"]
[21000,"2016-07-16","2100042567","2026-08-01","FY27 Q2"]
[24000,"2016-07-16","2400042567","2026-08-01","FY27 Q2"]
[30000,"2016-07-16","3000042567","2026-08-01","FY27 Q2"]
[34000,"2016-07-16","3400042567","2026-08-01","FY27 Q2"]
[15000,"2016-07-17","1500042568","2026-08-01","FY27 Q2"]
[19000,"2016-07-17","1900042568","2026-08-01","FY27 Q2"]
[20000,"2016-07-17","2000042568","2026-08-01","FY27 Q2"]
[21000,"2016-07-17","2100042568","2026-08-01","FY27 Q2"]
[24000,"2016-07-17","2400042568","2026-08-01","FY27 Q2"]
[30000,"2016-07-17","3000042568","2026-08-01","FY27 Q2"]
[34000,"2016-07-17","3400042568","2026-08-01","FY27 Q2"]
[15000,"2016-07-18","1500042569","2026-08-01","FY27 Q2"]
[19000,"2016-07-18","1900042569","2026-08-01","FY27 Q2"]
[20000,"2016-07-18","2000042569","2026-08-01","FY27 Q2"]
[21000,"2016-07-18","2100042569","2026-08-01","FY27 Q2"]
[24000,"2016-07-18","2400042569","2026-08-01","FY27 Q2"]
[30000,"2016-07-18","3000042569","2026-08-01","FY27 Q2"]
[34000,"2016-07-18","3400042569","2026-08-01","FY27 Q2"]
[15000,"2016-07-19","1500042570","2026-08-01","FY27 Q2"]
[19000,"2016-07-19","1900042570","2026-08-01","FY27 Q2"]
[20000,"2016-07-19","2000042570","2026-08-01","FY27 Q2"]
[21000,"2016-07-19","2100042570","2026-08-01","FY27 Q2"]
[24000,"2016-07-19","2400042570","2026-08-01","FY27 Q2"]
[30000,"2016-07-19","3000042570","2026-08-01","FY27 Q2"]
[34000,"2016-07-19","3400042570","2026-08-01","FY27 Q2"]
[15000,"2016-07-20","1500042571","2026-08-01","FY27 Q2"]
[19000,"2016-07-20","1900042571","2026-08-01","FY27 Q2"]
[20000,"2016-07-20",{"$f":"_xlfn.CONCAT(A1412,B1412)","v":"2000042571"},"2026-08-01","FY27 Q2"]
[21000,"2016-07-20","2100042571","2026-08-01","FY27 Q2"]
[24000,"2016-07-20","2400042571","2026-08-01","FY27 Q2"]
[30000,"2016-07-20","3000042571","2026-08-01","FY27 Q2"]
[34000,"2016-07-20","3400042571","2026-08-01","FY27 Q2"]
[15000,"2016-07-21","1500042572","2026-08-01","FY27 Q2"]
[19000,"2016-07-21","1900042572","2026-08-01","FY27 Q2"]
[20000,"2016-07-21","2000042572","2026-08-01","FY27 Q2"]
[21000,"2016-07-21","2100042572","2026-08-01","FY27 Q2"]
[24000,"2016-07-21","2400042572","2026-08-01","FY27 Q2"]
[30000,"2016-07-21","3000042572","2026-08-01","FY27 Q2"]
[34000,"2016-07-21","3400042572","2026-08-01","FY27 Q2"]
[15000,"2016-07-22","1500042573","2026-08-01","FY27 Q2"]
[19000,"2016-07-22","1900042573","2026-08-01","FY27 Q2"]
[20000,"2016-07-22","2000042573","2026-08-01","FY27 Q2"]
[21000,"2016-07-22","2100042573","2026-08-01","FY27 Q2"]
[24000,"2016-07-22","2400042573","2026-08-01","FY27 Q2"]
[30000,"2016-07-22","3000042573","2026-08-01","FY27 Q2"]
[34000,"2016-07-22","3400042573","2026-08-01","FY27 Q2"]
[15000,"2016-07-23","1500042574","2026-08-01","FY27 Q2"]
[19000,"2016-07-23","1900042574","2026-08-01","FY27 Q2"]
[20000,"2016-07-23","2000042574","2026-08-01","FY27 Q2"]
[21000,"2016-07-23","2100042574","2026-08-01","FY27 Q2"]
[24000,"2016-07-23","2400042574","2026-08-01","FY27 Q2"]
[30000,"2016-07-23","3000042574","2026-08-01","FY27 Q2"]
[34000,"2016-07-23","3400042574","2026-08-01","FY27 Q2"]
[15000,"2016-07-24","1500042575","2026-08-01","FY27 Q2"]
[19000,"2016-07-24","1900042575","2026-08-01","FY27 Q2"]
[20000,"2016-07-24","2000042575","2026-08-01","FY27 Q2"]
[21000,"2016-07-24","2100042575","2026-08-01","FY27 Q2"]
[24000,"2016-07-24","2400042575","2026-08-01","FY27 Q2"]
[30000,"2016-07-24","3000042575","2026-08-01","FY27 Q2"]
[34000,"2016-07-24","3400042575","2026-08-01","FY27 Q2"]
[15000,"2016-07-25","1500042576","2026-08-01","FY27 Q2"]
[19000,"2016-07-25","1900042576","2026-08-01","FY27 Q2"]
[20000,"2016-07-25","2000042576","2026-08-01","FY27 Q2"]
[21000,"2016-07-25","2100042576","2026-08-01","FY27 Q2"]
[24000,"2016-07-25","2400042576","2026-08-01","FY27 Q2"]
[30000,"2016-07-25","3000042576","2026-08-01","FY27 Q2"]
[34000,"2016-07-25","3400042576","2026-08-01","FY27 Q2"]
[15000,"2016-07-26","1500042577","2026-08-01","FY27 Q2"]
[19000,"2016-07-26","1900042577","2026-08-01","FY27 Q2"]
[20000,"2016-07-26","2000042577","2026-08-01","FY27 Q2"]
[21000,"2016-07-26","2100042577","2026-08-01","FY27 Q2"]
[24000,"2016-07-26","2400042577","2026-08-01","FY27 Q2"]
[30000,"2016-07-26","3000042577","2026-08-01","FY27 Q2"]
[34000,"2016-07-26","3400042577","2026-08-01","FY27 Q2"]
[15000,"2016-07-27","1500042578","2026-08-01","FY27 Q2"]
[19000,"2016-07-27","1900042578","2026-08-01","FY27 Q2"]
[20000,"2016-07-27","2000042578","2026-08-01","FY27 Q2"]
[21000,"2016-07-27","2100042578","2026-08-01","FY27 Q2"]
[24000,"2016-07-27","2400042578","2026-08-01","FY27 Q2"]
[30000,"2016-07-27","3000042578","2026-08-01","FY27 Q2"]
[34000,"2016-07-27","3400042578","2026-08-01","FY27 Q2"]
[15000,"2016-07-28","1500042579","2026-08-01","FY27 Q2"]
[19000,"2016-07-28","1900042579","2026-08-01","FY27 Q2"]
[20000,"2016-07-28","2000042579","2026-08-01","FY27 Q2"]
[21000,"2016-07-28","2100042579","2026-08-01","FY27 Q2"]
[24000,"2016-07-28","2400042579","2026-08-01","FY27 Q2"]
[30000,"2016-07-28","3000042579","2026-08-01","FY27 Q2"]
[34000,"2016-07-28","3400042579","2026-08-01","FY27 Q2"]
[15000,"2016-07-29","1500042580","2026-08-01","FY27 Q2"]
[19000,"2016-07-29","1900042580","2026-08-01","FY27 Q2"]
[20000,"2016-07-29","2000042580","2026-08-01","FY27 Q2"]
[21000,"2016-07-29",{"$f":"_xlfn.CONCAT(A1476,B1476)","v":"2100042580"},"2026-08-01","FY27 Q2"]
[24000,"2016-07-29","2400042580","2026-08-01","FY27 Q2"]
[30000,"2016-07-29","3000042580","2026-08-01","FY27 Q2"]
[34000,"2016-07-29","3400042580","2026-08-01","FY27 Q2"]
[15000,"2016-07-30","1500042581","2026-08-01","FY27 Q2"]
[19000,"2016-07-30","1900042581","2026-08-01","FY27 Q2"]
[20000,"2016-07-30","2000042581","2026-08-01","FY27 Q2"]
[21000,"2016-07-30","2100042581","2026-08-01","FY27 Q2"]
[24000,"2016-07-30","2400042581","2026-08-01","FY27 Q2"]
[30000,"2016-07-30","3000042581","2026-08-01","FY27 Q2"]
[34000,"2016-07-30","3400042581","2026-08-01","FY27 Q2"]
[15000,"2016-07-31","1500042582","2026-08-01","FY27 Q2"]
[19000,"2016-07-31","1900042582","2026-08-01","FY27 Q2"]
[20000,"2016-07-31","2000042582","2026-08-01","FY27 Q2"]
[21000,"2016-07-31","2100042582","2026-08-01","FY27 Q2"]
[24000,"2016-07-31","2400042582","2026-08-01","FY27 Q2"]
[30000,"2016-07-31","3000042582","2026-08-01","FY27 Q2"]
[34000,"2016-07-31","3400042582","2026-08-01","FY27 Q2"]
[15000,"2016-08-01","1500042583","2026-08-01","FY27 Q2"]
[19000,"2016-08-01","1900042583","2026-08-01","FY27 Q2"]
[20000,"2016-08-01","2000042583","2026-08-01","FY27 Q2"]
[21000,"2016-08-01","2100042583","2026-08-01","FY27 Q2"]
[24000,"2016-08-01","2400042583","2026-08-01","FY27 Q2"]
[30000,"2016-08-01","3000042583","2026-08-01","FY27 Q2"]
[34000,"2016-08-01","3400042583","2026-08-01","FY27 Q2"]
[15000,"2016-08-02","1500042584","2026-08-01","FY27 Q2"]
[19000,"2016-08-02","1900042584","2026-08-01","FY27 Q2"]
[20000,"2016-08-02","2000042584","2026-08-01","FY27 Q2"]
[21000,"2016-08-02","2100042584","2026-08-01","FY27 Q2"]
[24000,"2016-08-02","2400042584","2026-08-01","FY27 Q2"]
[30000,"2016-08-02","3000042584","2026-08-01","FY27 Q2"]
[34000,"2016-08-02","3400042584","2026-08-01","FY27 Q2"]
[15000,"2016-08-03","1500042585","2026-08-01","FY27 Q2"]
[19000,"2016-08-03","1900042585","2026-08-01","FY27 Q2"]
[20000,"2016-08-03","2000042585","2026-08-01","FY27 Q2"]
[21000,"2016-08-03","2100042585","2026-08-01","FY27 Q2"]
[24000,"2016-08-03","2400042585","2026-08-01","FY27 Q2"]
[30000,"2016-08-03","3000042585","2026-08-01","FY27 Q2"]
[34000,"2016-08-03","3400042585","2026-08-01","FY27 Q2"]
[15000,"2016-08-04","1500042586","2026-08-01","FY27 Q2"]
[19000,"2016-08-04","1900042586","2026-08-01","FY27 Q2"]
[20000,"2016-08-04","2000042586","2026-08-01","FY27 Q2"]
[21000,"2016-08-04","2100042586","2026-08-01","FY27 Q2"]
[24000,"2016-08-04","2400042586","2026-08-01","FY27 Q2"]
[30000,"2016-08-04","3000042586","2026-08-01","FY27 Q2"]
[34000,"2016-08-04","3400042586","2026-08-01","FY27 Q2"]
[15000,"2016-08-05","1500042587","2026-08-01","FY27 Q2"]
[19000,"2016-08-05","1900042587","2026-08-01","FY27 Q2"]
[20000,"2016-08-05","2000042587","2026-08-01","FY27 Q2"]
[21000,"2016-08-05","2100042587","2026-08-01","FY27 Q2"]
[24000,"2016-08-05","2400042587","2026-08-01","FY27 Q2"]
[30000,"2016-08-05","3000042587","2026-08-01","FY27 Q2"]
[34000,"2016-08-05","3400042587","2026-08-01","FY27 Q2"]
[15000,"2016-08-06","1500042588","2026-08-01","FY27 Q2"]
[19000,"2016-08-06","1900042588","2026-08-01","FY27 Q2"]
[20000,"2016-08-06","2000042588","2026-08-01","FY27 Q2"]
[21000,"2016-08-06","2100042588","2026-08-01","FY27 Q2"]
[24000,"2016-08-06","2400042588","2026-08-01","FY27 Q2"]
[30000,"2016-08-06","3000042588","2026-08-01","FY27 Q2"]
[34000,"2016-08-06","3400042588","2026-08-01","FY27 Q2"]
[15000,"2016-08-07","1500042589","2026-08-01","FY27 Q2"]
[19000,"2016-08-07","1900042589","2026-08-01","FY27 Q2"]
[20000,"2016-08-07","2000042589","2026-08-01","FY27 Q2"]
[21000,"2016-08-07","2100042589","2026-08-01","FY27 Q2"]
[24000,"2016-08-07",{"$f":"_xlfn.CONCAT(A1540,B1540)","v":"2400042589"},"2026-08-01","FY27 Q2"]
[30000,"2016-08-07","3000042589","2026-08-01","FY27 Q2"]
[34000,"2016-08-07","3400042589","2026-08-01","FY27 Q2"]
[15000,"2016-08-08","1500042590","2026-08-01","FY27 Q2"]
[19000,"2016-08-08","1900042590","2026-08-01","FY27 Q2"]
[20000,"2016-08-08","2000042590","2026-08-01","FY27 Q2"]
[21000,"2016-08-08","2100042590","2026-08-01","FY27 Q2"]
[24000,"2016-08-08","2400042590","2026-08-01","FY27 Q2"]
[30000,"2016-08-08","3000042590","2026-08-01","FY27 Q2"]
[34000,"2016-08-08","3400042590","2026-08-01","FY27 Q2"]
[15000,"2016-08-09","1500042591","2026-08-01","FY27 Q2"]
[19000,"2016-08-09","1900042591","2026-08-01","FY27 Q2"]
[20000,"2016-08-09","2000042591","2026-08-01","FY27 Q2"]
[21000,"2016-08-09","2100042591","2026-08-01","FY27 Q2"]
[24000,"2016-08-09","2400042591","2026-08-01","FY27 Q2"]
[30000,"2016-08-09","3000042591","2026-08-01","FY27 Q2"]
[34000,"2016-08-09","3400042591","2026-08-01","FY27 Q2"]
[15000,"2016-08-10","1500042592","2026-08-01","FY27 Q2"]
[19000,"2016-08-10","1900042592","2026-08-01","FY27 Q2"]
[20000,"2016-08-10","2000042592","2026-08-01","FY27 Q2"]
[21000,"2016-08-10","2100042592","2026-08-01","FY27 Q2"]
[24000,"2016-08-10","2400042592","2026-08-01","FY27 Q2"]
[30000,"2016-08-10","3000042592","2026-08-01","FY27 Q2"]
[34000,"2016-08-10","3400042592","2026-08-01","FY27 Q2"]
[15000,"2016-08-11","1500042593","2026-08-01","FY27 Q2"]
[19000,"2016-08-11","1900042593","2026-08-01","FY27 Q2"]
[20000,"2016-08-11","2000042593","2026-08-01","FY27 Q2"]
[21000,"2016-08-11","2100042593","2026-08-01","FY27 Q2"]
[24000,"2016-08-11","2400042593","2026-08-01","FY27 Q2"]
[30000,"2016-08-11","3000042593","2026-08-01","FY27 Q2"]
[34000,"2016-08-11","3400042593","2026-08-01","FY27 Q2"]
[15000,"2016-08-12","1500042594","2026-08-01","FY27 Q2"]
[19000,"2016-08-12","1900042594","2026-08-01","FY27 Q2"]
[20000,"2016-08-12","2000042594","2026-08-01","FY27 Q2"]
[21000,"2016-08-12","2100042594","2026-08-01","FY27 Q2"]
[24000,"2016-08-12","2400042594","2026-08-01","FY27 Q2"]
[30000,"2016-08-12","3000042594","2026-08-01","FY27 Q2"]
[34000,"2016-08-12","3400042594","2026-08-01","FY27 Q2"]
[15000,"2016-08-13","1500042595","2026-08-01","FY27 Q2"]
[19000,"2016-08-13","1900042595","2026-08-01","FY27 Q2"]
[20000,"2016-08-13","2000042595","2026-08-01","FY27 Q2"]
[21000,"2016-08-13","2100042595","2026-08-01","FY27 Q2"]
[24000,"2016-08-13","2400042595","2026-08-01","FY27 Q2"]
[30000,"2016-08-13","3000042595","2026-08-01","FY27 Q2"]
[34000,"2016-08-13","3400042595","2026-08-01","FY27 Q2"]
[15000,"2016-08-14","1500042596","2026-08-01","FY27 Q2"]
[19000,"2016-08-14","1900042596","2026-08-01","FY27 Q2"]
[20000,"2016-08-14","2000042596","2026-08-01","FY27 Q2"]
[21000,"2016-08-14","2100042596","2026-08-01","FY27 Q2"]
[24000,"2016-08-14","2400042596","2026-08-01","FY27 Q2"]
[30000,"2016-08-14","3000042596","2026-08-01","FY27 Q2"]
[34000,"2016-08-14","3400042596","2026-08-01","FY27 Q2"]
[15000,"2016-08-15","1500042597","2026-08-01","FY27 Q2"]
[19000,"2016-08-15","1900042597","2026-08-01","FY27 Q2"]
[20000,"2016-08-15","2000042597","2026-08-01","FY27 Q2"]
[21000,"2016-08-15","2100042597","2026-08-01","FY27 Q2"]
[24000,"2016-08-15","2400042597","2026-08-01","FY27 Q2"]
[30000,"2016-08-15","3000042597","2026-08-01","FY27 Q2"]
[34000,"2016-08-15","3400042597","2026-08-01","FY27 Q2"]
[15000,"2016-08-16","1500042598","2026-08-01","FY27 Q2"]
[19000,"2016-08-16","1900042598","2026-08-01","FY27 Q2"]
[20000,"2016-08-16","2000042598","2026-08-01","FY27 Q2"]
[21000,"2016-08-16","2100042598","2026-08-01","FY27 Q2"]
[24000,"2016-08-16","2400042598","2026-08-01","FY27 Q2"]
[30000,"2016-08-16",{"$f":"_xlfn.CONCAT(A1604,B1604)","v":"3000042598"},"2026-08-01","FY27 Q2"]
[34000,"2016-08-16","3400042598","2026-08-01","FY27 Q2"]
[15000,"2016-08-17","1500042599","2026-08-01","FY27 Q2"]
[19000,"2016-08-17","1900042599","2026-08-01","FY27 Q2"]
[20000,"2016-08-17","2000042599","2026-08-01","FY27 Q2"]
[21000,"2016-08-17","2100042599","2026-08-01","FY27 Q2"]
[24000,"2016-08-17","2400042599","2026-08-01","FY27 Q2"]
[30000,"2016-08-17","3000042599","2026-08-01","FY27 Q2"]
[34000,"2016-08-17","3400042599","2026-08-01","FY27 Q2"]
[15000,"2016-08-18","1500042600","2026-08-01","FY27 Q2"]
[19000,"2016-08-18","1900042600","2026-08-01","FY27 Q2"]
[20000,"2016-08-18","2000042600","2026-08-01","FY27 Q2"]
[21000,"2016-08-18","2100042600","2026-08-01","FY27 Q2"]
[24000,"2016-08-18","2400042600","2026-08-01","FY27 Q2"]
[30000,"2016-08-18","3000042600","2026-08-01","FY27 Q2"]
[34000,"2016-08-18","3400042600","2026-08-01","FY27 Q2"]
[15000,"2016-08-19","1500042601","2026-08-01","FY27 Q2"]
[19000,"2016-08-19","1900042601","2026-08-01","FY27 Q2"]
[20000,"2016-08-19","2000042601","2026-08-01","FY27 Q2"]
[21000,"2016-08-19","2100042601","2026-08-01","FY27 Q2"]
[24000,"2016-08-19","2400042601","2026-08-01","FY27 Q2"]
[30000,"2016-08-19","3000042601","2026-08-01","FY27 Q2"]
[34000,"2016-08-19","3400042601","2026-08-01","FY27 Q2"]
[15000,"2016-08-20","1500042602","2026-08-01","FY27 Q2"]
[19000,"2016-08-20","1900042602","2026-08-01","FY27 Q2"]
[20000,"2016-08-20","2000042602","2026-08-01","FY27 Q2"]
[21000,"2016-08-20","2100042602","2026-08-01","FY27 Q2"]
[24000,"2016-08-20","2400042602","2026-08-01","FY27 Q2"]
[30000,"2016-08-20","3000042602","2026-08-01","FY27 Q2"]
[34000,"2016-08-20","3400042602","2026-08-01","FY27 Q2"]
[15000,"2016-08-21","1500042603","2026-08-01","FY27 Q2"]
[19000,"2016-08-21","1900042603","2026-08-01","FY27 Q2"]
[20000,"2016-08-21","2000042603","2026-08-01","FY27 Q2"]
[21000,"2016-08-21","2100042603","2026-08-01","FY27 Q2"]
[24000,"2016-08-21","2400042603","2026-08-01","FY27 Q2"]
[30000,"2016-08-21","3000042603","2026-08-01","FY27 Q2"]
[34000,"2016-08-21","3400042603","2026-08-01","FY27 Q2"]
[15000,"2016-08-22","1500042604","2026-08-01","FY27 Q2"]
[19000,"2016-08-22","1900042604","2026-08-01","FY27 Q2"]
[20000,"2016-08-22","2000042604","2026-08-01","FY27 Q2"]
[21000,"2016-08-22","2100042604","2026-08-01","FY27 Q2"]
[24000,"2016-08-22","2400042604","2026-08-01","FY27 Q2"]
[30000,"2016-08-22","3000042604","2026-08-01","FY27 Q2"]
[34000,"2016-08-22","3400042604","2026-08-01","FY27 Q2"]
[15000,"2016-08-23","1500042605","2026-08-01","FY27 Q2"]
[19000,"2016-08-23","1900042605","2026-08-01","FY27 Q2"]
[20000,"2016-08-23","2000042605","2026-08-01","FY27 Q2"]
[21000,"2016-08-23","2100042605","2026-08-01","FY27 Q2"]
[24000,"2016-08-23","2400042605","2026-08-01","FY27 Q2"]
[30000,"2016-08-23","3000042605","2026-08-01","FY27 Q2"]
[34000,"2016-08-23","3400042605","2026-08-01","FY27 Q2"]
[15000,"2016-08-24","1500042606","2026-08-01","FY27 Q2"]
[19000,"2016-08-24","1900042606","2026-08-01","FY27 Q2"]
[20000,"2016-08-24","2000042606","2026-08-01","FY27 Q2"]
[21000,"2016-08-24","2100042606","2026-08-01","FY27 Q2"]
[24000,"2016-08-24","2400042606","2026-08-01","FY27 Q2"]
[30000,"2016-08-24","3000042606","2026-08-01","FY27 Q2"]
[34000,"2016-08-24","3400042606","2026-08-01","FY27 Q2"]
[15000,"2016-08-25","1500042607","2026-08-01","FY27 Q2"]
[19000,"2016-08-25","1900042607","2026-08-01","FY27 Q2"]
[20000,"2016-08-25","2000042607","2026-08-01","FY27 Q2"]
[21000,"2016-08-25","2100042607","2026-08-01","FY27 Q2"]
[24000,"2016-08-25","2400042607","2026-08-01","FY27 Q2"]
[30000,"2016-08-25","3000042607","2026-08-01","FY27 Q2"]
[34000,"2016-08-25",{"$f":"_xlfn.CONCAT(A1668,B1668)","v":"3400042607"},"2026-08-01","FY27 Q2"]
[15000,"2016-08-26","1500042608","2026-08-01","FY27 Q2"]
[19000,"2016-08-26","1900042608","2026-08-01","FY27 Q2"]
[20000,"2016-08-26","2000042608","2026-08-01","FY27 Q2"]
[21000,"2016-08-26","2100042608","2026-08-01","FY27 Q2"]
[24000,"2016-08-26","2400042608","2026-08-01","FY27 Q2"]
[30000,"2016-08-26","3000042608","2026-08-01","FY27 Q2"]
[34000,"2016-08-26","3400042608","2026-08-01","FY27 Q2"]
[15000,"2016-08-27","1500042609","2026-08-01","FY27 Q2"]
[19000,"2016-08-27","1900042609","2026-08-01","FY27 Q2"]
[20000,"2016-08-27","2000042609","2026-08-01","FY27 Q2"]
[21000,"2016-08-27","2100042609","2026-08-01","FY27 Q2"]
[24000,"2016-08-27","2400042609","2026-08-01","FY27 Q2"]
[30000,"2016-08-27","3000042609","2026-08-01","FY27 Q2"]
[34000,"2016-08-27","3400042609","2026-08-01","FY27 Q2"]
[15000,"2016-08-28","1500042610","2026-08-01","FY27 Q2"]
[19000,"2016-08-28","1900042610","2026-08-01","FY27 Q2"]
[20000,"2016-08-28","2000042610","2026-08-01","FY27 Q2"]
[21000,"2016-08-28","2100042610","2026-08-01","FY27 Q2"]
[24000,"2016-08-28","2400042610","2026-08-01","FY27 Q2"]
[30000,"2016-08-28","3000042610","2026-08-01","FY27 Q2"]
[34000,"2016-08-28","3400042610","2026-08-01","FY27 Q2"]
[15000,"2016-08-29","1500042611","2026-08-01","FY27 Q2"]
[19000,"2016-08-29","1900042611","2026-08-01","FY27 Q2"]
[20000,"2016-08-29","2000042611","2026-08-01","FY27 Q2"]
[21000,"2016-08-29","2100042611","2026-08-01","FY27 Q2"]
[24000,"2016-08-29","2400042611","2026-08-01","FY27 Q2"]
[30000,"2016-08-29","3000042611","2026-08-01","FY27 Q2"]
[34000,"2016-08-29","3400042611","2026-08-01","FY27 Q2"]
[15000,"2016-08-30","1500042612","2026-08-01","FY27 Q2"]
[19000,"2016-08-30","1900042612","2026-08-01","FY27 Q2"]
[20000,"2016-08-30","2000042612","2026-08-01","FY27 Q2"]
[21000,"2016-08-30","2100042612","2026-08-01","FY27 Q2"]
[24000,"2016-08-30","2400042612","2026-08-01","FY27 Q2"]
[30000,"2016-08-30","3000042612","2026-08-01","FY27 Q2"]
[34000,"2016-08-30","3400042612","2026-08-01","FY27 Q2"]
[15000,"2016-08-31","1500042613","2026-08-01","FY27 Q2"]
[19000,"2016-08-31","1900042613","2026-08-01","FY27 Q2"]
[20000,"2016-08-31","2000042613","2026-08-01","FY27 Q2"]
[21000,"2016-08-31","2100042613","2026-08-01","FY27 Q2"]
[24000,"2016-08-31","2400042613","2026-08-01","FY27 Q2"]
[30000,"2016-08-31","3000042613","2026-08-01","FY27 Q2"]
[34000,"2016-08-31","3400042613","2026-08-01","FY27 Q2"]
[15000,"2016-09-01","1500042614","2026-08-01","FY27 Q2"]
[19000,"2016-09-01","1900042614","2026-08-01","FY27 Q2"]
[20000,"2016-09-01","2000042614","2026-08-01","FY27 Q2"]
[21000,"2016-09-01","2100042614","2026-08-01","FY27 Q2"]
[24000,"2016-09-01","2400042614","2026-08-01","FY27 Q2"]
[30000,"2016-09-01","3000042614","2026-08-01","FY27 Q2"]
[34000,"2016-09-01","3400042614","2026-08-01","FY27 Q2"]
[15000,"2016-09-02","1500042615","2026-08-01","FY27 Q2"]
[19000,"2016-09-02","1900042615","2026-08-01","FY27 Q2"]
[20000,"2016-09-02","2000042615","2026-08-01","FY27 Q2"]
[21000,"2016-09-02","2100042615","2026-08-01","FY27 Q2"]
[24000,"2016-09-02","2400042615","2026-08-01","FY27 Q2"]
[30000,"2016-09-02","3000042615","2026-08-01","FY27 Q2"]
[34000,"2016-09-02","3400042615","2026-08-01","FY27 Q2"]
[15000,"2016-09-03","1500042616","2026-08-01","FY27 Q2"]
[19000,"2016-09-03","1900042616","2026-08-01","FY27 Q2"]
[20000,"2016-09-03","2000042616","2026-08-01","FY27 Q2"]
[21000,"2016-09-03","2100042616","2026-08-01","FY27 Q2"]
[24000,"2016-09-03","2400042616","2026-08-01","FY27 Q2"]
[30000,"2016-09-03","3000042616","2026-08-01","FY27 Q2"]
[34000,"2016-09-03","3400042616","2026-08-01","FY27 Q2"]
[15000,"2016-09-04",{"$f":"_xlfn.CONCAT(A1732,B1732)","v":"1500042617"},"2026-08-01","FY27 Q2"]
[19000,"2016-09-04","1900042617","2026-08-01","FY27 Q2"]
[20000,"2016-09-04","2000042617","2026-08-01","FY27 Q2"]
[21000,"2016-09-04","2100042617","2026-08-01","FY27 Q2"]
[24000,"2016-09-04","2400042617","2026-08-01","FY27 Q2"]
[30000,"2016-09-04","3000042617","2026-08-01","FY27 Q2"]
[34000,"2016-09-04","3400042617","2026-08-01","FY27 Q2"]
[15000,"2016-09-05","1500042618","2026-08-01","FY27 Q2"]
[19000,"2016-09-05","1900042618","2026-08-01","FY27 Q2"]
[20000,"2016-09-05","2000042618","2026-08-01","FY27 Q2"]
[21000,"2016-09-05","2100042618","2026-08-01","FY27 Q2"]
[24000,"2016-09-05","2400042618","2026-08-01","FY27 Q2"]
[30000,"2016-09-05","3000042618","2026-08-01","FY27 Q2"]
[34000,"2016-09-05","3400042618","2026-08-01","FY27 Q2"]
[15000,"2016-09-06","1500042619","2026-08-01","FY27 Q2"]
[19000,"2016-09-06","1900042619","2026-08-01","FY27 Q2"]
[20000,"2016-09-06","2000042619","2026-08-01","FY27 Q2"]
[21000,"2016-09-06","2100042619","2026-08-01","FY27 Q2"]
[24000,"2016-09-06","2400042619","2026-08-01","FY27 Q2"]
[30000,"2016-09-06","3000042619","2026-08-01","FY27 Q2"]
[34000,"2016-09-06","3400042619","2026-08-01","FY27 Q2"]
[15000,"2016-09-07","1500042620","2026-08-01","FY27 Q2"]
[19000,"2016-09-07","1900042620","2026-08-01","FY27 Q2"]
[20000,"2016-09-07","2000042620","2026-08-01","FY27 Q2"]
[21000,"2016-09-07","2100042620","2026-08-01","FY27 Q2"]
[24000,"2016-09-07","2400042620","2026-08-01","FY27 Q2"]
[30000,"2016-09-07","3000042620","2026-08-01","FY27 Q2"]
[34000,"2016-09-07","3400042620","2026-08-01","FY27 Q2"]
[15000,"2016-09-08","1500042621","2026-08-01","FY27 Q2"]
[19000,"2016-09-08","1900042621","2026-08-01","FY27 Q2"]
[20000,"2016-09-08","2000042621","2026-08-01","FY27 Q2"]
[21000,"2016-09-08","2100042621","2026-08-01","FY27 Q2"]
[24000,"2016-09-08","2400042621","2026-08-01","FY27 Q2"]
[30000,"2016-09-08","3000042621","2026-08-01","FY27 Q2"]
[34000,"2016-09-08","3400042621","2026-08-01","FY27 Q2"]
[15000,"2016-09-09","1500042622","2026-08-01","FY27 Q2"]
[19000,"2016-09-09","1900042622","2026-08-01","FY27 Q2"]
[20000,"2016-09-09","2000042622","2026-08-01","FY27 Q2"]
[21000,"2016-09-09","2100042622","2026-08-01","FY27 Q2"]
[24000,"2016-09-09","2400042622","2026-08-01","FY27 Q2"]
[30000,"2016-09-09","3000042622","2026-08-01","FY27 Q2"]
[34000,"2016-09-09","3400042622","2026-08-01","FY27 Q2"]
[15000,"2016-09-10","1500042623","2026-08-01","FY27 Q2"]
[19000,"2016-09-10","1900042623","2026-08-01","FY27 Q2"]
[20000,"2016-09-10","2000042623","2026-08-01","FY27 Q2"]
[21000,"2016-09-10","2100042623","2026-08-01","FY27 Q2"]
[24000,"2016-09-10","2400042623","2026-08-01","FY27 Q2"]
[30000,"2016-09-10","3000042623","2026-08-01","FY27 Q2"]
[34000,"2016-09-10","3400042623","2026-08-01","FY27 Q2"]
[15000,"2016-09-11","1500042624","2026-08-01","FY27 Q2"]
[19000,"2016-09-11","1900042624","2026-08-01","FY27 Q2"]
[20000,"2016-09-11","2000042624","2026-08-01","FY27 Q2"]
[21000,"2016-09-11","2100042624","2026-08-01","FY27 Q2"]
[24000,"2016-09-11","2400042624","2026-08-01","FY27 Q2"]
[30000,"2016-09-11","3000042624","2026-08-01","FY27 Q2"]
[34000,"2016-09-11","3400042624","2026-08-01","FY27 Q2"]
[15000,"2016-09-12","1500042625","2026-08-01","FY27 Q2"]
[19000,"2016-09-12","1900042625","2026-08-01","FY27 Q2"]
[20000,"2016-09-12","2000042625","2026-08-01","FY27 Q2"]
[21000,"2016-09-12","2100042625","2026-08-01","FY27 Q2"]
[24000,"2016-09-12","2400042625","2026-08-01","FY27 Q2"]
[30000,"2016-09-12","3000042625","2026-08-01","FY27 Q2"]
[34000,"2016-09-12","3400042625","2026-08-01","FY27 Q2"]
[15000,"2016-09-13","1500042626","2026-08-01","FY27 Q2"]
[19000,"2016-09-13",{"$f":"_xlfn.CONCAT(A1796,B1796)","v":"1900042626"},"2026-08-01","FY27 Q2"]
[20000,"2016-09-13","2000042626","2026-08-01","FY27 Q2"]
[21000,"2016-09-13","2100042626","2026-08-01","FY27 Q2"]
[24000,"2016-09-13","2400042626","2026-08-01","FY27 Q2"]
[30000,"2016-09-13","3000042626","2026-08-01","FY27 Q2"]
[34000,"2016-09-13","3400042626","2026-08-01","FY27 Q2"]
[15000,"2016-09-14","1500042627","2026-08-01","FY27 Q2"]
[19000,"2016-09-14","1900042627","2026-08-01","FY27 Q2"]
[20000,"2016-09-14","2000042627","2026-08-01","FY27 Q2"]
[21000,"2016-09-14","2100042627","2026-08-01","FY27 Q2"]
[24000,"2016-09-14","2400042627","2026-08-01","FY27 Q2"]
[30000,"2016-09-14","3000042627","2026-08-01","FY27 Q2"]
[34000,"2016-09-14","3400042627","2026-08-01","FY27 Q2"]
[15000,"2016-09-15","1500042628","2026-08-01","FY27 Q2"]
[19000,"2016-09-15","1900042628","2026-08-01","FY27 Q2"]
[20000,"2016-09-15","2000042628","2026-08-01","FY27 Q2"]
[21000,"2016-09-15","2100042628","2026-08-01","FY27 Q2"]
[24000,"2016-09-15","2400042628","2026-08-01","FY27 Q2"]
[30000,"2016-09-15","3000042628","2026-08-01","FY27 Q2"]
[34000,"2016-09-15","3400042628","2026-08-01","FY27 Q2"]
[15000,"2016-09-16","1500042629","2026-08-01","FY27 Q2"]
[19000,"2016-09-16","1900042629","2026-08-01","FY27 Q2"]
[20000,"2016-09-16","2000042629","2026-08-01","FY27 Q2"]
[21000,"2016-09-16","2100042629","2026-08-01","FY27 Q2"]
[24000,"2016-09-16","2400042629","2026-08-01","FY27 Q2"]
[30000,"2016-09-16","3000042629","2026-08-01","FY27 Q2"]
[34000,"2016-09-16","3400042629","2026-08-01","FY27 Q2"]
[15000,"2016-09-17","1500042630","2026-08-01","FY27 Q2"]
[19000,"2016-09-17","1900042630","2026-08-01","FY27 Q2"]
[20000,"2016-09-17","2000042630","2026-08-01","FY27 Q2"]
[21000,"2016-09-17","2100042630","2026-08-01","FY27 Q2"]
[24000,"2016-09-17","2400042630","2026-08-01","FY27 Q2"]
[30000,"2016-09-17","3000042630","2026-08-01","FY27 Q2"]
[34000,"2016-09-17","3400042630","2026-08-01","FY27 Q2"]
[15000,"2016-09-18","1500042631","2026-08-01","FY27 Q2"]
[19000,"2016-09-18","1900042631","2026-08-01","FY27 Q2"]
[20000,"2016-09-18","2000042631","2026-08-01","FY27 Q2"]
[21000,"2016-09-18","2100042631","2026-08-01","FY27 Q2"]
[24000,"2016-09-18","2400042631","2026-08-01","FY27 Q2"]
[30000,"2016-09-18","3000042631","2026-08-01","FY27 Q2"]
[34000,"2016-09-18","3400042631","2026-08-01","FY27 Q2"]
[15000,"2016-09-19","1500042632","2026-08-01","FY27 Q2"]
[19000,"2016-09-19","1900042632","2026-08-01","FY27 Q2"]
[20000,"2016-09-19","2000042632","2026-08-01","FY27 Q2"]
[21000,"2016-09-19","2100042632","2026-08-01","FY27 Q2"]
[24000,"2016-09-19","2400042632","2026-08-01","FY27 Q2"]
[30000,"2016-09-19","3000042632","2026-08-01","FY27 Q2"]
[34000,"2016-09-19","3400042632","2026-08-01","FY27 Q2"]
[15000,"2016-09-20","1500042633","2026-08-01","FY27 Q2"]
[19000,"2016-09-20","1900042633","2026-08-01","FY27 Q2"]
[20000,"2016-09-20","2000042633","2026-08-01","FY27 Q2"]
[21000,"2016-09-20","2100042633","2026-08-01","FY27 Q2"]
[24000,"2016-09-20","2400042633","2026-08-01","FY27 Q2"]
[30000,"2016-09-20","3000042633","2026-08-01","FY27 Q2"]
[34000,"2016-09-20","3400042633","2026-08-01","FY27 Q2"]
[15000,"2016-09-21","1500042634","2026-08-01","FY27 Q2"]
[19000,"2016-09-21","1900042634","2026-08-01","FY27 Q2"]
[20000,"2016-09-21","2000042634","2026-08-01","FY27 Q2"]
[21000,"2016-09-21","2100042634","2026-08-01","FY27 Q2"]
[24000,"2016-09-21","2400042634","2026-08-01","FY27 Q2"]
[30000,"2016-09-21","3000042634","2026-08-01","FY27 Q2"]
[34000,"2016-09-21","3400042634","2026-08-01","FY27 Q2"]
[15000,"2016-09-22","1500042635","2026-08-01","FY27 Q2"]
[19000,"2016-09-22","1900042635","2026-08-01","FY27 Q2"]
[20000,"2016-09-22",{"$f":"_xlfn.CONCAT(A1860,B1860)","v":"2000042635"},"2026-08-01","FY27 Q2"]
[21000,"2016-09-22","2100042635","2026-08-01","FY27 Q2"]
[24000,"2016-09-22","2400042635","2026-08-01","FY27 Q2"]
[30000,"2016-09-22","3000042635","2026-08-01","FY27 Q2"]
[34000,"2016-09-22","3400042635","2026-08-01","FY27 Q2"]
[15000,"2016-09-23","1500042636","2026-08-01","FY27 Q2"]
[19000,"2016-09-23","1900042636","2026-08-01","FY27 Q2"]
[20000,"2016-09-23","2000042636","2026-08-01","FY27 Q2"]
[21000,"2016-09-23","2100042636","2026-08-01","FY27 Q2"]
[24000,"2016-09-23","2400042636","2026-08-01","FY27 Q2"]
[30000,"2016-09-23","3000042636","2026-08-01","FY27 Q2"]
[34000,"2016-09-23","3400042636","2026-08-01","FY27 Q2"]
[15000,"2016-09-24","1500042637","2026-08-01","FY27 Q2"]
[19000,"2016-09-24","1900042637","2026-08-01","FY27 Q2"]
[20000,"2016-09-24","2000042637","2026-08-01","FY27 Q2"]
[21000,"2016-09-24","2100042637","2026-08-01","FY27 Q2"]
[24000,"2016-09-24","2400042637","2026-08-01","FY27 Q2"]
[30000,"2016-09-24","3000042637","2026-08-01","FY27 Q2"]
[34000,"2016-09-24","3400042637","2026-08-01","FY27 Q2"]
[15000,"2016-09-25","1500042638","2026-08-01","FY27 Q2"]
[19000,"2016-09-25","1900042638","2026-08-01","FY27 Q2"]
[20000,"2016-09-25","2000042638","2026-08-01","FY27 Q2"]
[21000,"2016-09-25","2100042638","2026-08-01","FY27 Q2"]
[24000,"2016-09-25","2400042638","2026-08-01","FY27 Q2"]
[30000,"2016-09-25","3000042638","2026-08-01","FY27 Q2"]
[34000,"2016-09-25","3400042638","2026-08-01","FY27 Q2"]
[15000,"2016-09-26","1500042639","2026-08-01","FY27 Q2"]
[19000,"2016-09-26","1900042639","2026-08-01","FY27 Q2"]
[20000,"2016-09-26","2000042639","2026-08-01","FY27 Q2"]
[21000,"2016-09-26","2100042639","2026-08-01","FY27 Q2"]
[24000,"2016-09-26","2400042639","2026-08-01","FY27 Q2"]
[30000,"2016-09-26","3000042639","2026-08-01","FY27 Q2"]
[34000,"2016-09-26","3400042639","2026-08-01","FY27 Q2"]
[15000,"2016-09-27","1500042640","2026-08-01","FY27 Q2"]
[19000,"2016-09-27","1900042640","2026-08-01","FY27 Q2"]
[20000,"2016-09-27","2000042640","2026-08-01","FY27 Q2"]
[21000,"2016-09-27","2100042640","2026-08-01","FY27 Q2"]
[24000,"2016-09-27","2400042640","2026-08-01","FY27 Q2"]
[30000,"2016-09-27","3000042640","2026-08-01","FY27 Q2"]
[34000,"2016-09-27","3400042640","2026-08-01","FY27 Q2"]
[15000,"2016-09-28","1500042641","2026-08-01","FY27 Q2"]
[19000,"2016-09-28","1900042641","2026-08-01","FY27 Q2"]
[20000,"2016-09-28","2000042641","2026-08-01","FY27 Q2"]
[21000,"2016-09-28","2100042641","2026-08-01","FY27 Q2"]
[24000,"2016-09-28","2400042641","2026-08-01","FY27 Q2"]
[30000,"2016-09-28","3000042641","2026-08-01","FY27 Q2"]
[34000,"2016-09-28","3400042641","2026-08-01","FY27 Q2"]
[15000,"2016-09-29","1500042642","2026-08-01","FY27 Q2"]
[19000,"2016-09-29","1900042642","2026-08-01","FY27 Q2"]
[20000,"2016-09-29","2000042642","2026-08-01","FY27 Q2"]
[21000,"2016-09-29","2100042642","2026-08-01","FY27 Q2"]
[24000,"2016-09-29","2400042642","2026-08-01","FY27 Q2"]
[30000,"2016-09-29","3000042642","2026-08-01","FY27 Q2"]
[34000,"2016-09-29","3400042642","2026-08-01","FY27 Q2"]
[15000,"2016-09-30","1500042643","2026-08-01","FY27 Q2"]
[19000,"2016-09-30","1900042643","2026-08-01","FY27 Q2"]
[20000,"2016-09-30","2000042643","2026-08-01","FY27 Q2"]
[21000,"2016-09-30","2100042643","2026-08-01","FY27 Q2"]
[24000,"2016-09-30","2400042643","2026-08-01","FY27 Q2"]
[30000,"2016-09-30","3000042643","2026-08-01","FY27 Q2"]
[34000,"2016-09-30","3400042643","2026-08-01","FY27 Q2"]
[15000,"2016-10-01","1500042644","2026-08-01","FY27 Q2"]
[19000,"2016-10-01","1900042644","2026-08-01","FY27 Q2"]
[20000,"2016-10-01","2000042644","2026-08-01","FY27 Q2"]
[21000,"2016-10-01",{"$f":"_xlfn.CONCAT(A1924,B1924)","v":"2100042644"},"2026-08-01","FY27 Q2"]
[24000,"2016-10-01","2400042644","2026-08-01","FY27 Q2"]
[30000,"2016-10-01","3000042644","2026-08-01","FY27 Q2"]
[34000,"2016-10-01","3400042644","2026-08-01","FY27 Q2"]
[15000,"2016-10-02","1500042645","2026-08-01","FY27 Q2"]
[19000,"2016-10-02","1900042645","2026-08-01","FY27 Q2"]
[20000,"2016-10-02","2000042645","2026-08-01","FY27 Q2"]
[21000,"2016-10-02","2100042645","2026-08-01","FY27 Q2"]
[24000,"2016-10-02","2400042645","2026-08-01","FY27 Q2"]
[30000,"2016-10-02","3000042645","2026-08-01","FY27 Q2"]
[34000,"2016-10-02","3400042645","2026-08-01","FY27 Q2"]
[15000,"2016-10-03","1500042646","2026-08-01","FY27 Q2"]
[19000,"2016-10-03","1900042646","2026-08-01","FY27 Q2"]
[20000,"2016-10-03","2000042646","2026-08-01","FY27 Q2"]
[21000,"2016-10-03","2100042646","2026-08-01","FY27 Q2"]
[24000,"2016-10-03","2400042646","2026-08-01","FY27 Q2"]
[30000,"2016-10-03","3000042646","2026-08-01","FY27 Q2"]
[34000,"2016-10-03","3400042646","2026-08-01","FY27 Q2"]
[15000,"2016-10-04","1500042647","2026-08-01","FY27 Q2"]
[19000,"2016-10-04","1900042647","2026-08-01","FY27 Q2"]
[20000,"2016-10-04","2000042647","2026-08-01","FY27 Q2"]
[21000,"2016-10-04","2100042647","2026-08-01","FY27 Q2"]
[24000,"2016-10-04","2400042647","2026-08-01","FY27 Q2"]
[30000,"2016-10-04","3000042647","2026-08-01","FY27 Q2"]
[34000,"2016-10-04","3400042647","2026-08-01","FY27 Q2"]
[15000,"2016-10-05","1500042648","2026-08-01","FY27 Q2"]
[19000,"2016-10-05","1900042648","2026-08-01","FY27 Q2"]
[20000,"2016-10-05","2000042648","2026-08-01","FY27 Q2"]
[21000,"2016-10-05","2100042648","2026-08-01","FY27 Q2"]
[24000,"2016-10-05","2400042648","2026-08-01","FY27 Q2"]
[30000,"2016-10-05","3000042648","2026-08-01","FY27 Q2"]
[34000,"2016-10-05","3400042648","2026-08-01","FY27 Q2"]
[15000,"2016-10-06","1500042649","2026-08-01","FY27 Q2"]
[19000,"2016-10-06","1900042649","2026-08-01","FY27 Q2"]
[20000,"2016-10-06","2000042649","2026-08-01","FY27 Q2"]
[21000,"2016-10-06","2100042649","2026-08-01","FY27 Q2"]
[24000,"2016-10-06","2400042649","2026-08-01","FY27 Q2"]
[30000,"2016-10-06","3000042649","2026-08-01","FY27 Q2"]
[34000,"2016-10-06","3400042649","2026-08-01","FY27 Q2"]
[15000,"2016-10-07","1500042650","2026-08-01","FY27 Q2"]
[19000,"2016-10-07","1900042650","2026-08-01","FY27 Q2"]
[20000,"2016-10-07","2000042650","2026-08-01","FY27 Q2"]
[21000,"2016-10-07","2100042650","2026-08-01","FY27 Q2"]
[24000,"2016-10-07","2400042650","2026-08-01","FY27 Q2"]
[30000,"2016-10-07","3000042650","2026-08-01","FY27 Q2"]
[34000,"2016-10-07","3400042650","2026-08-01","FY27 Q2"]
[15000,"2016-10-08","1500042651","2026-08-01","FY27 Q2"]
[19000,"2016-10-08","1900042651","2026-08-01","FY27 Q2"]
[20000,"2016-10-08","2000042651","2026-08-01","FY27 Q2"]
[21000,"2016-10-08","2100042651","2026-08-01","FY27 Q2"]
[24000,"2016-10-08","2400042651","2026-08-01","FY27 Q2"]
[30000,"2016-10-08","3000042651","2026-08-01","FY27 Q2"]
[34000,"2016-10-08","3400042651","2026-08-01","FY27 Q2"]
[15000,"2016-10-09","1500042652","2026-08-01","FY27 Q2"]
[19000,"2016-10-09","1900042652","2026-08-01","FY27 Q2"]
[20000,"2016-10-09","2000042652","2026-08-01","FY27 Q2"]
[21000,"2016-10-09","2100042652","2026-08-01","FY27 Q2"]
[24000,"2016-10-09","2400042652","2026-08-01","FY27 Q2"]
[30000,"2016-10-09","3000042652","2026-08-01","FY27 Q2"]
[34000,"2016-10-09","3400042652","2026-08-01","FY27 Q2"]
[15000,"2016-10-10","1500042653","2026-08-01","FY27 Q2"]
[19000,"2016-10-10","1900042653","2026-08-01","FY27 Q2"]
[20000,"2016-10-10","2000042653","2026-08-01","FY27 Q2"]
[21000,"2016-10-10","2100042653","2026-08-01","FY27 Q2"]
[24000,"2016-10-10",{"$f":"_xlfn.CONCAT(A1988,B1988)","v":"2400042653"},"2026-08-01","FY27 Q2"]
[30000,"2016-10-10","3000042653","2026-08-01","FY27 Q2"]
[34000,"2016-10-10","3400042653","2026-08-01","FY27 Q2"]
[15000,"2016-10-11","1500042654","2026-08-01","FY27 Q2"]
[19000,"2016-10-11","1900042654","2026-08-01","FY27 Q2"]
[20000,"2016-10-11","2000042654","2026-08-01","FY27 Q2"]
[21000,"2016-10-11","2100042654","2026-08-01","FY27 Q2"]
[24000,"2016-10-11","2400042654","2026-08-01","FY27 Q2"]
[30000,"2016-10-11","3000042654","2026-08-01","FY27 Q2"]
[34000,"2016-10-11","3400042654","2026-08-01","FY27 Q2"]
[15000,"2016-10-12","1500042655","2026-08-01","FY27 Q2"]
[19000,"2016-10-12","1900042655","2026-08-01","FY27 Q2"]
[20000,"2016-10-12","2000042655","2026-08-01","FY27 Q2"]
[15000,"2016-10-14","1500042657","2026-08-01","FY27 Q2"]
[30000,"2016-10-14","3000042657","2026-08-01","FY27 Q2"]
[24000,"2016-10-16","2400042659","2026-08-01","FY27 Q2"]
[30000,"2016-10-19",{"$f":"_xlfn.CONCAT(A2052,B2052)","v":"3000042662"},"2026-08-01","FY27 Q2"]
[34000,"2016-10-20","3400042663","2026-08-01","FY27 Q2"]
[19000,"2016-10-24","1900042667","2026-08-01","FY27 Q2"]
[19000,"2016-10-25","1900042668","2026-08-01","FY27 Q2"]
[19000,"2016-10-27","1900042670","2026-08-01","FY27 Q2"]
[34000,"2016-10-29","3400042672","2026-08-01","FY27 Q2"]
[21000,"2016-10-31","2100042674","2026-08-01","FY27 Q2"]
[20000,"2016-11-03","2000042677","2026-08-01","FY27 Q2"]
[30000,"2016-11-04","3000042678","2026-08-01","FY27 Q2"]
[20000,"2016-11-06","2000042680","2026-08-01","FY27 Q2"]
[34000,"2016-11-08","3400042682","2026-08-01","FY27 Q2"]
[20000,"2016-11-11","2000042685","2026-08-01","FY27 Q2"]
[19000,"2016-11-13","1900042687","2026-08-01","FY27 Q2"]
[20000,"2016-11-16","2000042690","2026-08-01","FY27 Q2"]
[21000,"2016-11-16","2100042690","2026-08-01","FY27 Q2"]
[21000,"2016-11-19","2100042693","2026-08-01","FY27 Q2"]
[21000,"2016-11-21","2100042695","2026-08-01","FY27 Q2"]
[30000,"2016-11-23","3000042697","2026-08-01","FY27 Q2"]
[21000,"2016-11-26","2100042700","2026-08-01","FY27 Q2"]
[15000,"2016-11-28","1500042702","2026-08-01","FY27 Q2"]
[34000,"2016-11-28","3400042702","2026-08-01","FY27 Q2"]
[20000,"2016-12-02","2000042706","2026-08-01","FY27 Q2"]
[34000,"2016-12-03","3400042707","2026-08-01","FY27 Q2"]
[15000,"2016-12-06","1500042710","2026-08-01","FY27 Q2"]
[24000,"2016-12-08","2400042712","2026-08-01","FY27 Q2"]
[15000,"2016-12-11","1500042715","2026-08-01","FY27 Q2"]
[34000,"2016-12-12","3400042716","2026-08-01","FY27 Q2"]
[15000,"2016-12-14","1500042718","2026-08-01","FY27 Q2"]
[15000,"2016-12-17","1500042721","2026-08-01","FY27 Q2"]
[15000,"2016-12-19","1500042723","2026-08-01","FY27 Q2"]
[20000,"2016-12-21","2000042725","2026-08-01","FY27 Q2"]
[21000,"2016-12-23","2100042727","2026-08-01","FY27 Q2"]
[19000,"2016-12-24","1900042728","2026-08-01","FY27 Q2"]
[24000,"2016-12-27","2400042731","2026-08-01","FY27 Q2"]
[19000,"2016-12-29","1900042733","2026-08-01","FY27 Q2"]
[30000,"2016-12-29","3000042733","2026-08-01","FY27 Q2"]
[24000,"2017-01-02","2400042737","2026-08-01","FY27 Q2"]
[15000,"2017-01-03","1500042738","2026-08-01","FY27 Q2"]
[24000,"2017-01-05","2400042740","2026-08-01","FY27 Q2"]
[20000,"2017-01-07","2000042742","2026-08-01","FY27 Q2"]
[24000,"2017-01-10","2400042745","2026-08-01","FY27 Q2"]
[30000,"2017-01-12","3000042747","2026-08-01","FY27 Q2"]
[24000,"2017-01-13","2400042748","2026-08-01","FY27 Q2"]
[30000,"2017-01-15","3000042750","2026-08-01","FY27 Q2"]
[30000,"2017-01-17","3000042752","2026-08-01","FY27 Q2"]
[30000,"2017-01-20","3000042755","2026-08-01","FY27 Q2"]
[15000,"2017-01-22","1500042757","2026-08-01","FY27 Q2"]
[30000,"2017-01-23","3000042758","2026-08-01","FY27 Q2"]
[20000,"2017-01-26","2000042761","2026-08-01","FY27 Q2"]
[19000,"2017-01-28","1900042763","2026-08-01","FY27 Q2"]
[34000,"2017-01-30","3400042765","2026-08-01","FY27 Q2"]
[24000,"2017-02-01","2400042767","2026-08-01","FY27 Q2"]
[34000,"2017-02-02","3400042768","2026-08-01","FY27 Q2"]
[34000,"2017-02-05","3400042771","2026-08-01","FY27 Q2"]
[20000,"2017-02-07","2000042773","2026-08-01","FY27 Q2"]
[19000,"2017-02-10","1900042776","2026-08-01","FY27 Q2"]
[20000,"2017-02-12","2000042778","2026-08-01","FY27 Q2"]
[20000,"2017-02-14","2000042780","2026-08-01","FY27 Q2"]
[20000,"2017-02-15","2000042781","2026-08-01","FY27 Q2"]
[21000,"2017-02-17","2100042783","2026-08-01","FY27 Q2"]
[30000,"2017-02-20","3000042786","2026-08-01","FY27 Q2"]
[21000,"2017-02-22","2100042788","2026-08-01","FY27 Q2"]
[34000,"2017-02-24","3400042790","2026-08-01","FY27 Q2"]
[21000,"2017-02-27","2100042793","2026-08-01","FY27 Q2"]
[19000,"2017-03-01","1900042795","2026-08-01","FY27 Q2"]
[34000,"2017-03-01","3400042795","2026-08-01","FY27 Q2"]
[21000,"2017-03-05","2100042799","2026-08-01","FY27 Q2"]
[34000,"2017-03-06","3400042800","2026-08-01","FY27 Q2"]
[24000,"2017-03-09","2400042803","2026-08-01","FY27 Q2"]
[30000,"2017-03-11","3000042805","2026-08-01","FY27 Q2"]
[15000,"2017-03-12","1500042806","2026-08-01","FY27 Q2"]
[15000,"2017-03-16","1500042810","2026-08-01","FY27 Q2"]
[15000,"2017-03-17","1500042811","2026-08-01","FY27 Q2"]
[19000,"2017-03-18","1900042812","2026-08-01","FY27 Q2"]
[15000,"2017-03-22","1500042816","2026-08-01","FY27 Q2"]
[20000,"2017-03-22","2000042816","2026-08-01","FY27 Q2"]
[15000,"2017-03-25","1500042819","2026-08-01","FY27 Q2"]
[19000,"2017-03-27","1900042821","2026-08-01","FY27 Q2"]
[24000,"2017-03-28","2400042822","2026-08-01","FY27 Q2"]
[19000,"2017-04-01","1900042826","2026-08-01","FY27 Q2"]
[34000,"2017-04-01","3400042826","2026-08-01","FY27 Q2"]
[19000,"2017-04-04","1900042829","2026-08-01","FY27 Q2"]
[19000,"2017-04-06","1900042831","2026-08-01","FY27 Q2"]
[24000,"2017-04-08","2400042833","2026-08-01","FY27 Q2"]
[21000,"2017-04-10","2100042835","2026-08-01","FY27 Q2"]
[24000,"2017-04-13","2400042838","2026-08-01","FY27 Q2"]
[30000,"2017-04-15","3000042840","2026-08-01","FY27 Q2"]
[30000,"2017-04-16","3000042841","2026-08-01","FY27 Q2"]
[30000,"2017-04-18","3000042843","2026-08-01","FY27 Q2"]
[15000,"2017-04-21","1500042846","2026-08-01","FY27 Q2"]
[30000,"2017-04-23","3000042848","2026-08-01","FY27 Q2"]
[19000,"2017-04-25","1900042850","2026-08-01","FY27 Q2"]
[30000,"2017-04-26","3000042851","2026-08-01","FY27 Q2"]
[21000,"2017-04-29","2100042854","2026-08-01","FY27 Q2"]
[30000,"2017-05-01","3000042856","2026-08-01","FY27 Q2"]
[34000,"2017-05-03","3400042858","2026-08-01","FY27 Q2"]
[30000,"2017-05-05","3000042860","2026-08-01","FY27 Q2"]
[34000,"2017-05-06","3400042861","2026-08-01","FY27 Q2"]
[15000,"2017-05-10","1500042865","2026-08-01","FY27 Q2"]
[20000,"2017-05-11","2000042866","2026-08-01","FY27 Q2"]
[20000,"2017-05-14","2000042869","2026-08-01","FY27 Q2"]
[20000,"2017-05-16","2000042871","2026-08-01","FY27 Q2"]
[24000,"2017-05-18","2400042873","2026-08-01","FY27 Q2"]
[20000,"2017-05-19","2000042874","2026-08-01","FY27 Q2"]
[21000,"2017-05-21","2100042876","2026-08-01","FY27 Q2"]
[34000,"2017-05-24","3400042879","2026-08-01","FY27 Q2"]
[21000,"2017-05-26","2100042881","2026-08-01","FY27 Q2"]
[19000,"2017-05-29","1900042884","2026-08-01","FY27 Q2"]
[21000,"2017-05-29","2100042884","2026-08-01","FY27 Q2"]
[20000,"2017-06-02","2000042888","2026-08-01","FY27 Q2"]
[21000,"2017-06-03","2100042889","2026-08-01","FY27 Q2"]
[24000,"2017-06-06","2400042892","2026-08-01","FY27 Q2"]
[34000,"2017-06-07","3400042893","2026-08-01","FY27 Q2"]
[24000,"2017-06-10","2400042896","2026-08-01","FY27 Q2"]
[30000,"2017-06-10","3000042896","2026-08-01","FY27 Q2"]
[24000,"2017-06-13","2400042899","2026-08-01","FY27 Q2"]
[15000,"2017-06-15","1500042901","2026-08-01","FY27 Q2"]
[15000,"2017-06-18","1500042904","2026-08-01","FY27 Q2"]
[20000,"2017-06-19","2000042905","2026-08-01","FY27 Q2"]
[15000,"2017-06-23","1500042909","2026-08-01","FY27 Q2"]
[19000,"2017-06-23","1900042909","2026-08-01","FY27 Q2"]
[24000,"2017-06-25","2400042911","2026-08-01","FY27 Q2"]
[19000,"2017-06-28","1900042914","2026-08-01","FY27 Q2"]
[34000,"2017-06-29","3400042915","2026-08-01","FY27 Q2"]
[19000,"2017-07-03","1900042919","2026-08-01","FY27 Q2"]
[15000,"2017-07-04","1500042920","2026-08-01","FY27 Q2"]
[19000,"2017-07-06","1900042922","2026-08-01","FY27 Q2"]
[20000,"2017-07-08","2000042924","2026-08-01","FY27 Q2"]
[19000,"2017-07-11","1900042927","2026-08-01","FY27 Q2"]
[20000,"2017-07-13","2000042929","2026-08-01","FY27 Q2"]
[24000,"2017-07-14","2400042930","2026-08-01","FY27 Q2"]
[20000,"2017-07-16","2000042932","2026-08-01","FY27 Q2"]
[34000,"2017-07-18","3400042934","2026-08-01","FY27 Q2"]
[30000,"2017-07-20","3000042936","2026-08-01","FY27 Q2"]
[19000,"2017-07-23","1900042939","2026-08-01","FY27 Q2"]
[30000,"2017-07-25","3000042941","2026-08-01","FY27 Q2"]
[21000,"2017-07-27","2100042943","2026-08-01","FY27 Q2"]
[30000,"2017-07-28","3000042944","2026-08-01","FY27 Q2"]
[34000,"2017-07-30","3400042946","2026-08-01","FY27 Q2"]
[30000,"2017-08-02","3000042949","2026-08-01","FY27 Q2"]
[34000,"2017-08-04","3400042951","2026-08-01","FY27 Q2"]
[15000,"2017-08-07","1500042954","2026-08-01","FY27 Q2"]
[34000,"2017-08-07","3400042954","2026-08-01","FY27 Q2"]
[19000,"2017-08-11","1900042958","2026-08-01","FY27 Q2"]
[34000,"2017-08-12","3400042959","2026-08-01","FY27 Q2"]
[21000,"2017-08-15","2100042962","2026-08-01","FY27 Q2"]
[20000,"2017-08-17","2000042964","2026-08-01","FY27 Q2"]
[15000,"2017-08-18","1500042965","2026-08-01","FY27 Q2"]
[30000,"2017-08-21","3000042968","2026-08-01","FY27 Q2"]
[15000,"2017-08-23","1500042970","2026-08-01","FY27 Q2"]
[15000,"2017-08-26","1500042973","2026-08-01","FY27 Q2"]
[21000,"2017-08-27","2100042974","2026-08-01","FY27 Q2"]
[19000,"2017-08-28","1900042975","2026-08-01","FY27 Q2"]
[21000,"2017-08-30","2100042977","2026-08-01","FY27 Q2"]
[20000,"2017-09-01","2000042979","2026-08-01","FY27 Q2"]
[21000,"2017-09-04","2100042982","2026-08-01","FY27 Q2"]
[24000,"2017-09-06","2400042984","2026-08-01","FY27 Q2"]
[30000,"2017-09-07","3000042985","2026-08-01","FY27 Q2"]
[24000,"2017-09-09","2400042987","2026-08-01","FY27 Q2"]
[34000,"2017-09-11","3400042989","2026-08-01","FY27 Q2"]
[24000,"2017-09-14","2400042992","2026-08-01","FY27 Q2"]
[19000,"2017-09-16","1900042994","2026-08-01","FY27 Q2"]
[24000,"2017-09-19","2400042997","2026-08-01","FY27 Q2"]
[21000,"2017-09-20","2100042998","2026-08-01","FY27 Q2"]
[15000,"2017-09-22","1500043000","2026-08-01","FY27 Q2"]
[30000,"2017-09-24","3000043002","2026-08-01","FY27 Q2"]
[30000,"2017-09-26","3000043004","2026-08-01","FY27 Q2"]
[19000,"2017-09-29","1900043007","2026-08-01","FY27 Q2"]
[15000,"2017-10-01","1500043009","2026-08-01","FY27 Q2"]
[19000,"2017-10-04","1900043012","2026-08-01","FY27 Q2"]
[20000,"2017-10-05","2000043013","2026-08-01","FY27 Q2"]
[19000,"2017-10-07","1900043015","2026-08-01","FY27 Q2"]
[21000,"2017-10-09","2100043017","2026-08-01","FY27 Q2"]
[19000,"2017-10-12","1900043020","2026-08-01","FY27 Q2"]
[20000,"2017-10-14","2000043022","2026-08-01","FY27 Q2"]
[30000,"2017-10-15","3000043023","2026-08-01","FY27 Q2"]
[20000,"2017-10-17","2000043025","2026-08-01","FY27 Q2"]
[15000,"2017-10-20","1500043028","2026-08-01","FY27 Q2"]
[20000,"2017-10-22","2000043030","2026-08-01","FY27 Q2"]
[20000,"2017-10-24","2000043032","2026-08-01","FY27 Q2"]
[30000,"2017-10-26","3000043034","2026-08-01","FY27 Q2"]
[24000,"2017-10-28","2400043036","2026-08-01","FY27 Q2"]
[30000,"2017-10-29","3000043037","2026-08-01","FY27 Q2"]
[21000,"2017-11-01","2100043040","2026-08-01","FY27 Q2"]
[34000,"2017-11-03","3400043042","2026-08-01","FY27 Q2"]
[34000,"2017-11-05","3400043044","2026-08-01","FY27 Q2"]
[19000,"2017-11-08","1900043047","2026-08-01","FY27 Q2"]
[34000,"2017-11-08","3400043047","2026-08-01","FY27 Q2"]
[20000,"2017-11-12","2000043051","2026-08-01","FY27 Q2"]
[34000,"2017-11-13","3400043052","2026-08-01","FY27 Q2"]
[24000,"2017-11-16","2400043055","2026-08-01","FY27 Q2"]
[34000,"2017-11-16",{"$f":"_xlfn.CONCAT(A4804,B4804)","v":"3400043055"},"2026-08-01","FY27 Q2"]
[15000,"2017-11-19","1500043058","2026-08-01","FY27 Q2"]
[30000,"2017-11-20","3000043059","2026-08-01","FY27 Q2"]
[15000,"2017-11-24","1500043063","2026-08-01","FY27 Q2"]
[15000,"2017-11-25","1500043064","2026-08-01","FY27 Q2"]
[15000,"2017-11-27","1500043066","2026-08-01","FY27 Q2"]
[20000,"2017-11-29","2000043068","2026-08-01","FY27 Q2"]
[21000,"2017-12-01","2100043070","2026-08-01","FY27 Q2"]
[24000,"2017-12-03","2400043072","2026-08-01","FY27 Q2"]
[21000,"2017-12-06","2100043075","2026-08-01","FY27 Q2"]
[24000,"2017-12-08","2400043077","2026-08-01","FY27 Q2"]
[34000,"2017-12-09","3400043078","2026-08-01","FY27 Q2"]
[24000,"2017-12-11","2400043080","2026-08-01","FY27 Q2"]
[19000,"2017-12-14","1900043083","2026-08-01","FY27 Q2"]
[24000,"2017-12-16","2400043085","2026-08-01","FY27 Q2"]
[20000,"2017-12-18","2000043087","2026-08-01","FY27 Q2"]
[24000,"2017-12-21","2400043090","2026-08-01","FY27 Q2"]
[24000,"2017-12-22","2400043091","2026-08-01","FY27 Q2"]
[15000,"2017-12-24","1500043093","2026-08-01","FY27 Q2"]
[30000,"2017-12-26","3000043095","2026-08-01","FY27 Q2"]
[34000,"2017-12-28","3400043097","2026-08-01","FY27 Q2"]
[30000,"2017-12-31","3000043100","2026-08-01","FY27 Q2"]
[19000,"2018-01-02","1900043102","2026-08-01","FY27 Q2"]
[19000,"2018-01-03","1900043103","2026-08-01","FY27 Q2"]
[21000,"2018-01-06","2100043106","2026-08-01","FY27 Q2"]
[19000,"2018-01-08","1900043108","2026-08-01","FY27 Q2"]
[30000,"2018-01-10",{"$f":"_xlfn.CONCAT(A5188,B5188)","v":"3000043110"},"2026-08-01","FY27 Q2"]
[19000,"2018-01-13","1900043113","2026-08-01","FY27 Q2"]
[20000,"2018-01-15","2000043115","2026-08-01","FY27 Q2"]
[15000,"2018-01-17","1500043117","2026-08-01","FY27 Q2"]
[20000,"2018-01-18","2000043118","2026-08-01","FY27 Q2"]
[19000,"2018-01-21","1900043121","2026-08-01","FY27 Q2"]
[20000,"2018-01-23","2000043123","2026-08-01","FY27 Q2"]
[21000,"2018-01-25","2100043125","2026-08-01","FY27 Q2"]
[20000,"2018-01-26","2000043126","2026-08-01","FY27 Q2"]
[30000,"2018-01-29","3000043129","2026-08-01","FY27 Q2"]
[30000,"2018-01-30","3000043130","2026-08-01","FY27 Q2"]
[21000,"2018-02-02","2100043133","2026-08-01","FY27 Q2"]
[15000,"2018-02-05","1500043136","2026-08-01","FY27 Q2"]
[34000,"2018-02-06","3400043137","2026-08-01","FY27 Q2"]
[19000,"2018-02-07",{"$f":"_xlfn.CONCAT(A5380,B5380)","v":"1900043138"},"2026-08-01","FY27 Q2"]
[34000,"2018-02-09","3400043140","2026-08-01","FY27 Q2"]
[21000,"2018-02-11","2100043142","2026-08-01","FY27 Q2"]
[34000,"2018-02-14","3400043145","2026-08-01","FY27 Q2"]
[15000,"2018-02-17","1500043148","2026-08-01","FY27 Q2"]
[30000,"2018-02-17","3000043148","2026-08-01","FY27 Q2"]
[15000,"2018-02-20","1500043151","2026-08-01","FY27 Q2"]
[15000,"2018-02-22","1500043153","2026-08-01","FY27 Q2"]
[15000,"2018-02-25","1500043156","2026-08-01","FY27 Q2"]
[19000,"2018-02-26","1900043157","2026-08-01","FY27 Q2"]
[15000,"2018-02-28","1500043159","2026-08-01","FY27 Q2"]
[21000,"2018-03-02","2100043161","2026-08-01","FY27 Q2"]
[21000,"2018-03-04","2100043163","2026-08-01","FY27 Q2"]
[19000,"2018-03-07","1900043166","2026-08-01","FY27 Q2"]
[30000,"2018-03-08","3000043167","2026-08-01","FY27 Q2"]
[19000,"2018-03-10","1900043169","2026-08-01","FY27 Q2"]
[15000,"2018-03-13","1500043172","2026-08-01","FY27 Q2"]
[24000,"2018-03-14","2400043173","2026-08-01","FY27 Q2"]
[20000,"2018-03-17","2000043176","2026-08-01","FY27 Q2"]
[24000,"2018-03-19","2400043178","2026-08-01","FY27 Q2"]
[24000,"2018-03-21","2400043180","2026-08-01","FY27 Q2"]
[24000,"2018-03-22","2400043181","2026-08-01","FY27 Q2"]
[30000,"2018-03-24","3000043183","2026-08-01","FY27 Q2"]
[34000,"2018-03-27","3400043186","2026-08-01","FY27 Q2"]
[30000,"2018-03-29","3000043188","2026-08-01","FY27 Q2"]
[15000,"2018-04-01","1500043191","2026-08-01","FY27 Q2"]
[30000,"2018-04-03","3000043193","2026-08-01","FY27 Q2"]
[20000,"2018-04-05","2000043195","2026-08-01","FY27 Q2"]
[30000,"2018-04-06","3000043196","2026-08-01","FY27 Q2"]
[24000,"2018-04-09","2400043199","2026-08-01","FY27 Q2"]
[19000,"2018-04-11","1900043201","2026-08-01","FY27 Q2"]
[34000,"2018-04-13","3400043203","2026-08-01","FY27 Q2"]
[34000,"2018-04-15","3400043205","2026-08-01","FY27 Q2"]
[20000,"2018-04-16","2000043206","2026-08-01","FY27 Q2"]
[19000,"2018-04-20","1900043210","2026-08-01","FY27 Q2"]
[20000,"2018-04-21",{"$f":"_xlfn.CONCAT(A5892,B5892)","v":"2000043211"},"2026-08-01","FY27 Q2"]
[21000,"2018-04-24","2100043214","2026-08-01","FY27 Q2"]
[20000,"2018-04-26","2000043216","2026-08-01","FY27 Q2"]
[24000,"2018-04-28","2400043218","2026-08-01","FY27 Q2"]
[20000,"2018-04-29","2000043219","2026-08-01","FY27 Q2"]
[21000,"2018-05-01","2100043221","2026-08-01","FY27 Q2"]
[34000,"2018-05-02","3400043222","2026-08-01","FY27 Q2"]
[21000,"2018-05-06","2100043226","2026-08-01","FY27 Q2"]
[15000,"2018-05-07","1500043227","2026-08-01","FY27 Q2"]
[21000,"2018-05-09","2100043229","2026-08-01","FY27 Q2"]
[20000,"2018-05-11","2000043231","2026-08-01","FY27 Q2"]
[34000,"2018-05-13","3400043233","2026-08-01","FY27 Q2"]
[24000,"2018-05-15","2400043235","2026-08-01","FY27 Q2"]
[34000,"2018-05-18","3400043238","2026-08-01","FY27 Q2"]
[24000,"2018-05-19","2400043239","2026-08-01","FY27 Q2"]
[34000,"2018-05-21","3400043241","2026-08-01","FY27 Q2"]
[15000,"2018-05-24","1500043244","2026-08-01","FY27 Q2"]
[19000,"2018-05-26","1900043246","2026-08-01","FY27 Q2"]
[15000,"2018-05-29","1500043249","2026-08-01","FY27 Q2"]
[21000,"2018-05-30","2100043250","2026-08-01","FY27 Q2"]
[15000,"2018-06-01","1500043252","2026-08-01","FY27 Q2"]
[24000,"2018-06-03","2400043254","2026-08-01","FY27 Q2"]
[15000,"2018-06-06",{"$f":"_xlfn.CONCAT(A6212,B6212)","v":"1500043257"},"2026-08-01","FY27 Q2"]
[19000,"2018-06-08","1900043259","2026-08-01","FY27 Q2"]
[34000,"2018-06-09","3400043260","2026-08-01","FY27 Q2"]
[19000,"2018-06-11","1900043262","2026-08-01","FY27 Q2"]
[19000,"2018-06-14","1900043265","2026-08-01","FY27 Q2"]
[19000,"2018-06-16","1900043267","2026-08-01","FY27 Q2"]
[21000,"2018-06-18","2100043269","2026-08-01","FY27 Q2"]
[24000,"2018-06-20","2400043271","2026-08-01","FY27 Q2"]
[30000,"2018-06-22","3000043273","2026-08-01","FY27 Q2"]
[24000,"2018-06-23","2400043274","2026-08-01","FY27 Q2"]
[30000,"2018-06-25","3000043276","2026-08-01","FY27 Q2"]
[15000,"2018-06-29","1500043280","2026-08-01","FY27 Q2"]
[30000,"2018-06-30","3000043281","2026-08-01","FY27 Q2"]
[20000,"2018-07-03","2000043284","2026-08-01","FY27 Q2"]
[30000,"2018-07-03","3000043284","2026-08-01","FY27 Q2"]
[21000,"2018-07-07","2100043288","2026-08-01","FY27 Q2"]
[30000,"2018-07-08","3000043289","2026-08-01","FY27 Q2"]
[30000,"2018-07-11","3000043292","2026-08-01","FY27 Q2"]
[30000,"2018-07-13","3000043294","2026-08-01","FY27 Q2"]
[34000,"2018-07-15","3400043296","2026-08-01","FY27 Q2"]
[15000,"2018-07-18","1500043299","2026-08-01","FY27 Q2"]
[34000,"2018-07-18","3400043299","2026-08-01","FY27 Q2"]
[19000,"2018-07-20","1900043301","2026-08-01","FY27 Q2"]
[20000,"2018-07-23","2000043304","2026-08-01","FY27 Q2"]
[21000,"2018-07-24","2100043305","2026-08-01","FY27 Q2"]
[20000,"2018-07-28","2000043309","2026-08-01","FY27 Q2"]
[30000,"2018-07-28","3000043309","2026-08-01","FY27 Q2"]
[20000,"2018-07-31","2000043312","2026-08-01","FY27 Q2"]
[21000,"2018-08-02","2100043314","2026-08-01","FY27 Q2"]
[15000,"2018-08-04","1500043316","2026-08-01","FY27 Q2"]
[21000,"2018-08-07","2100043319","2026-08-01","FY27 Q2"]
[19000,"2018-08-08","1900043320","2026-08-01","FY27 Q2"]
[21000,"2018-08-10","2100043322","2026-08-01","FY27 Q2"]
[21000,"2018-08-12","2100043324","2026-08-01","FY27 Q2"]
[21000,"2018-08-15","2100043327","2026-08-01","FY27 Q2"]
[30000,"2018-08-16","3000043328","2026-08-01","FY27 Q2"]
[34000,"2018-08-19","3400043331","2026-08-01","FY27 Q2"]
[24000,"2018-08-20","2400043332","2026-08-01","FY27 Q2"]
[15000,"2018-08-23","1500043335","2026-08-01","FY27 Q2"]
[24000,"2018-08-25","2400043337","2026-08-01","FY27 Q2"]
[20000,"2018-08-27",{"$f":"_xlfn.CONCAT(A6788,B6788)","v":"2000043339"},"2026-08-01","FY27 Q2"]
[15000,"2018-08-30","1500043342","2026-08-01","FY27 Q2"]
[24000,"2018-08-31","2400043343","2026-08-01","FY27 Q2"]
[15000,"2018-09-02","1500043345","2026-08-01","FY27 Q2"]
[30000,"2018-09-04","3000043347","2026-08-01","FY27 Q2"]
[15000,"2018-09-07","1500043350","2026-08-01","FY27 Q2"]
[19000,"2018-09-09","1900043352","2026-08-01","FY27 Q2"]
[19000,"2018-09-11","1900043354","2026-08-01","FY27 Q2"]
[19000,"2018-09-12","1900043355","2026-08-01","FY27 Q2"]
[20000,"2018-09-15","2000043358","2026-08-01","FY27 Q2"]
[19000,"2018-09-17","1900043360","2026-08-01","FY27 Q2"]
[24000,"2018-09-19","2400043362","2026-08-01","FY27 Q2"]
[19000,"2018-09-20","1900043363","2026-08-01","FY27 Q2"]
[34000,"2018-09-23","3400043366","2026-08-01","FY27 Q2"]
[24000,"2018-09-24","2400043367","2026-08-01","FY27 Q2"]
[20000,"2018-09-27","2000043370","2026-08-01","FY27 Q2"]
[19000,"2018-09-30","1900043373","2026-08-01","FY27 Q2"]
[30000,"2018-10-01","3000043374","2026-08-01","FY27 Q2"]
[21000,"2018-10-04","2100043377","2026-08-01","FY27 Q2"]
[30000,"2018-10-04","3000043377","2026-08-01","FY27 Q2"]
[24000,"2018-10-06","2400043379","2026-08-01","FY27 Q2"]
[30000,"2018-10-09","3000043382","2026-08-01","FY27 Q2"]
[34000,"2018-10-11","3400043384","2026-08-01","FY27 Q2"]
[34000,"2018-10-12","3400043385","2026-08-01","FY27 Q2"]
[34000,"2018-10-14","3400043387","2026-08-01","FY27 Q2"]
[15000,"2018-10-17","1500043390","2026-08-01","FY27 Q2"]
[34000,"2018-10-19","3400043392","2026-08-01","FY27 Q2"]
[20000,"2018-10-21","2000043394","2026-08-01","FY27 Q2"]
[34000,"2018-10-24","3400043397","2026-08-01","FY27 Q2"]
[24000,"2018-10-25","2400043398","2026-08-01","FY27 Q2"]
[20000,"2018-10-27","2000043400","2026-08-01","FY27 Q2"]
[15000,"2018-10-30","1500043403","2026-08-01","FY27 Q2"]
[34000,"2018-10-31","3400043404","2026-08-01","FY27 Q2"]
[15000,"2018-11-04","1500043408","2026-08-01","FY27 Q2"]
[19000,"2018-11-05","1900043409","2026-08-01","FY27 Q2"]
[21000,"2018-11-08",{"$f":"_xlfn.CONCAT(A7300,B7300)","v":"2100043412"},"2026-08-01","FY27 Q2"]
[21000,"2018-11-09","2100043413","2026-08-01","FY27 Q2"]
[21000,"2018-11-11","2100043415","2026-08-01","FY27 Q2"]
[24000,"2018-11-13","2400043417","2026-08-01","FY27 Q2"]
[21000,"2018-11-16","2100043420","2026-08-01","FY27 Q2"]
[24000,"2018-11-18","2400043422","2026-08-01","FY27 Q2"]
[15000,"2018-11-20","1500043424","2026-08-01","FY27 Q2"]
[24000,"2018-11-21","2400043425","2026-08-01","FY27 Q2"]
[19000,"2018-11-24","1900043428","2026-08-01","FY27 Q2"]
[24000,"2018-11-26","2400043430","2026-08-01","FY27 Q2"]
[21000,"2018-11-28","2100043432","2026-08-01","FY27 Q2"]
[24000,"2018-11-29","2400043433","2026-08-01","FY27 Q2"]
[30000,"2018-12-02","3000043436","2026-08-01","FY27 Q2"]
[15000,"2018-12-04","1500043438","2026-08-01","FY27 Q2"]
[30000,"2018-12-06","3000043440","2026-08-01","FY27 Q2"]
[15000,"2018-12-09","1500043443","2026-08-01","FY27 Q2"]
[19000,"2018-12-11","1900043445","2026-08-01","FY27 Q2"]
[20000,"2018-12-13","2000043447","2026-08-01","FY27 Q2"]
[19000,"2018-12-14","1900043448","2026-08-01","FY27 Q2"]
[24000,"2018-12-17","2400043451","2026-08-01","FY27 Q2"]
[19000,"2018-12-19","1900043453","2026-08-01","FY27 Q2"]
[30000,"2018-12-21","3000043455","2026-08-01","FY27 Q2"]
[19000,"2018-12-22","1900043456","2026-08-01","FY27 Q2"]
[20000,"2018-12-24","2000043458","2026-08-01","FY27 Q2"]
[15000,"2018-12-28","1500043462","2026-08-01","FY27 Q2"]
[20000,"2018-12-29","2000043463","2026-08-01","FY27 Q2"]
[19000,"2018-12-30","1900043464","2026-08-01","FY27 Q2"]
[20000,"2019-01-01","2000043466","2026-08-01","FY27 Q2"]
[21000,"2019-01-03","2100043468","2026-08-01","FY27 Q2"]
[30000,"2019-01-05","3000043470","2026-08-01","FY27 Q2"]
[30000,"2019-01-07","3000043472","2026-08-01","FY27 Q2"]
[30000,"2019-01-10","3000043475","2026-08-01","FY27 Q2"]
[21000,"2019-01-13","2100043478","2026-08-01","FY27 Q2"]
[15000,"2019-01-14","1500043479","2026-08-01","FY27 Q2"]
[34000,"2019-01-15","3400043480","2026-08-01","FY27 Q2"]
[20000,"2019-01-18","2000043483","2026-08-01","FY27 Q2"]
[34000,"2019-01-20","3400043485","2026-08-01","FY27 Q2"]
[21000,"2019-01-22","2100043487","2026-08-01","FY27 Q2"]
[34000,"2019-01-25","3400043490","2026-08-01","FY27 Q2"]
[30000,"2019-01-26","3000043491","2026-08-01","FY27 Q2"]
[34000,"2019-01-28","3400043493","2026-08-01","FY27 Q2"]
[15000,"2019-01-31","1500043496","2026-08-01","FY27 Q2"]
[15000,"2019-02-02","1500043498","2026-08-01","FY27 Q2"]
[15000,"2019-02-05","1500043501","2026-08-01","FY27 Q2"]
[20000,"2019-02-06","2000043502","2026-08-01","FY27 Q2"]
[21000,"2019-02-07","2100043503","2026-08-01","FY27 Q2"]
[24000,"2019-02-10","2400043506","2026-08-01","FY27 Q2"]
[21000,"2019-02-12","2100043508","2026-08-01","FY27 Q2"]
[34000,"2019-02-14","3400043510","2026-08-01","FY27 Q2"]
[21000,"2019-02-17","2100043513","2026-08-01","FY27 Q2"]
[24000,"2019-02-19","2400043515","2026-08-01","FY27 Q2"]
[19000,"2019-02-21","1900043517","2026-08-01","FY27 Q2"]
[24000,"2019-02-22","2400043518","2026-08-01","FY27 Q2"]
[21000,"2019-02-25","2100043521","2026-08-01","FY27 Q2"]
[24000,"2019-02-27","2400043523","2026-08-01","FY27 Q2"]
[24000,"2019-03-01","2400043525","2026-08-01","FY27 Q2"]
[24000,"2019-03-02","2400043526","2026-08-01","FY27 Q2"]
[34000,"2019-03-05","3400043529","2026-08-01","FY27 Q2"]
[15000,"2019-03-07","1500043531","2026-08-01","FY27 Q2"]
[30000,"2019-03-09","3000043533","2026-08-01","FY27 Q2"]
[19000,"2019-03-12","1900043536","2026-08-01","FY27 Q2"]
[30000,"2019-03-12","3000043536","2026-08-01","FY27 Q2"]
[21000,"2019-03-16",{"$f":"_xlfn.CONCAT(A8196,B8196)","v":"2100043540"},"2026-08-01","FY27 Q2"]
[19000,"2019-03-17","1900043541","2026-08-01","FY27 Q2"]
[24000,"2019-03-18","2400043542","2026-08-01","FY27 Q2"]
[19000,"2019-03-22","1900043546","2026-08-01","FY27 Q2"]
[34000,"2019-03-22","3400043546","2026-08-01","FY27 Q2"]
[19000,"2019-03-25","1900043549","2026-08-01","FY27 Q2"]
[20000,"2019-03-27","2000043551","2026-08-01","FY27 Q2"]
[19000,"2019-03-29","1900043553","2026-08-01","FY27 Q2"]
[20000,"2019-04-01","2000043556","2026-08-01","FY27 Q2"]
[20000,"2019-04-02","2000043557","2026-08-01","FY27 Q2"]
[20000,"2019-04-04","2000043559","2026-08-01","FY27 Q2"]
[24000,"2019-04-06","2400043561","2026-08-01","FY27 Q2"]
[20000,"2019-04-09","2000043564","2026-08-01","FY27 Q2"]
[34000,"2019-04-10","3400043565","2026-08-01","FY27 Q2"]
[30000,"2019-04-13","3000043568","2026-08-01","FY27 Q2"]
[21000,"2019-04-14","2100043569","2026-08-01","FY27 Q2"]
[19000,"2019-04-17","1900043572","2026-08-01","FY27 Q2"]
[34000,"2019-04-18","3400043573","2026-08-01","FY27 Q2"]
[21000,"2019-04-21","2100043576","2026-08-01","FY27 Q2"]
[34000,"2019-04-23","3400043578","2026-08-01","FY27 Q2"]
[30000,"2019-04-25","3000043580","2026-08-01","FY27 Q2"]
[34000,"2019-04-26","3400043581","2026-08-01","FY27 Q2"]
[34000,"2019-04-29","3400043584","2026-08-01","FY27 Q2"]
[34000,"2019-05-01","3400043586","2026-08-01","FY27 Q2"]
[15000,"2019-05-04","1500043589","2026-08-01","FY27 Q2"]
[20000,"2019-05-06","2000043591","2026-08-01","FY27 Q2"]
[15000,"2019-05-09","1500043594","2026-08-01","FY27 Q2"]
[21000,"2019-05-10","2100043595","2026-08-01","FY27 Q2"]
[15000,"2019-05-12","1500043597","2026-08-01","FY27 Q2"]
[30000,"2019-05-14","3000043599","2026-08-01","FY27 Q2"]
[21000,"2019-05-16","2100043601","2026-08-01","FY27 Q2"]
[15000,"2019-05-19","1500043604","2026-08-01","FY27 Q2"]
[21000,"2019-05-21","2100043606","2026-08-01","FY27 Q2"]
[19000,"2019-05-22","1900043607","2026-08-01","FY27 Q2"]
[20000,"2019-05-25","2000043610","2026-08-01","FY27 Q2"]
[24000,"2019-05-26","2400043611","2026-08-01","FY27 Q2"]
[24000,"2019-05-29","2400043614","2026-08-01","FY27 Q2"]
[24000,"2019-05-31","2400043616","2026-08-01","FY27 Q2"]
[30000,"2019-06-02","3000043618","2026-08-01","FY27 Q2"]
[24000,"2019-06-03","2400043619","2026-08-01","FY27 Q2"]
[15000,"2019-06-07","1500043623","2026-08-01","FY27 Q2"]
[24000,"2019-06-08","2400043624","2026-08-01","FY27 Q2"]
[30000,"2019-06-10","3000043626","2026-08-01","FY27 Q2"]
[19000,"2019-06-11","1900043627","2026-08-01","FY27 Q2"]
[30000,"2019-06-13","3000043629","2026-08-01","FY27 Q2"]
[21000,"2019-06-15","2100043631","2026-08-01","FY27 Q2"]
[30000,"2019-06-18","3000043634","2026-08-01","FY27 Q2"]
[30000,"2019-06-19","3000043635","2026-08-01","FY27 Q2"]
[19000,"2019-06-23","1900043639","2026-08-01","FY27 Q2"]
[34000,"2019-06-23","3400043639","2026-08-01","FY27 Q2"]
[15000,"2019-06-26","1500043642","2026-08-01","FY27 Q2"]
[20000,"2019-06-28","2000043644","2026-08-01","FY27 Q2"]
[20000,"2019-06-30","2000043646","2026-08-01","FY27 Q2"]
[20000,"2019-07-03","2000043649","2026-08-01","FY27 Q2"]
[24000,"2019-07-04","2400043650","2026-08-01","FY27 Q2"]
[20000,"2019-07-06","2000043652","2026-08-01","FY27 Q2"]
[30000,"2019-07-08","3000043654","2026-08-01","FY27 Q2"]
[20000,"2019-07-11","2000043657","2026-08-01","FY27 Q2"]
[21000,"2019-07-13","2100043659","2026-08-01","FY27 Q2"]
[19000,"2019-07-15","1900043661","2026-08-01","FY27 Q2"]
[21000,"2019-07-16","2100043662","2026-08-01","FY27 Q2"]
[20000,"2019-07-19","2000043665","2026-08-01","FY27 Q2"]
[21000,"2019-07-21","2100043667","2026-08-01","FY27 Q2"]
[24000,"2019-07-23","2400043669","2026-08-01","FY27 Q2"]
[34000,"2019-07-25","3400043671","2026-08-01","FY27 Q2"]
[34000,"2019-07-27","3400043673","2026-08-01","FY27 Q2"]
[34000,"2019-07-28","3400043674","2026-08-01","FY27 Q2"]
[24000,"2019-07-31",{"$f":"_xlfn.CONCAT(A9156,B9156)","v":"2400043677"},"2026-08-01","FY27 Q2"]
[19000,"2019-08-03","1900043680","2026-08-01","FY27 Q2"]
[15000,"2019-08-05","1500043682","2026-08-01","FY27 Q2"]
[21000,"2019-08-07","2100043684","2026-08-01","FY27 Q2"]
[15000,"2019-08-08","1500043685","2026-08-01","FY27 Q2"]
[24000,"2019-08-11","2400043688","2026-08-01","FY27 Q2"]
[15000,"2019-08-13","1500043690","2026-08-01","FY27 Q2"]
[34000,"2019-08-15","3400043692","2026-08-01","FY27 Q2"]
[15000,"2019-08-18","1500043695","2026-08-01","FY27 Q2"]
[19000,"2019-08-20","1900043697","2026-08-01","FY27 Q2"]
[19000,"2019-08-22","1900043699","2026-08-01","FY27 Q2"]
[19000,"2019-08-23","1900043700","2026-08-01","FY27 Q2"]
[21000,"2019-08-26","2100043703","2026-08-01","FY27 Q2"]
[19000,"2019-08-28","1900043705","2026-08-01","FY27 Q2"]
[24000,"2019-08-28","2400043705","2026-08-01","FY27 Q2"]
[24000,"2019-09-01","2400043709","2026-08-01","FY27 Q2"]
[34000,"2019-09-01","3400043709","2026-08-01","FY27 Q2"]
[24000,"2019-09-04","2400043712","2026-08-01","FY27 Q2"]
[30000,"2019-09-06","3000043714","2026-08-01","FY27 Q2"]
[19000,"2019-09-08","1900043716","2026-08-01","FY27 Q2"]
[30000,"2019-09-11","3000043719","2026-08-01","FY27 Q2"]
[21000,"2019-09-12","2100043720","2026-08-01","FY27 Q2"]
[30000,"2019-09-14","3000043722","2026-08-01","FY27 Q2"]
[24000,"2019-09-16","2400043724","2026-08-01","FY27 Q2"]
[30000,"2019-09-19","3000043727","2026-08-01","FY27 Q2"]
[34000,"2019-09-20","3400043728","2026-08-01","FY27 Q2"]
[30000,"2019-09-22","3000043730","2026-08-01","FY27 Q2"]
[34000,"2019-09-24","3400043732","2026-08-01","FY27 Q2"]
[19000,"2019-09-27","1900043735","2026-08-01","FY27 Q2"]
[34000,"2019-09-29","3400043737","2026-08-01","FY27 Q2"]
[21000,"2019-10-01","2100043739","2026-08-01","FY27 Q2"]
[20000,"2019-10-04","2000043742","2026-08-01","FY27 Q2"]
[30000,"2019-10-05","3000043743","2026-08-01","FY27 Q2"]
[20000,"2019-10-07","2000043745","2026-08-01","FY27 Q2"]
[15000,"2019-10-10","1500043748","2026-08-01","FY27 Q2"]
[20000,"2019-10-12","2000043750","2026-08-01","FY27 Q2"]
[21000,"2019-10-14","2100043752","2026-08-01","FY27 Q2"]
[20000,"2019-10-16","2000043754","2026-08-01","FY27 Q2"]
[21000,"2019-10-17","2100043755","2026-08-01","FY27 Q2"]
[21000,"2019-10-20","2100043758","2026-08-01","FY27 Q2"]
[21000,"2019-10-22","2100043760","2026-08-01","FY27 Q2"]
[30000,"2019-10-24","3000043762","2026-08-01","FY27 Q2"]
[21000,"2019-10-25","2100043763","2026-08-01","FY27 Q2"]
[15000,"2019-10-29","1500043767","2026-08-01","FY27 Q2"]
[34000,"2019-10-29","3400043767","2026-08-01","FY27 Q2"]
[24000,"2019-11-01","2400043770","2026-08-01","FY27 Q2"]
[20000,"2019-11-04","2000043773","2026-08-01","FY27 Q2"]
[24000,"2019-11-06","2400043775","2026-08-01","FY27 Q2"]
[24000,"2019-11-08","2400043777","2026-08-01","FY27 Q2"]
[15000,"2019-11-09","1500043778","2026-08-01","FY27 Q2"]
[34000,"2019-11-12","3400043781","2026-08-01","FY27 Q2"]
[15000,"2019-11-14","1500043783","2026-08-01","FY27 Q2"]
[15000,"2019-11-17","1500043786","2026-08-01","FY27 Q2"]
[15000,"2019-11-19","1500043788","2026-08-01","FY27 Q2"]
[19000,"2019-11-19","1900043788","2026-08-01","FY27 Q2"]
[20000,"2019-11-21","2000043790","2026-08-01","FY27 Q2"]
[19000,"2019-11-24","1900043793","2026-08-01","FY27 Q2"]
[21000,"2019-11-25","2100043794","2026-08-01","FY27 Q2"]
[19000,"2019-11-29","1900043798","2026-08-01","FY27 Q2"]
[30000,"2019-11-29","3000043798","2026-08-01","FY27 Q2"]
[24000,"2019-12-01","2400043800","2026-08-01","FY27 Q2"]
[15000,"2019-12-04","1500043803","2026-08-01","FY27 Q2"]
[24000,"2019-12-06",{"$f":"_xlfn.CONCAT(A10052,B10052)","v":"2400043805"},"2026-08-01","FY27 Q2"]
[20000,"2019-12-09","2000043808","2026-08-01","FY27 Q2"]
[20000,"2019-12-10","2000043809","2026-08-01","FY27 Q2"]
[30000,"2019-12-13","3000043812","2026-08-01","FY27 Q2"]
[24000,"2019-12-14","2400043813","2026-08-01","FY27 Q2"]
[30000,"2019-12-16","3000043815","2026-08-01","FY27 Q2"]
[34000,"2019-12-18","3400043817","2026-08-01","FY27 Q2"]
[30000,"2019-12-21","3000043820","2026-08-01","FY27 Q2"]
[15000,"2019-12-23","1500043822","2026-08-01","FY27 Q2"]
[30000,"2019-12-24","3000043823","2026-08-01","FY27 Q2"]
[34000,"2019-12-26","3400043825","2026-08-01","FY27 Q2"]
[20000,"2019-12-29","2000043828","2026-08-01","FY27 Q2"]
[34000,"2019-12-31","3400043830","2026-08-01","FY27 Q2"]
[24000,"2020-01-02","2400043832","2026-08-01","FY27 Q2"]
[34000,"2020-01-03","3400043833","2026-08-01","FY27 Q2"]
[34000,"2020-01-06","3400043836","2026-08-01","FY27 Q2"]
[20000,"2020-01-08","2000043838","2026-08-01","FY27 Q2"]
[19000,"2020-01-11","1900043841","2026-08-01","FY27 Q2"]
[20000,"2020-01-13","2000043843","2026-08-01","FY27 Q2"]
[15000,"2020-01-14","1500043844","2026-08-01","FY27 Q2"]
[21000,"2020-01-17","2100043847","2026-08-01","FY27 Q2"]
[21000,"2020-01-18","2100043848","2026-08-01","FY27 Q2"]
[30000,"2020-01-21","3000043851","2026-08-01","FY27 Q2"]
[21000,"2020-01-23","2100043853","2026-08-01","FY27 Q2"]
[34000,"2020-01-25","3400043855","2026-08-01","FY27 Q2"]
[21000,"2020-01-26","2100043856","2026-08-01","FY27 Q2"]
[19000,"2020-01-30","1900043860","2026-08-01","FY27 Q2"]
[21000,"2020-01-31","2100043861","2026-08-01","FY27 Q2"]
[24000,"2020-02-02","2400043863","2026-08-01","FY27 Q2"]
[21000,"2020-02-05","2100043866","2026-08-01","FY27 Q2"]
[24000,"2020-02-05","2400043866","2026-08-01","FY27 Q2"]
[24000,"2020-02-07","2400043868","2026-08-01","FY27 Q2"]
[15000,"2020-02-10","1500043871","2026-08-01","FY27 Q2"]
[34000,"2020-02-11","3400043872","2026-08-01","FY27 Q2"]
[15000,"2020-02-15","1500043876","2026-08-01","FY27 Q2"]
[30000,"2020-02-17",{"$f":"_xlfn.CONCAT(A10564,B10564)","v":"3000043878"},"2026-08-01","FY27 Q2"]
[19000,"2020-02-18","1900043879","2026-08-01","FY27 Q2"]
[19000,"2020-02-20","1900043881","2026-08-01","FY27 Q2"]
[21000,"2020-02-22","2100043883","2026-08-01","FY27 Q2"]
[19000,"2020-02-25","1900043886","2026-08-01","FY27 Q2"]
[30000,"2020-02-26","3000043887","2026-08-01","FY27 Q2"]
[19000,"2020-03-01","1900043891","2026-08-01","FY27 Q2"]
[34000,"2020-03-01","3400043891","2026-08-01","FY27 Q2"]
[19000,"2020-03-04","1900043894","2026-08-01","FY27 Q2"]
[20000,"2020-03-06","2000043896","2026-08-01","FY27 Q2"]
[19000,"2020-03-08","1900043898","2026-08-01","FY27 Q2"]
[20000,"2020-03-11","2000043901","2026-08-01","FY27 Q2"]
[21000,"2020-03-12","2100043902","2026-08-01","FY27 Q2"]
[20000,"2020-03-14","2000043904","2026-08-01","FY27 Q2"]
[30000,"2020-03-16","3000043906","2026-08-01","FY27 Q2"]
[30000,"2020-03-18","3000043908","2026-08-01","FY27 Q2"]
[15000,"2020-03-21","1500043911","2026-08-01","FY27 Q2"]
[30000,"2020-03-23","3000043913","2026-08-01","FY27 Q2"]
[34000,"2020-03-25","3400043915","2026-08-01","FY27 Q2"]
[20000,"2020-03-27","2000043917","2026-08-01","FY27 Q2"]
[34000,"2020-03-28","3400043918","2026-08-01","FY27 Q2"]
[24000,"2020-03-31","2400043921","2026-08-01","FY27 Q2"]
[34000,"2020-04-02","3400043923","2026-08-01","FY27 Q2"]
[30000,"2020-04-04","3000043925","2026-08-01","FY27 Q2"]
[34000,"2020-04-05","3400043926","2026-08-01","FY27 Q2"]
[15000,"2020-04-09","1500043930","2026-08-01","FY27 Q2"]
[34000,"2020-04-10","3400043931","2026-08-01","FY27 Q2"]
[15000,"2020-04-13","1500043934","2026-08-01","FY27 Q2"]
[20000,"2020-04-15","2000043936","2026-08-01","FY27 Q2"]
[15000,"2020-04-16","1500043937","2026-08-01","FY27 Q2"]
[24000,"2020-04-19","2400043940","2026-08-01","FY27 Q2"]
[21000,"2020-04-20","2100043941","2026-08-01","FY27 Q2"]
[34000,"2020-04-23","3400043944","2026-08-01","FY27 Q2"]
[21000,"2020-04-25","2100043946","2026-08-01","FY27 Q2"]
[15000,"2020-04-26","1500043947","2026-08-01","FY27 Q2"]
[21000,"2020-04-28","2100043949","2026-08-01","FY27 Q2"]
[24000,"2020-04-30","2400043951","2026-08-01","FY27 Q2"]
[20000,"2020-05-02","2000043953","2026-08-01","FY27 Q2"]
[24000,"2020-05-05","2400043956","2026-08-01","FY27 Q2"]
[24000,"2020-05-06","2400043957","2026-08-01","FY27 Q2"]
[24000,"2020-05-08","2400043959","2026-08-01","FY27 Q2"]
[30000,"2020-05-10","3000043961","2026-08-01","FY27 Q2"]
[24000,"2020-05-13","2400043964","2026-08-01","FY27 Q2"]
[15000,"2020-05-15","1500043966","2026-08-01","FY27 Q2"]
[15000,"2020-05-18","1500043969","2026-08-01","FY27 Q2"]
[30000,"2020-05-18","3000043969","2026-08-01","FY27 Q2"]
[20000,"2020-05-21","2000043972","2026-08-01","FY27 Q2"]
[30000,"2020-05-23","3000043974","2026-08-01","FY27 Q2"]
[24000,"2020-05-25","2400043976","2026-08-01","FY27 Q2"]
[19000,"2020-05-28","1900043979","2026-08-01","FY27 Q2"]
[34000,"2020-05-29","3400043980","2026-08-01","FY27 Q2"]
[19000,"2020-05-31","1900043982","2026-08-01","FY27 Q2"]
[15000,"2020-06-03","1500043985","2026-08-01","FY27 Q2"]
[19000,"2020-06-05","1900043987","2026-08-01","FY27 Q2"]
[20000,"2020-06-07","2000043989","2026-08-01","FY27 Q2"]
[21000,"2020-06-09","2100043991","2026-08-01","FY27 Q2"]
[20000,"2020-06-12","2000043994","2026-08-01","FY27 Q2"]
[24000,"2020-06-13","2400043995","2026-08-01","FY27 Q2"]
[20000,"2020-06-15","2000043997","2026-08-01","FY27 Q2"]
[34000,"2020-06-17","3400043999","2026-08-01","FY27 Q2"]
[20000,"2020-06-20","2000044002","2026-08-01","FY27 Q2"]
[19000,"2020-06-22","1900044004","2026-08-01","FY27 Q2"]
[30000,"2020-06-24",{"$f":"_xlfn.CONCAT(A11460,B11460)","v":"3000044006"},"2026-08-01","FY27 Q2"]
[21000,"2020-06-25","2100044007","2026-08-01","FY27 Q2"]
[21000,"2020-06-28","2100044010","2026-08-01","FY27 Q2"]
[34000,"2020-06-29","3400044011","2026-08-01","FY27 Q2"]
[30000,"2020-07-02","3000044014","2026-08-01","FY27 Q2"]
[34000,"2020-07-04","3400044016","2026-08-01","FY27 Q2"]
[15000,"2020-07-07","1500044019","2026-08-01","FY27 Q2"]
[34000,"2020-07-07","3400044019","2026-08-01","FY27 Q2"]
[19000,"2020-07-11","1900044023","2026-08-01","FY27 Q2"]
[34000,"2020-07-12","3400044024","2026-08-01","FY27 Q2"]
[15000,"2020-07-15","1500044027","2026-08-01","FY27 Q2"]
[21000,"2020-07-15","2100044027","2026-08-01","FY27 Q2"]
[15000,"2020-07-18","1500044030","2026-08-01","FY27 Q2"]
[24000,"2020-07-19","2400044031","2026-08-01","FY27 Q2"]
[15000,"2020-07-23","1500044035","2026-08-01","FY27 Q2"]
[34000,"2020-07-23","3400044035","2026-08-01","FY27 Q2"]
[21000,"2020-07-27","2100044039","2026-08-01","FY27 Q2"]
[19000,"2020-07-28","1900044040","2026-08-01","FY27 Q2"]
[21000,"2020-07-30","2100044042","2026-08-01","FY27 Q2"]
[19000,"2020-08-02","1900044045","2026-08-01","FY27 Q2"]
[21000,"2020-08-03","2100044046","2026-08-01","FY27 Q2"]
[24000,"2020-08-06","2400044049","2026-08-01","FY27 Q2"]
[30000,"2020-08-07","3000044050","2026-08-01","FY27 Q2"]
[24000,"2020-08-09","2400044052","2026-08-01","FY27 Q2"]
[34000,"2020-08-11","3400044054","2026-08-01","FY27 Q2"]
[24000,"2020-08-14","2400044057","2026-08-01","FY27 Q2"]
[19000,"2020-08-16","1900044059","2026-08-01","FY27 Q2"]
[24000,"2020-08-17","2400044060","2026-08-01","FY27 Q2"]
[30000,"2020-08-19","3000044062","2026-08-01","FY27 Q2"]
[21000,"2020-08-22","2100044065","2026-08-01","FY27 Q2"]
[30000,"2020-08-24","3000044067","2026-08-01","FY27 Q2"]
[30000,"2020-08-26","3000044069","2026-08-01","FY27 Q2"]
[30000,"2020-08-29","3000044072","2026-08-01","FY27 Q2"]
[15000,"2020-08-31","1500044074","2026-08-01","FY27 Q2"]
[19000,"2020-09-01","1900044075","2026-08-01","FY27 Q2"]
[20000,"2020-09-04","2000044078","2026-08-01","FY27 Q2"]
[19000,"2020-09-06","1900044080","2026-08-01","FY27 Q2"]
[20000,"2020-09-08","2000044082","2026-08-01","FY27 Q2"]
[24000,"2020-09-10","2400044084","2026-08-01","FY27 Q2"]
[20000,"2020-09-11","2000044085","2026-08-01","FY27 Q2"]
[34000,"2020-09-14","3400044088","2026-08-01","FY27 Q2"]
[20000,"2020-09-16","2000044090","2026-08-01","FY27 Q2"]
[15000,"2020-09-19","1500044093","2026-08-01","FY27 Q2"]
[20000,"2020-09-21","2000044095","2026-08-01","FY27 Q2"]
[20000,"2020-09-23","2000044097","2026-08-01","FY27 Q2"]
[30000,"2020-09-23","3000044097","2026-08-01","FY27 Q2"]
[21000,"2020-09-26","2100044100","2026-08-01","FY27 Q2"]
[24000,"2020-09-29","2400044103","2026-08-01","FY27 Q2"]
[21000,"2020-10-01","2100044105","2026-08-01","FY27 Q2"]
[34000,"2020-10-03","3400044107","2026-08-01","FY27 Q2"]
[34000,"2020-10-05","3400044109","2026-08-01","FY27 Q2"]
[15000,"2020-10-06","1500044110","2026-08-01","FY27 Q2"]
[34000,"2020-10-08","3400044112","2026-08-01","FY27 Q2"]
[24000,"2020-10-11","2400044115","2026-08-01","FY27 Q2"]
[20000,"2020-10-12","2000044116","2026-08-01","FY27 Q2"]
[15000,"2020-10-16","1500044120","2026-08-01","FY27 Q2"]
[24000,"2020-10-16","2400044120","2026-08-01","FY27 Q2"]
[15000,"2020-10-19","1500044123","2026-08-01","FY27 Q2"]
[30000,"2020-10-20","3000044124","2026-08-01","FY27 Q2"]
[15000,"2020-10-24","1500044128","2026-08-01","FY27 Q2"]
[15000,"2020-10-25","1500044129","2026-08-01","FY27 Q2"]
[15000,"2020-10-27","1500044131","2026-08-01","FY27 Q2"]
[19000,"2020-10-29","1900044133","2026-08-01","FY27 Q2"]
[20000,"2020-10-31","2000044135","2026-08-01","FY27 Q2"]
[19000,"2020-11-03","1900044138","2026-08-01","FY27 Q2"]
[24000,"2020-11-04","2400044139","2026-08-01","FY27 Q2"]
[19000,"2020-11-06","1900044141","2026-08-01","FY27 Q2"]
[34000,"2020-11-08",{"$f":"_xlfn.CONCAT(A12420,B12420)","v":"3400044143"},"2026-08-01","FY27 Q2"]
[24000,"2020-11-10","2400044145","2026-08-01","FY27 Q2"]
[19000,"2020-11-13","1900044148","2026-08-01","FY27 Q2"]
[24000,"2020-11-15","2400044150","2026-08-01","FY27 Q2"]
[30000,"2020-11-17","3000044152","2026-08-01","FY27 Q2"]
[21000,"2020-11-19","2100044154","2026-08-01","FY27 Q2"]
[30000,"2020-11-20","3000044155","2026-08-01","FY27 Q2"]
[30000,"2020-11-23","3000044158","2026-08-01","FY27 Q2"]
[30000,"2020-11-25","3000044160","2026-08-01","FY27 Q2"]
[34000,"2020-11-27","3400044162","2026-08-01","FY27 Q2"]
[30000,"2020-11-28","3000044163","2026-08-01","FY27 Q2"]
[19000,"2020-12-02","1900044167","2026-08-01","FY27 Q2"]
[19000,"2020-12-03","1900044168","2026-08-01","FY27 Q2"]
[34000,"2020-12-05","3400044170","2026-08-01","FY27 Q2"]
[21000,"2020-12-08","2100044173","2026-08-01","FY27 Q2"]
[34000,"2020-12-10","3400044175","2026-08-01","FY27 Q2"]
[30000,"2020-12-12","3000044177","2026-08-01","FY27 Q2"]
[20000,"2020-12-13","2000044178","2026-08-01","FY27 Q2"]
[15000,"2020-12-17","1500044182","2026-08-01","FY27 Q2"]
[20000,"2020-12-18","2000044183","2026-08-01","FY27 Q2"]
[20000,"2020-12-21","2000044186","2026-08-01","FY27 Q2"]
[20000,"2020-12-23","2000044188","2026-08-01","FY27 Q2"]
[21000,"2020-12-23","2100044188","2026-08-01","FY27 Q2"]
[21000,"2020-12-25","2100044190","2026-08-01","FY27 Q2"]
[21000,"2020-12-28","2100044193","2026-08-01","FY27 Q2"]
[24000,"2020-12-29","2400044194","2026-08-01","FY27 Q2"]
[21000,"2021-01-02","2100044198","2026-08-01","FY27 Q2"]
[34000,"2021-01-02","3400044198","2026-08-01","FY27 Q2"]
[21000,"2021-01-05","2100044201","2026-08-01","FY27 Q2"]
[19000,"2021-01-07","1900044203","2026-08-01","FY27 Q2"]
[34000,"2021-01-09","3400044205","2026-08-01","FY27 Q2"]
[24000,"2021-01-12","2400044208","2026-08-01","FY27 Q2"]
[21000,"2021-01-13","2100044209","2026-08-01","FY27 Q2"]
[24000,"2021-01-15","2400044211","2026-08-01","FY27 Q2"]
[30000,"2021-01-17","3000044213","2026-08-01","FY27 Q2"]
[15000,"2021-01-20","1500044216","2026-08-01","FY27 Q2"]
[15000,"2021-01-22","1500044218","2026-08-01","FY27 Q2"]
[15000,"2021-01-25","1500044221","2026-08-01","FY27 Q2"]
[19000,"2021-01-26","1900044222","2026-08-01","FY27 Q2"]
[15000,"2021-01-28","1500044224","2026-08-01","FY27 Q2"]
[19000,"2021-01-30",{"$f":"_xlfn.CONCAT(A12996,B12996)","v":"1900044226"},"2026-08-01","FY27 Q2"]
[24000,"2021-02-01","2400044228","2026-08-01","FY27 Q2"]
[19000,"2021-02-04","1900044231","2026-08-01","FY27 Q2"]
[30000,"2021-02-05","3000044232","2026-08-01","FY27 Q2"]
[19000,"2021-02-07","1900044234","2026-08-01","FY27 Q2"]
[15000,"2021-02-10","1500044237","2026-08-01","FY27 Q2"]
[24000,"2021-02-11","2400044238","2026-08-01","FY27 Q2"]
[20000,"2021-02-14","2000044241","2026-08-01","FY27 Q2"]
[24000,"2021-02-16","2400044243","2026-08-01","FY27 Q2"]
[20000,"2021-02-17","2000044244","2026-08-01","FY27 Q2"]
[24000,"2021-02-20","2400044247","2026-08-01","FY27 Q2"]
[30000,"2021-02-21","3000044248","2026-08-01","FY27 Q2"]
[34000,"2021-02-24","3400044251","2026-08-01","FY27 Q2"]
[30000,"2021-02-26","3000044253","2026-08-01","FY27 Q2"]
[19000,"2021-03-01","1900044256","2026-08-01","FY27 Q2"]
[30000,"2021-03-01","3000044256","2026-08-01","FY27 Q2"]
[20000,"2021-03-05","2000044260","2026-08-01","FY27 Q2"]
[30000,"2021-03-06","3000044261","2026-08-01","FY27 Q2"]
[34000,"2021-03-08","3400044263","2026-08-01","FY27 Q2"]
[24000,"2021-03-11","2400044266","2026-08-01","FY27 Q2"]
[34000,"2021-03-11","3400044266","2026-08-01","FY27 Q2"]
[34000,"2021-03-15","3400044270","2026-08-01","FY27 Q2"]
[34000,"2021-03-16",{"$f":"_xlfn.CONCAT(A13316,B13316)","v":"3400044271"},"2026-08-01","FY27 Q2"]
[15000,"2021-03-18","1500044273","2026-08-01","FY27 Q2"]
[20000,"2021-03-21","2000044276","2026-08-01","FY27 Q2"]
[20000,"2021-03-22","2000044277","2026-08-01","FY27 Q2"]
[20000,"2021-03-24","2000044279","2026-08-01","FY27 Q2"]
[21000,"2021-03-26","2100044281","2026-08-01","FY27 Q2"]
[24000,"2021-03-28","2400044283","2026-08-01","FY27 Q2"]
[21000,"2021-03-31","2100044286","2026-08-01","FY27 Q2"]
[34000,"2021-04-01","3400044287","2026-08-01","FY27 Q2"]
[21000,"2021-04-05","2100044291","2026-08-01","FY27 Q2"]
[15000,"2021-04-06","1500044292","2026-08-01","FY27 Q2"]
[21000,"2021-04-08","2100044294","2026-08-01","FY27 Q2"]
[20000,"2021-04-10","2000044296","2026-08-01","FY27 Q2"]
[21000,"2021-04-13","2100044299","2026-08-01","FY27 Q2"]
[24000,"2021-04-15","2400044301","2026-08-01","FY27 Q2"]
[24000,"2021-04-16","2400044302","2026-08-01","FY27 Q2"]
[24000,"2021-04-18","2400044304","2026-08-01","FY27 Q2"]
[34000,"2021-04-20","3400044306","2026-08-01","FY27 Q2"]
[15000,"2021-04-23","1500044309","2026-08-01","FY27 Q2"]
[19000,"2021-04-25","1900044311","2026-08-01","FY27 Q2"]
[15000,"2021-04-28","1500044314","2026-08-01","FY27 Q2"]
[21000,"2021-04-29","2100044315","2026-08-01","FY27 Q2"]
[15000,"2021-05-01","1500044317","2026-08-01","FY27 Q2"]
[19000,"2021-05-03","1900044319","2026-08-01","FY27 Q2"]
[30000,"2021-05-05","3000044321","2026-08-01","FY27 Q2"]
[19000,"2021-05-08","1900044324","2026-08-01","FY27 Q2"]
[15000,"2021-05-10","1500044326","2026-08-01","FY27 Q2"]
[19000,"2021-05-11","1900044327","2026-08-01","FY27 Q2"]
[19000,"2021-05-14","1900044330","2026-08-01","FY27 Q2"]
[19000,"2021-05-16","1900044332","2026-08-01","FY27 Q2"]
[21000,"2021-05-18","2100044334","2026-08-01","FY27 Q2"]
[24000,"2021-05-20","2400044336","2026-08-01","FY27 Q2"]
[20000,"2021-05-21","2000044337","2026-08-01","FY27 Q2"]
[30000,"2021-05-24","3000044340","2026-08-01","FY27 Q2"]
[20000,"2021-05-26","2000044342","2026-08-01","FY27 Q2"]
[15000,"2021-05-29",{"$f":"_xlfn.CONCAT(A13828,B13828)","v":"1500044345"},"2026-08-01","FY27 Q2"]
[30000,"2021-05-30","3000044346","2026-08-01","FY27 Q2"]
[20000,"2021-06-02","2000044349","2026-08-01","FY27 Q2"]
[30000,"2021-06-02","3000044349","2026-08-01","FY27 Q2"]
[21000,"2021-06-06","2100044353","2026-08-01","FY27 Q2"]
[30000,"2021-06-07","3000044354","2026-08-01","FY27 Q2"]
[34000,"2021-06-09","3400044356","2026-08-01","FY27 Q2"]
[30000,"2021-06-10","3000044357","2026-08-01","FY27 Q2"]
[34000,"2021-06-12","3400044359","2026-08-01","FY27 Q2"]
[34000,"2021-06-14","3400044361","2026-08-01","FY27 Q2"]
[34000,"2021-06-17","3400044364","2026-08-01","FY27 Q2"]
[19000,"2021-06-19","1900044366","2026-08-01","FY27 Q2"]
[34000,"2021-06-22","3400044369","2026-08-01","FY27 Q2"]
[15000,"2021-06-23","1500044370","2026-08-01","FY27 Q2"]
[21000,"2021-06-25",{"$f":"_xlfn.CONCAT(A14020,B14020)","v":"2100044372"},"2026-08-01","FY27 Q2"]
[15000,"2021-06-28","1500044375","2026-08-01","FY27 Q2"]
[30000,"2021-06-29","3000044376","2026-08-01","FY27 Q2"]
[21000,"2021-07-02","2100044379","2026-08-01","FY27 Q2"]
[15000,"2021-07-04","1500044381","2026-08-01","FY27 Q2"]
[21000,"2021-07-05","2100044382","2026-08-01","FY27 Q2"]
[20000,"2021-07-08","2000044385","2026-08-01","FY27 Q2"]
[21000,"2021-07-10","2100044387","2026-08-01","FY27 Q2"]
[24000,"2021-07-12","2400044389","2026-08-01","FY27 Q2"]
[24000,"2021-07-14","2400044391","2026-08-01","FY27 Q2"]
[24000,"2021-07-17","2400044394","2026-08-01","FY27 Q2"]
[30000,"2021-07-18","3000044395","2026-08-01","FY27 Q2"]
[24000,"2021-07-20","2400044397","2026-08-01","FY27 Q2"]
[15000,"2021-07-23","1500044400","2026-08-01","FY27 Q2"]
[24000,"2021-07-25","2400044402","2026-08-01","FY27 Q2"]
[20000,"2021-07-27","2000044404","2026-08-01","FY27 Q2"]
[15000,"2021-07-30","1500044407","2026-08-01","FY27 Q2"]
[30000,"2021-07-30","3000044407","2026-08-01","FY27 Q2"]
[24000,"2021-08-02","2400044410","2026-08-01","FY27 Q2"]
[30000,"2021-08-04","3000044412","2026-08-01","FY27 Q2"]
[34000,"2021-08-06","3400044414","2026-08-01","FY27 Q2"]
[19000,"2021-08-09","1900044417","2026-08-01","FY27 Q2"]
[19000,"2021-08-11","1900044419","2026-08-01","FY27 Q2"]
[19000,"2021-08-12","1900044420","2026-08-01","FY27 Q2"]
[20000,"2021-08-15","2000044423","2026-08-01","FY27 Q2"]
[19000,"2021-08-17","1900044425","2026-08-01","FY27 Q2"]
[20000,"2021-08-19",{"$f":"_xlfn.CONCAT(A14404,B14404)","v":"2000044427"},"2026-08-01","FY27 Q2"]
[30000,"2021-08-21","3000044429","2026-08-01","FY27 Q2"]
[20000,"2021-08-22","2000044430","2026-08-01","FY27 Q2"]
[34000,"2021-08-25","3400044433","2026-08-01","FY27 Q2"]
[20000,"2021-08-27","2000044435","2026-08-01","FY27 Q2"]
[15000,"2021-08-28","1500044436","2026-08-01","FY27 Q2"]
[20000,"2021-08-30","2000044438","2026-08-01","FY27 Q2"]
[20000,"2021-09-01","2000044440","2026-08-01","FY27 Q2"]
[30000,"2021-09-03","3000044442","2026-08-01","FY27 Q2"]
[21000,"2021-09-06","2100044445","2026-08-01","FY27 Q2"]
[24000,"2021-09-07","2400044446","2026-08-01","FY27 Q2"]
[34000,"2021-09-10","3400044449","2026-08-01","FY27 Q2"]
[34000,"2021-09-11","3400044450","2026-08-01","FY27 Q2"]
[34000,"2021-09-13","3400044452","2026-08-01","FY27 Q2"]
[19000,"2021-09-16","1900044455","2026-08-01","FY27 Q2"]
[34000,"2021-09-18","3400044457","2026-08-01","FY27 Q2"]
[20000,"2021-09-20","2000044459","2026-08-01","FY27 Q2"]
[34000,"2021-09-21","3400044460","2026-08-01","FY27 Q2"]
[15000,"2021-09-24","1500044463","2026-08-01","FY27 Q2"]
[24000,"2021-09-26","2400044465","2026-08-01","FY27 Q2"]
[15000,"2021-09-29","1500044468","2026-08-01","FY27 Q2"]
[34000,"2021-09-30","3400044469","2026-08-01","FY27 Q2"]
[15000,"2021-10-04",{"$f":"_xlfn.CONCAT(A14724,B14724)","v":"1500044473"},"2026-08-01","FY27 Q2"]
[19000,"2021-10-05","1900044474","2026-08-01","FY27 Q2"]
[21000,"2021-10-06","2100044475","2026-08-01","FY27 Q2"]
[21000,"2021-10-09","2100044478","2026-08-01","FY27 Q2"]
[21000,"2021-10-11","2100044480","2026-08-01","FY27 Q2"]
[19000,"2021-10-14","1900044483","2026-08-01","FY27 Q2"]
[30000,"2021-10-15","3000044484","2026-08-01","FY27 Q2"]
[24000,"2021-10-16","2400044485","2026-08-01","FY27 Q2"]
[15000,"2021-10-20","1500044489","2026-08-01","FY27 Q2"]
[24000,"2021-10-21","2400044490","2026-08-01","FY27 Q2"]
[19000,"2021-10-24","1900044493","2026-08-01","FY27 Q2"]
[24000,"2021-10-26","2400044495","2026-08-01","FY27 Q2"]
[21000,"2021-10-28","2100044497","2026-08-01","FY27 Q2"]
[24000,"2021-10-29","2400044498","2026-08-01","FY27 Q2"]
[30000,"2021-10-31","3000044500","2026-08-01","FY27 Q2"]
[30000,"2021-11-03","3000044503","2026-08-01","FY27 Q2"]
[30000,"2021-11-05","3000044505","2026-08-01","FY27 Q2"]
[15000,"2021-11-08","1500044508","2026-08-01","FY27 Q2"]
[30000,"2021-11-08","3000044508","2026-08-01","FY27 Q2"]
[20000,"2021-11-12","2000044512","2026-08-01","FY27 Q2"]
[19000,"2021-11-13","1900044513","2026-08-01","FY27 Q2"]
[21000,"2021-11-14","2100044514","2026-08-01","FY27 Q2"]
[19000,"2021-11-18","1900044518","2026-08-01","FY27 Q2"]
[20000,"2021-11-20","2000044520","2026-08-01","FY27 Q2"]
[30000,"2021-11-20","3000044520","2026-08-01","FY27 Q2"]
[20000,"2021-11-23","2000044523","2026-08-01","FY27 Q2"]
[15000,"2021-11-25","1500044525","2026-08-01","FY27 Q2"]
[20000,"2021-11-28","2000044528","2026-08-01","FY27 Q2"]
[19000,"2021-11-29","1900044529","2026-08-01","FY27 Q2"]
[20000,"2021-12-01","2000044531","2026-08-01","FY27 Q2"]
[21000,"2021-12-03","2100044533","2026-08-01","FY27 Q2"]
[30000,"2021-12-05","3000044535","2026-08-01","FY27 Q2"]
[21000,"2021-12-08","2100044538","2026-08-01","FY27 Q2"]
[30000,"2021-12-09","3000044539","2026-08-01","FY27 Q2"]
[21000,"2021-12-11","2100044541","2026-08-01","FY27 Q2"]
[15000,"2021-12-14","1500044544","2026-08-01","FY27 Q2"]
[34000,"2021-12-15","3400044545","2026-08-01","FY27 Q2"]
[20000,"2021-12-18","2000044548","2026-08-01","FY27 Q2"]
[34000,"2021-12-20","3400044550","2026-08-01","FY27 Q2"]
[24000,"2021-12-22","2400044552","2026-08-01","FY27 Q2"]
[34000,"2021-12-23","3400044553","2026-08-01","FY27 Q2"]
[15000,"2021-12-26","1500044556","2026-08-01","FY27 Q2"]
[34000,"2021-12-28","3400044558","2026-08-01","FY27 Q2"]
[15000,"2021-12-31","1500044561","2026-08-01","FY27 Q2"]
[15000,"2022-01-02","1500044563","2026-08-01","FY27 Q2"]
[15000,"2022-01-03","1500044564","2026-08-01","FY27 Q2"]
[20000,"2022-01-06","2000044567","2026-08-01","FY27 Q2"]
[15000,"2022-01-08","1500044569","2026-08-01","FY27 Q2"]
[24000,"2022-01-10","2400044571","2026-08-01","FY27 Q2"]
[21000,"2022-01-12","2100044573","2026-08-01","FY27 Q2"]
[19000,"2022-01-15","1900044576","2026-08-01","FY27 Q2"]
[34000,"2022-01-16","3400044577","2026-08-01","FY27 Q2"]
[24000,"2022-01-17","2400044578","2026-08-01","FY27 Q2"]
[19000,"2022-01-21","1900044582","2026-08-01","FY27 Q2"]
[24000,"2022-01-22","2400044583","2026-08-01","FY27 Q2"]
[21000,"2022-01-25","2100044586","2026-08-01","FY27 Q2"]
[24000,"2022-01-27","2400044588","2026-08-01","FY27 Q2"]
[24000,"2022-01-29","2400044590","2026-08-01","FY27 Q2"]
[24000,"2022-01-30","2400044591","2026-08-01","FY27 Q2"]
[30000,"2022-02-01","3000044593","2026-08-01","FY27 Q2"]
[34000,"2022-02-02","3400044594","2026-08-01","FY27 Q2"]
[30000,"2022-02-06","3000044598","2026-08-01","FY27 Q2"]
[15000,"2022-02-07","1500044599","2026-08-01","FY27 Q2"]
[30000,"2022-02-09","3000044601","2026-08-01","FY27 Q2"]
[20000,"2022-02-11","2000044603","2026-08-01","FY27 Q2"]
[19000,"2022-02-14","1900044606","2026-08-01","FY27 Q2"]
[34000,"2022-02-16","3400044608","2026-08-01","FY27 Q2"]
[24000,"2022-02-17","2400044609","2026-08-01","FY27 Q2"]
[34000,"2022-02-19","3400044611","2026-08-01","FY27 Q2"]
[34000,"2022-02-21","3400044613","2026-08-01","FY27 Q2"]
[20000,"2022-02-24","2000044616","2026-08-01","FY27 Q2"]
[19000,"2022-02-26","1900044618","2026-08-01","FY27 Q2"]
[20000,"2022-03-01","2000044621","2026-08-01","FY27 Q2"]
[21000,"2022-03-02","2100044622","2026-08-01","FY27 Q2"]
[20000,"2022-03-04","2000044624","2026-08-01","FY27 Q2"]
[21000,"2022-03-06","2100044626","2026-08-01","FY27 Q2"]
[30000,"2022-03-08","3000044628","2026-08-01","FY27 Q2"]
[21000,"2022-03-11","2100044631","2026-08-01","FY27 Q2"]
[34000,"2022-03-12","3400044632","2026-08-01","FY27 Q2"]
[21000,"2022-03-14","2100044634","2026-08-01","FY27 Q2"]
[19000,"2022-03-17","1900044637","2026-08-01","FY27 Q2"]
[21000,"2022-03-19","2100044639","2026-08-01","FY27 Q2"]
[21000,"2022-03-21","2100044641","2026-08-01","FY27 Q2"]
[34000,"2022-03-23","3400044643","2026-08-01","FY27 Q2"]
[24000,"2022-03-24","2400044644","2026-08-01","FY27 Q2"]
[30000,"2022-03-27","3000044647","2026-08-01","FY27 Q2"]
[15000,"2022-03-29","1500044649","2026-08-01","FY27 Q2"]
[15000,"2022-04-01","1500044652","2026-08-01","FY27 Q2"]
[15000,"2022-04-03","1500044654","2026-08-01","FY27 Q2"]
[20000,"2022-04-05","2000044656","2026-08-01","FY27 Q2"]
[15000,"2022-04-06","1500044657","2026-08-01","FY27 Q2"]
[21000,"2022-04-09","2100044660","2026-08-01","FY27 Q2"]
[15000,"2022-04-11","1500044662","2026-08-01","FY27 Q2"]
[19000,"2022-04-13","1900044664","2026-08-01","FY27 Q2"]
[34000,"2022-04-15","3400044666","2026-08-01","FY27 Q2"]
[19000,"2022-04-16","1900044667","2026-08-01","FY27 Q2"]
[15000,"2022-04-20","1500044671","2026-08-01","FY27 Q2"]
[19000,"2022-04-21","1900044672","2026-08-01","FY27 Q2"]
[20000,"2022-04-24","2000044675","2026-08-01","FY27 Q2"]
[24000,"2022-04-25","2400044676","2026-08-01","FY27 Q2"]
[21000,"2022-04-26","2100044677","2026-08-01","FY27 Q2"]
[24000,"2022-04-28","2400044679","2026-08-01","FY27 Q2"]
[20000,"2022-05-01","2000044682","2026-08-01","FY27 Q2"]
[30000,"2022-05-02","3000044683","2026-08-01","FY27 Q2"]
[30000,"2022-05-05","3000044686","2026-08-01","FY27 Q2"]
[15000,"2022-05-07","1500044688","2026-08-01","FY27 Q2"]
[30000,"2022-05-10","3000044691","2026-08-01","FY27 Q2"]
[20000,"2022-05-11","2000044692","2026-08-01","FY27 Q2"]
[30000,"2022-05-13","3000044694","2026-08-01","FY27 Q2"]
[21000,"2022-05-15","2100044696","2026-08-01","FY27 Q2"]
[30000,"2022-05-18","3000044699","2026-08-01","FY27 Q2"]
[34000,"2022-05-20","3400044701","2026-08-01","FY27 Q2"]
[30000,"2022-05-21","3000044702","2026-08-01","FY27 Q2"]
[34000,"2022-05-23","3400044704","2026-08-01","FY27 Q2"]
[15000,"2022-05-26","1500044707","2026-08-01","FY27 Q2"]
[34000,"2022-05-28","3400044709","2026-08-01","FY27 Q2"]
[20000,"2022-05-30","2000044711","2026-08-01","FY27 Q2"]
[20000,"2022-06-02","2000044714","2026-08-01","FY27 Q2"]
[24000,"2022-06-03","2400044715","2026-08-01","FY27 Q2"]
[20000,"2022-06-05","2000044717","2026-08-01","FY27 Q2"]
[21000,"2022-06-07","2100044719","2026-08-01","FY27 Q2"]
[34000,"2022-06-09","3400044721","2026-08-01","FY27 Q2"]
[21000,"2022-06-12","2100044724","2026-08-01","FY27 Q2"]
[19000,"2022-06-14","1900044726","2026-08-01","FY27 Q2"]
[21000,"2022-06-15","2100044727","2026-08-01","FY27 Q2"]
[20000,"2022-06-18","2000044730","2026-08-01","FY27 Q2"]
[21000,"2022-06-20","2100044732","2026-08-01","FY27 Q2"]
[24000,"2022-06-22","2400044734","2026-08-01","FY27 Q2"]
[21000,"2022-06-23","2100044735","2026-08-01","FY27 Q2"]
[24000,"2022-06-25","2400044737","2026-08-01","FY27 Q2"]
[34000,"2022-06-28","3400044740","2026-08-01","FY27 Q2"]
[24000,"2022-06-30","2400044742","2026-08-01","FY27 Q2"]
[19000,"2022-07-03","1900044745","2026-08-01","FY27 Q2"]
[15000,"2022-07-05","1500044747","2026-08-01","FY27 Q2"]
[21000,"2022-07-07","2100044749","2026-08-01","FY27 Q2"]
[15000,"2022-07-08","1500044750","2026-08-01","FY27 Q2"]
[30000,"2022-07-11","3000044753","2026-08-01","FY27 Q2"]
[15000,"2022-07-13","1500044755","2026-08-01","FY27 Q2"]
[19000,"2022-07-15","1900044757","2026-08-01","FY27 Q2"]
[34000,"2022-07-15","3400044757","2026-08-01","FY27 Q2"]
[19000,"2022-07-18","1900044760","2026-08-01","FY27 Q2"]
[15000,"2022-07-20","1500044762","2026-08-01","FY27 Q2"]
[19000,"2022-07-23","1900044765","2026-08-01","FY27 Q2"]
[20000,"2022-07-24","2000044766","2026-08-01","FY27 Q2"]
[19000,"2022-07-28","1900044770","2026-08-01","FY27 Q2"]
[24000,"2022-07-28","2400044770","2026-08-01","FY27 Q2"]
[24000,"2022-07-30","2400044772","2026-08-01","FY27 Q2"]
[20000,"2022-08-02","2000044775","2026-08-01","FY27 Q2"]
[34000,"2022-08-03","3400044776","2026-08-01","FY27 Q2"]
[20000,"2022-08-07","2000044780","2026-08-01","FY27 Q2"]
[19000,"2022-08-08","1900044781","2026-08-01","FY27 Q2"]
[30000,"2022-08-09","3000044782","2026-08-01","FY27 Q2"]
[21000,"2022-08-12","2100044785","2026-08-01","FY27 Q2"]
[30000,"2022-08-14","3000044787","2026-08-01","FY27 Q2"]
[24000,"2022-08-16","2400044789","2026-08-01","FY27 Q2"]
[30000,"2022-08-19","3000044792","2026-08-01","FY27 Q2"]
[34000,"2022-08-21","3400044794","2026-08-01","FY27 Q2"]
[15000,"2022-08-23","1500044796","2026-08-01","FY27 Q2"]
[34000,"2022-08-24","3400044797","2026-08-01","FY27 Q2"]
[19000,"2022-08-27","1900044800","2026-08-01","FY27 Q2"]
[34000,"2022-08-29","3400044802","2026-08-01","FY27 Q2"]
[21000,"2022-08-31","2100044804","2026-08-01","FY27 Q2"]
[34000,"2022-09-01","3400044805","2026-08-01","FY27 Q2"]
[30000,"2022-09-04","3000044808","2026-08-01","FY27 Q2"]
[20000,"2022-09-06","2000044810","2026-08-01","FY27 Q2"]
[15000,"2022-09-09","1500044813","2026-08-01","FY27 Q2"]
[15000,"2022-09-11","1500044815","2026-08-01","FY27 Q2"]
[21000,"2022-09-13","2100044817","2026-08-01","FY27 Q2"]
[20000,"2022-09-15","2000044819","2026-08-01","FY27 Q2"]
[21000,"2022-09-16",{"$f":"_xlfn.CONCAT(A17156,B17156)","v":"2100044820"},"2026-08-01","FY27 Q2"]
[24000,"2022-09-19","2400044823","2026-08-01","FY27 Q2"]
[21000,"2022-09-21","2100044825","2026-08-01","FY27 Q2"]
[30000,"2022-09-23","3000044827","2026-08-01","FY27 Q2"]
[21000,"2022-09-24","2100044828","2026-08-01","FY27 Q2"]
[24000,"2022-09-26","2400044830","2026-08-01","FY27 Q2"]
[15000,"2022-09-30","1500044834","2026-08-01","FY27 Q2"]
[24000,"2022-10-01","2400044835","2026-08-01","FY27 Q2"]
[20000,"2022-10-04","2000044838","2026-08-01","FY27 Q2"]
[24000,"2022-10-04","2400044838","2026-08-01","FY27 Q2"]
[21000,"2022-10-06","2100044840","2026-08-01","FY27 Q2"]
[15000,"2022-10-09","1500044843","2026-08-01","FY27 Q2"]
[30000,"2022-10-11","3000044845","2026-08-01","FY27 Q2"]
[30000,"2022-10-12","3000044846","2026-08-01","FY27 Q2"]
[30000,"2022-10-14","3000044848","2026-08-01","FY27 Q2"]
[15000,"2022-10-17","1500044851","2026-08-01","FY27 Q2"]
[19000,"2022-10-19","1900044853","2026-08-01","FY27 Q2"]
[20000,"2022-10-21","2000044855","2026-08-01","FY27 Q2"]
[19000,"2022-10-24","1900044858","2026-08-01","FY27 Q2"]
[21000,"2022-10-25","2100044859","2026-08-01","FY27 Q2"]
[19000,"2022-10-27","1900044861","2026-08-01","FY27 Q2"]
[20000,"2022-10-29","2000044863","2026-08-01","FY27 Q2"]
[34000,"2022-10-31","3400044865","2026-08-01","FY27 Q2"]
[20000,"2022-11-03","2000044868","2026-08-01","FY27 Q2"]
[15000,"2022-11-05","1500044870","2026-08-01","FY27 Q2"]
[20000,"2022-11-08","2000044873","2026-08-01","FY27 Q2"]
[20000,"2022-11-09","2000044874","2026-08-01","FY27 Q2"]
[30000,"2022-11-10","3000044875","2026-08-01","FY27 Q2"]
[24000,"2022-11-13","2400044878","2026-08-01","FY27 Q2"]
[30000,"2022-11-15","3000044880","2026-08-01","FY27 Q2"]
[21000,"2022-11-18","2100044883","2026-08-01","FY27 Q2"]
[34000,"2022-11-19","3400044884","2026-08-01","FY27 Q2"]
[34000,"2022-11-20","3400044885","2026-08-01","FY27 Q2"]
[19000,"2022-11-24","1900044889","2026-08-01","FY27 Q2"]
[34000,"2022-11-25","3400044890","2026-08-01","FY27 Q2"]
[21000,"2022-11-28","2100044893","2026-08-01","FY27 Q2"]
[34000,"2022-11-30","3400044895","2026-08-01","FY27 Q2"]
[24000,"2022-12-02","2400044897","2026-08-01","FY27 Q2"]
[34000,"2022-12-03","3400044898","2026-08-01","FY27 Q2"]
[15000,"2022-12-06","1500044901","2026-08-01","FY27 Q2"]
[34000,"2022-12-08","3400044903","2026-08-01","FY27 Q2"]
[15000,"2022-12-11","1500044906","2026-08-01","FY27 Q2"]
[19000,"2022-12-13","1900044908","2026-08-01","FY27 Q2"]
[15000,"2022-12-14","1500044909","2026-08-01","FY27 Q2"]
[21000,"2022-12-17","2100044912","2026-08-01","FY27 Q2"]
[21000,"2022-12-18","2100044913","2026-08-01","FY27 Q2"]
[30000,"2022-12-21","3000044916","2026-08-01","FY27 Q2"]
[21000,"2022-12-23","2100044918","2026-08-01","FY27 Q2"]
[19000,"2022-12-24","1900044919","2026-08-01","FY27 Q2"]
[34000,"2022-12-25","3400044920","2026-08-01","FY27 Q2"]
[24000,"2022-12-28","2400044923","2026-08-01","FY27 Q2"]
[19000,"2022-12-30","1900044925","2026-08-01","FY27 Q2"]
[24000,"2023-01-02","2400044928","2026-08-01","FY27 Q2"]
[20000,"2023-01-03","2000044929","2026-08-01","FY27 Q2"]
[24000,"2023-01-05","2400044931","2026-08-01","FY27 Q2"]
[24000,"2023-01-07","2400044933","2026-08-01","FY27 Q2"]
[24000,"2023-01-10","2400044936","2026-08-01","FY27 Q2"]
[30000,"2023-01-12","3000044938","2026-08-01","FY27 Q2"]
[34000,"2023-01-13","3400044939","2026-08-01","FY27 Q2"]
[30000,"2023-01-15","3000044941","2026-08-01","FY27 Q2"]
[19000,"2023-01-18","1900044944","2026-08-01","FY27 Q2"]
[19000,"2023-01-20","1900044946","2026-08-01","FY27 Q2"]
[21000,"2023-01-22",{"$f":"_xlfn.CONCAT(A18052,B18052)","v":"2100044948"},"2026-08-01","FY27 Q2"]
[19000,"2023-01-25","1900044951","2026-08-01","FY27 Q2"]
[30000,"2023-01-26","3000044952","2026-08-01","FY27 Q2"]
[19000,"2023-01-28","1900044954","2026-08-01","FY27 Q2"]
[20000,"2023-01-30","2000044956","2026-08-01","FY27 Q2"]
[15000,"2023-02-02","1500044959","2026-08-01","FY27 Q2"]
[20000,"2023-02-04","2000044961","2026-08-01","FY27 Q2"]
[20000,"2023-02-06","2000044963","2026-08-01","FY27 Q2"]
[20000,"2023-02-07","2000044964","2026-08-01","FY27 Q2"]
[21000,"2023-02-10","2100044967","2026-08-01","FY27 Q2"]
[20000,"2023-02-12","2000044969","2026-08-01","FY27 Q2"]
[30000,"2023-02-14","3000044971","2026-08-01","FY27 Q2"]
[30000,"2023-02-16","3000044973","2026-08-01","FY27 Q2"]
[21000,"2023-02-19","2100044976","2026-08-01","FY27 Q2"]
[15000,"2023-02-21","1500044978","2026-08-01","FY27 Q2"]
[21000,"2023-02-22","2100044979","2026-08-01","FY27 Q2"]
[20000,"2023-02-25","2000044982","2026-08-01","FY27 Q2"]
[34000,"2023-02-26","3400044983","2026-08-01","FY27 Q2"]
[24000,"2023-03-01","2400044986","2026-08-01","FY27 Q2"]
[34000,"2023-03-03","3400044988","2026-08-01","FY27 Q2"]
[34000,"2023-03-05","3400044990","2026-08-01","FY27 Q2"]
[34000,"2023-03-06","3400044991","2026-08-01","FY27 Q2"]
[15000,"2023-03-09","1500044994","2026-08-01","FY27 Q2"]
[19000,"2023-03-12","1900044997","2026-08-01","FY27 Q2"]
[15000,"2023-03-14","1500044999","2026-08-01","FY27 Q2"]
[20000,"2023-03-16","2000045001","2026-08-01","FY27 Q2"]
[15000,"2023-03-17","1500045002","2026-08-01","FY27 Q2"]
[21000,"2023-03-18","2100045003","2026-08-01","FY27 Q2"]
[15000,"2023-03-22","1500045007","2026-08-01","FY27 Q2"]
[30000,"2023-03-22","3000045007","2026-08-01","FY27 Q2"]
[21000,"2023-03-26","2100045011","2026-08-01","FY27 Q2"]
[19000,"2023-03-27","1900045012","2026-08-01","FY27 Q2"]
[15000,"2023-03-29","1500045014","2026-08-01","FY27 Q2"]
[24000,"2023-03-31","2400045016","2026-08-01","FY27 Q2"]
[20000,"2023-04-02","2000045018","2026-08-01","FY27 Q2"]
[24000,"2023-04-05",{"$f":"_xlfn.CONCAT(A18564,B18564)","v":"2400045021"},"2026-08-01","FY27 Q2"]
[24000,"2023-04-06","2400045022","2026-08-01","FY27 Q2"]
[24000,"2023-04-08","2400045024","2026-08-01","FY27 Q2"]
[30000,"2023-04-10","3000045026","2026-08-01","FY27 Q2"]
[24000,"2023-04-13","2400045029","2026-08-01","FY27 Q2"]
[30000,"2023-04-15","3000045031","2026-08-01","FY27 Q2"]
[19000,"2023-04-17","1900045033","2026-08-01","FY27 Q2"]
[30000,"2023-04-18","3000045034","2026-08-01","FY27 Q2"]
[20000,"2023-04-21","2000045037","2026-08-01","FY27 Q2"]
[30000,"2023-04-23","3000045039","2026-08-01","FY27 Q2"]
[24000,"2023-04-25","2400045041","2026-08-01","FY27 Q2"]
[19000,"2023-04-28","1900045044","2026-08-01","FY27 Q2"]
[34000,"2023-04-29","3400045045","2026-08-01","FY27 Q2"]
[19000,"2023-05-01","1900045047","2026-08-01","FY27 Q2"]
[34000,"2023-05-03","3400045049","2026-08-01","FY27 Q2"]
[19000,"2023-05-06","1900045052","2026-08-01","FY27 Q2"]
[20000,"2023-05-08","2000045054","2026-08-01","FY27 Q2"]
[21000,"2023-05-10","2100045056","2026-08-01","FY27 Q2"]
[20000,"2023-05-11","2000045057","2026-08-01","FY27 Q2"]
[24000,"2023-05-14","2400045060","2026-08-01","FY27 Q2"]
[20000,"2023-05-16","2000045062","2026-08-01","FY27 Q2"]
[34000,"2023-05-18","3400045064","2026-08-01","FY27 Q2"]
[20000,"2023-05-21",{"$f":"_xlfn.CONCAT(A18884,B18884)","v":"2000045067"},"2026-08-01","FY27 Q2"]
[21000,"2023-05-21","2100045067","2026-08-01","FY27 Q2"]
[19000,"2023-05-25","1900045071","2026-08-01","FY27 Q2"]
[21000,"2023-05-26","2100045072","2026-08-01","FY27 Q2"]
[21000,"2023-05-29","2100045075","2026-08-01","FY27 Q2"]
[21000,"2023-05-31","2100045077","2026-08-01","FY27 Q2"]
[30000,"2023-06-02","3000045079","2026-08-01","FY27 Q2"]
[34000,"2023-06-02","3400045079","2026-08-01","FY27 Q2"]
[24000,"2023-06-05","2400045082","2026-08-01","FY27 Q2"]
[34000,"2023-06-06","3400045083","2026-08-01","FY27 Q2"]
[15000,"2023-06-10","1500045087","2026-08-01","FY27 Q2"]
[19000,"2023-06-11","1900045088","2026-08-01","FY27 Q2"]
[15000,"2023-06-15","1500045092","2026-08-01","FY27 Q2"]
[21000,"2023-06-15","2100045092","2026-08-01","FY27 Q2"]
[15000,"2023-06-18","1500045095","2026-08-01","FY27 Q2"]
[24000,"2023-06-19","2400045096","2026-08-01","FY27 Q2"]
[15000,"2023-06-23","1500045100","2026-08-01","FY27 Q2"]
[19000,"2023-06-25","1900045102","2026-08-01","FY27 Q2"]
[15000,"2023-06-26","1500045103","2026-08-01","FY27 Q2"]
[19000,"2023-06-28","1900045105","2026-08-01","FY27 Q2"]
[19000,"2023-06-30","1900045107","2026-08-01","FY27 Q2"]
[19000,"2023-07-03","1900045110","2026-08-01","FY27 Q2"]
[21000,"2023-07-04","2100045111","2026-08-01","FY27 Q2"]
[24000,"2023-07-07","2400045114","2026-08-01","FY27 Q2"]
[30000,"2023-07-08","3000045115","2026-08-01","FY27 Q2"]
[24000,"2023-07-10","2400045117","2026-08-01","FY27 Q2"]
[20000,"2023-07-13","2000045120","2026-08-01","FY27 Q2"]
[15000,"2023-07-15","1500045122","2026-08-01","FY27 Q2"]
[30000,"2023-07-17","3000045124","2026-08-01","FY27 Q2"]
[20000,"2023-07-19","2000045126","2026-08-01","FY27 Q2"]
[30000,"2023-07-20","3000045127","2026-08-01","FY27 Q2"]
[21000,"2023-07-23","2100045130","2026-08-01","FY27 Q2"]
[30000,"2023-07-25","3000045132","2026-08-01","FY27 Q2"]
[30000,"2023-07-27","3000045134","2026-08-01","FY27 Q2"]
[30000,"2023-07-28","3000045135","2026-08-01","FY27 Q2"]
[34000,"2023-07-30","3400045137","2026-08-01","FY27 Q2"]
[15000,"2023-08-03","1500045141","2026-08-01","FY27 Q2"]
[34000,"2023-08-04","3400045142","2026-08-01","FY27 Q2"]
[20000,"2023-08-07","2000045145","2026-08-01","FY27 Q2"]
[34000,"2023-08-07","3400045145","2026-08-01","FY27 Q2"]
[24000,"2023-08-11",{"$f":"_xlfn.CONCAT(A19460,B19460)","v":"2400045149"},"2026-08-01","FY27 Q2"]
[20000,"2023-08-12","2000045150","2026-08-01","FY27 Q2"]
[34000,"2023-08-15","3400045153","2026-08-01","FY27 Q2"]
[20000,"2023-08-17","2000045155","2026-08-01","FY27 Q2"]
[21000,"2023-08-19","2100045157","2026-08-01","FY27 Q2"]
[19000,"2023-08-22","1900045160","2026-08-01","FY27 Q2"]
[21000,"2023-08-22","2100045160","2026-08-01","FY27 Q2"]
[20000,"2023-08-24","2000045162","2026-08-01","FY27 Q2"]
[21000,"2023-08-27","2100045165","2026-08-01","FY27 Q2"]
[21000,"2023-08-28","2100045166","2026-08-01","FY27 Q2"]
[21000,"2023-09-01","2100045170","2026-08-01","FY27 Q2"]
[30000,"2023-09-01","3000045170","2026-08-01","FY27 Q2"]
[34000,"2023-09-03","3400045172","2026-08-01","FY27 Q2"]
[24000,"2023-09-06","2400045175","2026-08-01","FY27 Q2"]
[15000,"2023-09-08",{"$f":"_xlfn.CONCAT(A19652,B19652)","v":"1500045177"},"2026-08-01","FY27 Q2"]
[24000,"2023-09-11","2400045180","2026-08-01","FY27 Q2"]
[20000,"2023-09-12","2000045181","2026-08-01","FY27 Q2"]
[15000,"2023-09-14","1500045183","2026-08-01","FY27 Q2"]
[24000,"2023-09-16","2400045185","2026-08-01","FY27 Q2"]
[15000,"2023-09-19","1500045188","2026-08-01","FY27 Q2"]
[34000,"2023-09-20","3400045189","2026-08-01","FY27 Q2"]
[15000,"2023-09-24","1500045193","2026-08-01","FY27 Q2"]
[19000,"2023-09-26","1900045195","2026-08-01","FY27 Q2"]
[19000,"2023-09-27","1900045196","2026-08-01","FY27 Q2"]
[19000,"2023-09-29","1900045198","2026-08-01","FY27 Q2"]
[20000,"2023-10-01","2000045200","2026-08-01","FY27 Q2"]
[19000,"2023-10-04","1900045203","2026-08-01","FY27 Q2"]
[24000,"2023-10-05","2400045204","2026-08-01","FY27 Q2"]
[19000,"2023-10-07","1900045206","2026-08-01","FY27 Q2"]
[34000,"2023-10-09","3400045208","2026-08-01","FY27 Q2"]
[24000,"2023-10-11","2400045210","2026-08-01","FY27 Q2"]
[20000,"2023-10-14","2000045213","2026-08-01","FY27 Q2"]
[19000,"2023-10-16","1900045215","2026-08-01","FY27 Q2"]
[20000,"2023-10-17","2000045216","2026-08-01","FY27 Q2"]
[21000,"2023-10-20","2100045219","2026-08-01","FY27 Q2"]
[30000,"2023-10-21","3000045220","2026-08-01","FY27 Q2"]
[30000,"2023-10-24","3000045223","2026-08-01","FY27 Q2"]
[30000,"2023-10-26","3000045225","2026-08-01","FY27 Q2"]
[34000,"2023-10-28","3400045227","2026-08-01","FY27 Q2"]
[30000,"2023-10-29","3000045228","2026-08-01","FY27 Q2"]
[34000,"2023-10-31","3400045230","2026-08-01","FY27 Q2"]
[20000,"2023-11-04","2000045234","2026-08-01","FY27 Q2"]
[34000,"2023-11-05","3400045235","2026-08-01","FY27 Q2"]
[21000,"2023-11-08","2100045238","2026-08-01","FY27 Q2"]
[34000,"2023-11-08","3400045238","2026-08-01","FY27 Q2"]
[30000,"2023-11-12","3000045242","2026-08-01","FY27 Q2"]
[20000,"2023-11-13","2000045243","2026-08-01","FY27 Q2"]
[34000,"2023-11-14","3400045244","2026-08-01","FY27 Q2"]
[20000,"2023-11-18","2000045248","2026-08-01","FY27 Q2"]
[15000,"2023-11-19","1500045249","2026-08-01","FY27 Q2"]
[19000,"2023-11-21","1900045251","2026-08-01","FY27 Q2"]
[21000,"2023-11-23","2100045253","2026-08-01","FY27 Q2"]
[21000,"2023-11-25","2100045255","2026-08-01","FY27 Q2"]
[21000,"2023-11-28","2100045258","2026-08-01","FY27 Q2"]
[30000,"2023-11-29","3000045259","2026-08-01","FY27 Q2"]
[21000,"2023-12-01","2100045261","2026-08-01","FY27 Q2"]
[34000,"2023-12-03","3400045263","2026-08-01","FY27 Q2"]
[21000,"2023-12-06","2100045266","2026-08-01","FY27 Q2"]
[24000,"2023-12-08","2400045268","2026-08-01","FY27 Q2"]
[19000,"2023-12-10","1900045270","2026-08-01","FY27 Q2"]
[24000,"2023-12-13","2400045273","2026-08-01","FY27 Q2"]
[21000,"2023-12-14","2100045274","2026-08-01","FY27 Q2"]
[24000,"2023-12-16","2400045276","2026-08-01","FY27 Q2"]
[30000,"2023-12-18","3000045278","2026-08-01","FY27 Q2"]
[15000,"2023-12-21","1500045281","2026-08-01","FY27 Q2"]
[15000,"2023-12-23","1500045283","2026-08-01","FY27 Q2"]
[15000,"2023-12-26","1500045286","2026-08-01","FY27 Q2"]
[30000,"2023-12-26",{"$f":"_xlfn.CONCAT(A20420,B20420)","v":"3000045286"},"2026-08-01","FY27 Q2"]
[20000,"2023-12-29","2000045289","2026-08-01","FY27 Q2"]
[19000,"2023-12-31","1900045291","2026-08-01","FY27 Q2"]
[24000,"2024-01-02","2400045293","2026-08-01","FY27 Q2"]
[19000,"2024-01-05","1900045296","2026-08-01","FY27 Q2"]
[30000,"2024-01-06","3000045297","2026-08-01","FY27 Q2"]
[19000,"2024-01-08","1900045299","2026-08-01","FY27 Q2"]
[15000,"2024-01-11","1500045302","2026-08-01","FY27 Q2"]
[19000,"2024-01-13","1900045304","2026-08-01","FY27 Q2"]
[20000,"2024-01-15","2000045306","2026-08-01","FY27 Q2"]
[20000,"2024-01-17","2000045308","2026-08-01","FY27 Q2"]
[20000,"2024-01-18","2000045309","2026-08-01","FY27 Q2"]
[24000,"2024-01-21","2400045312","2026-08-01","FY27 Q2"]
[30000,"2024-01-22","3000045313","2026-08-01","FY27 Q2"]
[34000,"2024-01-25","3400045316","2026-08-01","FY27 Q2"]
[30000,"2024-01-27","3000045318","2026-08-01","FY27 Q2"]
[19000,"2024-01-30","1900045321","2026-08-01","FY27 Q2"]
[30000,"2024-01-30","3000045321","2026-08-01","FY27 Q2"]
[34000,"2024-02-01","3400045323","2026-08-01","FY27 Q2"]
[20000,"2024-02-03","2000045325","2026-08-01","FY27 Q2"]
[34000,"2024-02-06","3400045328","2026-08-01","FY27 Q2"]
[24000,"2024-02-07","2400045329","2026-08-01","FY27 Q2"]
[34000,"2024-02-09","3400045331","2026-08-01","FY27 Q2"]
[30000,"2024-02-11","3000045333","2026-08-01","FY27 Q2"]
[34000,"2024-02-14","3400045336","2026-08-01","FY27 Q2"]
[15000,"2024-02-17","1500045339","2026-08-01","FY27 Q2"]
[15000,"2024-02-18","1500045340","2026-08-01","FY27 Q2"]
[15000,"2024-02-20","1500045342","2026-08-01","FY27 Q2"]
[20000,"2024-02-22","2000045344","2026-08-01","FY27 Q2"]
[15000,"2024-02-25","1500045347","2026-08-01","FY27 Q2"]
[24000,"2024-02-26","2400045348","2026-08-01","FY27 Q2"]
[21000,"2024-02-29","2100045351","2026-08-01","FY27 Q2"]
[34000,"2024-03-01","3400045352","2026-08-01","FY27 Q2"]
[21000,"2024-03-03","2100045354","2026-08-01","FY27 Q2"]
[24000,"2024-03-05","2400045356","2026-08-01","FY27 Q2"]
[19000,"2024-03-08","1900045359","2026-08-01","FY27 Q2"]
[24000,"2024-03-10","2400045361","2026-08-01","FY27 Q2"]
[21000,"2024-03-12","2100045363","2026-08-01","FY27 Q2"]
[24000,"2024-03-13","2400045364","2026-08-01","FY27 Q2"]
[24000,"2024-03-16","2400045367","2026-08-01","FY27 Q2"]
[24000,"2024-03-18","2400045369","2026-08-01","FY27 Q2"]
[34000,"2024-03-20","3400045371","2026-08-01","FY27 Q2"]
[24000,"2024-03-23","2400045374","2026-08-01","FY27 Q2"]
[30000,"2024-03-25","3000045376","2026-08-01","FY27 Q2"]
[19000,"2024-03-27",{"$f":"_xlfn.CONCAT(A21060,B21060)","v":"1900045378"},"2026-08-01","FY27 Q2"]
[30000,"2024-03-28","3000045379","2026-08-01","FY27 Q2"]
[21000,"2024-03-31","2100045382","2026-08-01","FY27 Q2"]
[19000,"2024-04-02","1900045384","2026-08-01","FY27 Q2"]
[30000,"2024-04-04","3000045386","2026-08-01","FY27 Q2"]
[19000,"2024-04-07","1900045389","2026-08-01","FY27 Q2"]
[15000,"2024-04-09","1500045391","2026-08-01","FY27 Q2"]
[19000,"2024-04-10","1900045392","2026-08-01","FY27 Q2"]
[20000,"2024-04-12","2000045394","2026-08-01","FY27 Q2"]
[20000,"2024-04-15","2000045397","2026-08-01","FY27 Q2"]
[20000,"2024-04-17","2000045399","2026-08-01","FY27 Q2"]
[24000,"2024-04-19","2400045401","2026-08-01","FY27 Q2"]
[20000,"2024-04-20","2000045402","2026-08-01","FY27 Q2"]
[30000,"2024-04-23","3000045405","2026-08-01","FY27 Q2"]
[20000,"2024-04-25","2000045407","2026-08-01","FY27 Q2"]
[34000,"2024-04-25","3400045407","2026-08-01","FY27 Q2"]
[30000,"2024-04-29","3000045411","2026-08-01","FY27 Q2"]
[21000,"2024-04-30","2100045412","2026-08-01","FY27 Q2"]
[19000,"2024-05-02","1900045414","2026-08-01","FY27 Q2"]
[21000,"2024-05-05","2100045417","2026-08-01","FY27 Q2"]
[21000,"2024-05-06","2100045418","2026-08-01","FY27 Q2"]
[34000,"2024-05-09","3400045421","2026-08-01","FY27 Q2"]
[30000,"2024-05-10","3000045422","2026-08-01","FY27 Q2"]
[34000,"2024-05-12","3400045424","2026-08-01","FY27 Q2"]
[34000,"2024-05-14","3400045426","2026-08-01","FY27 Q2"]
[34000,"2024-05-17","3400045429","2026-08-01","FY27 Q2"]
[15000,"2024-05-20","1500045432","2026-08-01","FY27 Q2"]
[20000,"2024-05-21","2000045433","2026-08-01","FY27 Q2"]
[15000,"2024-05-23","1500045435","2026-08-01","FY27 Q2"]
[21000,"2024-05-25","2100045437","2026-08-01","FY27 Q2"]
[15000,"2024-05-28","1500045440","2026-08-01","FY27 Q2"]
[30000,"2024-05-29","3000045441","2026-08-01","FY27 Q2"]
[15000,"2024-05-31","1500045443","2026-08-01","FY27 Q2"]
[15000,"2024-06-03","1500045446","2026-08-01","FY27 Q2"]
[21000,"2024-06-04","2100045447","2026-08-01","FY27 Q2"]
[19000,"2024-06-07","1900045450","2026-08-01","FY27 Q2"]
[20000,"2024-06-09","2000045452","2026-08-01","FY27 Q2"]
[24000,"2024-06-11","2400045454","2026-08-01","FY27 Q2"]
[24000,"2024-06-13","2400045456","2026-08-01","FY27 Q2"]
[24000,"2024-06-14","2400045457","2026-08-01","FY27 Q2"]
[34000,"2024-06-17","3400045460","2026-08-01","FY27 Q2"]
[24000,"2024-06-19","2400045462","2026-08-01","FY27 Q2"]
[15000,"2024-06-22","1500045465","2026-08-01","FY27 Q2"]
[24000,"2024-06-24","2400045467","2026-08-01","FY27 Q2"]
[30000,"2024-06-24","3000045467","2026-08-01","FY27 Q2"]
[21000,"2024-06-28","2100045471","2026-08-01","FY27 Q2"]
[30000,"2024-06-29","3000045472","2026-08-01","FY27 Q2"]
[24000,"2024-07-02","2400045475","2026-08-01","FY27 Q2"]
[30000,"2024-07-04","3000045477","2026-08-01","FY27 Q2"]
[34000,"2024-07-06","3400045479","2026-08-01","FY27 Q2"]
[19000,"2024-07-07","1900045480","2026-08-01","FY27 Q2"]
[19000,"2024-07-11","1900045484","2026-08-01","FY27 Q2"]
[19000,"2024-07-12","1900045485","2026-08-01","FY27 Q2"]
[34000,"2024-07-14",{"$f":"_xlfn.CONCAT(A21828,B21828)","v":"3400045487"},"2026-08-01","FY27 Q2"]
[20000,"2024-07-15","2000045488","2026-08-01","FY27 Q2"]
[20000,"2024-07-19","2000045492","2026-08-01","FY27 Q2"]
[24000,"2024-07-19","2400045492","2026-08-01","FY27 Q2"]
[20000,"2024-07-22","2000045495","2026-08-01","FY27 Q2"]
[30000,"2024-07-23","3000045496","2026-08-01","FY27 Q2"]
[20000,"2024-07-27","2000045500","2026-08-01","FY27 Q2"]
[15000,"2024-07-28","1500045501","2026-08-01","FY27 Q2"]
[20000,"2024-07-30","2000045503","2026-08-01","FY27 Q2"]
[21000,"2024-08-01","2100045505","2026-08-01","FY27 Q2"]
[20000,"2024-08-03","2000045507","2026-08-01","FY27 Q2"]
[21000,"2024-08-06","2100045510","2026-08-01","FY27 Q2"]
[24000,"2024-08-07","2400045511","2026-08-01","FY27 Q2"]
[21000,"2024-08-09","2100045513","2026-08-01","FY27 Q2"]
[34000,"2024-08-11","3400045515","2026-08-01","FY27 Q2"]
[34000,"2024-08-13","3400045517","2026-08-01","FY27 Q2"]
[19000,"2024-08-16","1900045520","2026-08-01","FY27 Q2"]
[34000,"2024-08-18","3400045522","2026-08-01","FY27 Q2"]
[15000,"2024-08-21","1500045525","2026-08-01","FY27 Q2"]
[21000,"2024-08-22","2100045526","2026-08-01","FY27 Q2"]
[15000,"2024-08-24","1500045528","2026-08-01","FY27 Q2"]
[30000,"2024-08-26","3000045530","2026-08-01","FY27 Q2"]
[15000,"2024-08-29","1500045533","2026-08-01","FY27 Q2"]
[34000,"2024-08-30","3400045534","2026-08-01","FY27 Q2"]
[15000,"2024-09-01","1500045536","2026-08-01","FY27 Q2"]
[19000,"2024-09-04","1900045539","2026-08-01","FY27 Q2"]
[21000,"2024-09-05","2100045540","2026-08-01","FY27 Q2"]
[19000,"2024-09-08","1900045543","2026-08-01","FY27 Q2"]
[21000,"2024-09-10","2100045545","2026-08-01","FY27 Q2"]
[19000,"2024-09-11","1900045546","2026-08-01","FY27 Q2"]
[30000,"2024-09-14","3000045549","2026-08-01","FY27 Q2"]
[24000,"2024-09-15","2400045550","2026-08-01","FY27 Q2"]
[15000,"2024-09-19","1500045554","2026-08-01","FY27 Q2"]
[24000,"2024-09-20","2400045555","2026-08-01","FY27 Q2"]
[20000,"2024-09-23","2000045558","2026-08-01","FY27 Q2"]
[24000,"2024-09-23","2400045558","2026-08-01","FY27 Q2"]
[30000,"2024-09-25","3000045560","2026-08-01","FY27 Q2"]
[24000,"2024-09-29","2400045564","2026-08-01","FY27 Q2"]
[30000,"2024-09-30","3000045565","2026-08-01","FY27 Q2"]
[30000,"2024-10-03","3000045568","2026-08-01","FY27 Q2"]
[30000,"2024-10-05","3000045570","2026-08-01","FY27 Q2"]
[34000,"2024-10-05","3400045570","2026-08-01","FY27 Q2"]
[30000,"2024-10-08","3000045573","2026-08-01","FY27 Q2"]
[34000,"2024-10-10","3400045575","2026-08-01","FY27 Q2"]
[19000,"2024-10-12","1900045577","2026-08-01","FY27 Q2"]
[34000,"2024-10-15","3400045580","2026-08-01","FY27 Q2"]
[21000,"2024-10-16","2100045581","2026-08-01","FY27 Q2"]
[34000,"2024-10-18","3400045583","2026-08-01","FY27 Q2"]
[30000,"2024-10-20","3000045585","2026-08-01","FY27 Q2"]
[20000,"2024-10-23","2000045588","2026-08-01","FY27 Q2"]
[15000,"2024-10-25","1500045590","2026-08-01","FY27 Q2"]
[20000,"2024-10-28","2000045593","2026-08-01","FY27 Q2"]
[21000,"2024-10-30","2100045595","2026-08-01","FY27 Q2"]
[20000,"2024-10-31","2000045596","2026-08-01","FY27 Q2"]
[21000,"2024-11-02","2100045598","2026-08-01","FY27 Q2"]
[24000,"2024-11-04","2400045600","2026-08-01","FY27 Q2"]
[21000,"2024-11-07","2100045603","2026-08-01","FY27 Q2"]
[30000,"2024-11-08","3000045604","2026-08-01","FY27 Q2"]
[21000,"2024-11-10","2100045606","2026-08-01","FY27 Q2"]
[15000,"2024-11-13","1500045609","2026-08-01","FY27 Q2"]
[34000,"2024-11-14","3400045610","2026-08-01","FY27 Q2"]
[24000,"2024-11-17","2400045613","2026-08-01","FY27 Q2"]
[20000,"2024-11-19","2000045615","2026-08-01","FY27 Q2"]
[24000,"2024-11-20","2400045616","2026-08-01","FY27 Q2"]
[24000,"2024-11-23","2400045619","2026-08-01","FY27 Q2"]
[15000,"2024-11-25","1500045621","2026-08-01","FY27 Q2"]
[34000,"2024-11-27","3400045623","2026-08-01","FY27 Q2"]
[15000,"2024-11-30","1500045626","2026-08-01","FY27 Q2"]
[19000,"2024-12-02","1900045628","2026-08-01","FY27 Q2"]
[15000,"2024-12-03","1500045629","2026-08-01","FY27 Q2"]
[19000,"2024-12-05","1900045631","2026-08-01","FY27 Q2"]
[21000,"2024-12-08","2100045634","2026-08-01","FY27 Q2"]
[19000,"2024-12-10","1900045636","2026-08-01","FY27 Q2"]
[24000,"2024-12-12","2400045638","2026-08-01","FY27 Q2"]
[19000,"2024-12-13","1900045639","2026-08-01","FY27 Q2"]
[34000,"2024-12-16","3400045642","2026-08-01","FY27 Q2"]
[19000,"2024-12-18","1900045644","2026-08-01","FY27 Q2"]
[19000,"2024-12-21","1900045647","2026-08-01","FY27 Q2"]
[24000,"2024-12-22","2400045648","2026-08-01","FY27 Q2"]
[20000,"2024-12-23","2000045649","2026-08-01","FY27 Q2"]
[20000,"2024-12-25","2000045651","2026-08-01","FY27 Q2"]
[30000,"2024-12-27","3000045653","2026-08-01","FY27 Q2"]
[24000,"2024-12-29","2400045655","2026-08-01","FY27 Q2"]
[30000,"2025-01-01","3000045658","2026-08-01","FY27 Q2"]
[34000,"2025-01-02","3400045659","2026-08-01","FY27 Q2"]
[30000,"2025-01-04","3000045661","2026-08-01","FY27 Q2"]
[15000,"2025-01-07","1500045664","2026-08-01","FY27 Q2"]
[30000,"2025-01-09","3000045666","2026-08-01","FY27 Q2"]
[34000,"2025-01-11","3400045668","2026-08-01","FY27 Q2"]
[21000,"2025-01-13","2100045670","2026-08-01","FY27 Q2"]
[34000,"2025-01-16","3400045673","2026-08-01","FY27 Q2"]
[24000,"2025-01-17","2400045674","2026-08-01","FY27 Q2"]
[34000,"2025-01-19","3400045676","2026-08-01","FY27 Q2"]
[34000,"2025-01-21","3400045678","2026-08-01","FY27 Q2"]
[20000,"2025-01-24","2000045681","2026-08-01","FY27 Q2"]
[19000,"2025-01-26","1900045683","2026-08-01","FY27 Q2"]
[20000,"2025-01-29","2000045686","2026-08-01","FY27 Q2"]
[15000,"2025-01-30","1500045687","2026-08-01","FY27 Q2"]
[21000,"2025-02-01","2100045689","2026-08-01","FY27 Q2"]
[21000,"2025-02-03","2100045691","2026-08-01","FY27 Q2"]
[30000,"2025-02-05","3000045693","2026-08-01","FY27 Q2"]
[21000,"2025-02-08","2100045696","2026-08-01","FY27 Q2"]
[15000,"2025-02-10","1500045698","2026-08-01","FY27 Q2"]
[21000,"2025-02-11","2100045699","2026-08-01","FY27 Q2"]
[19000,"2025-02-14","1900045702","2026-08-01","FY27 Q2"]
[21000,"2025-02-16","2100045704","2026-08-01","FY27 Q2"]
[24000,"2025-02-18","2400045706","2026-08-01","FY27 Q2"]
[21000,"2025-02-20","2100045708","2026-08-01","FY27 Q2"]
[24000,"2025-02-21","2400045709","2026-08-01","FY27 Q2"]
[30000,"2025-02-24","3000045712","2026-08-01","FY27 Q2"]
[24000,"2025-02-26","2400045714","2026-08-01","FY27 Q2"]
[15000,"2025-03-01","1500045717","2026-08-01","FY27 Q2"]
[15000,"2025-03-02","1500045718","2026-08-01","FY27 Q2"]
[20000,"2025-03-03","2000045719","2026-08-01","FY27 Q2"]
[15000,"2025-03-03","1500045719","2026-08-01","FY27 Q2"]
[19000,"2025-03-04","1900045720","2026-08-01","FY27 Q2"]
[24000,"2025-03-06","2400045722","2026-08-01","FY27 Q2"]
[19000,"2025-03-07","1900045723","2026-08-01","FY27 Q2"]
[30000,"2025-03-07","3000045723","2026-08-01","FY27 Q2"]
[19000,"2025-03-08","1900045724","2026-08-01","FY27 Q2"]
[34000,"2025-03-09","3400045725","2026-08-01","FY27 Q2"]
[19000,"2025-03-11","1900045727","2026-08-01","FY27 Q2"]
[19000,"2025-03-11","1900045727","2026-08-01","FY27 Q2"]
[19000,"2025-03-12","1900045728","2026-08-01","FY27 Q2"]
[20000,"2025-03-13","2000045729","2026-08-01","FY27 Q2"]
[21000,"2025-03-14","2100045730","2026-08-01","FY27 Q2"]
[20000,"2025-03-16","2000045732","2026-08-01","FY27 Q2"]
[30000,"2025-03-16","3000045732","2026-08-01","FY27 Q2"]
[30000,"2025-03-18","3000045734","2026-08-01","FY27 Q2"]
[15000,"2025-03-19",{"$f":"_xlfn.CONCAT(A23684,B23684)","v":"1500045735"},"2026-08-01","FY27 Q2"]
[30000,"2025-03-19","3000045735","2026-08-01","FY27 Q2"]
[20000,"2025-03-21","2000045737","2026-08-01","FY27 Q2"]
[30000,"2025-03-22","3000045738","2026-08-01","FY27 Q2"]
[34000,"2025-03-23","3400045739","2026-08-01","FY27 Q2"]
[24000,"2025-03-24","2400045740","2026-08-01","FY27 Q2"]
[34000,"2025-03-24","3400045740","2026-08-01","FY27 Q2"]
[34000,"2025-03-26","3400045742","2026-08-01","FY27 Q2"]
[34000,"2025-03-27","3400045743","2026-08-01","FY27 Q2"]
[15000,"2025-03-28","1500045744","2026-08-01","FY27 Q2"]
[34000,"2025-03-29","3400045745","2026-08-01","FY27 Q2"]
[20000,"2025-03-30","2000045746","2026-08-01","FY27 Q2"]
[20000,"2025-03-31","2000045747","2026-08-01","FY27 Q2"]
[15000,"2025-04-02","1500045749","2026-08-01","FY27 Q2"]
[30000,"2025-04-04","3000045751","2026-08-01","FY27 Q2"]
[15000,"2025-04-07","1500045754","2026-08-01","FY27 Q2"]
[19000,"2025-04-08","1900045755","2026-08-01","FY27 Q2"]
[24000,"2025-04-11","2400045758","2026-08-01","FY27 Q2"]
[20000,"2025-04-13","2000045760","2026-08-01","FY27 Q2"]
[24000,"2025-04-14","2400045761","2026-08-01","FY27 Q2"]
[21000,"2025-04-17","2100045764","2026-08-01","FY27 Q2"]
[24000,"2025-04-19","2400045766","2026-08-01","FY27 Q2"]
[30000,"2025-04-21","3000045768","2026-08-01","FY27 Q2"]
[34000,"2025-04-23","3400045770","2026-08-01","FY27 Q2"]
[30000,"2025-04-24","3000045771","2026-08-01","FY27 Q2"]
[19000,"2025-04-27","1900045774","2026-08-01","FY27 Q2"]
[30000,"2025-04-29","3000045776","2026-08-01","FY27 Q2"]
[20000,"2025-05-02","2000045779","2026-08-01","FY27 Q2"]
[30000,"2025-05-02","3000045779","2026-08-01","FY27 Q2"]
[34000,"2025-05-04","3400045781","2026-08-01","FY27 Q2"]
[21000,"2025-05-06","2100045783","2026-08-01","FY27 Q2"]
[34000,"2025-05-09","3400045786","2026-08-01","FY27 Q2"]
[30000,"2025-05-10","3000045787","2026-08-01","FY27 Q2"]
[20000,"2025-05-14","2000045791","2026-08-01","FY27 Q2"]
[19000,"2025-05-14","1900045791","2026-08-01","FY27 Q2"]
[20000,"2025-05-17","2000045794","2026-08-01","FY27 Q2"]
[20000,"2025-05-19","2000045796","2026-08-01","FY27 Q2"]
[20000,"2025-05-22","2000045799","2026-08-01","FY27 Q2"]
[21000,"2025-05-24","2100045801","2026-08-01","FY27 Q2"]
[24000,"2025-05-25","2400045802","2026-08-01","FY27 Q2"]
[21000,"2025-05-27",{"$f":"_xlfn.CONCAT(A24260,B24260)","v":"2100045804"},"2026-08-01","FY27 Q2"]
[30000,"2025-05-29","3000045806","2026-08-01","FY27 Q2"]
[21000,"2025-06-01","2100045809","2026-08-01","FY27 Q2"]
[19000,"2025-06-02","1900045810","2026-08-01","FY27 Q2"]
[21000,"2025-06-04","2100045812","2026-08-01","FY27 Q2"]
[20000,"2025-06-07","2000045815","2026-08-01","FY27 Q2"]
[34000,"2025-06-08","3400045816","2026-08-01","FY27 Q2"]
[24000,"2025-06-11","2400045819","2026-08-01","FY27 Q2"]
[24000,"2025-06-13","2400045821","2026-08-01","FY27 Q2"]
[24000,"2025-06-16","2400045824","2026-08-01","FY27 Q2"]
[34000,"2025-06-17","3400045825","2026-08-01","FY27 Q2"]
[19000,"2025-06-18","1900045826","2026-08-01","FY27 Q2"]
[15000,"2025-06-22","1500045830","2026-08-01","FY27 Q2"]
[19000,"2025-06-23","1900045831","2026-08-01","FY27 Q2"]
[20000,"2025-06-26","2000045834","2026-08-01","FY27 Q2"]
[19000,"2025-06-28","1900045836","2026-08-01","FY27 Q2"]
[15000,"2025-06-29","1500045837","2026-08-01","FY27 Q2"]
[30000,"2025-07-02","3000045840","2026-08-01","FY27 Q2"]
[15000,"2025-07-04","1500045842","2026-08-01","FY27 Q2"]
[34000,"2025-07-06","3400045844","2026-08-01","FY27 Q2"]
[15000,"2025-07-09","1500045847","2026-08-01","FY27 Q2"]
[15000,"2025-07-11","1500045849","2026-08-01","FY27 Q2"]
[15000,"2025-07-12",{"$f":"_xlfn.CONCAT(A24580,B24580)","v":"1500045850"},"2026-08-01","FY27 Q2"]
[21000,"2025-07-15","2100045853","2026-08-01","FY27 Q2"]
[24000,"2025-07-16","2400045854","2026-08-01","FY27 Q2"]
[20000,"2025-07-19","2000045857","2026-08-01","FY27 Q2"]
[30000,"2025-07-21","3000045859","2026-08-01","FY27 Q2"]
[30000,"2025-07-23","3000045861","2026-08-01","FY27 Q2"]
[34000,"2025-07-23","3400045861","2026-08-01","FY27 Q2"]
[30000,"2025-07-26","3000045864","2026-08-01","FY27 Q2"]
[15000,"2025-07-28","1500045866","2026-08-01","FY27 Q2"]
[30000,"2025-07-31","3000045869","2026-08-01","FY27 Q2"]
[20000,"2025-08-01","2000045870","2026-08-01","FY27 Q2"]
[30000,"2025-08-03","3000045872","2026-08-01","FY27 Q2"]
[34000,"2025-08-05","3400045874","2026-08-01","FY27 Q2"]
[24000,"2025-08-07","2400045876","2026-08-01","FY27 Q2"]
[34000,"2025-08-10","3400045879","2026-08-01","FY27 Q2"]
[34000,"2025-08-11","3400045880","2026-08-01","FY27 Q2"]
[34000,"2025-08-13","3400045882","2026-08-01","FY27 Q2"]
[15000,"2025-08-16","1500045885","2026-08-01","FY27 Q2"]
[20000,"2025-08-18","2000045887","2026-08-01","FY27 Q2"]
[21000,"2025-08-20","2100045889","2026-08-01","FY27 Q2"]
[20000,"2025-08-23","2000045892","2026-08-01","FY27 Q2"]
[19000,"2025-08-23","1900045892","2026-08-01","FY27 Q2"]
[30000,"2025-08-26","3000045895","2026-08-01","FY27 Q2"]
[21000,"2025-08-28","2100045897","2026-08-01","FY27 Q2"]
[19000,"2025-08-30","1900045899","2026-08-01","FY27 Q2"]
[21000,"2025-09-02","2100045902","2026-08-01","FY27 Q2"]
[15000,"2025-09-04","1500045904","2026-08-01","FY27 Q2"]
[21000,"2025-09-05","2100045905","2026-08-01","FY27 Q2"]
[21000,"2025-09-08","2100045908","2026-08-01","FY27 Q2"]
[21000,"2025-09-10","2100045910","2026-08-01","FY27 Q2"]
[24000,"2025-09-12","2400045912","2026-08-01","FY27 Q2"]
[30000,"2025-09-14","3000045914","2026-08-01","FY27 Q2"]
[24000,"2025-09-15","2400045915","2026-08-01","FY27 Q2"]
[19000,"2025-09-18","1900045918","2026-08-01","FY27 Q2"]
[19000,"2025-09-19","1900045919","2026-08-01","FY27 Q2"]
[20000,"2025-09-23",{"$f":"_xlfn.CONCAT(A25092,B25092)","v":"2000045923"},"2026-08-01","FY27 Q2"]
[19000,"2025-09-24","1900045924","2026-08-01","FY27 Q2"]
[24000,"2025-09-27","2400045927","2026-08-01","FY27 Q2"]
[19000,"2025-09-27","1900045927","2026-08-01","FY27 Q2"]
[15000,"2025-09-30","1500045930","2026-08-01","FY27 Q2"]
[34000,"2025-10-03","3400045933","2026-08-01","FY27 Q2"]
[15000,"2025-10-05","1500045935","2026-08-01","FY27 Q2"]
[15000,"2025-10-08","1500045938","2026-08-01","FY27 Q2"]
[15000,"2025-10-10","1500045940","2026-08-01","FY27 Q2"]
[20000,"2025-10-12","2000045942","2026-08-01","FY27 Q2"]
[15000,"2025-10-13","1500045943","2026-08-01","FY27 Q2"]
[21000,"2025-10-14","2100045944","2026-08-01","FY27 Q2"]
[24000,"2025-10-17","2400045947","2026-08-01","FY27 Q2"]
[20000,"2025-10-20","2000045950","2026-08-01","FY27 Q2"]
[30000,"2025-10-20",{"$f":"_xlfn.CONCAT(A25284,B25284)","v":"3000045950"},"2026-08-01","FY27 Q2"]
[20000,"2025-10-23","2000045953","2026-08-01","FY27 Q2"]
[19000,"2025-10-24","1900045954","2026-08-01","FY27 Q2"]
[30000,"2025-10-27","3000045957","2026-08-01","FY27 Q2"]
[20000,"2025-10-29","2000045959","2026-08-01","FY27 Q2"]
[30000,"2025-11-01","3000045962","2026-08-01","FY27 Q2"]
[24000,"2025-11-02","2400045963","2026-08-01","FY27 Q2"]
[30000,"2025-11-04","3000045965","2026-08-01","FY27 Q2"]
[34000,"2025-11-06","3400045967","2026-08-01","FY27 Q2"]
[34000,"2025-11-08","3400045969","2026-08-01","FY27 Q2"]
[34000,"2025-11-11","3400045972","2026-08-01","FY27 Q2"]
[19000,"2025-11-12","1900045973","2026-08-01","FY27 Q2"]
[34000,"2025-11-14","3400045975","2026-08-01","FY27 Q2"]
[20000,"2025-11-17","2000045978","2026-08-01","FY27 Q2"]
[34000,"2025-11-19","3400045980","2026-08-01","FY27 Q2"]
[24000,"2025-11-21","2400045982","2026-08-01","FY27 Q2"]
[20000,"2025-11-24","2000045985","2026-08-01","FY27 Q2"]
[19000,"2025-11-24","1900045985","2026-08-01","FY27 Q2"]
[34000,"2025-11-27","3400045988","2026-08-01","FY27 Q2"]
[21000,"2025-11-29","2100045990","2026-08-01","FY27 Q2"]
[15000,"2025-12-02","1500045993","2026-08-01","FY27 Q2"]
[21000,"2025-12-04","2100045995","2026-08-01","FY27 Q2"]
[21000,"2025-12-06","2100045997","2026-08-01","FY27 Q2"]
[21000,"2025-12-07","2100045998","2026-08-01","FY27 Q2"]
[24000,"2025-12-10","2400046001","2026-08-01","FY27 Q2"]
[21000,"2025-12-12","2100046003","2026-08-01","FY27 Q2"]
[24000,"2025-12-14",{"$f":"_xlfn.CONCAT(A25668,B25668)","v":"2400046005"},"2026-08-01","FY27 Q2"]
[19000,"2025-12-16","1900046007","2026-08-01","FY27 Q2"]
[24000,"2025-12-17","2400046008","2026-08-01","FY27 Q2"]
[15000,"2025-12-21","1500046012","2026-08-01","FY27 Q2"]
[24000,"2025-12-22","2400046013","2026-08-01","FY27 Q2"]
[21000,"2025-12-25","2100046016","2026-08-01","FY27 Q2"]
[19000,"2025-12-26","1900046017","2026-08-01","FY27 Q2"]
[30000,"2025-12-29","3000046020","2026-08-01","FY27 Q2"]
[19000,"2025-12-29","1900046020","2026-08-01","FY27 Q2"]
[30000,"2026-01-01","3000046023","2026-08-01","FY27 Q2"]
[34000,"2026-01-02","3400046024","2026-08-01","FY27 Q2"]
[15000,"2026-01-06","1500046028","2026-08-01","FY27 Q2"]
[15000,"2026-01-13","1500046035","2026-08-01","FY27 Q2"]
[15000,"2026-01-27","1500046049","2026-08-01","FY27 Q2"]
[19000,"2026-01-15","1900046037","2026-08-01","FY27 Q2"]
[20000,"2026-01-06","2000046028","2026-08-01","FY27 Q2"]
[20000,"2026-01-21","2000046043","2026-08-01","FY27 Q2"]
[20000,"2026-01-31","2000046053","2026-08-01","FY27 Q2"]
[21000,"2026-01-28","2100046050","2026-08-01","FY27 Q2"]
[21000,"2026-02-01","2100046054","2026-08-01","FY27 Q2"]
[24000,"2026-01-21","2400046043","2026-08-01","FY27 Q2"]
[30000,"2026-01-06","3000046028","2026-08-01","FY27 Q2"]
[30000,"2026-01-28",{"$f":"_xlfn.CONCAT(A25988,B25988)","v":"3000046050"},"2026-08-01","FY27 Q2"]
[34000,"2026-01-08","3400046030","2026-08-01","FY27 Q2"]
[34000,"2026-01-31","3400046053","2026-08-01","FY27 Q2"]
[15000,"2026-02-05","1500046058","2026-08-01","FY27 Q2"]
[15000,"2026-02-21","1500046074","2026-08-01","FY27 Q2"]
[19000,"2026-02-10","1900046063","2026-08-01","FY27 Q2"]
[19000,"2026-02-25","1900046078","2026-08-01","FY27 Q2"]
[20000,"2026-02-19","2000046072","2026-08-01","FY27 Q2"]
[20000,"2026-03-01","2000046082","2026-08-01","FY27 Q2"]
[21000,"2026-02-14","2100046067","2026-08-01","FY27 Q2"]
[24000,"2026-02-04","2400046057","2026-08-01","FY27 Q2"]
[24000,"2026-02-21","2400046074","2026-08-01","FY27 Q2"]
[30000,"2026-02-10","3000046063","2026-08-01","FY27 Q2"]
[30000,"2026-02-23","3000046076","2026-08-01","FY27 Q2"]
[34000,"2026-02-05",{"$f":"_xlfn.CONCAT(A26182,B26182)","v":"3400046058"},"2026-08-01","FY27 Q2"]
[34000,"2026-02-26","3400046079","2026-08-01","FY27 Q2"]
[15000,"2026-03-12","1500046093","2026-08-01","FY27 Q2"]
[15000,"2026-03-28","1500046109","2026-08-01","FY27 Q2"]
[19000,"2026-03-14","1900046095","2026-08-01","FY27 Q2"]
[19000,"2026-03-29","1900046110","2026-08-01","FY27 Q2"]
[20000,"2026-03-06","2000046087","2026-08-01","FY27 Q2"]
[20000,"2026-03-25","2000046106","2026-08-01","FY27 Q2"]
[21000,"2026-03-15","2100046096","2026-08-01","FY27 Q2"]
[21000,"2026-03-27","2100046108","2026-08-01","FY27 Q2"]
[24000,"2026-03-15","2400046096","2026-08-01","FY27 Q2"]
[24000,"2026-03-18","2400046099","2026-08-01","FY27 Q2"]
[30000,"2026-03-15","3000046096","2026-08-01","FY27 Q2"]
[30000,"2026-03-24",{"$f":"_xlfn.CONCAT(A26375,B26375)","v":"3000046105"},"2026-08-01","FY27 Q2"]
[30000,"2026-03-30","3000046111","2026-08-01","FY27 Q2"]
[34000,"2026-03-16","3400046097","2026-08-01","FY27 Q2"]
[34000,"2026-03-31","3400046112","2026-08-01","FY27 Q2"]
[15000,"2026-04-14","1500046126","2026-08-01","FY27 Q2"]
[19000,"2026-04-02","1900046114","2026-08-01","FY27 Q2"]
[19000,"2026-04-11","1900046123","2026-08-01","FY27 Q2"]
[20000,"2026-04-04","2000046116","2026-08-01","FY27 Q2"]
[20000,"2026-04-08","2000046120","2026-08-01","FY27 Q2"]
[20000,"2026-04-21","2000046133","2026-08-01","FY27 Q2"]
[21000,"2026-04-05","2100046117","2026-08-01","FY27 Q2"]
[21000,"2026-04-23","2100046135","2026-08-01","FY27 Q2"]
[24000,"2026-04-05","2400046117","2026-08-01","FY27 Q2"]
[24000,"2026-04-16","2400046128","2026-08-01","FY27 Q2"]
[24000,"2026-04-26","2400046138","2026-08-01","FY27 Q2"]
[30000,"2026-04-13","3000046125","2026-08-01","FY27 Q2"]
[30000,"2026-04-28","3000046140","2026-08-01","FY27 Q2"]
[34000,"2026-04-09","3400046121","2026-08-01","FY27 Q2"]
[34000,"2026-04-30","3400046142","2026-08-01","FY27 Q2"]
[15000,"2026-05-09","1500046151","2026-08-01","FY27 Q2"]
[15000,"2026-05-21","1500046163","2026-08-01","FY27 Q2"]
[20000,"2026-05-08","2000046150","2026-08-01","FY27 Q2"]
[20000,"2026-05-25","2000046167","2026-08-01","FY27 Q2"]
[21000,"2026-05-15","2100046157","2026-08-01","FY27 Q2"]
[21000,"2026-05-27","2100046169","2026-08-01","FY27 Q2"]
[24000,"2026-05-18","2400046160","2026-08-01","FY27 Q2"]
[24000,"2026-05-29","2400046171","2026-08-01","FY27 Q2"]
[30000,"2026-05-11","3000046153","2026-08-01","FY27 Q2"]
[30000,"2026-05-31","3000046173","2026-08-01","FY27 Q2"]
[34000,"2026-05-18","3400046160","2026-08-01","FY27 Q2"]
[15000,"2026-06-02","1500046175","2026-08-01","FY27 Q2"]
[15000,"2026-06-16","1500046189","2026-08-01","FY27 Q2"]
[15000,"2026-06-23","1500046196","2026-08-01","FY27 Q2"]
[19000,"2026-06-15","1900046188","2026-08-01","FY27 Q2"]
[19000,"2026-06-28","1900046201","2026-08-01","FY27 Q2"]
[20000,"2026-06-15","2000046188","2026-08-01","FY27 Q2"]
[20000,"2026-06-19","2000046192","2026-08-01","FY27 Q2"]
[21000,"2026-06-15","2100046188","2026-08-01","FY27 Q2"]
[21000,"2026-06-20","2100046193","2026-08-01","FY27 Q2"]
[24000,"2026-06-09","2400046182","2026-08-01","FY27 Q2"]
[24000,"2026-06-14","2400046187","2026-08-01","FY27 Q2"]
[24000,"2026-06-30","2400046203","2026-08-01","FY27 Q2"]
[30000,"2026-06-14","3000046187","2026-08-01","FY27 Q2"]
[30000,"2026-07-01","3000046204","2026-08-01","FY27 Q2"]
[34000,"2026-06-14","3400046187","2026-08-01","FY27 Q2"]
[15000,"2026-07-06","1500046209","2026-08-01","FY27 Q2"]
[15000,"2026-07-13","1500046216","2026-08-01","FY27 Q2"]
[15000,"2026-07-27","1500046230","2026-08-01","FY27 Q2"]
[19000,"2026-07-09","1900046212","2026-08-01","FY27 Q2"]
[19000,"2026-07-25","1900046228","2026-08-01","FY27 Q2"]
[20000,"2026-07-11","2000046214","2026-08-01","FY27 Q2"]
[20000,"2026-07-21","2000046224","2026-08-01","FY27 Q2"]
[20000,"2026-08-01","2000046235","2026-08-01","FY27 Q2"]
[21000,"2026-07-18","2100046221","2026-08-01","FY27 Q2"]
[21000,"2026-08-03","2100046237","2026-08-01","FY27 Q2"]
[24000,"2026-07-15","2400046218","2026-08-01","FY27 Q2"]
[24000,"2026-08-01","2400046235","2026-08-01","FY27 Q2"]
[30000,"2026-07-18","3000046221","2026-08-01","FY27 Q2"]
[30000,"2026-07-26","3000046229","2026-08-01","FY27 Q2"]
[34000,"2026-07-02","3400046205","2026-08-01","FY27 Q2"]
[34000,"2026-07-23","3400046226","2026-08-01","FY27 Q2"]
[15000,"2026-08-06","1500046240","2026-08-01","FY27 Q2"]
[15000,"2026-08-22",{"$f":"_xlfn.CONCAT(A27271,B27271)","v":"1500046256"},"2026-08-01","FY27 Q2"]
[19000,"2026-08-12","1900046246","2026-08-01","FY27 Q2"]
[19000,"2026-08-22","1900046256","2026-08-01","FY27 Q2"]
[20000,"2026-08-04","2000046238","2026-08-01","FY27 Q2"]
[20000,"2026-08-19","2000046253","2026-08-01","FY27 Q2"]
[21000,"2026-08-08","2100046242","2026-08-01","FY27 Q2"]
[21000,"2026-08-25","2100046259","2026-08-01","FY27 Q2"]
[24000,"2026-08-09","2400046243","2026-08-01","FY27 Q2"]
[24000,"2026-08-17","2400046251","2026-08-01","FY27 Q2"]
[30000,"2026-08-10","3000046244","2026-08-01","FY27 Q2"]
[30000,"2026-08-19","3000046253","2026-08-01","FY27 Q2"]
[34000,"2026-08-11","3400046245","2026-08-01","FY27 Q2"]
[34000,"2026-08-25","3400046259","2026-08-01","FY27 Q2"]
[34000,"2026-08-30","3400046264","2026-08-01","FY27 Q2"]
[15000,"2026-09-24","1500046289","2026-09-01","FY27 Q2"]
[15000,"2026-09-30","1500046295","2026-09-01","FY27 Q2"]
[19000,"2026-09-09","1900046274","2026-09-01","FY27 Q2"]
[20000,"2026-09-05","2000046270","2026-09-01","FY27 Q2"]
[20000,"2026-09-08","2000046273","2026-09-01","FY27 Q2"]
[20000,"2026-09-26","2000046291","2026-09-01","FY27 Q2"]
[21000,"2026-09-11","2100046276","2026-09-01","FY27 Q2"]
[21000,"2026-09-23","2100046288","2026-09-01","FY27 Q2"]
[24000,"2026-09-16","2400046281","2026-09-01","FY27 Q2"]
[24000,"2026-09-22","2400046287","2026-09-01","FY27 Q2"]
[30000,"2026-09-07","3000046272","2026-09-01","FY27 Q2"]
[30000,"2026-09-22","3000046287","2026-09-01","FY27 Q2"]
[34000,"2026-09-08","3400046273","2026-09-01","FY27 Q2"]
[34000,"2026-09-22","3400046287","2026-09-01","FY27 Q2"]
[15000,"2026-10-13","1500046308","2026-10-01","FY27 Q3"]
[15000,"2026-10-18","1500046313","2026-10-01","FY27 Q3"]
[19000,"2026-10-04","1900046299","2026-10-01","FY27 Q3"]
[19000,"2026-10-17","1900046312","2026-10-01","FY27 Q3"]
[21000,"2026-10-02","2100046297","2026-10-01","FY27 Q3"]
[21000,"2026-10-20","2100046315","2026-10-01","FY27 Q3"]
[21000,"2026-11-01","2100046327","2026-10-01","FY27 Q3"]
[20000,"2026-10-09","2000046304","2026-10-01","FY27 Q3"]
[20000,"2026-10-29","2000046324","2026-10-01","FY27 Q3"]
[24000,"2026-10-12","2400046307","2026-10-01","FY27 Q3"]
[24000,"2026-10-27","2400046322","2026-10-01","FY27 Q3"]
[30000,"2026-10-09","3000046304","2026-10-01","FY27 Q3"]
[30000,"2026-10-16","3000046311","2026-10-01","FY27 Q3"]
[34000,"2026-10-07","3400046302","2026-10-01","FY27 Q3"]
[34000,"2026-10-19","3400046314","2026-10-01","FY27 Q3"]
[15000,"2026-11-06","1500046332","2026-11-01","FY27 Q3"]
[15000,"2026-11-19","1500046345","2026-11-01","FY27 Q3"]
[20000,"2026-11-07","2000046333","2026-11-01","FY27 Q3"]
[20000,"2026-11-11","2000046337","2026-11-01","FY27 Q3"]
[20000,"2026-11-30","2000046356","2026-11-01","FY27 Q3"]
[21000,"2026-11-22","2100046348","2026-11-01","FY27 Q3"]
[24000,"2026-11-03","2400046329","2026-10-01","FY27 Q3"]
[24000,"2026-11-23","2400046349","2026-11-01","FY27 Q3"]
[30000,"2026-11-09","3000046335","2026-11-01","FY27 Q3"]
[30000,"2026-11-23","3000046349","2026-11-01","FY27 Q3"]
[30000,"2026-11-30","3000046356","2026-11-01","FY27 Q3"]
[34000,"2026-11-24","3400046350","2026-11-01","FY27 Q3"]
[15000,"2026-12-06","1500046362","2026-12-01","FY27 Q3"]
[15000,"2026-12-21","1500046377","2026-12-01","FY27 Q3"]
[15000,"2026-12-23","1500046379","2026-12-01","FY27 Q3"]
[19000,"2026-12-08","1900046364","2026-12-01","FY27 Q3"]
[19000,"2026-12-19","1900046375","2026-12-01","FY27 Q3"]
[20000,"2026-12-05",{"$f":"_xlfn.CONCAT(A28135,B28135)","v":"2000046361"},"2026-12-01","FY27 Q3"]
[20000,"2026-12-15","2000046371","2026-12-01","FY27 Q3"]
[21000,"2026-12-06","2100046362","2026-12-01","FY27 Q3"]
[21000,"2026-12-11","2100046367","2026-12-01","FY27 Q3"]
[21000,"2026-12-27","2100046383","2026-12-01","FY27 Q3"]
[24000,"2026-12-08","2400046364","2026-12-01","FY27 Q3"]
[24000,"2026-12-21","2400046377","2026-12-01","FY27 Q3"]
[30000,"2026-12-09","3000046365","2026-12-01","FY27 Q3"]
[30000,"2026-12-17","3000046373","2026-12-01","FY27 Q3"]
[30000,"2026-12-30","3000046386","2026-12-01","FY27 Q3"]
[34000,"2026-12-12","3400046368","2026-12-01","FY27 Q3"]
[34000,"2026-12-31","3400046387","2026-12-01","FY27 Q3"]
[15000,"2027-01-11","1500046398","2027-01-01","FY27 Q4"]
[15000,"2027-01-31","1500046418","2027-01-01","FY27 Q4"]
[15000,"2027-02-05","1500046423","2027-02-01","FY27 Q4"]
[15000,"2027-02-24","1500046442","2027-02-01","FY27 Q4"]
[15000,"2027-03-12","1500046458","2027-03-01","FY27 Q4"]
[15000,"2027-03-26","1500046472","2027-03-01","FY27 Q4"]
[34000,"Cancel","34000Cancel","Cancel","Cancel"]
[19000,"2026-05-17","1900046159","2026-08-01","FY27 Q2"]
[19000,"2026-05-25","1900046167","2026-08-01","FY27 Q2"]
[15000,"2027-12-26","1500046747","2027-12-01","FY28 Q3"]
[15000,"2027-04-06",{"$f":"_xlfn.CONCAT(A28455,B28455)","v":"1500046483"},"2027-04-01","FY28 Q1"]
[15000,"2027-04-21","1500046498","2027-04-01","FY28 Q1"]
[15000,"2027-05-07","1500046514","2027-05-01","FY28 Q1"]
[15000,"2027-05-12","1500046519","2027-05-01","FY28 Q1"]
[15000,"2027-06-05","1500046543","2027-06-01","FY28 Q1"]
[15000,"2027-06-16","1500046554","2027-06-01","FY28 Q1"]
[21000,"2027-07-02","2100046570","2027-07-01","FY28 Q2"]
[19000,"2027-07-05","1900046573","2027-07-01","FY28 Q2"]
[15000,"2027-08-04","1500046603","2027-08-01","FY28 Q2"]
[15000,"2027-08-07","1500046606","2027-08-01","FY28 Q2"]
[15000,"2027-08-26","1500046625","2027-08-01","FY28 Q2"]
[15000,"2027-09-17","1500046647","2027-09-01","FY28 Q2"]
[15000,"2027-09-26","1500046656","2027-09-01","FY28 Q2"]
[15000,"2027-10-02","1500046662","2027-09-01","FY28 Q2"]
[15000,"2027-10-17","1500046677","2027-10-01","FY28 Q3"]
[15000,"2027-11-01","1500046692","2027-10-01","FY28 Q3"]
[15000,"2027-11-21","1500046712","2027-11-01","FY28 Q3"]
[15000,"2027-11-30","1500046721","2027-11-01","FY28 Q3"]
[15000,"2027-12-26","1500046747","2027-12-01","FY28 Q3"]
[19000,"2027-04-16","1900046493","2027-04-01","FY28 Q1"]
[19000,"2027-04-20","1900046497","2027-04-01","FY28 Q1"]
[19000,"2027-05-07","1900046514","2027-05-01","FY28 Q1"]
[19000,"2027-05-19","1900046526","2027-05-01","FY28 Q1"]
[19000,"2027-06-11","1900046549","2027-06-01","FY28 Q1"]
[19000,"2027-06-18","1900046556","2027-06-01","FY28 Q1"]
[15000,"2027-07-09","1500046577","2027-07-01","FY28 Q2"]
[15000,"2027-07-10","1500046578","2027-07-01","FY28 Q2"]
[21000,"2027-07-12","2100046580","2027-07-01","FY28 Q2"]
[19000,"2027-08-21","1900046620","2027-08-01","FY28 Q2"]
[19000,"2027-08-31","1900046630","2027-08-01","FY28 Q2"]
[19000,"2027-09-21","1900046651","2027-09-01","FY28 Q2"]
[19000,"2027-09-30","1900046660","2027-09-01","FY28 Q2"]
[19000,"2027-10-12","1900046672","2027-10-01","FY28 Q3"]
[19000,"2027-10-29","1900046689","2027-10-01","FY28 Q3"]
[19000,"2027-11-16","1900046707","2027-11-01","FY28 Q3"]
[19000,"2027-11-28","1900046719","2027-11-01","FY28 Q3"]
[19000,"2027-12-07","1900046728","2027-12-01","FY28 Q3"]
[19000,"2027-12-22","1900046743","2027-12-01","FY28 Q3"]
[20000,"2027-04-17","2000046494","2027-04-01","FY28 Q1"]
[20000,"2027-05-02","2000046509","2027-04-01","FY28 Q1"]
[20000,"2027-05-17","2000046524","2027-05-01","FY28 Q1"]
[20000,"2027-05-23","2000046530","2027-05-01","FY28 Q1"]
[20000,"2027-06-16","2000046554","2027-06-01","FY28 Q1"]
[20000,"2027-06-23","2000046561","2027-06-01","FY28 Q1"]
[15000,"2027-07-15","1500046583","2027-07-01","FY28 Q2"]
[15000,"2027-07-17","1500046585","2027-07-01","FY28 Q2"]
[20000,"2027-08-12","2000046611","2027-08-01","FY28 Q2"]
[20000,"2027-08-29","2000046628","2027-08-01","FY28 Q2"]
[20000,"2027-09-02","2000046632","2027-09-01","FY28 Q2"]
[20000,"2027-09-28","2000046658","2027-09-01","FY28 Q2"]
[20000,"2027-10-07","2000046667","2027-10-01","FY28 Q3"]
[20000,"2027-10-27","2000046687","2027-10-01","FY28 Q3"]
[20000,"2027-10-28","2000046688","2027-10-01","FY28 Q3"]
[20000,"2027-11-12","2000046703","2027-11-01","FY28 Q3"]
[20000,"2027-11-26","2000046717","2027-11-01","FY28 Q3"]
[20000,"2027-12-17","2000046738","2027-12-01","FY28 Q3"]
[20000,"2027-12-25","2000046746","2027-12-01","FY28 Q3"]
[21000,"2027-04-27","2100046504","2027-04-01","FY28 Q1"]
[21000,"2027-04-30","2100046507","2027-04-01","FY28 Q1"]
[21000,"2027-05-14","2100046521","2027-05-01","FY28 Q1"]
[21000,"2027-05-30","2100046537","2027-05-01","FY28 Q1"]
[21000,"2027-06-18","2100046556","2027-06-01","FY28 Q1"]
[34000,"2027-07-18","3400046586","2027-07-01","FY28 Q2"]
[34000,"2027-07-19","3400046587","2027-07-01","FY28 Q2"]
[30000,"2027-07-21","3000046589","2027-07-01","FY28 Q2"]
[21000,"2027-08-12","2100046611","2027-08-01","FY28 Q2"]
[21000,"2027-08-28","2100046627","2027-08-01","FY28 Q2"]
[21000,"2027-09-10","2100046640","2027-09-01","FY28 Q2"]
[21000,"2027-10-02","2100046662","2027-09-01","FY28 Q2"]
[21000,"2027-10-10","2100046670","2027-10-01","FY28 Q3"]
[21000,"2027-10-23","2100046683","2027-10-01","FY28 Q3"]
[21000,"2027-11-07","2100046698","2027-11-01","FY28 Q3"]
[21000,"2027-11-23","2100046714","2027-11-01","FY28 Q3"]
[21000,"2027-12-12","2100046733","2027-12-01","FY28 Q3"]
[21000,"2027-12-23","2100046744","2027-12-01","FY28 Q3"]
[24000,"2027-04-03","2400046480","2027-03-01","FY27 Q4"]
[24000,"2027-04-23","2400046500","2027-04-01","FY28 Q1"]
[24000,"2027-05-04","2400046511","2027-04-01","FY28 Q1"]
[24000,"2027-05-23","2400046530","2027-05-01","FY28 Q1"]
[24000,"2027-06-08","2400046546","2027-06-01","FY28 Q1"]
[24000,"2027-06-23","2400046561","2027-06-01","FY28 Q1"]
[24000,"2027-07-06","2400046574","2027-07-01","FY28 Q2"]
[24000,"2027-07-14","2400046582","2027-07-01","FY28 Q2"]
[24000,"2027-08-05","2400046604","2027-08-01","FY28 Q2"]
[24000,"2027-08-18","2400046617","2027-08-01","FY28 Q2"]
[24000,"2027-09-03","2400046633","2027-08-01","FY28 Q2"]
[24000,"2027-09-08","2400046638","2027-09-01","FY28 Q2"]
[24000,"2027-10-03","2400046663","2027-09-01","FY28 Q2"]
[24000,"2027-10-09","2400046669","2027-10-01","FY28 Q3"]
[24000,"2027-10-28","2400046688","2027-10-01","FY28 Q3"]
[24000,"2027-11-16","2400046707","2027-11-01","FY28 Q3"]
[24000,"2027-11-18","2400046709","2027-11-01","FY28 Q3"]
[24000,"2027-12-01","2400046722","2027-11-01","FY28 Q3"]
[24000,"2027-12-19","2400046740","2027-12-01","FY28 Q3"]
[30000,"2027-04-06","3000046483","2027-04-01","FY28 Q1"]
[30000,"2027-04-29","3000046506","2027-04-01","FY28 Q1"]
[30000,"2027-05-06","3000046513","2027-05-01","FY28 Q1"]
[30000,"2027-05-20","3000046527","2027-05-01","FY28 Q1"]
[30000,"2027-06-04","3000046542","2027-06-01","FY28 Q1"]
[30000,"2027-06-19","3000046557","2027-06-01","FY28 Q1"]
[21000,"2027-07-24","2100046592","2027-07-01","FY28 Q2"]
[15000,"2027-07-26","1500046594","2027-07-01","FY28 Q2"]
[15000,"2027-07-28","1500046596","2027-07-01","FY28 Q2"]
[30000,"2027-08-17","3000046616","2027-08-01","FY28 Q2"]
[30000,"2027-09-03","3000046633","2027-09-01","FY28 Q2"]
[30000,"2027-09-16","3000046646","2027-09-01","FY28 Q2"]
[30000,"2027-10-04","3000046664","2027-10-01","FY28 Q3"]
[30000,"2027-10-23","3000046683","2027-10-01","FY28 Q3"]
[30000,"2027-10-30","3000046690","2027-10-01","FY28 Q3"]
[30000,"2027-11-13","3000046704","2027-11-01","FY28 Q3"]
[30000,"2027-11-29","3000046720","2027-11-01","FY28 Q3"]
[30000,"2027-12-14","3000046735","2027-12-01","FY28 Q3"]
[30000,"2027-12-29","3000046750","2027-12-01","FY28 Q3"]
[34000,"2027-04-24","3400046501","2027-04-01","FY28 Q1"]
[34000,"2027-05-03","3400046510","2027-04-01","FY28 Q1"]
[34000,"2027-05-15","3400046522","2027-05-01","FY28 Q1"]
[34000,"2027-05-30","3400046537","2027-05-01","FY28 Q1"]
[34000,"2027-06-17","3400046555","2027-06-01","FY28 Q1"]
[15000,"2027-07-29","1500046597","2027-07-01","FY28 Q2"]
[15000,"2027-07-31","1500046599","2027-07-01","FY28 Q2"]
[21000,"2027-08-01","2100046600","2027-07-01","FY28 Q2"]
[34000,"2027-08-15","3400046614","2027-08-01","FY28 Q2"]
[34000,"2027-08-25","3400046624","2027-08-01","FY28 Q2"]
[34000,"2027-09-14","3400046644","2027-09-01","FY28 Q2"]
[34000,"2027-09-29","3400046659","2027-09-01","FY28 Q2"]
[34000,"2027-10-04","3400046664","2027-10-01","FY28 Q3"]
[34000,"2027-10-28","3400046688","2027-10-01","FY28 Q3"]
[34000,"2027-11-04","3400046695","2027-11-01","FY28 Q3"]
[34000,"2027-11-27","3400046718","2027-11-01","FY28 Q3"]
[34000,"2027-12-09","3400046730","2027-12-01","FY28 Q3"]
[34000,"2027-12-12","3400046733","2027-12-01","FY28 Q3"]
[34000,"2027-12-30","3400046751","2027-12-01","FY28 Q3"]
[24000,"2027-01-15","2400046402","2027-01-01","FY27 Q4"]
[24000,"2027-02-08","2400046426","2027-02-01","FY27 Q4"]
[24000,"2027-02-23","2400046441","2027-02-01","FY27 Q4"]
[24000,"2027-02-28","2400046446","2027-02-01","FY27 Q4"]
[24000,"2027-03-16","2400046462","2027-03-01","FY27 Q4"]
[24000,"2027-03-30","2400046476","2027-03-01","FY27 Q4"]
[82000,"2029-01-01","8200047119","Tech Hold","Tech Hold"]
[81000,"2028-12-25","8100047112","Awaiting Licence","Awaiting Licence"]
[15000,"2027-01-11","1500046398","2027-01-01","FY27 Q4"]
[15000,"2027-01-19","1500046406","2027-01-01","FY27 Q4"]
[15000,"2027-02-01","1500046419","2027-01-01","FY27 Q4"]
[15000,"2027-02-20","1500046438","2027-02-01","FY27 Q4"]
[15000,"2027-03-04","1500046450","2027-03-01","FY27 Q4"]
[15000,"2027-03-23","1500046469","2027-03-01","FY27 Q4"]
[19000,"2027-01-02","1900046389","2026-12-01","FY27 Q3"]
[19000,"2027-01-12","1900046399","2027-01-01","FY27 Q4"]
[19000,"2027-01-31","1900046418","2027-01-01","FY27 Q4"]
[19000,"2027-02-16","1900046434","2027-02-01","FY27 Q4"]
[19000,"2027-03-02","1900046448","2027-03-01","FY27 Q4"]
[19000,"2027-03-23","1900046469","2027-03-01","FY27 Q4"]
[19000,"2027-03-24","1900046470","2027-03-01","FY27 Q4"]
[20000,"2027-01-14","2000046401","2027-01-01","FY27 Q4"]
[20000,"2027-01-27","2000046414","2027-01-01","FY27 Q4"]
[20000,"2027-02-13","2000046431","2027-02-01","FY27 Q4"]
[20000,"2027-02-27","2000046445","2027-02-01","FY27 Q4"]
[20000,"2027-03-15","2000046461","2027-03-01","FY27 Q4"]
[20000,"2027-03-20","2000046466","2027-03-01","FY27 Q4"]
[21000,"2027-01-13","2100046400","2027-01-01","FY27 Q4"]
[21000,"2027-01-23","2100046410","2027-01-01","FY27 Q4"]
[21000,"2027-02-07","2100046425","2027-02-01","FY27 Q4"]
[21000,"2027-02-26","2100046444","2027-02-01","FY27 Q4"]
[21000,"2027-03-14","2100046460","2027-03-01","FY27 Q4"]
[21000,"2027-03-28","2100046474","2027-03-01","FY27 Q4"]
[24000,"2027-01-03","2400046390","2026-12-01","FY27 Q3"]
[24000,"2027-01-25","2400046412","2027-01-01","FY27 Q4"]
[24000,"2027-02-07","2400046425","2027-02-01","FY27 Q4"]
[24000,"2027-02-24",{"$f":"_xlfn.CONCAT(A30887,B30887)","v":"2400046442"},"2027-02-01","FY27 Q4"]
[24000,"2027-02-25","2400046443","2027-02-01","FY27 Q4"]
[24000,"2027-02-26","2400046444","2027-02-01","FY27 Q4"]
[24000,"2027-02-27","2400046445","2027-02-01","FY27 Q4"]
[24000,"2027-02-28","2400046446","2027-02-01","FY27 Q4"]
[24000,"2027-03-01","2400046447","2027-02-01","FY27 Q4"]
[24000,"2027-03-02","2400046448","2027-03-01","FY27 Q4"]
[24000,"2027-03-03","2400046449","2027-03-01","FY27 Q4"]
[24000,"2027-03-04","2400046450","2027-03-01","FY27 Q4"]
[24000,"2027-03-05","2400046451","2027-03-01","FY27 Q4"]
[24000,"2027-03-06","2400046452","2027-03-01","FY27 Q4"]
[24000,"07/03/027","2400007/03/027","2027-03-01","FY27 Q4"]
[24000,"2027-03-08","2400046454","2027-03-01","FY27 Q4"]
[24000,"2027-03-09","2400046455","2027-03-01","FY27 Q4"]
[24000,"2027-03-10","2400046456","2027-03-01","FY27 Q4"]
[24000,"2027-03-11","2400046457","2027-03-01","FY27 Q4"]
[24000,"2027-03-12","2400046458","2027-03-01","FY27 Q4"]
[24000,"2027-03-13","2400046459","2027-03-01","FY27 Q4"]
[24000,"2027-03-14","2400046460","2027-03-01","FY27 Q4"]
[24000,"2027-03-15","2400046461","2027-03-01","FY27 Q4"]
[24000,"2027-03-16","2400046462","2027-03-01","FY27 Q4"]
[24000,"2027-03-17","2400046463","2027-03-01","FY27 Q4"]
[24000,"2027-03-18","2400046464","2027-03-01","FY27 Q4"]
[24000,"2027-03-19","2400046465","2027-03-01","FY27 Q4"]
[24000,"2027-03-20","2400046466","2027-03-01","FY27 Q4"]
[24000,"2027-03-21","2400046467","2027-03-01","FY27 Q4"]
[24000,"2027-03-22","2400046468","2027-03-01","FY27 Q4"]
[24000,"2027-03-23","2400046469","2027-03-01","FY27 Q4"]
[24000,"2027-03-24","2400046470","2027-03-01","FY27 Q4"]
[24000,"2027-03-25","2400046471","2027-03-01","FY27 Q4"]
[24000,"2027-03-26","2400046472","2027-03-01","FY27 Q4"]
[24000,"2027-03-27","2400046473","2027-03-01","FY27 Q4"]
[24000,"2027-03-28","2400046474","2027-03-01","FY27 Q4"]
[24000,"2027-03-29","2400046475","2027-03-01","FY27 Q4"]
[24000,"2027-03-30","2400046476","2027-03-01","FY27 Q4"]
[24000,"2027-03-31","2400046477","2027-03-01","FY27 Q4"]
[24000,"2027-04-01","2400046478","2027-03-01","FY27 Q4"]
[24000,"2027-04-02","2400046479","2027-03-01","FY27 Q4"]
[30000,"2027-01-01","3000046388","2026-12-01","FY27 Q3"]
[30000,"2027-01-02","3000046389","2026-12-01","FY27 Q3"]
[30000,"2027-01-03","3000046390","2026-12-01","FY27 Q3"]
[30000,"2027-01-04","3000046391","2026-12-01","FY27 Q3"]
[30000,"2027-01-05","3000046392","2027-01-01","FY27 Q4"]
[30000,"2027-01-06","3000046393","2027-01-01","FY27 Q4"]
[30000,"2027-01-07","3000046394","2027-01-01","FY27 Q4"]
[30000,"2027-01-08","3000046395","2027-01-01","FY27 Q4"]
[30000,"2027-01-09","3000046396","2027-01-01","FY27 Q4"]
[30000,"2027-01-10","3000046397","2027-01-01","FY27 Q4"]
[30000,"2027-01-11","3000046398","2027-01-01","FY27 Q4"]
[30000,"2027-01-12","3000046399","2027-01-01","FY27 Q4"]
[30000,"2027-01-13","3000046400","2027-01-01","FY27 Q4"]
[30000,"2027-01-14","3000046401","2027-01-01","FY27 Q4"]
[30000,"2024-01-15","3000045306","2027-01-01","FY27 Q4"]
[30000,"2027-01-16","3000046403","2027-01-01","FY27 Q4"]
[30000,"2027-01-17","3000046404","2027-01-01","FY27 Q4"]
[30000,"2027-01-18","3000046405","2027-01-01","FY27 Q4"]
[30000,"2027-01-19","3000046406","2027-01-01","FY27 Q4"]
[30000,"2027-01-20","3000046407","2027-01-01","FY27 Q4"]
[30000,"2027-01-21","3000046408","2027-01-01","FY27 Q4"]
[30000,"2027-01-22","3000046409","2027-01-01","FY27 Q4"]
[30000,"2027-01-23","3000046410","2027-01-01","FY27 Q4"]
[30000,"2027-01-24","3000046411","2027-01-01","FY27 Q4"]
[30000,"2027-01-25","3000046412","2027-01-01","FY27 Q4"]
[30000,"2027-01-26","3000046413","2027-01-01","FY27 Q4"]
[30000,"2027-01-27",{"$f":"_xlfn.CONCAT(A30951,B30951)","v":"3000046414"},"2027-01-01","FY27 Q4"]
[30000,"2027-01-28","3000046415","2027-01-01","FY27 Q4"]
[30000,"2027-01-29","3000046416","2027-01-01","FY27 Q4"]
[30000,"2027-01-30","3000046417","2027-01-01","FY27 Q4"]
[30000,"2027-01-31","3000046418","2027-01-01","FY27 Q4"]
[30000,"2027-02-01","3000046419","2027-01-01","FY27 Q4"]
[30000,"2027-02-02","3000046420","2027-02-01","FY27 Q4"]
[30000,"2027-02-03","3000046421","2027-02-01","FY27 Q4"]
[30000,"2027-02-04","3000046422","2027-02-01","FY27 Q4"]
[30000,"2027-02-05","3000046423","2027-02-01","FY27 Q4"]
[30000,"2027-02-06","3000046424","2027-02-01","FY27 Q4"]
[30000,"2027-02-07","3000046425","2027-02-01","FY27 Q4"]
[30000,"2027-02-08","3000046426","2027-02-01","FY27 Q4"]
[30000,"2027-02-09","3000046427","2027-02-01","FY27 Q4"]
[30000,"2027-02-10","3000046428","2027-02-01","FY27 Q4"]
[30000,"2027-02-11","3000046429","2027-02-01","FY27 Q4"]
[30000,"2027-02-12","3000046430","2027-02-01","FY27 Q4"]
[30000,"2027-02-13","3000046431","2027-02-01","FY27 Q4"]
[30000,"2027-02-14","3000046432","2027-02-01","FY27 Q4"]
[30000,"2027-02-15","3000046433","2027-02-01","FY27 Q4"]
[30000,"2027-02-16","3000046434","2027-02-01","FY27 Q4"]
[30000,"2027-02-17","3000046435","2027-02-01","FY27 Q4"]
[30000,"2027-02-18","3000046436","2027-02-01","FY27 Q4"]
[30000,"2027-02-19","3000046437","2027-02-01","FY27 Q4"]
[30000,"2027-02-20","3000046438","2027-02-01","FY27 Q4"]
[30000,"2027-02-21","3000046439","2027-02-01","FY27 Q4"]
[30000,"2027-02-22","3000046440","2027-02-01","FY27 Q4"]
[30000,"2027-02-23","3000046441","2027-02-01","FY27 Q4"]
[30000,"2027-02-24","3000046442","2027-02-01","FY27 Q4"]
[30000,"2027-02-25","3000046443","2027-02-01","FY27 Q4"]
[30000,"2027-02-26","3000046444","2027-02-01","FY27 Q4"]
[30000,"2027-02-27","3000046445","2027-02-01","FY27 Q4"]
[30000,"2027-02-28","3000046446","2027-02-01","FY27 Q4"]
[30000,"2027-03-01","3000046447","2027-02-01","FY27 Q4"]
[30000,"2027-03-02","3000046448","2027-03-01","FY27 Q4"]
[30000,"2027-03-03","3000046449","2027-03-01","FY27 Q4"]
[30000,"2027-03-04","3000046450","2027-03-01","FY27 Q4"]
[30000,"2027-03-05","3000046451","2027-03-01","FY27 Q4"]
[30000,"2027-03-06","3000046452","2027-03-01","FY27 Q4"]
[30000,"07/03/027","3000007/03/027","2027-03-01","FY27 Q4"]
[30000,"2027-03-08","3000046454","2027-03-01","FY27 Q4"]
[30000,"2027-03-09","3000046455","2027-03-01","FY27 Q4"]
[30000,"2027-03-10","3000046456","2027-03-01","FY27 Q4"]
[30000,"2027-03-11","3000046457","2027-03-01","FY27 Q4"]
[30000,"2027-03-12","3000046458","2027-03-01","FY27 Q4"]
[30000,"2027-03-13","3000046459","2027-03-01","FY27 Q4"]
[30000,"2027-03-14","3000046460","2027-03-01","FY27 Q4"]
[30000,"2027-03-15","3000046461","2027-03-01","FY27 Q4"]
[30000,"2027-03-16","3000046462","2027-03-01","FY27 Q4"]
[30000,"2027-03-17","3000046463","2027-03-01","FY27 Q4"]
[30000,"2027-03-18","3000046464","2027-03-01","FY27 Q4"]
[30000,"2027-03-19","3000046465","2027-03-01","FY27 Q4"]
[30000,"2027-03-20","3000046466","2027-03-01","FY27 Q4"]
[30000,"2027-03-21","3000046467","2027-03-01","FY27 Q4"]
[30000,"2027-03-22","3000046468","2027-03-01","FY27 Q4"]
[30000,"2027-03-23","3000046469","2027-03-01","FY27 Q4"]
[30000,"2027-03-24","3000046470","2027-03-01","FY27 Q4"]
[30000,"2027-03-25","3000046471","2027-03-01","FY27 Q4"]
[30000,"2027-03-26","3000046472","2027-03-01","FY27 Q4"]
[30000,"2027-03-27","3000046473","2027-03-01","FY27 Q4"]
[30000,"2027-03-28","3000046474","2027-03-01","FY27 Q4"]
[30000,"2027-03-29","3000046475","2027-03-01","FY27 Q4"]
[30000,"2027-03-30","3000046476","2027-03-01","FY27 Q4"]
[30000,"2027-03-31","3000046477","2027-03-01","FY27 Q4"]
[30000,"2027-04-01",{"$f":"_xlfn.CONCAT(A31015,B31015)","v":"3000046478"},"2027-03-01","FY27 Q4"]
[34000,"2027-01-01","3400046388","2026-12-01","FY27 Q3"]
[34000,"2027-01-02","3400046389","2026-12-01","FY27 Q3"]
[34000,"2027-01-03","3400046390","2026-12-01","FY27 Q3"]
[34000,"2027-01-04","3400046391","2026-12-01","FY27 Q3"]
[34000,"2027-01-05","3400046392","2027-01-01","FY27 Q4"]
[34000,"2027-01-06","3400046393","2027-01-01","FY27 Q4"]
[34000,"2027-01-07","3400046394","2027-01-01","FY27 Q4"]
[34000,"2027-01-08","3400046395","2027-01-01","FY27 Q4"]
[34000,"2027-01-09","3400046396","2027-01-01","FY27 Q4"]
[34000,"2027-01-10","3400046397","2027-01-01","FY27 Q4"]
[34000,"2027-01-11","3400046398","2027-01-01","FY27 Q4"]
[34000,"2027-01-12","3400046399","2027-01-01","FY27 Q4"]
[34000,"2027-01-13","3400046400","2027-01-01","FY27 Q4"]
[34000,"2027-01-14","3400046401","2027-01-01","FY27 Q4"]
[34000,"2024-01-15","3400045306","2027-01-01","FY27 Q4"]
[34000,"2027-01-16","3400046403","2027-01-01","FY27 Q4"]
[34000,"2027-01-17","3400046404","2027-01-01","FY27 Q4"]
[34000,"2027-01-18","3400046405","2027-01-01","FY27 Q4"]
[34000,"2027-01-19","3400046406","2027-01-01","FY27 Q4"]
[34000,"2027-01-20","3400046407","2027-01-01","FY27 Q4"]
[34000,"2027-01-21","3400046408","2027-01-01","FY27 Q4"]
[34000,"2027-01-22","3400046409","2027-01-01","FY27 Q4"]
[34000,"2027-01-23","3400046410","2027-01-01","FY27 Q4"]
[34000,"2027-01-24","3400046411","2027-01-01","FY27 Q4"]
[34000,"2027-01-25","3400046412","2027-01-01","FY27 Q4"]
[34000,"2027-01-26","3400046413","2027-01-01","FY27 Q4"]
[34000,"2027-01-27","3400046414","2027-01-01","FY27 Q4"]
[34000,"2027-01-28","3400046415","2027-01-01","FY27 Q4"]
[34000,"2027-01-29","3400046416","2027-01-01","FY27 Q4"]
[34000,"2027-01-30","3400046417","2027-01-01","FY27 Q4"]
[34000,"2027-01-31","3400046418","2027-01-01","FY27 Q4"]
[34000,"2027-02-01","3400046419","2027-01-01","FY27 Q4"]
[34000,"2027-02-02","3400046420","2027-02-01","FY27 Q4"]
[34000,"2027-02-03","3400046421","2027-02-01","FY27 Q4"]
[34000,"2027-02-04","3400046422","2027-02-01","FY27 Q4"]
[34000,"2027-02-05","3400046423","2027-02-01","FY27 Q4"]
[34000,"2027-02-06","3400046424","2027-02-01","FY27 Q4"]
[34000,"2027-02-07","3400046425","2027-02-01","FY27 Q4"]
[34000,"2027-02-08","3400046426","2027-02-01","FY27 Q4"]
[34000,"2027-02-09","3400046427","2027-02-01","FY27 Q4"]
[34000,"2027-02-10","3400046428","2027-02-01","FY27 Q4"]
[34000,"2027-02-11","3400046429","2027-02-01","FY27 Q4"]
[34000,"2027-02-12","3400046430","2027-02-01","FY27 Q4"]
[34000,"2027-02-13","3400046431","2027-02-01","FY27 Q4"]
[34000,"2027-02-14","3400046432","2027-02-01","FY27 Q4"]
[34000,"2027-02-15","3400046433","2027-02-01","FY27 Q4"]
[34000,"2027-02-16","3400046434","2027-02-01","FY27 Q4"]
[34000,"2027-02-17","3400046435","2027-02-01","FY27 Q4"]
[34000,"2027-02-18","3400046436","2027-02-01","FY27 Q4"]
[34000,"2027-02-19","3400046437","2027-02-01","FY27 Q4"]
[34000,"2027-02-20","3400046438","2027-02-01","FY27 Q4"]
[34000,"2027-02-21","3400046439","2027-02-01","FY27 Q4"]
[34000,"2027-02-22","3400046440","2027-02-01","FY27 Q4"]
[34000,"2027-02-23","3400046441","2027-02-01","FY27 Q4"]
[34000,"2027-02-24","3400046442","2027-02-01","FY27 Q4"]
[34000,"2027-02-25","3400046443","2027-02-01","FY27 Q4"]
[34000,"2027-02-26","3400046444","2027-02-01","FY27 Q4"]
[34000,"2027-02-27","3400046445","2027-02-01","FY27 Q4"]
[34000,"2027-02-28","3400046446","2027-02-01","FY27 Q4"]
[34000,"2027-03-01","3400046447","2027-02-01","FY27 Q4"]
[34000,"2027-03-02","3400046448","2027-03-01","FY27 Q4"]
[34000,"2027-03-03","3400046449","2027-03-01","FY27 Q4"]
[34000,"2027-03-04","3400046450","2027-03-01","FY27 Q4"]
[34000,"2027-03-05",{"$f":"_xlfn.CONCAT(A31079,B31079)","v":"3400046451"},"2027-03-01","FY27 Q4"]
[34000,"2027-03-06","3400046452","2027-03-01","FY27 Q4"]
[34000,"07/03/027","3400007/03/027","2027-03-01","FY27 Q4"]
[34000,"2027-03-08","3400046454","2027-03-01","FY27 Q4"]
[34000,"2027-03-09","3400046455","2027-03-01","FY27 Q4"]
[34000,"2027-03-10","3400046456","2027-03-01","FY27 Q4"]
[34000,"2027-03-11","3400046457","2027-03-01","FY27 Q4"]
[34000,"2027-03-12","3400046458","2027-03-01","FY27 Q4"]
[34000,"2027-03-13","3400046459","2027-03-01","FY27 Q4"]
[34000,"2027-03-14","3400046460","2027-03-01","FY27 Q4"]
[34000,"2027-03-15","3400046461","2027-03-01","FY27 Q4"]
[34000,"2027-03-16","3400046462","2027-03-01","FY27 Q4"]
[34000,"2027-03-17","3400046463","2027-03-01","FY27 Q4"]
[34000,"2027-03-18","3400046464","2027-03-01","FY27 Q4"]
[34000,"2027-03-19","3400046465","2027-03-01","FY27 Q4"]
[34000,"2027-03-20","3400046466","2027-03-01","FY27 Q4"]
[34000,"2027-03-21","3400046467","2027-03-01","FY27 Q4"]
[34000,"2027-03-22","3400046468","2027-03-01","FY27 Q4"]
[34000,"2027-03-23","3400046469","2027-03-01","FY27 Q4"]
[34000,"2027-03-24","3400046470","2027-03-01","FY27 Q4"]
[34000,"2027-03-25","3400046471","2027-03-01","FY27 Q4"]
[34000,"2027-03-26","3400046472","2027-03-01","FY27 Q4"]
[34000,"2027-03-27","3400046473","2027-03-01","FY27 Q4"]
[34000,"2027-03-28","3400046474","2027-03-01","FY27 Q4"]
[34000,"2027-03-29","3400046475","2027-03-01","FY27 Q4"]
[34000,"2027-03-30","3400046476","2027-03-01","FY27 Q4"]
[34000,"2027-03-31","3400046477","2027-03-01","FY27 Q4"]
[34000,"2027-04-01","3400046478","2027-03-01","FY27 Q4"]
[80000,"2027-01-01","8000046388","2026-12-01","FY27 Q3"]
[80000,"2027-01-02","8000046389","2026-12-01","FY27 Q3"]
[80000,"2027-01-03","8000046390","2026-12-01","FY27 Q3"]
[80000,"2027-01-04","8000046391","2026-12-01","FY27 Q3"]
[80000,"2027-01-05","8000046392","2027-01-01","FY27 Q4"]
[80000,"2027-01-06","8000046393","2027-01-01","FY27 Q4"]
[80000,"2027-01-07","8000046394","2027-01-01","FY27 Q4"]
[80000,"2027-01-08","8000046395","2027-01-01","FY27 Q4"]
[80000,"2027-01-09","8000046396","2027-01-01","FY27 Q4"]
[80000,"2027-01-10","8000046397","2027-01-01","FY27 Q4"]
[80000,"2027-01-11","8000046398","2027-01-01","FY27 Q4"]
[80000,"2027-01-12","8000046399","2027-01-01","FY27 Q4"]
[80000,"2027-01-13","8000046400","2027-01-01","FY27 Q4"]
[80000,"2027-01-14","8000046401","2027-01-01","FY27 Q4"]
[80000,"2024-01-15","8000045306","2027-01-01","FY27 Q4"]
[80000,"2027-01-16","8000046403","2027-01-01","FY27 Q4"]
[80000,"2027-01-17","8000046404","2027-01-01","FY27 Q4"]
[80000,"2027-01-18","8000046405","2027-01-01","FY27 Q4"]
[80000,"2027-01-19","8000046406","2027-01-01","FY27 Q4"]
[80000,"2027-01-20","8000046407","2027-01-01","FY27 Q4"]
[80000,"2027-01-21","8000046408","2027-01-01","FY27 Q4"]
[80000,"2027-01-22","8000046409","2027-01-01","FY27 Q4"]
[80000,"2027-01-23","8000046410","2027-01-01","FY27 Q4"]
[80000,"2027-01-24","8000046411","2027-01-01","FY27 Q4"]
[80000,"2027-01-25","8000046412","2027-01-01","FY27 Q4"]
[80000,"2027-01-26","8000046413","2027-01-01","FY27 Q4"]
[80000,"2027-01-27","8000046414","2027-01-01","FY27 Q4"]
[80000,"2027-01-28","8000046415","2027-01-01","FY27 Q4"]
[80000,"2027-01-29","8000046416","2027-01-01","FY27 Q4"]
[80000,"2027-01-30","8000046417","2027-01-01","FY27 Q4"]
[80000,"2027-01-31","8000046418","2027-01-01","FY27 Q4"]
[80000,"2027-02-01","8000046419","2027-01-01","FY27 Q4"]
[80000,"2027-02-02","8000046420","2027-02-01","FY27 Q4"]
[80000,"2027-02-03","8000046421","2027-02-01","FY27 Q4"]
[80000,"2027-02-04","8000046422","2027-02-01","FY27 Q4"]
[80000,"2027-02-05","8000046423","2027-02-01","FY27 Q4"]
[80000,"2027-02-06",{"$f":"_xlfn.CONCAT(A31143,B31143)","v":"8000046424"},"2027-02-01","FY27 Q4"]
[80000,"2027-02-07","8000046425","2027-02-01","FY27 Q4"]
[80000,"2027-02-08","8000046426","2027-02-01","FY27 Q4"]
[80000,"2027-02-09","8000046427","2027-02-01","FY27 Q4"]
[80000,"2027-02-10","8000046428","2027-02-01","FY27 Q4"]
[80000,"2027-02-11","8000046429","2027-02-01","FY27 Q4"]
[80000,"2027-02-12","8000046430","2027-02-01","FY27 Q4"]
[80000,"2027-02-13","8000046431","2027-02-01","FY27 Q4"]
[80000,"2027-02-14","8000046432","2027-02-01","FY27 Q4"]
[80000,"2027-02-15","8000046433","2027-02-01","FY27 Q4"]
[80000,"2027-02-16","8000046434","2027-02-01","FY27 Q4"]
[80000,"2027-02-17","8000046435","2027-02-01","FY27 Q4"]
[80000,"2027-02-18","8000046436","2027-02-01","FY27 Q4"]
[80000,"2027-02-19","8000046437","2027-02-01","FY27 Q4"]
[80000,"2027-02-20","8000046438","2027-02-01","FY27 Q4"]
[80000,"2027-02-21","8000046439","2027-02-01","FY27 Q4"]
[80000,"2027-02-22","8000046440","2027-02-01","FY27 Q4"]
[80000,"2027-02-23","8000046441","2027-02-01","FY27 Q4"]
[80000,"2027-02-24","8000046442","2027-02-01","FY27 Q4"]
[80000,"2027-02-25","8000046443","2027-02-01","FY27 Q4"]
[80000,"2027-02-26","8000046444","2027-02-01","FY27 Q4"]
[80000,"2027-02-27","8000046445","2027-02-01","FY27 Q4"]
[80000,"2027-02-28","8000046446","2027-02-01","FY27 Q4"]
[80000,"2027-03-01","8000046447","2027-02-01","FY27 Q4"]
[80000,"2027-03-02","8000046448","2027-03-01","FY27 Q4"]
[80000,"2027-03-03","8000046449","2027-03-01","FY27 Q4"]
[80000,"2027-03-04","8000046450","2027-03-01","FY27 Q4"]
[80000,"2027-03-05","8000046451","2027-03-01","FY27 Q4"]
[80000,"2027-03-06","8000046452","2027-03-01","FY27 Q4"]
[80000,"07/03/027","8000007/03/027","2027-03-01","FY27 Q4"]
[80000,"2027-03-08","8000046454","2027-03-01","FY27 Q4"]
[80000,"2027-03-09","8000046455","2027-03-01","FY27 Q4"]
[80000,"2027-03-10","8000046456","2027-03-01","FY27 Q4"]
[80000,"2027-03-11","8000046457","2027-03-01","FY27 Q4"]
[80000,"2027-03-12","8000046458","2027-03-01","FY27 Q4"]
[80000,"2027-03-13","8000046459","2027-03-01","FY27 Q4"]
[80000,"2027-03-14","8000046460","2027-03-01","FY27 Q4"]
[80000,"2027-03-15","8000046461","2027-03-01","FY27 Q4"]
[80000,"2027-03-16","8000046462","2027-03-01","FY27 Q4"]
[80000,"2027-03-17","8000046463","2027-03-01","FY27 Q4"]
[80000,"2027-03-18","8000046464","2027-03-01","FY27 Q4"]
[80000,"2027-03-19","8000046465","2027-03-01","FY27 Q4"]
[80000,"2027-03-20","8000046466","2027-03-01","FY27 Q4"]
[80000,"2027-03-21","8000046467","2027-03-01","FY27 Q4"]
[80000,"2027-03-22","8000046468","2027-03-01","FY27 Q4"]
[80000,"2027-03-23","8000046469","2027-03-01","FY27 Q4"]
[80000,"2027-03-24","8000046470","2027-03-01","FY27 Q4"]
[80000,"2027-03-25","8000046471","2027-03-01","FY27 Q4"]
[80000,"2027-03-26","8000046472","2027-03-01","FY27 Q4"]
[80000,"2027-03-27","8000046473","2027-03-01","FY27 Q4"]
[80000,"2027-03-28","8000046474","2027-03-01","FY27 Q4"]
[80000,"2027-03-29","8000046475","2027-03-01","FY27 Q4"]
[80000,"2027-03-30","8000046476","2027-03-01","FY27 Q4"]
[80000,"2027-03-31","8000046477","2027-03-01","FY27 Q4"]
[80000,"2027-04-01","8000046478","2027-03-01","FY27 Q4"]
[81000,"2027-01-01","8100046388","2026-12-01","FY27 Q3"]
[81000,"2027-01-02","8100046389","2026-12-01","FY27 Q3"]
[81000,"2027-01-03","8100046390","2026-12-01","FY27 Q3"]
[81000,"2027-01-04","8100046391","2026-12-01","FY27 Q3"]
[81000,"2027-01-05","8100046392","2027-01-01","FY27 Q4"]
[81000,"2027-01-06","8100046393","2027-01-01","FY27 Q4"]
[81000,"2027-01-07","8100046394","2027-01-01","FY27 Q4"]
[81000,"2027-01-08","8100046395","2027-01-01","FY27 Q4"]
[81000,"2027-01-09","8100046396","2027-01-01","FY27 Q4"]
[81000,"2027-01-10",{"$f":"_xlfn.CONCAT(A31207,B31207)","v":"8100046397"},"2027-01-01","FY27 Q4"]
[81000,"2027-01-11","8100046398","2027-01-01","FY27 Q4"]
[81000,"2027-01-12","8100046399","2027-01-01","FY27 Q4"]
[81000,"2027-01-13","8100046400","2027-01-01","FY27 Q4"]
[81000,"2027-01-14","8100046401","2027-01-01","FY27 Q4"]
[81000,"2024-01-15","8100045306","2027-01-01","FY27 Q4"]
[81000,"2027-01-16","8100046403","2027-01-01","FY27 Q4"]
[81000,"2027-01-17","8100046404","2027-01-01","FY27 Q4"]
[81000,"2027-01-18","8100046405","2027-01-01","FY27 Q4"]
[81000,"2027-01-19","8100046406","2027-01-01","FY27 Q4"]
[81000,"2027-01-20","8100046407","2027-01-01","FY27 Q4"]
[81000,"2027-01-21","8100046408","2027-01-01","FY27 Q4"]
[81000,"2027-01-22","8100046409","2027-01-01","FY27 Q4"]
[81000,"2027-01-23","8100046410","2027-01-01","FY27 Q4"]
[81000,"2027-01-24","8100046411","2027-01-01","FY27 Q4"]
[81000,"2027-01-25","8100046412","2027-01-01","FY27 Q4"]
[81000,"2027-01-26","8100046413","2027-01-01","FY27 Q4"]
[81000,"2027-01-27","8100046414","2027-01-01","FY27 Q4"]
[81000,"2027-01-28","8100046415","2027-01-01","FY27 Q4"]
[81000,"2027-01-29","8100046416","2027-01-01","FY27 Q4"]
[81000,"2027-01-30","8100046417","2027-01-01","FY27 Q4"]
[81000,"2027-01-31","8100046418","2027-01-01","FY27 Q4"]
[81000,"2027-02-01","8100046419","2027-01-01","FY27 Q4"]
[81000,"2027-02-02","8100046420","2027-02-01","FY27 Q4"]
[81000,"2027-02-03","8100046421","2027-02-01","FY27 Q4"]
[81000,"2027-02-04","8100046422","2027-02-01","FY27 Q4"]
[81000,"2027-02-05","8100046423","2027-02-01","FY27 Q4"]
[81000,"2027-02-06","8100046424","2027-02-01","FY27 Q4"]
[81000,"2027-02-07","8100046425","2027-02-01","FY27 Q4"]
[81000,"2027-02-08","8100046426","2027-02-01","FY27 Q4"]
[81000,"2027-02-09","8100046427","2027-02-01","FY27 Q4"]
[81000,"2027-02-10","8100046428","2027-02-01","FY27 Q4"]
[81000,"2027-02-11","8100046429","2027-02-01","FY27 Q4"]
[81000,"2027-02-12","8100046430","2027-02-01","FY27 Q4"]
[81000,"2027-02-13","8100046431","2027-02-01","FY27 Q4"]
[81000,"2027-02-14","8100046432","2027-02-01","FY27 Q4"]
[81000,"2027-02-15","8100046433","2027-02-01","FY27 Q4"]
[81000,"2027-02-16","8100046434","2027-02-01","FY27 Q4"]
[81000,"2027-02-17","8100046435","2027-02-01","FY27 Q4"]
[81000,"2027-02-18","8100046436","2027-02-01","FY27 Q4"]
[81000,"2027-02-19","8100046437","2027-02-01","FY27 Q4"]
[81000,"2027-02-20","8100046438","2027-02-01","FY27 Q4"]
[81000,"2027-02-21","8100046439","2027-02-01","FY27 Q4"]
[81000,"2027-02-22","8100046440","2027-02-01","FY27 Q4"]
[81000,"2027-02-23","8100046441","2027-02-01","FY27 Q4"]
[81000,"2027-02-24","8100046442","2027-02-01","FY27 Q4"]
[81000,"2027-02-25","8100046443","2027-02-01","FY27 Q4"]
[81000,"2027-02-26","8100046444","2027-02-01","FY27 Q4"]
[81000,"2027-02-27","8100046445","2027-02-01","FY27 Q4"]
[81000,"2027-02-28","8100046446","2027-02-01","FY27 Q4"]
[81000,"2027-03-01","8100046447","2027-02-01","FY27 Q4"]
[81000,"2027-03-02","8100046448","2027-03-01","FY27 Q4"]
[81000,"2027-03-03","8100046449","2027-03-01","FY27 Q4"]
[81000,"2027-03-04","8100046450","2027-03-01","FY27 Q4"]
[81000,"2027-03-05","8100046451","2027-03-01","FY27 Q4"]
[81000,"2027-03-06","8100046452","2027-03-01","FY27 Q4"]
[81000,"07/03/027","8100007/03/027","2027-03-01","FY27 Q4"]
[81000,"2027-03-08","8100046454","2027-03-01","FY27 Q4"]
[81000,"2027-03-09","8100046455","2027-03-01","FY27 Q4"]
[81000,"2027-03-10","8100046456","2027-03-01","FY27 Q4"]
[81000,"2027-03-11","8100046457","2027-03-01","FY27 Q4"]
[81000,"2027-03-12","8100046458","2027-03-01","FY27 Q4"]
[81000,"2027-03-13","8100046459","2027-03-01","FY27 Q4"]
[81000,"2027-03-14","8100046460","2027-03-01","FY27 Q4"]
[81000,"2027-03-15",{"$f":"_xlfn.CONCAT(A31271,B31271)","v":"8100046461"},"2027-03-01","FY27 Q4"]
[81000,"2027-03-16","8100046462","2027-03-01","FY27 Q4"]
[81000,"2027-03-17","8100046463","2027-03-01","FY27 Q4"]
[81000,"2027-03-18","8100046464","2027-03-01","FY27 Q4"]
[81000,"2027-03-19","8100046465","2027-03-01","FY27 Q4"]
[81000,"2027-03-20","8100046466","2027-03-01","FY27 Q4"]
[81000,"2027-03-21","8100046467","2027-03-01","FY27 Q4"]
[81000,"2027-03-22","8100046468","2027-03-01","FY27 Q4"]
[81000,"2027-03-23","8100046469","2027-03-01","FY27 Q4"]
[81000,"2027-03-24","8100046470","2027-03-01","FY27 Q4"]
[81000,"2027-03-25","8100046471","2027-03-01","FY27 Q4"]
[81000,"2027-03-26","8100046472","2027-03-01","FY27 Q4"]
[81000,"2027-03-27","8100046473","2027-03-01","FY27 Q4"]
[81000,"2027-03-28","8100046474","2027-03-01","FY27 Q4"]
[81000,"2027-03-29","8100046475","2027-03-01","FY27 Q4"]
[81000,"2027-03-30","8100046476","2027-03-01","FY27 Q4"]
[81000,"2027-03-31","8100046477","2027-03-01","FY27 Q4"]
[81000,"2027-04-01","8100046478","2027-03-01","FY27 Q4"]
[82000,"2027-01-01","8200046388","2026-12-01","FY27 Q3"]
[82000,"2027-01-02","8200046389","2026-12-01","FY27 Q3"]
[82000,"2027-01-03","8200046390","2026-12-01","FY27 Q3"]
[82000,"2027-01-04","8200046391","2026-12-01","FY27 Q3"]
[82000,"2027-01-05","8200046392","2027-01-01","FY27 Q4"]
[82000,"2027-01-06","8200046393","2027-01-01","FY27 Q4"]
[82000,"2027-01-07","8200046394","2027-01-01","FY27 Q4"]
[82000,"2027-01-08","8200046395","2027-01-01","FY27 Q4"]
[82000,"2027-01-09","8200046396","2027-01-01","FY27 Q4"]
[82000,"2027-01-10","8200046397","2027-01-01","FY27 Q4"]
[82000,"2027-01-11","8200046398","2027-01-01","FY27 Q4"]
[82000,"2027-01-12","8200046399","2027-01-01","FY27 Q4"]
[82000,"2027-01-13","8200046400","2027-01-01","FY27 Q4"]
[82000,"2027-01-14","8200046401","2027-01-01","FY27 Q4"]
[82000,"2024-01-15","8200045306","2027-01-01","FY27 Q4"]
[82000,"2027-01-16","8200046403","2027-01-01","FY27 Q4"]
[82000,"2027-01-17","8200046404","2027-01-01","FY27 Q4"]
[82000,"2027-01-18","8200046405","2027-01-01","FY27 Q4"]
[82000,"2027-01-19","8200046406","2027-01-01","FY27 Q4"]
[82000,"2027-01-20","8200046407","2027-01-01","FY27 Q4"]
[82000,"2027-01-21","8200046408","2027-01-01","FY27 Q4"]
[82000,"2027-01-22","8200046409","2027-01-01","FY27 Q4"]
[82000,"2027-01-23","8200046410","2027-01-01","FY27 Q4"]
[82000,"2027-01-24","8200046411","2027-01-01","FY27 Q4"]
[82000,"2027-01-25","8200046412","2027-01-01","FY27 Q4"]
[82000,"2027-01-26","8200046413","2027-01-01","FY27 Q4"]
[82000,"2027-01-27","8200046414","2027-01-01","FY27 Q4"]
[82000,"2027-01-28","8200046415","2027-01-01","FY27 Q4"]
[82000,"2027-01-29","8200046416","2027-01-01","FY27 Q4"]
[82000,"2027-01-30","8200046417","2027-01-01","FY27 Q4"]
[82000,"2027-01-31","8200046418","2027-01-01","FY27 Q4"]
[82000,"2027-02-01","8200046419","2027-01-01","FY27 Q4"]
[82000,"2027-02-02","8200046420","2027-02-01","FY27 Q4"]
[82000,"2027-02-03","8200046421","2027-02-01","FY27 Q4"]
[82000,"2027-02-04","8200046422","2027-02-01","FY27 Q4"]
[82000,"2027-02-05","8200046423","2027-02-01","FY27 Q4"]
[82000,"2027-02-06","8200046424","2027-02-01","FY27 Q4"]
[82000,"2027-02-07","8200046425","2027-02-01","FY27 Q4"]
[82000,"2027-02-08","8200046426","2027-02-01","FY27 Q4"]
[82000,"2027-02-09","8200046427","2027-02-01","FY27 Q4"]
[82000,"2027-02-10","8200046428","2027-02-01","FY27 Q4"]
[82000,"2027-02-11","8200046429","2027-02-01","FY27 Q4"]
[82000,"2027-02-12","8200046430","2027-02-01","FY27 Q4"]
[82000,"2027-02-13","8200046431","2027-02-01","FY27 Q4"]
[82000,"2027-02-14","8200046432","2027-02-01","FY27 Q4"]
[82000,"2027-02-15","8200046433","2027-02-01","FY27 Q4"]
[82000,"2027-02-16",{"$f":"_xlfn.CONCAT(A31335,B31335)","v":"8200046434"},"2027-02-01","FY27 Q4"]
[82000,"2027-02-17","8200046435","2027-02-01","FY27 Q4"]
[82000,"2027-02-18","8200046436","2027-02-01","FY27 Q4"]
[82000,"2027-02-19","8200046437","2027-02-01","FY27 Q4"]
[82000,"2027-02-20","8200046438","2027-02-01","FY27 Q4"]
[82000,"2027-02-21","8200046439","2027-02-01","FY27 Q4"]
[82000,"2027-02-22","8200046440","2027-02-01","FY27 Q4"]
[82000,"2027-02-23","8200046441","2027-02-01","FY27 Q4"]
[82000,"2027-02-24","8200046442","2027-02-01","FY27 Q4"]
[82000,"2027-02-25","8200046443","2027-02-01","FY27 Q4"]
[82000,"2027-02-26","8200046444","2027-02-01","FY27 Q4"]
[82000,"2027-02-27","8200046445","2027-02-01","FY27 Q4"]
[82000,"2027-02-28","8200046446","2027-02-01","FY27 Q4"]
[82000,"2027-03-01","8200046447","2027-02-01","FY27 Q4"]
[82000,"2027-03-02","8200046448","2027-03-01","FY27 Q4"]
[82000,"2027-03-03","8200046449","2027-03-01","FY27 Q4"]
[82000,"2027-03-04","8200046450","2027-03-01","FY27 Q4"]
[82000,"2027-03-05","8200046451","2027-03-01","FY27 Q4"]
[82000,"2027-03-06","8200046452","2027-03-01","FY27 Q4"]
[82000,"07/03/027","8200007/03/027","2027-03-01","FY27 Q4"]
[82000,"2027-03-08","8200046454","2027-03-01","FY27 Q4"]
[82000,"2027-03-09","8200046455","2027-03-01","FY27 Q4"]
[82000,"2027-03-10","8200046456","2027-03-01","FY27 Q4"]
[82000,"2027-03-11","8200046457","2027-03-01","FY27 Q4"]
[82000,"2027-03-12","8200046458","2027-03-01","FY27 Q4"]
[82000,"2027-03-13","8200046459","2027-03-01","FY27 Q4"]
[82000,"2027-03-14","8200046460","2027-03-01","FY27 Q4"]
[82000,"2027-03-15","8200046461","2027-03-01","FY27 Q4"]
[82000,"2027-03-16","8200046462","2027-03-01","FY27 Q4"]
[82000,"2027-03-17","8200046463","2027-03-01","FY27 Q4"]
[82000,"2027-03-18","8200046464","2027-03-01","FY27 Q4"]
[82000,"2027-03-19","8200046465","2027-03-01","FY27 Q4"]
[82000,"2027-03-20","8200046466","2027-03-01","FY27 Q4"]
[82000,"2027-03-21","8200046467","2027-03-01","FY27 Q4"]
[82000,"2027-03-22","8200046468","2027-03-01","FY27 Q4"]
[82000,"2027-03-23","8200046469","2027-03-01","FY27 Q4"]
[82000,"2027-03-24","8200046470","2027-03-01","FY27 Q4"]
[82000,"2027-03-25","8200046471","2027-03-01","FY27 Q4"]
[82000,"2027-03-26","8200046472","2027-03-01","FY27 Q4"]
[82000,"2027-03-27","8200046473","2027-03-01","FY27 Q4"]
[82000,"2027-03-28","8200046474","2027-03-01","FY27 Q4"]
[82000,"2027-03-29","8200046475","2027-03-01","FY27 Q4"]
[82000,"2027-03-30","8200046476","2027-03-01","FY27 Q4"]
[82000,"2027-03-31","8200046477","2027-03-01","FY27 Q4"]
[82000,"2027-04-01","8200046478","2027-03-01","FY27 Q4"]
[19000,"2027-01-15","1900046402","2027-01-01","FY27 Q4"]
[20000,"2027-01-15","2000046402","2027-01-01","FY27 Q4"]
[21000,"2027-01-15","2100046402","2027-01-01","FY27 Q4"]
[30000,"2027-01-15","3000046402","2027-01-01","FY27 Q4"]
[34000,"2027-01-15","3400046402","2027-01-01","FY27 Q4"]
[80000,"2027-01-15","8000046402","2027-01-01","FY27 Q4"]
[81000,"2027-01-15","8100046402","2027-01-01","FY27 Q4"]
[82000,"2027-01-15","8200046402","2027-01-01","FY27 Q4"]